{"text_format":"1","workbook":"xlsx","n_sheets":19,"sheets":["Menu","Introduction","Traduction","Trad","Analyse Pompe","Analyse Ventilateur","Analyse Air compr","Feuil3","Feuil4","Aide calcul économie froid","Analyse Froid","APPGF","Aide mesurages","aide calcul financier","APPo","Feuil1","Listes","APCP","APVe"],"not_rendered":{"charts":10,"images":19,"macros":1,"external_links":3,"defined_names":457,"comments":4,"pivot_tables":0},"unopened":[],"bounds":{"document_bytes":16777216,"sheet_cells":100000,"rows_first":2000,"rows_last":500,"rows_between":2000,"halvings":0,"cell_chars":16384,"cell_head_chars":4096},"cells_cut":0,"cells_raw":0,"read":"whole","date_system":"1900"}

{"sheet":"Menu","index":0,"n_rows":75,"n_cols":26,"rows_kept":75,"cut":false,"hidden":false,"merged":[[16,7,16,20],[56,3,56,6],[57,3,57,6],[58,3,58,6],[59,3,59,6],[66,7,66,11],[67,7,67,11],[68,7,68,11],[69,7,69,11],[39,3,39,6],[40,3,40,6],[41,3,41,6],[42,3,42,6],[43,3,43,6],[44,3,44,6],[45,3,45,6],[46,3,46,6],[50,3,50,6],[47,3,47,6],[48,3,48,6],[49,3,49,6],[51,7,51,11],[52,7,52,11],[53,7,53,11],[71,7,71,11],[56,7,56,11],[57,7,57,11],[58,7,58,11],[59,7,59,11],[72,7,72,11],[73,7,73,11],[74,7,74,11],[65,3,65,6],[66,3,66,6],[67,3,67,6],[60,3,60,6],[61,3,61,6],[62,3,62,6],[63,3,63,6],[64,3,64,6],[70,7,70,11],[61,7,61,11],[62,7,62,11],[63,7,63,11],[64,7,64,11],[65,7,65,11],[60,7,60,11],[54,7,54,11],[55,7,55,11],[51,3,51,6],[46,7,46,11],[47,7,47,11],[48,7,48,11],[49,7,49,11],[50,7,50,11],[52,3,52,6],[53,3,53,6],[54,3,54,6],[55,3,55,6],[41,7,41,11],[42,7,42,11],[43,7,43,11],[44,7,44,11],[45,7,45,11],[36,7,36,11],[37,7,37,11],[38,7,38,11],[39,7,39,11],[40,7,40,11],[1,9,1,10],[5,1,5,20],[7,7,7,20],[9,7,9,20],[1,11,1,12],[4,4,4,6],[1,1,1,2],[1,3,1,4],[1,5,1,6],[1,7,1,8],[1,13,1,14],[1,15,1,16],[9,2,9,6],[7,2,7,6],[1,17,1,18],[1,19,1,20],[4,15,4,18],[4,19,4,20],[38,3,38,6],[13,2,13,5],[11,7,11,20],[11,2,11,6],[13,7,13,20],[36,3,36,6],[37,3,37,6],[16,3,16,5],[17,3,17,5],[35,3,35,6],[35,7,35,11],[19,3,19,5],[29,2,29,6],[18,3,18,5],[20,3,20,5],[29,7,29,20],[32,7,32,20],[26,3,26,5],[25,3,25,5],[14,7,14,20],[15,7,15,20],[23,2,23,5],[24,3,24,5],[23,7,23,20]]}
[]
[null,{"$f":"HYPERLINK(NomFichier&Listes!C49&\"'!A1\",Trad!A3)","v":"Menu"},null,{"$f":"HYPERLINK(NomFichier&Listes!C50&\"'!A1\",Trad!A4)","v":"Introduction"},null,{"$f":"HYPERLINK(NomFichier&Listes!C56&\"'!A1\",Trad!A10)","v":"Aide"},null,null,null,{"$f":"HYPERLINK(NomFichier&Listes!C51&\"'!A1\",Trad!A5)","v":"Pompe(s)"},null,{"$f":"HYPERLINK(NomFichier&Listes!C52&\"'!A1\",Trad!A6)","v":"Ventilateur(s)"},null,{"$f":"HYPERLINK(NomFichier&Listes!C53&\"'!A1\",Trad!A7)","v":"Air comprimé"},null,{"$f":"HYPERLINK(NomFichier&Listes!C54&\"'!A1\",Trad!A8)","v":"Groupe froid"},null,null,null,{"$f":"HYPERLINK(Listes!A36&\"/14010 Canevas Résultats analyses V3a.xlsm\",Trad!A9)","v":"Résultats"}]
[]
[null,{"$f":"Traduction!$A$461","v":"Analyse fine"},null,null,{"$f":"Traduction!$A$460","v":"Menu"}]
[null,{"$f":"Traduction!$A$462","v":"Langue"},null,"FR",null,null,null,null,null,null,null,null,null,null,null,{"$f":"Traduction!$A$463","v":"Souce pour les aides"},null,null,null,"Internet"]
[null,{"$f":"Trad!A14","v":"Cliquez sur les rectangles ci-dessous  (encadrés en bleu) pour accéder de façon directe aux différents modules de l'outil."}]
[]
[null,null,{"$f":"HYPERLINK(NomFichier&Listes!C50&\"'!A1\",Trad!A4)","v":"Introduction"},null,null,null,null,{"$f":"Traduction!$A$466","v":"Mode d'emploi de l'outil"}]
[]
[null,null,{"$f":"HYPERLINK(NomFichier&Listes!#REF!&\"'!A1\",Traduction!$A$13)","v":{"$error":"#REF!"}},null,null,null,null,{"$f":"Traduction!$A$64","v":"Question No"}]
[]
[null,null,{"$f":"HYPERLINK(NomFichier&Listes!#REF!&\"'!A1\",Traduction!$A$15)","v":{"$error":"#REF!"}},null,null,null,null,{"$f":"Traduction!A579","v":"On ne sait pas si le débit correspond au besoin ou s'il trop grand, recherchez des informations sur le besoin. Par ailleurs, les  variations ne sont probablement pas bien maîtrisées. Un mesurage du débit est recommandé."}]
[]
[null,null,{"$f":"Traduction!$A$461","v":"Analyse fine"},null,null,null,null,{"$f":"Traduction!$A$467","v":"Instructions pour l'analyse détaillée"}]
[]
[]
[null,null,null,{"$f":"HYPERLINK(NomFichier&Listes!C51&\"'!A1\",Trad!A5)","v":"Pompe(s)"}]
[null,null,null,{"$f":"HYPERLINK(NomFichier&Listes!C52&\"'!A1\",Trad!A6)","v":"Ventilateur(s)"}]
[null,null,null,{"$f":"HYPERLINK(NomFichier&Listes!C53&\"'!A1\",Trad!A7)","v":"Air comprimé"}]
[null,null,null,{"$f":"HYPERLINK(NomFichier&Listes!C54&\"'!A1\",Trad!A8)","v":"Groupe froid"}]
[null,null,null,{"$f":"HYPERLINK(NomFichier&Listes!#REF!&\"'!A1\",Traduction!$A$708)","v":{"$error":"#REF!"}}]
[]
[]
[null,null,{"$f":"Traduction!$A$468","v":"Modules d'aide"},null,null,null,null,{"$f":"Trad!A15","v":"Support aux mesurages et calculs économiques"}]
[null,null,null,{"$f":"HYPERLINK(NomFichier&Listes!C56&\"'!A1\",Trad!A11)","v":"Conduite des mesurages"}]
[null,null,null,{"$f":"HYPERLINK(NomFichier&Listes!C55&\"'!A1\",Trad!A148)","v":"Calcul des économies d'énergie de froid"}]
[null,null,null,{"$f":"HYPERLINK(NomFichier&Listes!C57&\"'!A1\",Trad!A149)","v":"Calcul financier"}]
[]
[]
[null,null,{"$f":"HYPERLINK(Listes!A36&\"/14010 Canevas Résultats analyses V3a.xlsm\",Trad!A9)","v":"Résultats"},null,null,null,null,{"$f":"Trad!A16","v":"Aperçu des résultats de l'analyse détaillée"}]
[]
[]
[null,null,{"$f":"Traduction!$A$83","v":"4. Synthèse des questions et mesurages"},null,null,null,null,{"$f":"Traduction!$A$84","v":"Des réponses à vos questions, il est possible de mieux comprendre le système et de mettre en exergue les mesurages nécessaires:"}]
[null,null,null,{"$f":"Traduction!$A$86","v":"influence"}]
[null,null,null,"N",null,null,null,{"$f":"Traduction!A578","v":"Ne sais pasOuiNonNon"},null,null,null,null,null,null,null,{"$f":"Traduction!$A$85","v":"synchrone"}]
[1,null,null,{"$f":"IFERROR(HYPERLINK(NomFichier&Y36&Z36&\"'!A1\",Z36),\"\")","v":""},null,null,null,{"$f":"IFERROR(W36 & \" : \" & INDEX(#REF!,P36),\"\")","v":""},null,null,null,null,null,null,null,{"$f":"MATCH(A36,#REF!,0)","v":{"$error":"#REF!"}},null,null,null,null,null,null,{"$f":"IFERROR(INDEX(#REF!,P36),\"\")","v":""},null,{"$f":"IF(W36=Pom,\"APP_\",IF(W36=Vent,\"APVe_\",IF(W36=GF_lis,\"APPGF_\",IF(W36=APCP_nom,\"APCP_\"))))","v":"APP_"},{"$f":"IFERROR(INDEX(#REF!,P36),\"\")","v":""}]
[2,null,null,"",null,null,null,{"$f":"IFERROR(W37 & \" : \" & INDEX(#REF!,P37),\"\")","v":""},null,null,null,null,null,null,null,{"$f":"MATCH(A37,#REF!,0)","v":{"$error":"#REF!"}},null,null,null,null,null,null,{"$f":"IFERROR(INDEX(#REF!,P37),\"\")","v":""},null,"APP_",{"$f":"IFERROR(INDEX(#REF!,P37),\"\")","v":""}]
[3,null,null,"",null,null,null,{"$f":"IFERROR(W38 & \" : \" & INDEX(#REF!,P38),\"\")","v":""},null,null,null,null,null,null,null,{"$f":"MATCH(A38,#REF!,0)","v":{"$error":"#REF!"}},null,null,null,null,null,null,{"$f":"IFERROR(INDEX(#REF!,P38),\"\")","v":""},null,"APP_",{"$f":"IFERROR(INDEX(#REF!,P38),\"\")","v":""}]
[4,null,null,"",null,null,null,{"$f":"IFERROR(W39 & \" : \" & INDEX(#REF!,P39),\"\")","v":""},null,null,null,null,null,null,null,{"$f":"MATCH(A39,#REF!,0)","v":{"$error":"#REF!"}},null,null,null,null,null,null,{"$f":"IFERROR(INDEX(#REF!,P39),\"\")","v":""},null,"APP_",{"$f":"IFERROR(INDEX(#REF!,P39),\"\")","v":""}]
[5,null,null,"",null,null,null,{"$f":"IFERROR(W40 & \" : \" & INDEX(#REF!,P40),\"\")","v":""},null,null,null,null,null,null,null,{"$f":"MATCH(A40,#REF!,0)","v":{"$error":"#REF!"}},null,null,null,null,null,null,{"$f":"IFERROR(INDEX(#REF!,P40),\"\")","v":""},null,"APP_",{"$f":"IFERROR(INDEX(#REF!,P40),\"\")","v":""}]
[6,null,null,"",null,null,null,{"$f":"IFERROR(W41 & \" : \" & INDEX(#REF!,P41),\"\")","v":""},null,null,null,null,null,null,null,{"$f":"MATCH(A41,#REF!,0)","v":{"$error":"#REF!"}},null,null,null,null,null,null,{"$f":"IFERROR(INDEX(#REF!,P41),\"\")","v":""},null,"APP_",{"$f":"IFERROR(INDEX(#REF!,P41),\"\")","v":""}]
[7,null,null,"",null,null,null,{"$f":"IFERROR(W42 & \" : \" & INDEX(#REF!,P42),\"\")","v":""},null,null,null,null,null,null,null,{"$f":"MATCH(A42,#REF!,0)","v":{"$error":"#REF!"}},null,null,null,null,null,null,{"$f":"IFERROR(INDEX(#REF!,P42),\"\")","v":""},null,"APP_",{"$f":"IFERROR(INDEX(#REF!,P42),\"\")","v":""}]
[8,null,null,"",null,null,null,{"$f":"IFERROR(W43 & \" : \" & INDEX(#REF!,P43),\"\")","v":""},null,null,null,null,null,null,null,{"$f":"MATCH(A43,#REF!,0)","v":{"$error":"#REF!"}},null,null,null,null,null,null,{"$f":"IFERROR(INDEX(#REF!,P43),\"\")","v":""},null,"APP_",{"$f":"IFERROR(INDEX(#REF!,P43),\"\")","v":""}]
[9,null,null,"",null,null,null,{"$f":"IFERROR(W44 & \" : \" & INDEX(#REF!,P44),\"\")","v":""},null,null,null,null,null,null,null,{"$f":"MATCH(A44,#REF!,0)","v":{"$error":"#REF!"}},null,null,null,null,null,null,{"$f":"IFERROR(INDEX(#REF!,P44),\"\")","v":""},null,"APP_",{"$f":"IFERROR(INDEX(#REF!,P44),\"\")","v":""}]
[10,null,null,"",null,null,null,{"$f":"IFERROR(W45 & \" : \" & INDEX(#REF!,P45),\"\")","v":""},null,null,null,null,null,null,null,{"$f":"MATCH(A45,#REF!,0)","v":{"$error":"#REF!"}},null,null,null,null,null,null,{"$f":"IFERROR(INDEX(#REF!,P45),\"\")","v":""},null,"APP_",{"$f":"IFERROR(INDEX(#REF!,P45),\"\")","v":""}]
[11,null,null,"",null,null,null,{"$f":"IFERROR(W46 & \" : \" & INDEX(#REF!,P46),\"\")","v":""},null,null,null,null,null,null,null,{"$f":"MATCH(A46,#REF!,0)","v":{"$error":"#REF!"}},null,null,null,null,null,null,{"$f":"IFERROR(INDEX(#REF!,P46),\"\")","v":""},null,"APP_",{"$f":"IFERROR(INDEX(#REF!,P46),\"\")","v":""}]
[12,null,null,"",null,null,null,{"$f":"IFERROR(W47 & \" : \" & INDEX(#REF!,P47),\"\")","v":""},null,null,null,null,null,null,null,{"$f":"MATCH(A47,#REF!,0)","v":{"$error":"#REF!"}},null,null,null,null,null,null,{"$f":"IFERROR(INDEX(#REF!,P47),\"\")","v":""},null,"APP_",{"$f":"IFERROR(INDEX(#REF!,P47),\"\")","v":""}]
[13,null,null,"",null,null,null,{"$f":"IFERROR(W48 & \" : \" & INDEX(#REF!,P48),\"\")","v":""},null,null,null,null,null,null,null,{"$f":"MATCH(A48,#REF!,0)","v":{"$error":"#REF!"}},null,null,null,null,null,null,{"$f":"IFERROR(INDEX(#REF!,P48),\"\")","v":""},null,"APP_",{"$f":"IFERROR(INDEX(#REF!,P48),\"\")","v":""}]
[14,null,null,"",null,null,null,{"$f":"IFERROR(W49 & \" : \" & INDEX(#REF!,P49),\"\")","v":""},null,null,null,null,null,null,null,{"$f":"MATCH(A49,#REF!,0)","v":{"$error":"#REF!"}},null,null,null,null,null,null,{"$f":"IFERROR(INDEX(#REF!,P49),\"\")","v":""},null,"APP_",{"$f":"IFERROR(INDEX(#REF!,P49),\"\")","v":""}]
[15,null,null,"",null,null,null,{"$f":"IFERROR(W50 & \" : \" & INDEX(#REF!,P50),\"\")","v":""},null,null,null,null,null,null,null,{"$f":"MATCH(A50,#REF!,0)","v":{"$error":"#REF!"}},null,null,null,null,null,null,{"$f":"IFERROR(INDEX(#REF!,P50),\"\")","v":""},null,"APP_",{"$f":"IFERROR(INDEX(#REF!,P50),\"\")","v":""}]
[16,null,null,"",null,null,null,{"$f":"IFERROR(W51 & \" : \" & INDEX(#REF!,P51),\"\")","v":""},null,null,null,null,null,null,null,{"$f":"MATCH(A51,#REF!,0)","v":{"$error":"#REF!"}},null,null,null,null,null,null,{"$f":"IFERROR(INDEX(#REF!,P51),\"\")","v":""},null,"APP_",{"$f":"IFERROR(INDEX(#REF!,P51),\"\")","v":""}]
[17,null,null,"",null,null,null,{"$f":"IFERROR(W52 & \" : \" & INDEX(#REF!,P52),\"\")","v":""},null,null,null,null,null,null,null,{"$f":"MATCH(A52,#REF!,0)","v":{"$error":"#REF!"}},null,null,null,null,null,null,{"$f":"IFERROR(INDEX(#REF!,P52),\"\")","v":""},null,"APP_",{"$f":"IFERROR(INDEX(#REF!,P52),\"\")","v":""}]
[18,null,null,"",null,null,null,{"$f":"IFERROR(W53 & \" : \" & INDEX(#REF!,P53),\"\")","v":""},null,null,null,null,null,null,null,{"$f":"MATCH(A53,#REF!,0)","v":{"$error":"#REF!"}},null,null,null,null,null,null,{"$f":"IFERROR(INDEX(#REF!,P53),\"\")","v":""},null,"APP_",{"$f":"IFERROR(INDEX(#REF!,P53),\"\")","v":""}]
[19,null,null,"",null,null,null,{"$f":"IFERROR(W54 & \" : \" & INDEX(#REF!,P54),\"\")","v":""},null,null,null,null,null,null,null,{"$f":"MATCH(A54,#REF!,0)","v":{"$error":"#REF!"}},null,null,null,null,null,null,{"$f":"IFERROR(INDEX(#REF!,P54),\"\")","v":""},null,"APP_",{"$f":"IFERROR(INDEX(#REF!,P54),\"\")","v":""}]
[20,null,null,"",null,null,null,{"$f":"IFERROR(W55 & \" : \" & INDEX(#REF!,P55),\"\")","v":""},null,null,null,null,null,null,null,{"$f":"MATCH(A55,#REF!,0)","v":{"$error":"#REF!"}},null,null,null,null,null,null,{"$f":"IFERROR(INDEX(#REF!,P55),\"\")","v":""},null,"APP_",{"$f":"IFERROR(INDEX(#REF!,P55),\"\")","v":""}]
[21,null,null,"",null,null,null,{"$f":"IFERROR(W56 & \" : \" & INDEX(#REF!,P56),\"\")","v":""},null,null,null,null,null,null,null,{"$f":"MATCH(A56,#REF!,0)","v":{"$error":"#REF!"}},null,null,null,null,null,null,{"$f":"IFERROR(INDEX(#REF!,P56),\"\")","v":""},null,"APP_",{"$f":"IFERROR(INDEX(#REF!,P56),\"\")","v":""}]
[22,null,null,"",null,null,null,{"$f":"IFERROR(W57 & \" : \" & INDEX(#REF!,P57),\"\")","v":""},null,null,null,null,null,null,null,{"$f":"MATCH(A57,#REF!,0)","v":{"$error":"#REF!"}},null,null,null,null,null,null,{"$f":"IFERROR(INDEX(#REF!,P57),\"\")","v":""},null,"APP_",{"$f":"IFERROR(INDEX(#REF!,P57),\"\")","v":""}]
[23,null,null,"",null,null,null,{"$f":"IFERROR(W58 & \" : \" & INDEX(#REF!,P58),\"\")","v":""},null,null,null,null,null,null,null,{"$f":"MATCH(A58,#REF!,0)","v":{"$error":"#REF!"}},null,null,null,null,null,null,{"$f":"IFERROR(INDEX(#REF!,P58),\"\")","v":""},null,"APP_",{"$f":"IFERROR(INDEX(#REF!,P58),\"\")","v":""}]
[24,null,null,"",null,null,null,{"$f":"IFERROR(W59 & \" : \" & INDEX(#REF!,P59),\"\")","v":""},null,null,null,null,null,null,null,{"$f":"MATCH(A59,#REF!,0)","v":{"$error":"#REF!"}},null,null,null,null,null,null,{"$f":"IFERROR(INDEX(#REF!,P59),\"\")","v":""},null,"APP_",{"$f":"IFERROR(INDEX(#REF!,P59),\"\")","v":""}]
[25,null,null,"",null,null,null,{"$f":"IFERROR(W60 & \" : \" & INDEX(#REF!,P60),\"\")","v":""},null,null,null,null,null,null,null,{"$f":"MATCH(A60,#REF!,0)","v":{"$error":"#REF!"}},null,null,null,null,null,null,{"$f":"IFERROR(INDEX(#REF!,P60),\"\")","v":""},null,"APP_",{"$f":"IFERROR(INDEX(#REF!,P60),\"\")","v":""}]
[26,null,null,"",null,null,null,{"$f":"IFERROR(W61 & \" : \" & INDEX(#REF!,P61),\"\")","v":""},null,null,null,null,null,null,null,{"$f":"MATCH(A61,#REF!,0)","v":{"$error":"#REF!"}},null,null,null,null,null,null,{"$f":"IFERROR(INDEX(#REF!,P61),\"\")","v":""},null,"APP_",{"$f":"IFERROR(INDEX(#REF!,P61),\"\")","v":""}]
[27,null,null,"",null,null,null,{"$f":"IFERROR(W62 & \" : \" & INDEX(#REF!,P62),\"\")","v":""},null,null,null,null,null,null,null,{"$f":"MATCH(A62,#REF!,0)","v":{"$error":"#REF!"}},null,null,null,null,null,null,{"$f":"IFERROR(INDEX(#REF!,P62),\"\")","v":""},null,"APP_",{"$f":"IFERROR(INDEX(#REF!,P62),\"\")","v":""}]
[28,null,null,"",null,null,null,{"$f":"IFERROR(W63 & \" : \" & INDEX(#REF!,P63),\"\")","v":""},null,null,null,null,null,null,null,{"$f":"MATCH(A63,#REF!,0)","v":{"$error":"#REF!"}},null,null,null,null,null,null,{"$f":"IFERROR(INDEX(#REF!,P63),\"\")","v":""},null,"APP_",{"$f":"IFERROR(INDEX(#REF!,P63),\"\")","v":""}]
[29,null,null,"",null,null,null,{"$f":"IFERROR(W64 & \" : \" & INDEX(#REF!,P64),\"\")","v":""},null,null,null,null,null,null,null,{"$f":"MATCH(A64,#REF!,0)","v":{"$error":"#REF!"}},null,null,null,null,null,null,{"$f":"IFERROR(INDEX(#REF!,P64),\"\")","v":""},null,"APP_",{"$f":"IFERROR(INDEX(#REF!,P64),\"\")","v":""}]
[30,null,null,"",null,null,null,{"$f":"IFERROR(W65 & \" : \" & INDEX(#REF!,P65),\"\")","v":""},null,null,null,null,null,null,null,{"$f":"MATCH(A65,#REF!,0)","v":{"$error":"#REF!"}},null,null,null,null,null,null,{"$f":"IFERROR(INDEX(#REF!,P65),\"\")","v":""},null,"APP_",{"$f":"IFERROR(INDEX(#REF!,P65),\"\")","v":""}]
[31,null,null,{"$f":"IFERROR(INDEX(#REF!,P66),\"\")","v":""},null,null,null,{"$f":"IFERROR(W66 & \" : \" & INDEX(#REF!,P66),\"\")","v":""},null,null,null,null,null,null,null,{"$f":"MATCH(A66,#REF!,0)","v":{"$error":"#REF!"}},null,null,null,null,null,null,{"$f":"IFERROR(INDEX(#REF!,P66),\"\")","v":""},null,"APP_",{"$f":"IFERROR(INDEX(#REF!,P66),\"\")","v":""}]
[32,null,null,{"$f":"IFERROR(INDEX(#REF!,P67),\"\")","v":""},null,null,null,{"$f":"IFERROR(W67 & \" : \" & INDEX(#REF!,P67),\"\")","v":""},null,null,null,null,null,null,null,{"$f":"MATCH(A67,#REF!,0)","v":{"$error":"#REF!"}},null,null,null,null,null,null,{"$f":"IFERROR(INDEX(#REF!,P67),\"\")","v":""},null,"APP_",{"$f":"IFERROR(INDEX(#REF!,P67),\"\")","v":""}]
[33,null,null,{"$f":"IFERROR(INDEX(#REF!,P68),\"\")","v":""},null,null,null,{"$f":"IFERROR(W68 & \" : \" & INDEX(#REF!,P68),\"\")","v":""},null,null,null,null,null,null,null,{"$f":"MATCH(A68,#REF!,0)","v":{"$error":"#REF!"}},null,null,null,null,null,null,{"$f":"IFERROR(INDEX(#REF!,P68),\"\")","v":""},null,"APP_",{"$f":"IFERROR(INDEX(#REF!,P68),\"\")","v":""}]
[34,null,null,{"$f":"IFERROR(INDEX(#REF!,P69),\"\")","v":""},null,null,null,{"$f":"IFERROR(W69 & \" : \" & INDEX(#REF!,P69),\"\")","v":""},null,null,null,null,null,null,null,{"$f":"MATCH(A69,#REF!,0)","v":{"$error":"#REF!"}},null,null,null,null,null,null,{"$f":"IFERROR(INDEX(#REF!,P69),\"\")","v":""},null,"APP_",{"$f":"IFERROR(INDEX(#REF!,P69),\"\")","v":""}]
[35,null,null,{"$f":"IFERROR(INDEX(#REF!,P70),\"\")","v":""},null,null,null,{"$f":"IFERROR(W70 & \" : \" & INDEX(#REF!,P70),\"\")","v":""},null,null,null,null,null,null,null,{"$f":"MATCH(A70,#REF!,0)","v":{"$error":"#REF!"}},null,null,null,null,null,null,{"$f":"IFERROR(INDEX(#REF!,P70),\"\")","v":""},null,"APP_",{"$f":"IFERROR(INDEX(#REF!,P70),\"\")","v":""}]
[36,null,null,{"$f":"IFERROR(INDEX(#REF!,P71),\"\")","v":""},null,null,null,{"$f":"IFERROR(W71 & \" : \" & INDEX(#REF!,P71),\"\")","v":""},null,null,null,null,null,null,null,{"$f":"MATCH(A71,#REF!,0)","v":{"$error":"#REF!"}},null,null,null,null,null,null,{"$f":"IFERROR(INDEX(#REF!,P71),\"\")","v":""},null,"APP_",{"$f":"IFERROR(INDEX(#REF!,P71),\"\")","v":""}]
[37,null,null,{"$f":"IFERROR(INDEX(#REF!,P72),\"\")","v":""},null,null,null,{"$f":"IFERROR(W72 & \" : \" & INDEX(#REF!,P72),\"\")","v":""},null,null,null,null,null,null,null,{"$f":"MATCH(A72,#REF!,0)","v":{"$error":"#REF!"}},null,null,null,null,null,null,{"$f":"IFERROR(INDEX(#REF!,P72),\"\")","v":""},null,"APP_",{"$f":"IFERROR(INDEX(#REF!,P72),\"\")","v":""}]
[38,null,null,{"$f":"IFERROR(INDEX(#REF!,P73),\"\")","v":""},null,null,null,{"$f":"IFERROR(W73 & \" : \" & INDEX(#REF!,P73),\"\")","v":""},null,null,null,null,null,null,null,{"$f":"MATCH(A73,#REF!,0)","v":{"$error":"#REF!"}},null,null,null,null,null,null,{"$f":"IFERROR(INDEX(#REF!,P73),\"\")","v":""},null,"APP_",{"$f":"IFERROR(INDEX(#REF!,P73),\"\")","v":""}]
[39,null,null,{"$f":"IFERROR(INDEX(#REF!,P74),\"\")","v":""},null,null,null,{"$f":"IFERROR(W74 & \" : \" & INDEX(#REF!,P74),\"\")","v":""},null,null,null,null,null,null,null,{"$f":"MATCH(A74,#REF!,0)","v":{"$error":"#REF!"}},null,null,null,null,null,null,{"$f":"IFERROR(INDEX(#REF!,P74),\"\")","v":""},null,"APP_",{"$f":"IFERROR(INDEX(#REF!,P74),\"\")","v":""}]
[40,null,null,{"$f":"IFERROR(INDEX(#REF!,P75),\"\")","v":""},null,null,null,{"$f":"IFERROR(W75 & \" : \" & INDEX(#REF!,P75),\"\")","v":""},null,null,null,null,null,null,null,{"$f":"MATCH(A75,#REF!,0)","v":{"$error":"#REF!"}},null,null,null,null,null,null,{"$f":"IFERROR(INDEX(#REF!,P75),\"\")","v":""},null,"APP_",{"$f":"IFERROR(INDEX(#REF!,P75),\"\")","v":""}]

{"sheet":"Introduction","index":1,"n_rows":92,"n_cols":20,"rows_kept":92,"cut":false,"hidden":false,"merged":[[39,1,39,20],[41,1,41,20],[42,1,42,20],[44,1,44,20],[46,1,46,20],[3,1,3,20],[1,11,1,12],[1,13,1,14],[1,15,1,16],[1,17,1,18],[1,19,1,20],[1,1,1,2],[1,3,1,4],[1,5,1,6],[1,7,1,8],[1,9,1,10],[38,1,38,20],[31,1,31,20],[28,1,28,20],[14,1,14,20],[15,1,15,20],[16,1,16,20],[22,1,22,20],[25,1,25,20],[17,1,17,20],[33,1,33,20],[35,1,35,20],[36,1,36,20],[19,1,19,20]]}
[]
[null,{"$f":"HYPERLINK(NomFichier&Listes!C49&\"'!A1\",Trad!A3)","v":"Menu"},null,{"$f":"HYPERLINK(NomFichier&Listes!C50&\"'!A1\",Trad!A4)","v":"Introduction"},null,{"$f":"HYPERLINK(NomFichier&Listes!C56&\"'!A1\",Trad!A10)","v":"Aide"},null,null,null,{"$f":"HYPERLINK(NomFichier&Listes!C51&\"'!A1\",Trad!A5)","v":"Pompe(s)"},null,{"$f":"HYPERLINK(NomFichier&Listes!C52&\"'!A1\",Trad!A6)","v":"Ventilateur(s)"},null,{"$f":"HYPERLINK(NomFichier&Listes!C53&\"'!A1\",Trad!A7)","v":"Air comprimé"},null,{"$f":"HYPERLINK(NomFichier&Listes!C54&\"'!A1\",Trad!A8)","v":"Groupe froid"},null,null,null,{"$f":"HYPERLINK(Listes!A36&\"/14010 Canevas Résultats analyses V3a.xlsm\",Trad!A9)","v":"Résultats"}]
[]
[null,{"$f":"Traduction!$A$471","v":"Introduction/Explications"}]
[]
[null,{"$f":"Traduction!$A$472","v":"Signification des couleurs"}]
[null,null,null,{"$f":"Traduction!$A$473","v":"Case à compléter ou liste déroulante"}]
[]
[null,{"$f":"Traduction!$A$6","v":"Default"},null,{"$f":"Traduction!$A$475","v":"Valeur par défaut, peut être précisée"}]
[]
[null,null,null,{"$f":"Traduction!$A$476","v":"Champ facultatif"}]
[]
[null,{"$f":"Traduction!$A$477","v":"Introduction"}]
[]
[null,{"$f":"Trad!A18","v":"L'objectif d'une analyse de détail est de fournir à l'exploitant les informations sur les mesures d'optimisation adéquates, leurs coûts, le gain énergétique attendu et le temps de retour sur investissement."}]
[null,{"$f":"Trad!A19","v":"Un niveau de connaissance élevé permet de cibler les optimisations les plus ambitieuses. Lorsque le système est peu instrumenté, les données nécessaires doivent être obtenues par des mesurages externes (expert). "}]
[null,{"$f":"Trad!A20","v":"Cette partie \"Analyse de détail\" de l'outil VELANI propose diverses  \"recettes\" qui guident le responsable en charge des analyses approfondies."}]
[null,{"$f":"Trad!A21","v":"Attention: Cette partie ne réalise donc pas de calculs ou d'analyses de façon automatique"}]
[]
[null,{"$f":"Trad!A22","v":"Module Analyses fines"}]
[]
[null,{"$f":"Traduction!$A$10","v":"Fiche \"Pompes\""}]
[null,{"$f":"Trad!A23","v":"Cette fiche fait partie des \"recettes\" destinées à guider le responsable des analyses de détail. Elle porte sur les systèmes de pompage.\nLa première partie est constituée d'une liste de questions devant permettre à l'expert de mieux connaître l'équipement et son évolution prévue. La seconde partie précise les besoins de mesurages externes (à réaliser par l'expert). Elle comprend des liens avec les aides à la bonne conduite des mesurages. La troisième partie est un résumé de la situation et des conseils pour la conduite des mesurages.\nLa partie 4 porte sur les analyses. Elle soutient l'expert dans sa façon d'utiliser les résultats de mesurages et de la définition des options d'optimisation possibles et recommandables. Les parties 5 et 6 présentent les calculs des économies et de la rentabilité des mesures.\nDifférentes fiches de détails sont proposées afin d'éclairer le propos. Pour les mesurages, des procédures d'aide sont à disposition avec des conseils pratiques."}]
[]
[null,{"$f":"Traduction!$A$12","v":"Fiche \"Ventilateurs\""}]
[null,{"$f":"Trad!A24","v":"Cette fiche dédiée à l'analyse approfondie des ventilateurs est sensiblement la même que celles des pompes, hormis les particularité des ventilateurs."}]
[]
[null,{"$f":"Traduction!$A$14","v":"Fiche \"Air comprimé\""}]
[null,{"$f":"Trad!A25","v":"Cette fiche fait partie des \"recettes\" destinées à guider le responsable dans les analyses de détail. Elle porte sur les systèmes de production d'air comprimé.\nElle est constituée d'une liste de points permettant à l'expert de caractériser l'équipement existant à analyser et de déterminer le besoin en mesurages externes (à réaliser par l'expert). Les façon de détermier la consommation du système d'air comprimé constitue le premier volet. Les meilleures approches pour optimiser la distribution, l'utilisation et la production sont décrites dans les partie 2 à 4. La dernière partie montre comment optimiser les auxiliaires."}]
[]
[null,{"$f":"Traduction!$A$16","v":"Fiche \"Groupe froid\""}]
[null,{"$f":"Trad!A26","v":"Cette fiche fait partie des \"recettes\" destinées à guider le responsable des analyses de détail. Elle porte sur les systèmes de production de froid.\nElle est constituée d'une liste de points permettant à l'expert de caractériser l'équipement à analyser et le besoin en mesurages externes (à réaliser par l'expert). Elle démarre en décrivant comment établir les besoins de froid et en déterminant les performances de l'installation actuelle. Les diverses optimisations de la production de froid sont présentées dans la partie 3. Les autres optimisations occupent les points 4 à 6.\nCette fiche soutient l'expert dans sa façon d'utiliser les résultats de mesurages et dans la définition des options d'optimisation possibles et recommandables. Elle présente notament les calculs des économies.\nDifférentes fiches de détails sont proposées afin d'éclairer le propos."}]
[]
[null,{"$f":"Trad!A27","v":"Module Aides"}]
[]
[null,{"$f":"Trad!A28","v":"Fiches \"Mesurages\""}]
[null,{"$f":"Trad!A29","v":"Diverses fiches sont proposées de façon à préciser comment doivent être réalisés certains types de mesurages fréquents dans les analyses de détails. Il s'agit des mesurages de pression, de débit et de puissance électrique. Ces fiches ne prétendent pas à l'exhaustité mais offrent des informations pratiques et utiles."}]
[]
[null,{"$f":"Trad!A30","v":"Fiche \"Calcul des économies d'énergie de froid\""}]
[null,{"$f":"Trad!A31","v":"Cette fiche permet, sur la base de données usuellement relevées, d'estimer des potentiels d'économies de mesures types. L'utilisateur a ainsi la possibilité d'introduire les T aller et retour de sa distribution de froid et le débit associé en période estivale. L'outil détermine alors le besoin de froid (profil type sur la semaine la plus contraignante). Il détermine alors les performances du système actuel dans les 4 saisons et les compare à celles que l'on pourrait atteindre avec un système efficace (calcul du potentiel d'économies). Sur les mêmes bases, l'outil permet aussi de déterminer le potentiel associé à l'introduction d'un free cooling. Il compare ce potentiel avec celui que l'on pourrait atteindre avec une récupération de chaleur sur le condenseur."}]
[]
[null,{"$f":"Trad!A32","v":"Fiche \"Calculs financiers\""}]
[null,{"$f":"Trad!A33","v":"Il existe diverses formules de calcul des résultats financiers d'une opération comme la réalisation d'une optimisation énergétique. Cette fiche présente des formules simples comme le temps de retour brut mais aussi des formules intégrant des notions plus élaborées comme le taux d'enrichissement en capital. Le choix entre les formules dépendra de l'objectif du calcul financier. "}]
[]
[null,{"$f":"Trad!A34","v":"Module Résultats finaux"}]
[]
[null,{"$f":"Trad!A35","v":"Ce module résultats finaux ne provient pas de calculs effectués automatiquement par l'outil VELANI. Il s'agit en fait d'une mise en forme des résultats d'étude de l'expert. L'idée est d'offrir une synthèse finale et une mise en forme des données et résultats qui permettent une utilisation statistique. La synthèse des résultats sera utile à la direction pour décider d'un plan d'investissement. Les données statistiques enrichiront une base de données de l'OFEN permettant de mieux connaître le parc d'entraînements électriques de l'industrie suisse et les apports de divers types de mesures d'optimisations."}]
[]
[]
[null,{"$f":"Traduction!$A$18","v":"Changelog:"}]
[{"$f":"Traduction!$A$98","v":"la production (type, nbre ou vol. de produit)"},{"$f":"Traduction!$A$108","v":"Les valeurs de pression sont disponibles. Utilisez-les avec les valeurs de débit pour calculer la puissance hydraulique. Procédez aux mesurages de la puissance électrique et calculez les rendements."}]
["V1e","2018-02-01",{"$f":"Traduction!$A$19","v":"Précision du texte dans l'aide expliquant le calcul de la consommation annuelle et ajout des boutons correspondant dans l'onglet conseils d'orientation"}]
["V1e","2018-02-01",{"$f":"Traduction!$A$20","v":"Correction de l'erreur dans l'explication de la méthode de calcul d'économie due à l'ajout d'un variateur de vitesse dans le cas d'un débit variable pour un ventilateur "}]
["V1e","2018-02-01",{"$f":"Traduction!$A$21","v":"Ajout de l'explication concernant ce qui est pris en compte entre l'âge de l'élément entrainé et la classe d'efficacité du moteur dans l'explication de la méthode de calcul pour l'AP et l'AP+ pompe/ventilateur"}]
["V1e","2018-02-01",{"$f":"Traduction!$A$22","v":"Mise en rouge des textes en début de feuilles qui expliquent la marche à suivre et agrandissement des boutons pour passer à l'AP+ ainsi que mise en évidence de cette colonne"}]
["V1f","2018-03-09",{"$f":"Traduction!$A$23","v":"Rénovation de la navigation, ajout d'un onglet menu. Pour l'analyse préliminaire plus les tableaux correspondant aux différents entrainements ont été mis dans des feuilles séparées."}]
["V1g","2018-03-15",{"$f":"Traduction!$A$24","v":"AP et AP+ air comprimé: Le facteur entre la puissance nominale et la consommation effective a été corrigé pour les compresseurs sans variateur de 1.15 à 1. Pour les compresseur avec variateur cette valeur reste la même. Correction dans AP et AP+ et dans l'aide."}]
["V1g","2018-03-15",{"$f":"Traduction!$A$25","v":"AP et AP+ air comprimé, la sélection pour les taux de charge a été étendu"}]
["V1g","2018-03-15",{"$f":"Traduction!$A$26","v":"AP et AP+ air comprimé: Les économies avec un système de commande  électronique centralisé pour un système de 3 compresseurs ou plus ont été diminué de 12 % à 10 % (AP et AP+)"}]
["V1g","2018-03-15",{"$f":"Traduction!$A$27","v":"AP et AP+ air comprimé : sélection des taux de fuite a été étendue"}]
["V1g","2018-03-16",{"$f":"Traduction!$A$28","v":"AP+ air comprimé : Lors du calcul d'économie du au sectionnement du réseau, l'économie est calculé sur le taux de fuite (et non comme faussement avant sur la consommation totale)."}]
["V1g","2018-03-16",{"$f":"Traduction!$A$29","v":"AP et AP+ air comprimé : corrigé l'erreur des éconimies dues à une meilleures gestion des CP qui n'étaient pas pris en compte."}]
["V1g","2018-03-17",{"$f":"Traduction!$A$30","v":"Si un AP+ existe déjà et que l'on reclique dessus dans la feuille des classements des économies, il est demandé si l'on veut réecrir les paramètre de l'AP ou pas."}]
["V1g","2018-03-17",{"$f":"Traduction!$A$31","v":"AP+ air comprimé : Si l'on choisi compresseur à vis la selection marche arrête n'est plus possible. Pour piston, tout ou rien n'est plus possible. Si l'on sélectionne un CP à vitesse variable la selection du type de régulation devient blanc,"}]
["V1g","2018-03-17",{"$f":"Traduction!$A$32","v":"AP+ air comprimé : Les unités pour les puissances spécifiques et débits ont été corrigé."}]
["V1g","2018-03-17",{"$f":"Traduction!$A$33","v":"Explication calcule AP+, références figure 2 adaptée. "}]
["V1g","2018-03-17",{"$f":"Traduction!$A$34","v":"AP pompe et ventil corrigé erreur aide (nom/code/description)"}]
["V1g","2018-03-17",{"$f":"Traduction!$A$35","v":"Conseil d'orientation : la pondération pour l'âge a été adaptée"}]
["V1g","2018-03-17",{"$f":"Traduction!$A$36","v":"Vérification rapide: la limite pour être intéressant pas de <90% (plus neuf que 7 ans) à < 80%"}]
["V1h","2018-03-19",{"$f":"Traduction!$A$37","v":"AP+ air comprimé : ajout de la question sur le point de rosé"}]
["V2c","2018-03-22",{"$f":"Traduction!$A$38","v":"Quelques corrections de bug, ajout colonnes économies sur 4 et 8 ans, ajout des +- 30 % d'erreur et du point info correspondant. "}]
["V2c","2018-03-22",{"$f":"Traduction!$A$39","v":"Message d'erreur si le dossier Information n'est pas trouvé losrque l'on clique sur l'aide."}]
["V2f","2018-04-06",{"$f":"Traduction!$A$40","v":"Le change log a été un peu négligé"}]
["V2f","2018-04-06",{"$f":"Traduction!$A$41","v":"AP+ ventilateurs, la possibilié de calculer le ratio avec le puissance électrique a été supprimée"}]
["V2f","2018-04-06",{"$f":"Traduction!$A$42","v":"Correction de plusieurs fautes d'orthographes et amélioration des textes. "}]
["V2f","2018-04-06",{"$f":"Traduction!$A$43","v":"AP+ Pompe, le rapport minimale entre Qmax et Qnom est fixé à 10 % si valeur plus basse message d'avertissement ainsi et calcules fait avec cette valeur."}]
["V2f","2018-04-06"]
["V2h","2018-05-17",{"$f":"Traduction!$A$45","v":"Ajout colonne commentaires"}]
["V2i","2018-05-18",{"$f":"Traduction!$A$46","v":"Fusion du quick-check et conseil d'orientation"}]
["V2j","2018-05-23",{"$f":"Traduction!$A$47","v":"Ajout de la catégorie autres, ajout dans synthèse d'un tableau récapitulatif avec possibilité de corriger les économies. Aide à la sélection d'entrainement est supprimée de la feuille excel et une une nouvelle page d'aide avec les liens sur les différents systèmes est crée."}]
["v2j","2018-05-24",{"$f":"Traduction!$A$48","v":"Ecriture info pour évaluation vérification rapide. Ajout d'un module autres entrainement (version grossière)."}]
["v2k","2018-05-24",{"$f":"Traduction!$A$49","v":"Ajout question système pour pompe et ventilo GA et GA+  et écriture de l'aide et adaptation des calculs"}]
["V2m","2018-07-05",{"$f":"Traduction!$A$50","v":"Donnée styles aux cellules"}]
["V2n","08.2018",{"$f":"Traduction!$A$51","v":"Ajout traduction dans la même feuille"}]
["V2o","2018-08-09",{"$f":"Traduction!$A$52","v":"Caché les optimisations systèmes pour les pompes et corriger bug classement lorsque l'on effaçait des entrées."}]
["V2o","2018-08-09",{"$f":"Traduction!$A$53","v":"Résultat ap+ sont maintenant inscrit dans les onglets des AP correspondant."}]
["V2o","2018-08-09",{"$f":"Traduction!$A$54","v":"Propriété visuelle des cellules ont été classé dans des styles."}]
["V2o","2018-08-09",{"$f":"Traduction!$A$55","v":"Les cellules non modifiable ne peuvent plus être selectionnées."}]
["V2o","2018-08-09",{"$f":"Traduction!$A$56","v":"Un grand nombre de références à des cellules fixes ont été modifiées pour des références avec noms "}]
["V2q","2018-08-14",{"$f":"Traduction!$A$57","v":"Bout d'aide"}]
["V2r","2018-08-17",{"$f":"Traduction!$A$58","v":"Quelques bugs sont résolus. Texte d'intro amélioré"}]
["v2v","2018-10-02",{"$f":"Traduction!$A$59","v":"Ajout Module froid AP et AP+"}]

{"sheet":"Traduction","index":2,"n_rows":930,"n_cols":9,"rows_kept":930,"cut":false,"hidden":false,"merged":[]}
[null,"Table de traduction "]
["Langue",{"$f":"Menu!D5","v":"FR"},"Übersetzt durch WKP","Übersetzt durch Planair - alt"]
["Textes Afficher","FR","DE","DE"]
[{"$f":"IF($B$2=\"FR\",B4,C4)","v":"Local"},"Local","Lokal","Lokale",null,null,8.2018000000000004]
["Aperçu des résultats de l'analyse détaillée","Aperçu des résultats de l'analyse détaillée","Überblick über die Ergebnisse der detaillierten Analyse","Überblick über die Ergebnisse der Feinanalyse",1,null,"V1e"," η 𝑡𝑜𝑡.𝑖 =  η 𝐶𝐹.𝑖  ∗  η 𝑚𝑜𝑡.𝑖 ∗  η 𝑎𝑐𝑐.𝑖  ∗  η 𝑝𝑜𝑚𝑝𝑒.𝑖  "]
["Default","Default","Default","Default",1,null,"V1e","Δ 𝐸 𝑎  =  1 𝑛  (𝑃 𝑒𝑙, 𝑎𝑛𝑐.𝑖  −  𝑃 𝑒𝑙, 𝑛𝑜𝑢𝑣.𝑖 )  ∗ 𝑁ℎ 𝑖 "]
["L'objectif de l'analyse de détail est de fournir à l'exploitant les informations sur les mesures d'optimisation adéquates, leurs coûts, le gain énergétique attendu et le temps de retour sur investissement.","L'objectif de l'analyse de détail est de fournir à l'exploitant les informations sur les mesures d'optimisation adéquates, leurs coûts, le gain énergétique attendu et le temps de retour sur investissement.","Ziel der Feinanalyse ist es, dem Betreiber Informationen über die geeigneten Optimierungsmaßnahmen, deren Kosten, den zu erwartenden Energiegewinn und die Amortisationszeit zu liefern.","Ziel der Feinanalyse ist es, dem Betreiber Informationen über die geeigneten Optimierungsmaßnahmen, deren Kosten, den zu erwartenden Energiegewinn und die Amortisationszeit zu liefern.",1,null,"V1e"," 𝑃 𝑒𝑙,𝑎𝑛𝑐.𝑖 =  𝑃 ℎ𝑦𝑑𝑟,𝑎𝑛𝑐.𝑖 / η 𝑡𝑜𝑡,𝑎𝑛𝑐.𝑖 ","Introduction"]
["Un niveau de connaissance élevé permet de cibler les optimisations les plus ambitieuses. Lorsque le système est peu instrumenté, les données nécessaires doivent être obtenues par des mesurages externes (expert). ","Un niveau de connaissance élevé permet de cibler les optimisations les plus ambitieuses. Lorsque le système est peu instrumenté, les données nécessaires doivent être obtenues par des mesurages externes (expert). ","Ein hoher Wissensstand erlaubt es uns, die ehrgeizigsten Optimierungen anzustreben. Wenn das System schlecht instrumentiert ist, müssen die notwendigen Daten durch externe (Experten-)Messungen gewonnen werden. ","Ein hoher Wissensstand erlaubt es uns, die ehrgeizigsten Optimierungen anzustreben. Wenn das System schlecht instrumentiert ist, müssen die notwendigen Daten durch externe (Experten-)Messungen gewonnen werden. ",1,null,"V1e"," 𝑃 ℎ𝑦𝑑𝑟,𝑎𝑛𝑐.𝑖 = Δ𝑝𝑎𝑛𝑐.𝑖∗𝑄𝑎𝑛𝑐.𝑖"]
["Les \"recettes\" constituent des aides pour le responsable en charge de l'analyse de détail.","Les \"recettes\" constituent des aides pour le responsable en charge de l'analyse de détail.","Die \"Rezepte\" sind Hilfsmittel für die mit der Feinanalyse beauftragte Person.","Die \"Rezepte\" sind Hilfsmittel für die mit der Feinanalyse beauftragte Person.",1,"OK","V1f"," 𝑃 𝑒𝑙,𝑛𝑜𝑢𝑣.𝑖 =  𝑃 ℎ𝑦𝑑𝑟,𝑛𝑜𝑢𝑣.𝑖 / η 𝑡𝑜𝑡,𝑛𝑜𝑢𝑣.𝑖 "]
["Fiche \"Pompes\"","Fiche \"Pompes\"","Blatt \"Pumpen\"","Blatt \"Pumpen\"",1,null,"V1g"," 𝑃 ℎ𝑦𝑑𝑟,𝑛𝑜𝑢𝑣.𝑖 = Δ𝑝𝑛𝑜𝑢𝑣.𝑖∗𝑄𝑛𝑜𝑢𝑣.𝑖"]
["Cette fiche fait partie des \"recettes\" destinées à guider le responsable des analyses de détail. Elle porte sur les systèmes de pompage.\nLa première partie est constituée d'une liste de questions devant permettre à l'expert de mieux connaître l'équipement et son évolution prévue. La seconde partie précise les besoins de mesurages externes (à réaliser par l'expert). Elle comprend des liens avec les aides à la bonne conduite des mesurages. La troisième partie est un résumé de la situation et des conseils pour la conduite des mesurages.\nLa partie 4 porte sur les analyses. Elle soutient l'expert dans sa façon d'utiliser les résultats de mesurages et de la définition des options d'optimisation possibles et recommandables. Les parties 5 et 6 présentent enfin les calculs des économies et de la rentabilité des mesures.\nDifférentes fiches de détails sont proposées afin d'éclairer le propos. Pour les mesurages, des procédures d'aide sont à disposition avec des conseils pratiques.","Cette fiche fait partie des \"recettes\" destinées à guider le responsable des analyses de détail. Elle porte sur les systèmes de pompage.\nLa première partie est constituée d'une liste de questions devant permettre à l'expert de mieux connaître l'équipement et son évolution prévue. La seconde partie précise les besoins de mesurages externes (à réaliser par l'expert). Elle comprend des liens avec les aides à la bonne conduite des mesurages. La troisième partie est un résumé de la situation et des conseils pour la conduite des mesurages.\nLa partie 4 porte sur les analyses. Elle soutient l'expert dans sa façon d'utiliser les résultats de mesurages et de la définition des options d'optimisation possibles et recommandables. Les parties 5 et 6 présentent enfin les calculs des économies et de la rentabilité des mesures.\nDifférentes fiches de détails sont proposées afin d'éclairer le propos. Pour les mesurages, des procédures d'aide sont à disposition avec des conseils pratiques.","Dieses Blatt ist Teil der \"Rezepte\", die den Verantwortlichen für Feinanalyse als Leitfaden dienen sollen. Sie befasst sich mit Pumpsystemen. \nDer erste Teil besteht aus einer Liste von Fragen, die es dem Experten ermöglichen sollen, die Ausrüstung und ihre geplante Entwicklung besser zu verstehen. Der zweite Teil spezifiziert den Bedarf an externen Messungen (die vom Experten durchzuführen sind). Sie enthält Links zu den Hilfsmitteln für die ordnungsgemäße Durchführung der Messungen. Der dritte Teil ist eine Zusammenfassung der Situation und Ratschläge für die Durchführung von Messungen. \nTeil 4 befasst sich mit Analysen. Es unterstützt den Experten bei der Verwendung der Messergebnisse und bei der Definition möglicher und empfehlenswerter Optimierungsmöglichkeiten. Die Teile 5 und 6 präsentieren die Berechnungen der Einsparungen und der Kostenwirksamkeit der Messungen. \nZur Klärung des Themas werden verschiedene Detailblätter vorgeschlagen. Für die Messungen stehen Hilfsverfahren mit praktischen Ratschlägen zur Verfügung.","Dieses Blatt ist Teil der \"Rezepte\", die den Verantwortlichen für Feinanalyse als Leitfaden dienen sollen. Sie befasst sich mit Pumpsystemen. \nDer erste Teil besteht aus einer Liste von Fragen, die es dem Experten ermöglichen sollen, die Ausrüstung und ihre geplante Entwicklung besser zu verstehen. Der zweite Teil spezifiziert den Bedarf an externen Messungen (die vom Experten durchzuführen sind). Sie enthält Links zu den Hilfsmitteln für die ordnungsgemäße Durchführung der Messungen. Der dritte Teil ist eine Zusammenfassung der Situation und Ratschläge für die Durchführung von Messungen. \nTeil 4 befasst sich mit Analysen. Es unterstützt den Experten bei der Verwendung der Messergebnisse und bei der Definition möglicher und empfehlenswerter Optimierungsmöglichkeiten. Die Teile 5 und 6 präsentieren die Berechnungen der Einsparungen und der Kostenwirksamkeit der Messungen. \nZur Klärung des Themas werden verschiedene Detailblätter vorgeschlagen. Für die Messungen stehen Hilfsverfahren mit praktischen Ratschlägen zur Verfügung.",1,null,"V1g","Plusieurs paramètres vont influencer la durée de vie effective d'une installation: le nombre d'heures de fonctionnement par an, la taille, les conditions d'exploitation (milieu agressif).\nPour un moteur et une pompe sans problème d'usure particulière, on "]
["Fiche \"Ventilateurs\"","Fiche \"Ventilateurs\"","Blatt \"Ventilatoren\"","Blatt \"Ventilatoren\"",1,null,"V1g","Lorsque le système est complexe, il faut comprendre le comportement et la nature des consommateurs. Si les besoins des consommateurs varient de façon concomitante, les analyses et les optimisations sont plus simples."]
["Cette fiche fait partie des \"recettes\" destinées à guider le responsable des analyses de détail. Elle porte sur les systèmes de ventilation.\nLa première partie est constituée d'une liste de questions devant permettre à l'expert de mieux connaître l'équipement et son évolution prévue. La seconde partie précise les besoins de mesurages externes (à réaliser par l'expert). Elle comprend des liens avec les aides à la bonne conduite des mesurages. Dans la partie 3, des questions supplémentaires permettent de mieux identifier les sources d'économie du ventilateur considéré. La quatrième partie offre un résumé de la situation et des conseils pour la conduite des mesurages.\nLa partie 5 porte sur les analyses. Elle soutient l'expert dans sa façon d'utiliser les résultats de mesurages et de la définition des options d'optimisation possibles et recommandables. La partie 6 présentent enfin les calculs des économies et de rentabilité des mesures.\nDifférentes fiches de détails sont proposées afin d'éclairer le propos. Pour les mesurages, des procédures d'aide sont à disposition avec des conseils pratiques.","Cette fiche fait partie des \"recettes\" destinées à guider le responsable des analyses de détail. Elle porte sur les systèmes de ventilation.\nLa première partie est constituée d'une liste de questions devant permettre à l'expert de mieux connaître l'équipement et son évolution prévue. La seconde partie précise les besoins de mesurages externes (à réaliser par l'expert). Elle comprend des liens avec les aides à la bonne conduite des mesurages. Dans la partie 3, des questions supplémentaires permettent de mieux identifier les sources d'économie du ventilateur considéré. La quatrième partie offre un résumé de la situation et des conseils pour la conduite des mesurages.\nLa partie 5 porte sur les analyses. Elle soutient l'expert dans sa façon d'utiliser les résultats de mesurages et de la définition des options d'optimisation possibles et recommandables. La partie 6 présentent enfin les calculs des économies et de rentabilité des mesures.\nDifférentes fiches de détails sont proposées afin d'éclairer le propos. Pour les mesurages, des procédures d'aide sont à disposition avec des conseils pratiques.","Dieses Blatt ist Teil der \"Rezepte\", die den Verantwortlichen für Feinanalyse als Leitfaden dienen sollen. Sie befasst sich mit Lüftungssystemen. \nDer erste Teil besteht aus einer Liste von Fragen, die es dem Experten ermöglichen sollen, sich ein besseres Wissen über die Ausrüstung und ihre geplante Entwicklung zu verschaffen. Der zweite Teil spezifiziert den Bedarf an externen Messungen (die vom Experten durchzuführen sind). Sie enthält Links zu den Hilfsmitteln für die ordnungsgemäße Durchführung der Messungen. In Teil 3 helfen zusätzliche Fragen dabei, die Einsparungsquellen des betrachteten Ventilators besser zu identifizieren. Teil 4 enthält eine Zusammenfassung der Situation und Tipps zur Durchführung der Messungen. \nTeil 5 befasst sich mit den Analysen. Es unterstützt den Experten bei der Verwendung der Messergebnisse und bei der Definition möglicher und empfehlenswerter Optimierungsoptionen. Schließlich werden in Teil 6 die Berechnungen der Einsparungen und der Kostenwirksamkeit der Messungen vorgestellt. \nZur Klärung des Themas werden verschiedene Detailblätter vorgeschlagen. Für die Messungen stehen Hilfsverfahren mit praktischen Ratschlägen zur Verfügung.","Dieses Blatt ist Teil der \"Rezepte\", die den Verantwortlichen für Feinanalyse als Leitfaden dienen sollen. Sie befasst sich mit Lüftungssystemen. \nDer erste Teil besteht aus einer Liste von Fragen, die es dem Experten ermöglichen sollen, sich ein besseres Wissen über die Ausrüstung und ihre geplante Entwicklung zu verschaffen. Der zweite Teil spezifiziert den Bedarf an externen Messungen (die vom Experten durchzuführen sind). Sie enthält Links zu den Hilfsmitteln für die ordnungsgemäße Durchführung der Messungen. In Teil 3 helfen zusätzliche Fragen dabei, die Einsparungsquellen des betrachteten Ventilators besser zu identifizieren. Teil 4 enthält eine Zusammenfassung der Situation und Tipps zur Durchführung der Messungen. \nTeil 5 befasst sich mit den Analysen. Es unterstützt den Experten bei der Verwendung der Messergebnisse und bei der Definition möglicher und empfehlenswerter Optimierungsoptionen. Schließlich werden in Teil 6 die Berechnungen der Einsparungen und der Kostenwirksamkeit der Messungen vorgestellt. \nZur Klärung des Themas werden verschiedene Detailblätter vorgeschlagen. Für die Messungen stehen Hilfsverfahren mit praktischen Ratschlägen zur Verfügung.",null,null,"V1g","Il s’agit d’éviter qu’une vision trop restreinte conduise à des mesures contre-productives à un niveau plus élevé. L’idée est également de déterminer le bon périmètre d’analyse."]
["Fiche \"Air comprimé\"","Fiche \"Air comprimé\"","Blatt \"Druckluft\"","Blatt \"Druckluft\"",1,null,"V1g","L’économie la plus simple et la moins onéreuse consiste à assurer le besoin réel et pas plus (donc pas forcément le besoin actuel). Par exemple, il arrive souvent que des modifications dans les besoins (à la baisse) n’aient jamais été intégrées. "]
["Cette fiche fait partie des \"recettes\" destinées à guider le responsable des analyses de détail. Elle porte sur les systèmes de production d'air comprimé.\n\nElle est constituée d'une liste de points permettant à l'expert de caractériser l'équipement à analyser et le besoin en mesurages externes (à réaliser par l'expert). \n\nCette fiche soutient l'expert dans sa façon d'utiliser les résultats de mesurages et de la définition des options d'optimisation possibles et recommandables. Elle présente notament les calculs des économies.\nDifférentes fiches de détails sont proposées afin d'éclairer le propos.","Cette fiche fait partie des \"recettes\" destinées à guider le responsable des analyses de détail. Elle porte sur les systèmes de production d'air comprimé.\n\nElle est constituée d'une liste de points permettant à l'expert de caractériser l'équipement à analyser et le besoin en mesurages externes (à réaliser par l'expert). \n\nCette fiche soutient l'expert dans sa façon d'utiliser les résultats de mesurages et de la définition des options d'optimisation possibles et recommandables. Elle présente notament les calculs des économies.\nDifférentes fiches de détails sont proposées afin d'éclairer le propos.","Dieses Blatt ist Teil der \"Rezepte\", die den Verantwortlichen für Feinanalyse als Leitfaden dienen sollen. Sie befasst sich mit Drucklufterzeugungssystemen.\n\nSie besteht aus einer Liste von Punkten, die es dem Experten ermöglicht, die zu analysierende Ausrüstung und die Notwendigkeit von externen Messungen (die vom Experten durchzuführen sind) zu charakterisieren. \n\nDieses Blatt unterstützt den Experten bei der Verwendung der Messergebnisse und bei der Definition möglicher und empfehlenswerter Optimierungsoptionen. Insbesondere werden die Berechnungen der Einsparungen vorgestellt. \nEs werden verschiedene Detailblätter vorgeschlagen, um das Thema aufzuklären.","Dieses Blatt ist Teil der \"Rezepte\", die den Verantwortlichen für Feinanalyse als Leitfaden dienen sollen. Sie befasst sich mit Drucklufterzeugungssystemen.\n\nSie besteht aus einer Liste von Punkten, die es dem Experten ermöglicht, die zu analysierende Ausrüstung und die Notwendigkeit von externen Messungen (die vom Experten durchzuführen sind) zu charakterisieren. \n\nDieses Blatt unterstützt den Experten bei der Verwendung der Messergebnisse und bei der Definition möglicher und empfehlenswerter Optimierungsoptionen. Insbesondere werden die Berechnungen der Einsparungen vorgestellt. \nEs werden verschiedene Detailblätter vorgeschlagen, um das Thema aufzuklären.",null,null,"V1g","Une gestion non optimale des variations de débit est une source de forte surconsommation  L'information sur le caractère variable ou non du besoin est donc importante. "]
["Fiche \"Groupe froid\"","Fiche \"Groupe froid\"","Blatt \"Kühlaggregat\"","Blatt \"Kälteanlage\"",1,null,"V1g","La gestion actuelle des variations est un point clé. Si celle-ci est assurée par étranglement ou par by-pass, l’introduction d’un variateur apportera probablement des économies élevées."]
["Cette fiche fait partie des \"recettes\" destinées à guider le responsable des analyses de détail. Elle porte sur les systèmes de production de froid.\n\nElle est constituée d'une liste de points permettant à l'expert de caractériser l'équipement à analyser et le besoin en mesurages externes (à réaliser par l'expert). Le minimum nécessaire à l'étude est la réalisation de mesurages en été. Cependant, l'idéal est de réaliser également des mesurages en hiver, afin d'affiner la précision des résultats.\n\nCette fiche soutient l'expert dans sa façon d'utiliser les résultats de mesurages et dans la définition des options d'optimisation possibles et recommandables. Elle présente notament les calculs des économies.\nDifférentes fiches de détails sont proposées afin d'éclairer le propos.\n","Cette fiche fait partie des \"recettes\" destinées à guider le responsable des analyses de détail. Elle porte sur les systèmes de production de froid.\n\nElle est constituée d'une liste de points permettant à l'expert de caractériser l'équipement à analyser et le besoin en mesurages externes (à réaliser par l'expert). Le minimum nécessaire à l'étude est la réalisation de mesurages en été. Cependant, l'idéal est de réaliser également des mesurages en hiver, afin d'affiner la précision des résultats.\n\nCette fiche soutient l'expert dans sa façon d'utiliser les résultats de mesurages et dans la définition des options d'optimisation possibles et recommandables. Elle présente notament les calculs des économies.\nDifférentes fiches de détails sont proposées afin d'éclairer le propos.\n","Dieses Blatt ist Teil der \"Rezepte\", die den Verantwortlichen für Feinanalyse als Leitfaden dienen sollen. Es befasst sich mit Kälteproduktionssystemen.\n\nSie besteht aus einer Liste von Punkten, die es dem Experten ermöglicht, die zu analysierende Ausrüstung und die Notwendigkeit von externen Messungen (die vom Experten durchzuführen sind) zu charakterisieren. Das für die Studie notwendige Minimum ist die Durchführung von Messungen im Sommer. Ideal ist es jedoch, Messungen auch im Winter durchzuführen, um die Genauigkeit der Ergebnisse zu verfeinern.\n\nDieses Blatt unterstützt den Experten bei der Verwendung der Messergebnisse und bei der Definition möglicher und empfohlener Optimierungsoptionen. Insbesondere werden die Berechnungen der Einsparungen vorgestellt. \nZur Klärung des Themas werden verschiedene Detailblätter vorgeschlagen.","Dieses Blatt ist Teil der \"Rezepte\", die den Verantwortlichen für Feinanalyse als Leitfaden dienen sollen. Es befasst sich mit Kälteproduktionssystemen.\n\nSie besteht aus einer Liste von Punkten, die es dem Experten ermöglicht, die zu analysierende Ausrüstung und die Notwendigkeit von externen Messungen (die vom Experten durchzuführen sind) zu charakterisieren. Das für die Studie notwendige Minimum ist die Durchführung von Messungen im Sommer. Ideal ist es jedoch, Messungen auch im Winter durchzuführen, um die Genauigkeit der Ergebnisse zu verfeinern.\n\nDieses Blatt unterstützt den Experten bei der Verwendung der Messergebnisse und bei der Definition möglicher und empfohlener Optimierungsoptionen. Insbesondere werden die Berechnungen der Einsparungen vorgestellt. \nZur Klärung des Themas werden verschiedene Detailblätter vorgeschlagen.",null,null,"V1g","La connaissance du profil de débit sur une période représentative est fondamentale. Plus les périodes à petits débits sont longues, plus les économies associées à des mesures d’optimisation (introduction d’un CF) seront importantes."]
["Changelog:","Changelog:","Änderungsprotokoll:","Änderungsprotokoll:",1,null,"V1g","La saison, la météo (Text), l’heure du jour, le jour de la semaine, la production, sont des exemples de paramètres qui peuvent influencer le besoin. Cette information permet notamment de déterminer la durée des mesurages."]
["Précision du texte dans l'aide expliquant le calcul de la consommation annuelle et ajout des boutons correspondant dans l'onglet conseils d'orientation","Précision du texte dans l'aide expliquant le calcul de la consommation annuelle et ajout des boutons correspondant dans l'onglet conseils d'orientation","Verdeutlichung des Textes in der Hilfe zur Erläuterung der Berechnung des Jahresverbrauchs und Hinzufügen der entsprechenden Schaltflächen in der Registerkarte Anleitung","Verdeutlichung des Textes in der Hilfe zur Erläuterung der Berechnung des Jahresverbrauchs und Hinzufügen der entsprechenden Schaltflächen in der Registerkarte Anleitung",1,null,"V1g","Le différentiel entre ces deux pressions donne le Δp de fonctionenement de la pompe. Cette grandeur permet de calculer la puissance hydraulique. Il permet aussi de situer le point de fonctionnement actuel par rapport au point de fonctionnement nominal."]
["Correction de l'erreur dans l'explication de la méthode de calcul d'économie due à l'ajout d'un variateur de vitesse dans le cas d'un débit variable pour un ventilateur ","Correction de l'erreur dans l'explication de la méthode de calcul d'économie due à l'ajout d'un variateur de vitesse dans le cas d'un débit variable pour un ventilateur ","Korrektur des Fehlers in der Erläuterung der Methode zur Berechnung der Einsparungen durch die Hinzufügung eines drehzahlvariablen Antriebs bei einem variablen Volumenstrom für ein Ventilator.","Korrektur des Fehlers in der Erläuterung der Methode zur Berechnung der Einsparungen durch die Hinzufügung eines drehzahlvariablen Antriebs bei einem variablen Volumenstrom für ein Beatmungsgerät ",1,null,"V1g","La puissance électrique active triphasée correspond à la puissance consommée par l'entraînement. Elle permet avec la puissance hydraulique de calculer le rendement global de l'entraînement."]
["Ajout de l'explication concernant ce qui est pris en compte entre l'âge de l'élément entrainé et la classe d'efficacité du moteur dans l'explication de la méthode de calcul pour l'AP et l'AP+ pompe/ventilateur","Ajout de l'explication concernant ce qui est pris en compte entre l'âge de l'élément entrainé et la classe d'efficacité du moteur dans l'explication de la méthode de calcul pour l'AP et l'AP+ pompe/ventilateur","Hinzufügung der Erläuterung dessen, was zwischen dem Alter des angetriebenen Elements und der Effizienzklasse des Motors bei der Erläuterung der Berechnungsmethode für die AP- und AP+-Pumpe/Lüfter berücksichtigt wird.","Hinzufügung der Erläuterung dessen, was zwischen dem Alter des angetriebenen Elements und der Effizienzklasse des Motors bei der Erläuterung der Berechnungsmethode für die AP- und AP+-Pumpe/Lüfter berücksichtigt wird",1,null,"V1g","On trouve encore souvent des installations dont le mauvais dimensionnement initial ou un changement dans le besoin nominal sont corrigés par un étranglement permanent. Une approche simple mais peu performante. On trouve aussi parfois des vannes qui serven"]
["Mise en rouge des textes en début de feuilles qui expliquent la marche à suivre et agrandissement des boutons pour passer à l'AP+ ainsi que mise en évidence de cette colonne","Mise en rouge des textes en début de feuilles qui expliquent la marche à suivre et agrandissement des boutons pour passer à l'AP+ ainsi que mise en évidence de cette colonne","Rote Hervorhebung der Texte am Anfang der Blätter, die das zu befolgende Verfahren erklären, und Vergrößerung der Schaltflächen zum Umschalten auf AP+ sowie Hervorhebung dieser Spalte.","Rote Hervorhebung der Texte am Anfang der Blätter, die das zu befolgende Verfahren erklären, und Vergrößerung der Schaltflächen zum Umschalten auf AP+ sowie Hervorhebung dieser Spalte.",1,null,"V1g","Le dimensionnement, le réglage et les enclenchements et déclenchements des pompes d’une cascade sont souvent non optimaux. Il en découle des surconsommations."]
["Rénovation de la navigation, ajout d'un onglet menu. Pour l'analyse préliminaire plus les tableaux correspondant aux différents entrainements ont été mis dans des feuilles séparées.","Rénovation de la navigation, ajout d'un onglet menu. Pour l'analyse préliminaire plus les tableaux correspondant aux différents entrainements ont été mis dans des feuilles séparées.","Erneuerung der Navigation, Hinzufügung eines Menü-Tabs. Für die Grobanalyse sowie die Tabellen, die den verschiedenen Laufwerken entsprechen, wurden separate Blätter angelegt.","Erneuerung der Navigation, Hinzufügung eines Menü-Tabs. Für die vorläufige Analyse sowie die Tabellen, die den verschiedenen Laufwerken entsprechen, wurden separate Blätter angelegt.",1,null,"V1h","L’accouplement est rare dans le cas des pompes. Dans d’autres installations, il permet une flexibilité en termes de prestation (vitesse) et de géométrie (intégration des différents composants). \nIl s’agit d’un composant qui présente des pertes, particuliè"]
["AP et AP+ air comprimé: Le facteur entre la puissance nominale et la consommation effective a été corrigé pour les compresseurs sans variateur de 1.15 à 1. Pour les compresseur avec variateur cette valeur reste la même. Correction dans AP et AP+ et dans l'aide.","AP et AP+ air comprimé: Le facteur entre la puissance nominale et la consommation effective a été corrigé pour les compresseurs sans variateur de 1.15 à 1. Pour les compresseur avec variateur cette valeur reste la même. Correction dans AP et AP+ et dans l'aide.","AP und AP+ Druckluft: Der Faktor zwischen Nennleistung und tatsächlichem Verbrauch wurde für Kompressoren ohne Inverter von 1,15 auf 1 korrigiert. Für Kompressoren mit Inverter bleibt dieser Wert gleich. Korrektur in AP und AP+ und in der Hilfe.","AP und AP+ Druckluft: Der Faktor zwischen Nennleistung und tatsächlichem Verbrauch wurde für Kompressoren ohne Inverter von 1,15 auf 1 korrigiert. Für Kompressoren mit Inverter bleibt dieser Wert gleich. Korrektur in AP und AP+ und in der Hilfe.",1,null,"V2c","Des installations peuvent nécessiter un assainissement pour des raisons autres qu'énergétiques. On songe notamment à un âge au-delà de la durée de vie attendue, des besoins d'entretien trop importants, des problèmes de fiabilité récurrents, une modificati"]
["AP et AP+ air comprimé, la sélection pour les taux de charge a été étendu","AP et AP+ air comprimé, la sélection pour les taux de charge a été étendu","AP und AP+ Druckluft, die Auswahl für Belastungsraten wurde erweitert","AP und AP+ Druckluft, die Auswahl für Belastungsraten wurde erweitert",1,null,"V2c"," η 𝑡𝑜𝑡.𝑖 =  η 𝐶𝐹.𝑖  ∗  η 𝑚𝑜𝑡.𝑖 ∗  η 𝑎𝑐𝑐.𝑖  ∗  η 𝑣𝑒𝑛𝑡.𝑖  "]
["AP et AP+ air comprimé: Les économies avec un système de commande  électronique centralisé pour un système de 3 compresseurs ou plus ont été diminué de 12 % à 10 % (AP et AP+)","AP et AP+ air comprimé: Les économies avec un système de commande  électronique centralisé pour un système de 3 compresseurs ou plus ont été diminué de 12 % à 10 % (AP et AP+)","AP und AP+ Druckluft: Die Einsparungen durch ein zentralisiertes elektronisches Steuerungssystem für ein System mit 3 oder mehr Kompressoren wurden von 12% auf 10% (AP und AP+) reduziert.","AP und AP+ Druckluft: Die Einsparungen durch ein zentralisiertes elektronisches Steuerungssystem für ein System mit 3 oder mehr Kompressoren wurden von 12% auf 10% (AP und AP+) reduziert.",1,null,"V2f","𝑇𝑅𝐵 [𝑎𝑛]= 𝑐𝑜û𝑡 𝑑𝑒  𝑙 ′ 𝑖𝑛𝑣𝑒𝑠𝑡𝑖𝑠𝑠𝑒𝑚𝑒𝑛𝑡 [𝐶𝐻𝐹] é𝑐𝑜𝑛𝑜𝑚𝑖𝑒 𝑎𝑛𝑢𝑒𝑙𝑙𝑒   𝐶𝐻𝐹 𝑎𝑛   "]
["AP et AP+ air comprimé : sélection des taux de fuite a été étendue","AP et AP+ air comprimé : sélection des taux de fuite a été étendue","AP und AP+ Druckluft: Auswahl an Leckraten wurde erweitert","AP und AP+ Druckluft: Auswahl an Leckraten wurde erweitert",1,null,"V2f","𝑇𝑅𝑁  𝑎𝑛 = 𝑐𝑜û𝑡 𝑑𝑒  𝑙 ′ 𝑖𝑛𝑣𝑒𝑠𝑡𝑖𝑠𝑠𝑒𝑚𝑒𝑛𝑡 [𝐶𝐻𝐹]∙𝑝𝑎𝑟𝑡 𝑑𝑒𝑠 𝑐𝑜û𝑡𝑠 𝑙𝑖é𝑒 à  𝑙 ′ é𝑛𝑒𝑟𝑔𝑖𝑒 −  é𝑐𝑜𝑛𝑜𝑚𝑖𝑒 𝑎𝑛𝑢𝑒𝑙𝑙𝑒   𝐶𝐻𝐹 𝑎𝑛   "]
["AP+ air comprimé : Lors du calcul d'économie du au sectionnement du réseau, l'économie est calculé sur le taux de fuite (et non comme faussement avant sur la consommation totale).","AP+ air comprimé : Lors du calcul d'économie du au sectionnement du réseau, l'économie est calculé sur le taux de fuite (et non comme faussement avant sur la consommation totale).","AP+ Druckluft: Bei der Berechnung der Einsparungen durch die Abschaltung des Netzes werden die Einsparungen anhand der Leckrate (und nicht als falsche Front des Gesamtverbrauchs) berechnet.","AP+ Druckluft: Bei der Berechnung der Einsparungen durch die Abschaltung des Netzes werden die Einsparungen anhand der Leckrate (und nicht als falsche Front des Gesamtverbrauchs) berechnet.",1,null,"V2f","𝑝𝑎𝑟𝑡 𝑑𝑒𝑠 𝑐𝑜û𝑡𝑠 𝑙𝑖é𝑒 à  𝑙 ′ é𝑛𝑒𝑟𝑔𝑖𝑒 − =1− â𝑔𝑒 𝑑𝑒  𝑙 ′ 𝑖𝑛𝑠𝑡𝑎𝑙𝑙𝑎𝑡𝑖𝑜𝑛  𝑎𝑛  𝑑𝑢𝑟é𝑒 𝑑𝑒 𝑣𝑖𝑒 𝑡𝑒𝑐ℎ𝑛𝑖𝑞𝑢𝑒 𝑑𝑒  𝑙 ′ 𝑖𝑛𝑠𝑡𝑎𝑙𝑙𝑎𝑡𝑖𝑜𝑛  𝑎𝑛  "]
["AP et AP+ air comprimé : corrigé l'erreur des éconimies dues à une meilleures gestion des CP qui n'étaient pas pris en compte.","AP et AP+ air comprimé : corrigé l'erreur des éconimies dues à une meilleures gestion des CP qui n'étaient pas pris en compte.","AP und AP+ Druckluft: korrigierte den Einsparungsfehler aufgrund einer besseren Verwaltung der nicht berücksichtigten CPs.","AP und AP+ Druckluft: korrigierte den Einsparungsfehler aufgrund einer besseren Verwaltung der nicht berücksichtigten CPs.",1,null,"V2f","𝑝𝑎𝑟𝑡 𝑑𝑒𝑠 𝑐𝑜û𝑡𝑠 𝑙𝑖é𝑒 à  𝑙 ′ é𝑛𝑒𝑟𝑔𝑖𝑒 − = 𝑐𝑜û𝑡 𝑑𝑒  𝑙 ′ 𝑖𝑛𝑣𝑒𝑠𝑡𝑖𝑠𝑠𝑒𝑚𝑒𝑛𝑡 é𝑛𝑒𝑟𝑔é𝑡𝑖𝑞𝑢𝑒 [𝐶𝐻𝐹] 𝑐𝑜û𝑡 𝑑𝑒  𝑙 ′ 𝑖𝑛𝑣𝑒𝑠𝑡𝑖𝑠𝑠𝑒𝑚𝑒𝑛𝑡 𝑡𝑜𝑡𝑎𝑙 [𝐶𝐻𝐹] "]
["Si un AP+ existe déjà et que l'on reclique dessus dans la feuille des classements des économies, il est demandé si l'on veut réecrir les paramètre de l'AP ou pas.","Si un AP+ existe déjà et que l'on reclique dessus dans la feuille des classements des économies, il est demandé si l'on veut réecrir les paramètre de l'AP ou pas.","Existiert bereits ein PA+ und wird im Spar-Ranglistenblatt erneut angeklickt, wird gefragt, ob die PA-Parameter neu geschrieben werden sollen oder nicht.","Existiert bereits ein PA+ und wird im Spar-Ranglistenblatt erneut angeklickt, wird gefragt, ob die PA-Parameter neu geschrieben werden sollen oder nicht.",1,null,"V2f","𝑇𝐸𝐶   𝐶𝐻𝐹 𝑐𝑟é𝑒 𝐶𝐻𝐹 𝑖𝑛𝑣𝑒𝑠𝑡𝑖  = 𝑉𝐴𝑁 [𝐶𝐻𝐹] 𝑖𝑛𝑣𝑒𝑠𝑡𝑖𝑠𝑠𝑒𝑚𝑒𝑛𝑡 𝑖𝑛𝑖𝑡𝑖𝑎𝑙 [𝐶𝐻𝐹] "]
["AP+ air comprimé : Si l'on choisi compresseur à vis la selection marche arrête n'est plus possible. Pour piston, tout ou rien n'est plus possible. Si l'on sélectionne un CP à vitesse variable la selection du type de régulation devient blanc,","AP+ air comprimé : Si l'on choisi compresseur à vis la selection marche arrête n'est plus possible. Pour piston, tout ou rien n'est plus possible. Si l'on sélectionne un CP à vitesse variable la selection du type de régulation devient blanc,","AP+ Druckluft: Wenn Schraubenkompressor gewählt wird, ist die Ein/Aus-Wahl nicht mehr möglich. Beim Kolben ist alles oder nichts mehr möglich. Wenn ein CP mit variabler Drehzahl gewählt wird, wird die Auswahl der Regelungsart weiß,","AP+ Druckluft: Wenn Schraubenkompressor gewählt wird, ist die Ein/Aus-Wahl nicht mehr möglich. Beim Kolben ist alles oder nichts mehr möglich. Wenn ein CP mit variabler Drehzahl gewählt wird, wird die Auswahl der Regelungsart weiß,",1,null,"V2h","Une gestion non optimale des variations de débit est une source de forte surconsommation. L'information sur le caractère variable ou non du besoin est donc importante.\nLa variation du besoin au cours du temps doit être suivie. Une exploitation horaire peu"]
["AP+ air comprimé : Les unités pour les puissances spécifiques et débits ont été corrigé.","AP+ air comprimé : Les unités pour les puissances spécifiques et débits ont été corrigé.","AP+ Druckluft: Die Einheiten für bestimmte Leistungen und Durchflussmengen wurden korrigiert.","AP+ Druckluft: Die Einheiten für bestimmte Leistungen und Durchflussmengen wurden korrigiert.",1,null,"V2i","La gestion actuelle des variations est un point clé. Si celle-ci est assurée par étranglement, l’introduction d’un variateur apportera probablement des économies sensibles."]
["Explication calcule AP+, références figure 2 adaptée. ","Explication calcule AP+, références figure 2 adaptée. ","Erläuterung berechnet AP+, Verweise Abbildung 2 angepasst. ","Erläuterung berechnet AP+, Verweise Abbildung 2 angepasst. ",1,null,"V2j","La connaissance du profil de débit sur une période représentative est fondamentale. Plus les périodes à débits réduit sont longues, plus les économies associées à des mesures d’optimisation (introduction d’un CF) seront importantes."]
["AP pompe et ventil corrigé erreur aide (nom/code/description)","AP pompe et ventil corrigé erreur aide (nom/code/description)","AP-Pumpe und Ventilator korrigierte Fehlerhilfe (Name/Code/Beschreibung)","AP-Pumpe und Beatmungsgerät korrigierte Fehlerhilfe (Name/Code/Beschreibung)",1,null,"v2j","Le différentiel entre ces deux pressions donne le Δp de fonctionenement du ventilateur. Cette grandeur permet de calculer la puissance aéraulique. Il permet aussi de situer le point de fonctionnement actuel par rapport au point de fonctionnement nominal."]
["Conseil d'orientation : la pondération pour l'âge a été adaptée","Conseil d'orientation : la pondération pour l'âge a été adaptée","Berufsberater: Die Gewichtung für das Alter wurde angepasst","Berufsberater: Die Gewichtung für das Alter wurde angepasst",1,null,"v2k","On trouve encore souvent des installations dont le mauvais dimensionnement initial ou un changement dans le besoin nominal sont corrigés par un étranglement permanent. Une approche simple mais peu performante. \nLes débits dans les différentes branches d'u"]
["Vérification rapide: la limite pour être intéressant pas de <90% (plus neuf que 7 ans) à < 80%","Vérification rapide: la limite pour être intéressant pas de <90% (plus neuf que 7 ans) à < 80%","Quick-Check: die Grenze, um interessant zu sein, liegt nicht zwischen <90% (jünger als 7 Jahre) und <80%.","Quick-Check: die Grenze, um interessant zu sein, liegt nicht zwischen <90% (jünger als 7 Jahre) und <80%.",1,null,"V2m","On trouve dans les réseaux de ventilation différents composants qui présentent une résistance au flux d'air et, de fait, génèrent des pertes de charge. Il arrive que ces composants soient inutiles, caduques ou mal entretenus."]
["AP+ air comprimé : ajout de la question sur le point de rosé","AP+ air comprimé : ajout de la question sur le point de rosé","AP+ Druckluft: Hinzufügen der Taupunktfrage","AP+ Druckluft: Hinzufügen der Taupunktfrage",1,null,"V2n","On a souvent recours à un accouplement par courroies car il permet une flexibilité en termes de prestation (vitesse) et de géométrie (intégration des différents composants). \nIl s’agit d’un composant qui présente des pertes, particulièrement lorsqu’il est"]
["Quelques corrections de bug, ajout colonnes économies sur 4 et 8 ans, ajout des +- 30 % d'erreur et du point info correspondant. ","Quelques corrections de bug, ajout colonnes économies sur 4 et 8 ans, ajout des +- 30 % d'erreur et du point info correspondant. ","Einige Fehlerbehebungen, Einsparungsspalten für 4 und 8 Jahre hinzugefügt, +- 30% Fehler und den entsprechenden Infopunkt hinzugefügt. ","Einige Fehlerbehebungen, Einsparungsspalten für 4 und 8 Jahre hinzugefügt, +- 30% Fehler und den entsprechenden Infopunkt hinzugefügt. ",1,null,"V2o","gain théorique = (𝐥𝐧( 𝒑 𝒓𝒆𝒇,𝒊 −𝐥𝐧( 𝒑 𝒓𝒆𝒇,𝒏 )/(𝐥𝐧( 𝒑 𝒓𝒆𝒇,𝒊 )−𝐥𝐧( 𝒑 𝒂𝒔𝒑 ))\n\navec : pref,i= pression de refoulement absolue initiale, pref,n= nouvelle pression de refoulement absolue, pasp = pression absolue de l'aspiration"]
["Message d'erreur si le dossier Information n'est pas trouvé losrque l'on clique sur l'aide.","Message d'erreur si le dossier Information n'est pas trouvé losrque l'on clique sur l'aide.","Fehlermeldung, wenn der Informationsordner nicht gefunden wird, wenn Sie auf die Hilfe klicken.","Fehlermeldung, wenn der Informationsordner nicht gefunden wird, wenn Sie auf die Hilfe klicken.",1,null,"V2o","Yannick Riesen:\nTrouver formule"]
["Le change log a été un peu négligé","Le change log a été un peu négligé","Das Austauschprotokoll ist ein wenig vernachlässigt worden.","Das Austauschprotokoll ist ein wenig vernachlässigt worden.",1,null,"V2o","EER= 𝛒× 𝑸 𝒗 × 𝑪 𝒑 ×∆𝑻  [𝒌𝑾]   𝑷 𝒆𝒍𝒆𝒄  [𝒌𝑾]     \n\navec :  masse volumique en [kg/m3], Qv débit volumique en [m3/s], Cp capacité thermique massique [kJ/kg.K], T différence de température [K]\n"]
["AP+ ventilateurs, la possibilié de calculer le ratio avec le puissance électrique a été supprimée","AP+ ventilateurs, la possibilié de calculer le ratio avec le puissance électrique a été supprimée","AP+ Ventilatoren wurde die Möglichkeit, das Verhältnis mit der elektrischen Leistung zu berechnen, gestrichen.","AP+ Ventilatoren wurde die Möglichkeit, das Verhältnis mit der elektrischen Leistung zu berechnen, gestrichen.",1,null,"V2o","Economie (%)=𝟏 −   𝑺𝑬𝑷𝑹 𝒓é𝒆𝒍   𝑺𝑬𝑷𝑹 𝒕𝒉é𝒐𝒓𝒊𝒒𝒖𝒆     \n"]
["Correction de plusieurs fautes d'orthographes et amélioration des textes. ","Correction de plusieurs fautes d'orthographes et amélioration des textes. ","Korrektur mehrerer Rechtschreibfehler und Verbesserung von Texten. ","Korrektur mehrerer Rechtschreibfehler und Verbesserung von Texten. ",1,null,"V2o","Economie (%)=𝟏 −  𝑺𝑬𝑷𝑹 𝒓é𝒆𝒍 𝑺𝑬𝑷𝑹 𝒕𝒉é𝒐𝒓𝒊𝒒𝒖𝒆 𝒏𝒐𝒖𝒗𝒆𝒂𝒖 𝑮𝑭    \n"]
["AP+ Pompe, le rapport minimale entre Qmax et Qnom est fixé à 10 % si valeur plus basse message d'avertissement ainsi et calcules fait avec cette valeur.","AP+ Pompe, le rapport minimale entre Qmax et Qnom est fixé à 10 % si valeur plus basse message d'avertissement ainsi et calcules fait avec cette valeur.","AP+ Pumpe wird das Mindestverhältnis zwischen Qmax und Qnom auf 10 % gesetzt, wenn der untere Wert eine Warnmeldung ist, und mit diesem Wert berechnet.","AP+ Pumpe wird das Mindestverhältnis zwischen Qmax und Qnom auf 10 % gesetzt, wenn der untere Wert eine Warnmeldung ist, und mit diesem Wert berechnet.",1,null,"V2q"," 𝑷 𝒇𝒓𝒊𝒈𝒐 =𝛒× 𝑸 𝒗 × 𝑪 𝒑 ×∆𝑻  [𝒌𝑾]\n\navec :  masse volumique en [kg/m3], Qv débit volumique en [m3/s], Cp capacité thermique massique [kJ/kg.K], T différence de température [K]"]
[8.2018000000000004,8.2018000000000004,8.2018000000000004,8.2018000000000004,null,null,"V2r","Clement Dugua:\nd'après hypothèse"]
["Ajout colonne commentaires","Ajout colonne commentaires","Spalte Kommentare hinzufügen","Spalte Kommentare hinzufügen",1,null,"v2v","Clement Dugua:\nd'après facture"]
["Fusion du quick-check et conseil d'orientation","Fusion du quick-check et conseil d'orientation","Fusion von Quick-Check und Orientierungsberatung","Fusion von Quick-Check und Orientierungsberatung",1,null,null,"Clement Dugua:\nd'après mesurage ou hyptohèse"]
["Ajout de la catégorie autres, ajout dans synthèse d'un tableau récapitulatif avec possibilité de corriger les économies. Aide à la sélection d'entrainement est supprimée de la feuille excel et une une nouvelle page d'aide avec les liens sur les différents systèmes est crée.","Ajout de la catégorie autres, ajout dans synthèse d'un tableau récapitulatif avec possibilité de corriger les économies. Aide à la sélection d'entrainement est supprimée de la feuille excel et une une nouvelle page d'aide avec les liens sur les différents systèmes est crée.","Hinzufügung der Kategorie andere, Hinzufügung in Synthese einer zusammenfassenden Tabelle mit der Möglichkeit, die Einsparungen zu korrigieren. Die Trainingsauswahlhilfe wird aus der Excel-Tabelle entfernt, und es wird eine neue Hilfeseite mit Links zu den verschiedenen Systemen erstellt.","Hinzufügung der Kategorie andere, Hinzufügung in Synthese einer zusammenfassenden Tabelle mit der Möglichkeit, die Einsparungen zu korrigieren. Die Trainingsauswahlhilfe wird aus der Excel-Tabelle entfernt, und es wird eine neue Hilfeseite mit Links zu den verschiedenen Systemen erstellt.",1,null,"Des modifications des prestations de la pompe ont-elles une influence sur d’autres consommations ?","Clement Dugua:\nvaleur communiquée par le fournisseur pour la température représentative"]
["Ecriture info pour évaluation vérification rapide. Ajout d'un module autres entrainement (version grossière).","Ecriture info pour évaluation vérification rapide. Ajout d'un module autres entrainement (version grossière).","Schreiben Sie Informationen zur Schnellprüfung der Bewertung. Hinzufügen eines Moduls für andere Schulungen (grobe Version).","Schreiben Sie Informationen zur Schnellprüfung der Bewertung. Hinzufügen eines Moduls für andere Schulungen (grobe Version).",1,null,"agé","𝑇𝑅𝐵 [𝑎𝑛]= 𝑐𝑜û𝑡 𝑑𝑒  𝑙 ′ 𝑖𝑛𝑣𝑒𝑠𝑡𝑖𝑠𝑠𝑒𝑚𝑒𝑛𝑡 [𝐶𝐻𝐹] é𝑐𝑜𝑛𝑜𝑚𝑖𝑒 𝑎𝑛𝑢𝑒𝑙𝑙𝑒   𝐶𝐻𝐹 𝑎𝑛   "]
["Ajout question système pour pompe et ventilo GA et GA+  et écriture de l'aide et adaptation des calculs","Ajout question système pour pompe et ventilo GA et GA+  et écriture de l'aide et adaptation des calculs","Systemfrage für GA und GA+ Pumpe und Lüfter hinzufügen und Hilfe schreiben und Berechnungen anpassen","Systemfrage für GA und GA+ Pumpe und Lüfter hinzufügen und Hilfe schreiben und Berechnungen anpassen",1,null,"Nhi, nombre d'heures de fonctionnement dans la classe de rendement i\nn, nombre de classes de débit\nPel, anc.i est la puissance élect. avant optimisation pour la classe de débit i\nPel, nouv.i est la puissance élect. après optimisation pour la classe de débit i","𝑇𝑅𝑁  𝑎𝑛 = 𝑐𝑜û𝑡 𝑑𝑒  𝑙 ′ 𝑖𝑛𝑣𝑒𝑠𝑡𝑖𝑠𝑠𝑒𝑚𝑒𝑛𝑡 [𝐶𝐻𝐹]∙𝑝𝑎𝑟𝑡 𝑑𝑒𝑠 𝑐𝑜û𝑡𝑠 𝑙𝑖é𝑒 à  𝑙 ′ é𝑛𝑒𝑟𝑔𝑖𝑒 −  é𝑐𝑜𝑛𝑜𝑚𝑖𝑒 𝑎𝑛𝑢𝑒𝑙𝑙𝑒   𝐶𝐻𝐹 𝑎𝑛   "]
["Donnée styles aux cellules","Donnée styles aux cellules","Daten im Zellenstil","Daten im Zellenstil",1,null,"Phydr,anc.i est la puissance hydraulique (avant optimisation) pour la classe de débit i\nƞtot,anc.i est le rendement total avant pour la classe de débit i\nΔpanc.i est le différentiel de pression avant pour la classe de débit i [Pa]\nQanc.i est le débit moyen avant de la classe i [m3/s]\nPhydr,nouv.i est la puissance hydraulique (après optimisation) pour la classe de débit i\nƞtot,nouv.i est le rendement total après pour la classe de débit i\nΔpnouv.i est le différentiel de pression après pour la classe de débit i [Pa]\nQnouv.i est le débit moyen après de la classe i [m3/s]","𝑝𝑎𝑟𝑡 𝑑𝑒𝑠 𝑐𝑜û𝑡𝑠 𝑙𝑖é𝑒 à  𝑙 ′ é𝑛𝑒𝑟𝑔𝑖𝑒 − =1− â𝑔𝑒 𝑑𝑒  𝑙 ′ 𝑖𝑛𝑠𝑡𝑎𝑙𝑙𝑎𝑡𝑖𝑜𝑛  𝑎𝑛  𝑑𝑢𝑟é𝑒 𝑑𝑒 𝑣𝑖𝑒 𝑡𝑒𝑐ℎ𝑛𝑖𝑞𝑢𝑒 𝑑𝑒  𝑙 ′ 𝑖𝑛𝑠𝑡𝑎𝑙𝑙𝑎𝑡𝑖𝑜𝑛  𝑎𝑛  "]
["Ajout traduction dans la même feuille","Ajout traduction dans la même feuille","Übersetzung im selben Blatt hinzufügen","Übersetzung im selben Blatt hinzufügen",1,null,"Sachant que les débits de chaque classe avant et après sont inchangés, donc que Qanc.i = Qnouv.i","𝑝𝑎𝑟𝑡 𝑑𝑒𝑠 𝑐𝑜û𝑡𝑠 𝑙𝑖é𝑒 à  𝑙 ′ é𝑛𝑒𝑟𝑔𝑖𝑒 − = 𝑐𝑜û𝑡 𝑑𝑒  𝑙 ′ 𝑖𝑛𝑣𝑒𝑠𝑡𝑖𝑠𝑠𝑒𝑚𝑒𝑛𝑡 é𝑛𝑒𝑟𝑔é𝑡𝑖𝑞𝑢𝑒 [𝐶𝐻𝐹] 𝑐𝑜û𝑡 𝑑𝑒  𝑙 ′ 𝑖𝑛𝑣𝑒𝑠𝑡𝑖𝑠𝑠𝑒𝑚𝑒𝑛𝑡 𝑡𝑜𝑡𝑎𝑙 [𝐶𝐻𝐹] "]
["Caché les optimisations systèmes pour les pompes et corriger bug classement lorsque l'on effaçait des entrées.","Caché les optimisations systèmes pour les pompes et corriger bug classement lorsque l'on effaçait des entrées.","Versteckte Systemoptimierungen für Pumpen und Fehler in der Rangfolge beim Löschen von Einträgen behoben.","Versteckte Systemoptimierungen für Pumpen und Fehler in der Rangfolge beim Löschen von Einträgen behoben.",1,null,null," η 𝑡𝑜𝑡.𝑖 =  η 𝐶𝐹.𝑖  ∗  η 𝑚𝑜𝑡.𝑖 ∗  η 𝑎𝑐𝑐.𝑖  ∗  η 𝑝𝑜𝑚𝑝𝑒.𝑖  "]
["Résultat ap+ sont maintenant inscrit dans les onglets des AP correspondant.","Résultat ap+ sont maintenant inscrit dans les onglets des AP correspondant.","Ergebnis ap+ werden nun in die Registerkarten der entsprechenden APs geschrieben.","Ergebnis ap+ werden nun in die Registerkarten der entsprechenden APs geschrieben.",1,null,null,"Δ 𝐸 𝑎  =  1 𝑛  (𝑃 𝑒𝑙, 𝑎𝑛𝑐.𝑖  −  𝑃 𝑒𝑙, 𝑛𝑜𝑢𝑣.𝑖 )  ∗ 𝑁ℎ 𝑖 "]
["Propriété visuelle des cellules ont été classé dans des styles.","Propriété visuelle des cellules ont été classé dans des styles.","Die visuellen Eigenschaften der Zellen wurden in Stile eingeteilt.","Die visuellen Eigenschaften der Zellen wurden in Stile eingeteilt.",1,null,null," 𝑃 𝑒𝑙,𝑎𝑛𝑐.𝑖 =  𝑃 ℎ𝑦𝑑𝑟,𝑎𝑛𝑐.𝑖 / η 𝑡𝑜𝑡,𝑎𝑛𝑐.𝑖 "]
["Les cellules non modifiable ne peuvent plus être selectionnées.","Les cellules non modifiable ne peuvent plus être selectionnées.","Unveränderliche Zellen können nicht mehr ausgewählt werden.","Unveränderliche Zellen können nicht mehr ausgewählt werden.",1,null,null," 𝑃 ℎ𝑦𝑑𝑟,𝑎𝑛𝑐.𝑖 = Δ𝑝𝑎𝑛𝑐.𝑖∗𝑄𝑎𝑛𝑐.𝑖"]
["Un grand nombre de références à des cellules fixes ont été modifiées pour des références avec noms ","Un grand nombre de références à des cellules fixes ont été modifiées pour des références avec noms ","Eine große Anzahl von Verweisen auf fixierte Zellen wurden in Verweise mit Namen geändert ","Eine große Anzahl von Verweisen auf fixierte Zellen wurden in Verweise mit Namen geändert ",1,null,null," 𝑃 𝑒𝑙,𝑛𝑜𝑢𝑣.𝑖 =  𝑃 ℎ𝑦𝑑𝑟,𝑛𝑜𝑢𝑣.𝑖 / η 𝑡𝑜𝑡,𝑛𝑜𝑢𝑣.𝑖 ","Entreprise"]
["Bout d'aide","Bout d'aide","Hilfe-Tipp","Hilfe-Tipp",1,null,null," 𝑃 ℎ𝑦𝑑𝑟,𝑛𝑜𝑢𝑣.𝑖 = Δ𝑝𝑛𝑜𝑢𝑣.𝑖∗𝑄𝑛𝑜𝑢𝑣.𝑖"]
["Quelques bugs sont résolus. Texte d'intro amélioré","Quelques bugs sont résolus. Texte d'intro amélioré","Einige Bugs sind gelöst. Verbesserter Intro-Text","Einige Bugs sind gelöst. Verbesserter Intro-Text",1,null,null," η 𝑡𝑜𝑡.𝑖 =  η 𝐶𝐹.𝑖  ∗  η 𝑚𝑜𝑡.𝑖 ∗  η 𝑎𝑐𝑐.𝑖  ∗  η 𝑝𝑜𝑚𝑝𝑒.𝑖  ","Menu"]
["Ajout Module froid AP et AP+","Ajout Module froid AP et AP+","Ergänzung von AP und AP+ Kühlmodul","Ergänzung von AP und AP+ Kühlmodul",1,null,null,"Δ 𝐸 𝑎  =  1 𝑛  (𝑃 𝑒𝑙, 𝑎𝑛𝑐.𝑖  −  𝑃 𝑒𝑙, 𝑛𝑜𝑢𝑣.𝑖 )  ∗ 𝑁ℎ 𝑖 ","Vérification rapide"]
["Pompes","Pompes","Pumpen","Pumpen",null,null,null," 𝑃 𝑒𝑙,𝑎𝑛𝑐.𝑖 =  𝑃 ℎ𝑦𝑑𝑟,𝑎𝑛𝑐.𝑖 / η 𝑡𝑜𝑡,𝑎𝑛𝑐.𝑖 "]
["Analyse fine Pompes","Analyse fine Pompes","Feinanalyse Pumpen","Feinanalyse Pumpen",1,null,null," 𝑃 ℎ𝑦𝑑𝑟,𝑎𝑛𝑐.𝑖 = Δ𝑝𝑎𝑛𝑐.𝑖∗𝑄𝑎𝑛𝑐.𝑖","Réinitialiser"]
["Ce module FA dévolu aux pompes propose une démarche (voir l'arbre de décision sous le schéma) permettant une analyse approfondie du système existant (incluant des mesurages) et des propositions d'optimisation appropriées.","Ce module FA dévolu aux pompes propose une démarche (voir l'arbre de décision sous le schéma) permettant une analyse approfondie du système existant (incluant des mesurages) et des propositions d'optimisation appropriées.","Dieses FA-Modul für Pumpen schlägt einen Ansatz vor (siehe den Entscheidungsbaum unterhalb des Diagramms), der eine gründliche Analyse des bestehenden Systems (einschließlich Messungen) und geeignete Optimierungsvorschläge ermöglicht.","Dieses FA-Modul für Pumpen schlägt einen Ansatz vor (siehe den Entscheidungsbaum unterhalb des Diagramms), der eine gründliche Analyse des bestehenden Systems (einschließlich Messungen) und geeignete Optimierungsvorschläge ermöglicht.",1,null,null," 𝑃 𝑒𝑙,𝑛𝑜𝑢𝑣.𝑖 =  𝑃 ℎ𝑦𝑑𝑟,𝑛𝑜𝑢𝑣.𝑖 / η 𝑡𝑜𝑡,𝑛𝑜𝑢𝑣.𝑖 ","Évaluer l'intérêt à passer à l'étape suivante"]
["1. Questions liminaires","1. Questions liminaires","1. Einleitende Fragen","1. Einleitende Fragen",1,null,null," 𝑃 ℎ𝑦𝑑𝑟,𝑛𝑜𝑢𝑣.𝑖 = Δ𝑝𝑛𝑜𝑢𝑣.𝑖∗𝑄𝑛𝑜𝑢𝑣.𝑖","Grand"]
["Question No","Question No","Frage Nr.","Frage Nr.",1,null,null," η 𝑡𝑜𝑡.𝑖 =  η 𝐶𝐹.𝑖  ∗  η 𝑚𝑜𝑡.𝑖 ∗  η 𝑎𝑐𝑐.𝑖  ∗  η 𝑝𝑜𝑚𝑝𝑒.𝑖  ","Limité"]
["Les équipements sont-ils âgés?","Les équipements sont-ils âgés?","Ist die Ausrüstung alt?","Ist die Ausrüstung alt?",1,null,null,"Δ 𝐸 𝑎  =  1 𝑛  (𝑃 𝑒𝑙, 𝑎𝑛𝑐.𝑖  −  𝑃 𝑒𝑙, 𝑛𝑜𝑢𝑣.𝑖 )  ∗ 𝑁ℎ 𝑖 ","Orientation"]
["Les consommateurs ont-ils des besoins concomitants/synchrones ?","Les consommateurs ont-ils des besoins concomitants/synchrones ?","Haben Verbraucher gleichzeitige/synchrone Bedürfnisse?","Haben Verbraucher gleichzeitige/synchrone Bedürfnisse?",1,null,null," 𝑃 𝑒𝑙,𝑎𝑛𝑐.𝑖 =  𝑃 ℎ𝑦𝑑𝑟,𝑎𝑛𝑐.𝑖 / η 𝑡𝑜𝑡,𝑎𝑛𝑐.𝑖 "]
["Des modifications des prestations de la pompe ont-elles une influence sur d’autres consommations ?","Des modifications des prestations de la pompe ont-elles une influence sur d’autres consommations ?","Haben Änderungen der Pumpenleistung einen Einfluss auf andere Verbräuche?","Haben Änderungen der Pumpenleistung einen Einfluss auf andere Verbräuche?",1,null,null," 𝑃 ℎ𝑦𝑑𝑟,𝑎𝑛𝑐.𝑖 = Δ𝑝𝑎𝑛𝑐.𝑖∗𝑄𝑎𝑛𝑐.𝑖","Autres entraînements électriques importants"]
[{"$f":"IF($B$2=\"FR\",B68,C68)","v":"2. Questions liées aux besoins en mesurages"},"2. Questions liées aux besoins en mesurages","2. Fragen im Zusammenhang mit Messbedarf","2. Fragen im Zusammenhang mit Messbedarf",1,null,null," 𝑃 𝑒𝑙,𝑛𝑜𝑢𝑣.𝑖 =  𝑃 ℎ𝑦𝑑𝑟,𝑛𝑜𝑢𝑣.𝑖 / η 𝑡𝑜𝑡,𝑛𝑜𝑢𝑣.𝑖 "]
["La prestation actuelle (offre) correspond-elle au besoin réel (débit-pression) de l’installation ?","La prestation actuelle (offre) correspond-elle au besoin réel (débit-pression) de l’installation ?","Entspricht die aktuelle Leistung (Angebot) dem tatsächlichen Bedarf (Durchfluss/Druck) der Anlage?","Entspricht die aktuelle Leistung (Angebot) dem tatsächlichen Bedarf (Durchfluss/Druck) der Anlage?",1,null,null," 𝑃 ℎ𝑦𝑑𝑟,𝑛𝑜𝑢𝑣.𝑖 = Δ𝑝𝑛𝑜𝑢𝑣.𝑖∗𝑄𝑛𝑜𝑢𝑣.𝑖","Chaufferie"]
["Le besoin (débit) est-il variable?","Le besoin (débit) est-il variable?","Ist der Bedarf (Flussrate) variabel?","Ist der Bedarf (Flussrate) variabel?",1,null,null," η 𝑡𝑜𝑡.𝑖 =  η 𝐶𝐹.𝑖  ∗  η 𝑚𝑜𝑡.𝑖 ∗  η 𝑎𝑐𝑐.𝑖  ∗  η 𝑝𝑜𝑚𝑝𝑒.𝑖  ","Groupe de pompes de circulation"]
["ne sais pas","ne sais pas","weiß nicht","weiß nicht",1,null,null,"Plusieurs paramètres vont influencer la durée de vie effective d'une installation: le nombre d'heures de fonctionnement par an, la taille, les conditions d'exploitation (milieu agressif).\nPour un moteur et une pompe sans problème d'usure particulière, on ","Calculer une estimation de potentiel"]
["Le moteur est-il entraîné via un convertisseur de fréquence?","Le moteur est-il entraîné via un convertisseur de fréquence?","Wird der Motor über einen Frequenzumrichter angetrieben?","Wird der Motor über einen Frequenzumrichter angetrieben?",1,null,null,"Lorsque le système est complexe, il faut comprendre le comportement et la nature des consommateurs. Si les besoins des consommateurs varient de façon concomitante, les analyses et les optimisations sont plus simples.","Cacher les résultats"]
["Le profil de débit effectif est-il disponible?","Le profil de débit effectif est-il disponible?","Ist das tatsächliche Flussprofil verfügbar?","Ist das tatsächliche Flussprofil verfügbar?",1,null,null,"Il s’agit d’éviter qu’une vision trop restreinte conduise à des mesures contre-productives à un niveau plus élevé. L’idée est également de déterminer le bon périmètre d’analyse.","Installation de froid"]
["Quel paramètre influence majoritairement le profil de débit?","Quel paramètre influence majoritairement le profil de débit?","Welcher Parameter hat den grössten Einfluss auf das Flussprofil?","Welcher Parameter hat den grössten Einfluss auf das Flussprofil?",1,null,null,"L’économie la plus simple et la moins onéreuse consiste à assurer le besoin réel et pas plus (donc pas forcément le besoin actuel). Par exemple, il arrive souvent que des modifications dans les besoins (à la baisse) n’aient jamais été intégrées. ","Station de pompage"]
["autre ou ne sais pas","autre ou ne sais pas","andere oder weiß nicht","andere oder weiß nicht",1,null,null,"Une gestion non optimale des variations de débit est une source de forte surconsommation  L'information sur le caractère variable ou non du besoin est donc importante. ","Monoblocs de ventilation"]
["Existe-t-il un relevé (enregistrement) des pressions à l'aspiration et au refoulement de la pompe?","Existe-t-il un relevé (enregistrement) des pressions à l'aspiration et au refoulement de la pompe?","Gibt es eine Ablesung (Aufzeichnung) der Saug- und Förderdrücke der Pumpe?","Gibt es eine Ablesung (Aufzeichnung) der Saug- und Förderdrücke der Pumpe?",1,null,null,"La gestion actuelle des variations est un point clé. Si celle-ci est assurée par étranglement ou par by-pass, l’introduction d’un variateur apportera probablement des économies élevées."]
["Existe-t-il un relevé (enregistrement) de la puissance électrique?","Existe-t-il un relevé (enregistrement) de la puissance électrique?","Gibt es eine Aufzeichnung der elektrischen Leistung?","Gibt es eine Aufzeichnung über die elektrische Leistung?",null,null,null,"La connaissance du profil de débit sur une période représentative est fondamentale. Plus les périodes à petits débits sont longues, plus les économies associées à des mesures d’optimisation (introduction d’un CF) seront importantes."]
["Le circuit hydraulique comprend-il des vannes en position partiellement fermée?","Le circuit hydraulique comprend-il des vannes en position partiellement fermée?","Hat das Hydrauliksystem Ventile in der teilweise geschlossenen Position?","Hat das Hydrauliksystem Ventile in der teilweise geschlossenen Position?",1,null,null,"La saison, la météo (Text), l’heure du jour, le jour de la semaine, la production, sont des exemples de paramètres qui peuvent influencer le besoin. Cette information permet notamment de déterminer la durée des mesurages."]
["3. Questions additionnelles","3. Questions additionnelles","3. Zusätzliche Fragen","3. Zusätzliche Fragen",1,null,null,"Le différentiel entre ces deux pressions donne le Δp de fonctionenement de la pompe. Cette grandeur permet de calculer la puissance hydraulique. Il permet aussi de situer le point de fonctionnement actuel par rapport au point de fonctionnement nominal.","Ventilateurs"]
["La pompe fait-elle partie d'une cascade?","La pompe fait-elle partie d'une cascade?","Ist die Pumpe Teil einer Kaskade?","Ist die Pumpe Teil eines Wasserfalls?",1,null,null,"La puissance électrique active triphasée correspond à la puissance consommée par l'entraînement. Elle permet avec la puissance hydraulique de calculer le rendement global de l'entraînement.","Système d'air comprimé"]
["L'entraînement comprend-il un accouplement?","L'entraînement comprend-il un accouplement?","Enthält der Antrieb eine Kupplung?","Enthält der Antrieb eine Kupplung?",1,null,null,"On trouve encore souvent des installations dont le mauvais dimensionnement initial ou un changement dans le besoin nominal sont corrigés par un étranglement permanent. Une approche simple mais peu performante. On trouve aussi parfois des vannes qui serven","Analyse prélimin."]
["Existe-t-il un besoin d'assainissement?","Existe-t-il un besoin d'assainissement?","Gibt es einen Sanierungsbedarf?","Gibts es einen Bedarf an Sanierung?",1,null,null,"Le dimensionnement, le réglage et les enclenchements et déclenchements des pompes d’une cascade sont souvent non optimaux. Il en découle des surconsommations.","Ajouter 10 lignes supplémentaires"]
["4. Synthèse des questions et mesurages","4. Synthèse des questions et mesurages","4. Synthese von Fragen und Messungen","4. Synthese von Fragen und Messungen",1,null,null,"L’accouplement est rare dans le cas des pompes. Dans d’autres installations, il permet une flexibilité en termes de prestation (vitesse) et de géométrie (intégration des différents composants). \nIl s’agit d’un composant qui présente des pertes, particuliè","Chaufferie (pompes d’alimentation chaudière ou autres)"]
["Des réponses à vos questions, il est possible de mieux comprendre le système et de mettre en exergue les mesurages nécessaires:","Des réponses à vos questions, il est possible de mieux comprendre le système et de mettre en exergue les mesurages nécessaires:","Mit Antworten auf Ihre Fragen ist es möglich, das System besser zu verstehen und die notwendigen Messungen hervorzuheben:","Mit Antworten auf Ihre Fragen ist es möglich, das System besser zu verstehen und die notwendigen Messungen hervorzuheben:",1,null,null,"Des installations peuvent nécessiter un assainissement pour des raisons autres qu'énergétiques. On songe notamment à un âge au-delà de la durée de vie attendue, des besoins d'entretien trop importants, des problèmes de fiabilité récurrents, une modificati","AP pompe"]
["synchrone","synchrone","synchron","synchron",1,null,"Durant des mesurages de débit, on s'efforcera d'ouvrir les clapets semi-fermés de façon à connaître le débit à clapet ouvert. Si ce n'est pas possible, on travaillera avec la caractéristique du clapet. On procédera aux analyses permettant de savoir quel type d'optimisation est adapté (selon les explications de détail).","Il s’agit d’éviter qu’une vision trop restreinte conduise à des mesures contre-productives à un niveau plus élevé. L’idée est également de déterminer le bon périmètre d’analyse.","Yannick Riesen:\nPour l'instant, le calcul est fait par rapport à la classe d'efficacité du moteur. Faudrait impléementer l'age de l'élément entrainé"]
["influence","influence","Einfluss","Einfluss",1,null,"On trouve différents composants comme des amortisseurs de bruits, des batteries et des filtres qui génèrent des pertes de charge parfois importantes.  Suite à l'évolution du système, ces dispositifs ne sont parfois plus nécessaires. Leur démontage permet de réduire les pertes de charge. Pour les filtres, c'est le manque de maintenance qui peut s'avérer source de pertes de charge inutiles. ","L’économie la plus simple et la moins onéreuse consiste à assurer le besoin réel et pas plus (donc pas forcément le besoin actuel). Par exemple, il arrive souvent que des modifications dans les besoins (à la baisse) n’aient jamais été intégrées. ","Yannick Riesen:\nDans commentaire résultats préciser que si redimensionnement nécessaire "]
["besoin réel","besoin réel","tatsächlicher Bedarf","tatsächlicher Bedarf",1,null,"On cherche à éviter les accouplements qui sont sources de frais et d'inefficience énergétique. Dans le cadre d'un assainissement, évaluez la possibilité de travailler avec un entraînement direct.","Une gestion non optimale des variations de débit est une source de forte surconsommation  L'information sur le caractère variable ou non du besoin est donc importante. ","Yannick Riesen:\n10 % Circulation bon gain si on travaille à presison constante (autre réglage (proportionnelle supérieur)"]
["variable","variable","variabel","variabel",1,null,"Le besoin d'assainissement facilite la démarche d'analyse et d'optimisation.","La gestion actuelle des variations est un point clé. Si celle-ci est assurée par étranglement ou par by-pass, l’introduction d’un variateur apportera probablement des économies élevées.","AP ventilateur"]
["débit dispo","débit dispo","verfügbarer Durchfluss","verfügbare Bandbreite",1,null,"Le débit max. fourni correspond a priori au besoin et il est mesuré par l'exploitant. De plus, les vartiations sont assurées par un variateur. La situation est favorable et il n'y a à priori pas d'investigations supplémentaires à réaliser.","La connaissance du profil de débit sur une période représentative est fondamentale. Plus les périodes à petits débits sont longues, plus les économies associées à des mesures d’optimisation (introduction d’un CF) seront importantes.","Analyse prélim."]
["Non ","Non ","Nein ","Nein ",1,null,"Le débit max. fourni correspond a priori au besoin, mais il n'est pas disponible. Un mesurage permettrait de mieux connaître le débit réel.","La saison, la météo (Text), l’heure du jour, le jour de la semaine, la production, sont des exemples de paramètres qui peuvent influencer le besoin. Cette information permet notamment de déterminer la durée des mesurages.","AP Résultat\n"]
["pression","pression","Druck","Druck",1,null,"Le débit variable n'est probablement  pas contrôlé de la manière la plus efficace.  Considérez le débit relevé par les appareils du site pour valider le recours à un variateur de vitesse.","Le différentiel entre ces deux pressions donne le Δp de fonctionenement de la pompe. Cette grandeur permet de calculer la puissance hydraulique. Il permet aussi de situer le point de fonctionnement actuel par rapport au point de fonctionnement nominal.","AP air comprimé"]
["puissance","puissance","Leistung","Leistung",1,null,"la production (type, nbre ou vol. de produit)","La puissance électrique active triphasée correspond à la puissance consommée par l'entraînement. Elle permet avec la puissance hydraulique de calculer le rendement global de l'entraînement."]
["vanne semi","vanne semi","Halbventil","Halbventil",1,null,"nonla production (type, nbre ou vol. de produit)","On trouve encore souvent des installations dont le mauvais dimensionnement initial ou un changement dans le besoin nominal sont corrigés par un étranglement permanent. Une approche simple mais peu performante. On trouve aussi parfois des vannes qui serven","AP Résultat"]
["Cascade","Cascade","Kaskade","Kaskade",1,null,"Les valeurs de pression sont disponibles. Utilisez-les avec les valeurs de débit pour calculer la puissance aéraulique. Utilisez les valeurs de puissance électrique disponibles pour calculer les rendements.","Le dimensionnement, le réglage et les enclenchements et déclenchements des pompes d’une cascade sont souvent non optimaux. Il en découle des surconsommations.","Tableau de synthèse"]
["Assainissement","Assainissement","Sanierung","Abwasserentsorgung",1,null,"Les valeurs de pression sont disponibles. Utilisez-les avec les valeurs de débit pour calculer la puissance aéraulique. Procédez au mesurage de la puissance électrique et calculez les rendements.","L’accouplement est rare dans le cas des pompes. Dans d’autres installations, il permet une flexibilité en termes de prestation (vitesse) et de géométrie (intégration des différents composants). \nIl s’agit d’un composant qui présente des pertes, particuliè","Air comprimé"]
["Saison et Texte","Saison et Texte","Jahreszeit und Text","Jahreszeit und Text",1,null,"Les valeurs de pression ne sont pas relevées. Si l'on veut calculer le rendement de l'entraînement, il faut mesurer les pressions à l'aspiration et au refoulement du ventilateur puis calculer la puissance aéraulique. Avec les valeurs de puissance électrique relevées par l'exploitant, on peut ensuite calculer les performances de l'entraînement. ","Des installations peuvent nécessiter un assainissement pour des raisons autres qu'énergétiques. On songe notamment à un âge au-delà de la durée de vie attendue, des besoins d'entretien trop importants, des problèmes de fiabilité récurrents, une modificati","Pompe ventilateur"]
["l'heure et le jour de la semaine","l'heure et le jour de la semaine","Uhrzeit und Wochentag","Uhrzeit und Wochentag",1,null,"Les valeurs de pression et de puissance électrique ne sont pas relevées. Procédez au mesurage de ces grandeurs de façon à pouvoir calculer les performances de l'entraînement.  ",null,"Classification"]
["la production (type, nbre ou vol. de produit)","la production (type, nbre ou vol. de produit)","Produktion (Typ, Anzahl oder Menge des Produktes)","Produktion (Typ, Anzahl oder Menge des Produktes)",1,null,"la production (type, nbre ou vol. de produit)",null,301]
["Durant des mesurages de débit, on s'efforcera d'ouvrir la vanne semi-fermée de façon à connaître le débit à vanne ouverte. Si ce n'est pas possible, on travaillera avec la caractéristique de la vanne. On procédera aux analyses permettant de savoir quel type d'optimisation est adapté (selon les explications de détail).","Durant des mesurages de débit, on s'efforcera d'ouvrir la vanne semi-fermée de façon à connaître le débit à vanne ouverte. Si ce n'est pas possible, on travaillera avec la caractéristique de la vanne. On procédera aux analyses permettant de savoir quel type d'optimisation est adapté (selon les explications de détail).","Bei Durchflussmessungen sollte versucht werden, das halbgeschlossene Ventil zu öffnen, so dass die Durchflussrate bei geöffnetem Ventil bekannt ist. Falls dies nicht möglich ist, arbeiten Sie mit der Ventilcharakteristik. Es werden Analysen durchgeführt, um herauszufinden, welche Art der Optimierung geeignet ist (wie im Detail erläutert).","Bei Durchflussmessungen sollte versucht werden, das halbgeschlossene Ventil zu öffnen, so dass die Durchflussrate bei geöffnetem Ventil bekannt ist. Falls dies nicht möglich ist, arbeiten Sie mit der Ventilcharakteristik. Es werden Analysen durchgeführt, um herauszufinden, welche Art der Optimierung geeignet ist (wie im Detail erläutert).",1,null,"ouila production (type, nbre ou vol. de produit)",null,"Afficher/cacher informations supplémentaires"]
["Lorsque l'on a affaire à des pompes en cascade, il faut pouvoir interpréter les valeurs de puissance él. et de débit en identifiant les séquences d'enclenchement/déclenchement.","Lorsque l'on a affaire à des pompes en cascade, il faut pouvoir interpréter les valeurs de puissance él. et de débit en identifiant les séquences d'enclenchement/déclenchement.","Wenn es sich um Kaskadenpumpen handelt, muss es möglich sein, die elektrischen Leistungs- und Durchflusswerte zu interpretieren, indem die Ein- und Ausschaltsequenzen identifiziert werden.","Wenn es sich um Kaskadenpumpen handelt, muss es möglich sein, die elektrischen Leistungs- und Durchflusswerte zu interpretieren, indem die Ein- und Ausschaltsequenzen identifiziert werden.",1,null,"agé",null,"Classement"]
[" Sanierung?Assainissement= Abwasserentsorgung? Sanitäre Einrichtung?"," Sanierung?Assainissement= Abwasserentsorgung? Sanitäre Einrichtung?","Kopplungen, die eine Quelle von Kosten und Energieineffizienz sind, sind zu vermeiden. Beurteilen Sie im Zusammenhang mit einer Sanierung die Möglichkeit, mit einem Direktantrieb zu arbeiten.","Kopplungen, die eine Quelle von Kosten und Energieineffizienz sind, sind zu vermeiden. Beurteilen Sie im Zusammenhang mit einer Sanierung die Möglichkeit, mit einem Direktantrieb zu arbeiten.",1,null,"La durée et la période des mesurages doivent intégrer l'éventuel caractère saisonnier. Il est parfois bienvenu de réaliser plusieurs campagnes notamment une en été et une en hiver.",null,"Afficher le graphique des puissances spécifiques"]
["Le besoin d'assainissement facilite la démarche d'analyse et d'optimisation.","Le besoin d'assainissement facilite la démarche d'analyse et d'optimisation.","Die Notwendigkeit von Sanierungsmaßnahmen erleichtert den Analyse- und Optimierungsprozess.","Die Notwendigkeit von Sanierungsmaßnahmen erleichtert den Analyse- und Optimierungsprozess.",1,null,"Une durée de mesurage de l'ordre d'une semaine convient bien dans ce cas.",null,"Afficher/cacher les données déjà remplies "]
["Accouplement","Accouplement","Kopplung","Kopplung",1,null,"Les mesurages doivent être menés sur une période représentative de la production annuelle.",null,"Afficher/cacher les données déjà remplies"]
["Le débit max. fourni correspond a priori au besoin et il est mesuré par l'exploitant. De plus, les vartiations sont assurées par un variateur. La situation est favorable et il n'y a à priori pas d'investigations supplémentaires à réaliser.","Le débit max. fourni correspond a priori au besoin et il est mesuré par l'exploitant. De plus, les vartiations sont assurées par un variateur. La situation est favorable et il n'y a à priori pas d'investigations supplémentaires à réaliser.","Die max. gelieferte Durchflussmenge ist a priori nach Bedarf und wird vom Bediener gemessen. Zusätzlich wird für die Steuerung ein drehzahlvariabler Antrieb verwendet. Die Situation ist günstig und es sind keine weiteren Untersuchungen erforderlich.","Die max. gelieferte Durchflussmenge ist a priori nach Bedarf und wird vom Bediener gemessen. Zusätzlich wird für die Steuerung ein drehzahlvariabler Antrieb verwendet. Die Situation ist günstig, und es sind keine weiteren Untersuchungen erforderlich.",1,null,"Il s'agit de parvenir à déterminer quelle période et quelle durée de mesurage conviennent afin de couvrir l'évolution annuelle des besoins.",null,"Je connais ma puissance spécifique"]
["Le débit max. fourni correspond a priori au besoin, mais il n'est pas mesuré. Un mesurage permettrait de mieux connaître le débit réel.","Le débit max. fourni correspond a priori au besoin, mais il n'est pas mesuré. Un mesurage permettrait de mieux connaître le débit réel.","Die maximale Durchflussmenge wird a priori nach Bedarf geliefert, wird aber nicht gemessen. Eine Messung würde eine bessere Kenntnis der tatsächlichen Flussrate ermöglichen.","Die maximale Durchflussmenge wird a priori nach Bedarf geliefert, wird aber nicht gemessen. Eine Messung würde eine bessere Kenntnis der tatsächlichen Flussrate ermöglichen.",null,null,"Les équipements sont anciens et le système a priori plutôt complexe.",null,"J'aimerais entrer moi-même la puissance spécifique des nouveaux compresseurs"]
["Le débit variable n'est probablement  pas contrôlé de la manière la plus efficace.  Considérez le débit relevé par les appareils du site pour valider le recours à un variateur de vitesse.","Le débit variable n'est probablement  pas contrôlé de la manière la plus efficace.  Considérez le débit relevé par les appareils du site pour valider le recours à un variateur de vitesse.","Der variable Fluss wird wahrscheinlich nicht auf die effizienteste Weise kontrolliert. Betrachten Sie die von der Anlage vor Ort aufgezeichnete Durchflussmenge, um die Verwendung eines drehzahlvariablen Antriebs zu validieren.","Der variable Fluss wird wahrscheinlich nicht auf die effizienteste Weise kontrolliert. Betrachten Sie die von der Anlage vor Ort aufgezeichnete Durchflussmenge, um die Verwendung eines drehzahlvariablen Antriebs zu validieren.",1,null,"Les équipements sont anciens et le système a priori plutôt simple.",null,"Enregistrer l'économie dans la feuille\n\"Classement des économie\" et l'afficher"]
["Les valeurs de pression sont disponibles. Utilisez-les avec les valeurs de débit pour calculer la puissance hydraulique. Utilisez les valeurs de puissance électrique disponibles pour calculer les rendements.","Les valeurs de pression sont disponibles. Utilisez-les avec les valeurs de débit pour calculer la puissance hydraulique. Utilisez les valeurs de puissance électrique disponibles pour calculer les rendements.","Druckwerte sind verfügbar. Verwenden Sie diese zusammen mit den Durchflusswerten zur Berechnung der hydraulischen Leistung. Verwenden Sie die verfügbaren elektrischen Leistungswerte zur Berechnung der Effizienz.","Druckwerte sind verfügbar. Verwenden Sie diese zusammen mit den Durchflusswerten zur Berechnung der hydraulischen Leistung. Verwenden Sie die verfügbaren elektrischen Leistungswerte zur Berechnung der Effizienz.",1,null,"Les équipements sont anciens et possiblement complexes",null,"Yannick Riesen:\nPrix simplifié=Coût totale de l'électricité (en CHF, tout inclus)/consommation total (kWh)"]
["Les valeurs de pression sont disponibles. Utilisez-les avec les valeurs de débit pour calculer la puissance hydraulique. Procédez aux mesurages de la puissance électrique et calculez les rendements.","Les valeurs de pression sont disponibles. Utilisez-les avec les valeurs de débit pour calculer la puissance hydraulique. Procédez aux mesurages de la puissance électrique et calculez les rendements.","Druckwerte sind verfügbar. Verwenden Sie diese zusammen mit den Durchflusswerten zur Berechnung der hydraulischen Leistung. Messen Sie die elektrische Leistung und berechnen Sie den Wirkungsgrad.","Druckwerte sind verfügbar. Verwenden Sie diese zusammen mit den Durchflusswerten zur Berechnung der hydraulischen Leistung. Messen Sie die elektrische Leistung und berechnen Sie den Wirkungsgrad.",null,null,"Les équipements sont anciens et le système, a priori, complexe.",null,"Yannick Riesen:\nVérifier avec AEnEC jusqu'à quel point on peut utilisé ces formules\n"]
["Les valeurs de pression ne sont pas relevées. Si l'on veut calculer le rendement de l'entraînement, il faut mesurer les pressions à l'aspiration et au refoulement de la pompe puis calculer la puissance hydraulique. Avec les valeurs de puissance électrique relevées par l'exploitant, on peut ensuite calculer les performances de l'entraînement. ","Les valeurs de pression ne sont pas relevées. Si l'on veut calculer le rendement de l'entraînement, il faut mesurer les pressions à l'aspiration et au refoulement de la pompe puis calculer la puissance hydraulique. Avec les valeurs de puissance électrique relevées par l'exploitant, on peut ensuite calculer les performances de l'entraînement. ","Die Druckwerte werden nicht aufgezeichnet. Um den Wirkungsgrad des Antriebs zu berechnen, messen Sie den Saug- und Förderdruck der Pumpe und berechnen Sie die hydraulische Leistung. Mit den vom Bediener erfassten elektrischen Leistungswerten kann die Antriebsleistung berechnet werden. ","Die Druckwerte werden nicht aufgezeichnet. Um den Wirkungsgrad des Antriebs zu berechnen, messen Sie den Saug- und Förderdruck der Pumpe und berechnen Sie die hydraulische Leistung. Mit den vom Bediener erfassten elektrischen Leistungswerten kann die Antriebsleistung berechnet werden. ",1,null,"Les équipements sont anciens et le système, a priori, plutôt complexe.",null,"Données de débit indisponibles"]
["La durée et la période des mesurages doivent intégrer l'éventuel caractère saisonnier. Il est parfois bienvenu de réaliser plusieurs campagnes notamment une en été et une en hiver.","La durée et la période des mesurages doivent intégrer l'éventuel caractère saisonnier. Il est parfois bienvenu de réaliser plusieurs campagnes notamment une en été et une en hiver.","Die Dauer und der Zeitraum der Messungen sollten die mögliche Saisonabhängigkeit berücksichtigen. Manchmal ist es ratsam, mehrere Kampagnen durchzuführen, insbesondere eine im Sommer und eine im Winter.","Die Dauer und der Zeitraum der Messungen sollten die mögliche Saisonabhängigkeit berücksichtigen. Manchmal ist es ratsam, mehrere Kampagnen durchzuführen, insbesondere eine im Sommer und eine im Winter.",1,null,"Les équipements sont anciens et le système, a priori, complexe.",null,"Generer bouton "]
["Une durée de mesurage de l'ordre d'une semaine convient bien dans ce cas.","Une durée de mesurage de l'ordre d'une semaine convient bien dans ce cas.","Eine Messzeit von etwa einer Woche ist in diesem Fall geeignet.","Eine Messzeit von etwa einer Woche ist in diesem Fall geeignet.",1,null,"Les équipements sont anciens et le système possiblement complexe.",null,"Retour au conseil d'orientation"]
["Les mesurages doivent être menés sur une période représentative de la production annuelle.","Les mesurages doivent être menés sur une période représentative de la production annuelle.","Die Messungen müssen über einen für die Jahresproduktion repräsentativen Zeitraum durchgeführt werden.","Die Messungen müssen über einen für die Jahresproduktion repräsentativen Zeitraum durchgeführt werden.",1,null,"Les équipements sont anciens et le système possiblement complexe."]
["Il s'agit de parvenir à déterminer quelle période et quelle durée de mesurage conviennent afin de couvrir l'évolution annuelle des besoins.","Il s'agit de parvenir à déterminer quelle période et quelle durée de mesurage conviennent afin de couvrir l'évolution annuelle des besoins.","Ziel ist es, zu bestimmen, welcher Zeitraum und welche Dauer der Messung angemessen ist, um die jährliche Bedarfsveränderung abzudecken.","Ziel ist es, zu bestimmen, welcher Zeitraum und welche Dauer der Messung angemessen ist, um die jährliche Bedarfsveränderung abzudecken.",1,null,"Les équipements sont récents. Le système semble, a priori, complexe."]
["Les valeurs de pression et de puissance électrique ne sont pas relevées. Procédez au mesurage de ces grandeurs de façon à pouvoir calculer les performances de l'entraînement.  ","Les valeurs de pression et de puissance électrique ne sont pas relevées. Procédez au mesurage de ces grandeurs de façon à pouvoir calculer les performances de l'entraînement.  ","Die Werte für Druck und elektrische Leistung werden nicht aufgezeichnet. Messen Sie diese Werte, damit die Leistung des Antriebs berechnet werden kann. ","Die Werte für Druck und elektrische Leistung werden nicht aufgezeichnet. Messen Sie diese Werte, damit die Leistung des Antriebs berechnet werden kann. ",1,null,"Le débit variable n'est probablement  pas contrôlé de la manière la plus efficace.  Un mesurage du débit est recommandé."]
["5. Traitement des données de mesurage, analyses et propositions","5. Traitement des données de mesurage, analyses et propositions","5. Verarbeitung von Messdaten, Analysen und Vorschlägen","5. Verarbeitung von Messdaten, Analysen und Vorschlägen",1,null,"Le besoin est a priori bien maîtrisé et enregistré. On a par contre un CF sans débit variable. Un démarreur serait plus judicieux. "]
["Bases des analyses de détail","Bases des analyses de détail","Grundlage für die Feinanalyse","Grundlage für Feinanalyse",1,null,"Le besoin est a priori bien maîtrisé mais pas enregistré. Un mesurage permettrait de valider le débit réel. On a un CF sans débit variable. Un démarreur serait plus judicieux. "]
["Les réponses aux questions ainsi que les valeurs enregistrées des grandeurs suggérées dans la synthèse ci-dessus permettent de procéder aux analyses de détail.\nCes dernières, développées ci-dessous, se basent donc sur la disponibilité des valeurs de débits, de Δp et de Pel sur une période de temps représentative des besoins annuels.","Les réponses aux questions ainsi que les valeurs enregistrées des grandeurs suggérées dans la synthèse ci-dessus permettent de procéder aux analyses de détail.\nCes dernières, développées ci-dessous, se basent donc sur la disponibilité des valeurs de débits, de Δp et de Pel sur une période de temps représentative des besoins annuels.","Die Antworten auf die Fragen sowie die aufgezeichneten Werte der in der obigen Synthese vorgeschlagenen Mengen erlauben es, die Feinanalysen durchzuführen. \nLetztere, die im Folgenden entwickelt werden, basieren daher auf der Verfügbarkeit von Durchflusswerten von Δp und Pel über einen Zeitraum, der für den Jahresbedarf repräsentativ ist.","Die Antworten auf die Fragen sowie die aufgezeichneten Werte der in der obigen Synthese vorgeschlagenen Mengen erlauben es, Feinanalyse durchzuführen. \nLetztere, die im Folgenden entwickelt werden, basieren daher auf der Verfügbarkeit von Durchflusswerten von Δp und Pel über einen Zeitraum, der für den Jahresbedarf repräsentativ ist.",1,null,"Le besoin est a priori relevé et bien maîtrisé."]
["Traitement des données de mesurage","Traitement des données de mesurage","Verarbeitung von Messdaten","Verarbeitung von Messdaten",1,null,"Le débit max. fourni correspond a priori au besoin. Il n'est cependant pas relevé. Le mesurage du débit permettrait de la valider."]
["L'évolution des grandeurs au cours du temps permet d'apprécier les plages de variations et la célérité des variations. Pour des pompes, on en tire notamment:\n- la valeur de la puissance hydraulique fournie, calculée à partir des valeurs de débit et de Δp (aux bornes de la pompe), puis celle du rendement global, calculée à partir de la puissance hydraulique et de la puissance électrique.\n- les valeurs extrêmes, dont le débit maximum qui permet de juger de la qualité du dimensionnement.\nIl est aussi possible de traiter ces données pour disposer, par exemple, du profil de besoin (débit), sous forme de classes. Ce débit classé permet ensuite de sélectionner au mieux les mesures d'optimisation et de déterminer les gains par classe et total. ","L'évolution des grandeurs au cours du temps permet d'apprécier les plages de variations et la célérité des variations. Pour des pompes, on en tire notamment:\n- la valeur de la puissance hydraulique fournie, calculée à partir des valeurs de débit et de Δp (aux bornes de la pompe), puis celle du rendement global, calculée à partir de la puissance hydraulique et de la puissance électrique.\n- les valeurs extrêmes, dont le débit maximum qui permet de juger de la qualité du dimensionnement.\nIl est aussi possible de traiter ces données pour disposer, par exemple, du profil de besoin (débit), sous forme de classes. Ce débit classé permet ensuite de sélectionner au mieux les mesures d'optimisation et de déterminer les gains par classe et total. ","Die Entwicklung der Mengen im Laufe der Zeit ermöglicht es, die Schwankungsbreiten und die Geschwindigkeit der Variationen einzuschätzen. Für Pumpen kann insbesondere Folgendes ermittelt werden: \n- der Wert der gelieferten hydraulischen Leistung, berechnet aus den Werten der Fördermenge und von Δp (an den Anschlüssen der Pumpe), dann der Wert des Gesamtwirkungsgrades, berechnet aus der hydraulischen Leistung und der elektrischen Leistung. \n- die Extremwerte, einschließlich der maximalen Durchflussmenge, die es ermöglicht, die Qualität der Dimensionierung zu beurteilen. \nEs ist auch möglich, diese Daten zu verarbeiten, um z.B. das Anforderungsprofil (Flussrate) in Form von Klassen zu erhalten. Diese klassifizierte Flussrate wird dann zur Auswahl der bestmöglichen Optimierungsmaßnahmen und zur Bestimmung der Gewinne pro Klasse und insgesamt verwendet. ","Die Entwicklung der Mengen im Laufe der Zeit ermöglicht es, die Schwankungsbreiten und die Geschwindigkeit der Variationen einzuschätzen. Für Pumpen kann insbesondere Folgendes ermittelt werden: \n- der Wert der gelieferten hydraulischen Leistung, berechnet aus den Werten der Fördermenge und von Δp (an den Pumpenterminals), dann der Wert des Gesamtwirkungsgrades, berechnet aus der hydraulischen Leistung und der elektrischen Leistung. \n- die Extremwerte, einschließlich der maximalen Durchflussmenge, die es ermöglicht, die Qualität der Dimensionierung zu beurteilen. \nEs ist auch möglich, diese Daten zu verarbeiten, um z.B. das Anforderungsprofil (Flussrate) in Form von Klassen zu erhalten. Diese klassifizierte Flussrate wird dann zur Auswahl der bestmöglichen Optimierungsmaßnahmen und zur Bestimmung der Gewinne pro Klasse und insgesamt verwendet. ",1,null,"Les réponses aux questions ainsi que les valeurs enregistrées des grandeurs suggérées dans la synthèse ci-dessus permettent de procéder aux analyses de détail.\nCes dernières, développées ci-dessous, se basent donc sur la disponibilité des valeurs de débits, de Δp et de Pel sur une période de temps représentative des besoins annuels."]
["Analyse de détail","Analyse de détail","Feinanalyse","Feinanalyse",1,null,"L'évolution des grandeurs au cours du temps permet d'apprécier les plages de variations et la célérité des variations. Pour des ventilateurs, on en tire notamment:\n- la valeur de la puissance aéraulique fournie, calculée à partir des valeurs de débit et de Δp (aux bornes du ventilateur), puis celle du rendement global, calculée à partir de la puissance aéraulique et de la puissance électrique.\n- les valeurs extrêmes, dont le débit maximum qui permet de juger de la qualité du dimensionnement.\nIl est aussi possible de traiter ces données pour disposer, par exemple, du profil de besoin (débit), sous forme de classes. Ce débit classé permet ensuite de sélectionner au mieux les mesures d'optimisation et de déterminer les gains par classe et total. "]
["Le dimensionnement est-il correct ou nécessite-t-il d'être optimisé?","Le dimensionnement est-il correct ou nécessite-t-il d'être optimisé?","Ist die Dimensionierung richtig oder muss sie optimiert werden?","Ist die Dimensionierung richtig oder muss sie optimiert werden?",1,null,"La qualité du dimensionnement s'évalue en premier lieu sur la base du rapport entre le débit max. relevé (et nécessaire) et le débit nominal (rendement max.). Plusieurs situations sont possibles:\n1) Lorsque ce rapport est inférieur à 1, le ventilateur est surdimensionné. Plus ce rapport est petit, plus le rendement sera réduit et plus le potentiel d'optimisation important.\n2) Lorsque ce rapport est proche de 1, le dimensionnement est correct (ce qui ne garantit pas que la situation soit énergétiquement idéale, d'autres inefficiences peuvent exister).\n3) Lorsque ce rapport est supérieur à 1, le ventilateur est sousdimensionné. Plus ce rapport est grand, plus le rendement sera mauvais et les risques de problèmes accrus."]
["La qualité du dimensionnement s'évalue en premier lieu sur la base du rapport entre le débit max. relevé (et nécessaire) et le débit nominal (rendement max.). Plusieurs situations sont possibles:\n1) Lorsque ce rapport est inférieur à 1, la pompe est surdimensionnée. Plus ce rapport est petit, plus le rendement sera réduit et plus le potentiel d'optimisation important.\n2) Lorsque ce rapport est proche de 1, le dimensionnement est correct (ce qui ne garantit pas que la situation soit énergétiquement idéale, d'autres inefficiences peuvent exister).\n3) Lorsque ce rapport est supérieur à 1, la pompe est sousdimensionnée. Plus ce rapport est grand, plus le rendement sera mauvais et les risques de problèmes élevés (cavitation par exemple)","La qualité du dimensionnement s'évalue en premier lieu sur la base du rapport entre le débit max. relevé (et nécessaire) et le débit nominal (rendement max.). Plusieurs situations sont possibles:\n1) Lorsque ce rapport est inférieur à 1, la pompe est surdimensionnée. Plus ce rapport est petit, plus le rendement sera réduit et plus le potentiel d'optimisation important.\n2) Lorsque ce rapport est proche de 1, le dimensionnement est correct (ce qui ne garantit pas que la situation soit énergétiquement idéale, d'autres inefficiences peuvent exister).\n3) Lorsque ce rapport est supérieur à 1, la pompe est sousdimensionnée. Plus ce rapport est grand, plus le rendement sera mauvais et les risques de problèmes élevés (cavitation par exemple)","Die Qualität der Dimensionierung wird in erster Linie anhand des Verhältnisses zwischen dem gemessenen (und geforderten) maximalen Durchfluss und dem Nenndurchfluss (max. Wirkungsgrad) beurteilt. Mehrere Situationen sind möglich:\n1) Wenn dieses Verhältnis kleiner als 1 ist, ist die Pumpe überdimensioniert. Je kleiner das Verhältnis, desto geringer der Wirkungsgrad und desto größer das Optimierungspotenzial. \n2) Wenn dieses Verhältnis nahe bei 1 liegt, ist die Dimensionierung korrekt (dies garantiert nicht, dass die Situation energetisch ideal ist, es können andere Ineffizienzen vorliegen). \n3) Wenn dieses Verhältnis größer als 1 ist, ist die Pumpe unterdimensioniert. Je höher dieses Verhältnis ist, desto schlechter ist der Wirkungsgrad und desto höher das Risiko von Problemen (z.B. Kavitation).","Die Qualität der Dimensionierung wird in erster Linie anhand des Verhältnisses zwischen dem gemessenen (und geforderten) maximalen Durchfluss und dem Nenndurchfluss (max. Wirkungsgrad) beurteilt. Mehrere Situationen sind möglich:\n1) Wenn dieses Verhältnis kleiner als 1 ist, ist die Pumpe überdimensioniert. Je kleiner das Verhältnis, desto geringer der Wirkungsgrad und desto größer das Optimierungspotenzial. \n2) Wenn dieses Verhältnis nahe bei 1 liegt, ist die Dimensionierung korrekt (dies garantiert nicht, dass die Situation energetisch ideal ist, es können andere Ineffizienzen vorliegen). \n3) Wenn dieses Verhältnis größer als 1 ist, ist die Pumpe unterdimensioniert. Je höher dieses Verhältnis ist, desto schlechter ist der Wirkungsgrad und desto höher das Risiko von Problemen (z.B. Kavitation).",1,null,"Les équipements sont récents. Le système semble, a priori, simple."]
["En cas de redimensionnement sans variations de charge/débit, les économies proviennent donc de l'augmentation du rendement, de la baisse de la puissance hydraulique ou des deux.\nL'investissement consistera alors en une nouvelle pompe et, normalement, un nouveau moteur ou alors en l'ajout d'un variateur et, normalement, un nouveau moteur","En cas de redimensionnement sans variations de charge/débit, les économies proviennent donc de l'augmentation du rendement, de la baisse de la puissance hydraulique ou des deux.\nL'investissement consistera alors en une nouvelle pompe et, normalement, un nouveau moteur ou alors en l'ajout d'un variateur et, normalement, un nouveau moteur","Im Falle einer Redimensionierung ohne Last-/Durchflussschwankungen ergeben sich die Einsparungen daher aus einem höheren Wirkungsgrad, einer geringeren hydraulischen Leistung oder beidem. \nDie Investition besteht dann aus einer neuen Pumpe und in der Regel aus einem neuen Motor oder aus der Hinzufügung eines drehzahlvariablen Antriebs und in der Regel aus einem neuen Motor.","Im Falle einer Größenänderung ohne Last-/Durchflussschwankungen ergeben sich die Einsparungen daher aus einem höheren Wirkungsgrad, einer geringeren hydraulischen Leistung oder beidem. \nDie Investition besteht dann aus einer neuen Pumpe und in der Regel aus einem neuen Motor oder aus der Hinzufügung eines drehzahlvariablen Antriebs und in der Regel aus einem neuen Motor.",1,null,"Les équipements sont récents et le système possiblement complexe."]
["Les équipements sont anciens et le système a priori plutôt complexe.","Les équipements sont anciens et le système a priori plutôt complexe.","Die Ausrüstung ist alt und das System a priori ziemlich komplex.","Die Ausrüstung ist alt und das System a priori ziemlich komplex.",1,null,"Les équipements sont récents. Le système semble, a priori, complexe."]
["Les équipements sont anciens et le système a priori plutôt simple.","Les équipements sont anciens et le système a priori plutôt simple.","Die Ausrüstung ist alt und das System a priori eher einfach.","Die Ausrüstung ist alt und das System a priori eher einfach.",null,null,"Les équipements sont récents. Le système semble, a priori, complexe."]
["Les équipements sont anciens et possiblement complexes","Les équipements sont anciens et possiblement complexes","Die Ausrüstung ist alt und möglicherweise komplex","Die Ausrüstung ist alt und möglicherweise komplex",1,null,"Les équipements sont récents. Le système semble, a priori, complexe."]
["Les équipements sont anciens et le système, a priori, complexe.","Les équipements sont anciens et le système, a priori, complexe.","Die Ausrüstung ist alt und das System a priori komplex.","Die Ausrüstung ist alt und das System a priori komplex.",null,null,"Les équipements sont récents et le système possiblement complexe."]
["Les équipements sont anciens et le système, a priori, plutôt complexe.","Les équipements sont anciens et le système, a priori, plutôt complexe.","Die Ausrüstung ist alt und das System a priori ziemlich komplex.","Die Ausrüstung ist alt und das System a priori ziemlich komplex.",null,null,"Les équipements sont récents et le système possiblement complexe."]
["Les équipements sont anciens et le système possiblement complexe.","Les équipements sont anciens et le système possiblement complexe.","Die Ausrüstung ist alt und das System kann komplex sein.","Die Ausrüstung ist alt und das System kann komplex sein.",null,null,"Il est intéressants de connaître l'âge des équipements. Leur remplacement est en général plus facile à financer et les gains potentiellement plus élevés qu'avec des équipements récents. Le système semble, a priori, complexe."]
["Les équipements sont récents. Le système semble, a priori, complexe.","Les équipements sont récents. Le système semble, a priori, complexe.","Die Ausrüstung ist neueren Datums. Das System scheint a priori komplex zu sein.","Die Ausrüstung ist neueren Datums. Das System scheint a priori komplex zu sein.",1,null,"Il est intéressants de connaître l'âge des équipements. Leur remplacement est en général plus facile à financer et les gains potentiellement plus élevés qu'avec des équipements récents. Le système semble, a priori,simple."]
["Les équipements sont récents. Le système semble, a priori, simple.","Les équipements sont récents. Le système semble, a priori, simple.","Die Ausrüstung ist neueren Datums. Das System scheint a priori einfach zu sein.","Die Ausrüstung ist neueren Datums. Das System scheint a priori einfach zu sein.",null,null,"Il est intéressants de connaître l'âge des équipements. Leur remplacement est en général plus facile à financer et les gains potentiellement plus élevés qu'avec des équipements récents. Le système semble, a priori, complexe."]
[{"$f":"IF($B$2=\"FR\",B132,C132)","v":"Les équipements sont récents et le système possiblement complexe."},"Les équipements sont récents et le système possiblement complexe.","Die Ausrüstung ist neu und das System kann komplex sein.","Die Ausrüstung ist neu und das System kann komplex sein.",1,null,"Il est intéressants de connaître l'âge des équipements. Leur remplacement est en général plus facile à financer et les gains potentiellement plus élevés qu'avec des équipements récents. Le système semble, a priori, complexe."]
["Il est intéressants de connaître l'âge des équipements. Leur remplacement est en général plus facile à financer et les gains potentiellement plus élevés qu'avec des équipements récents. Le système semble, a priori, complexe.","Il est intéressants de connaître l'âge des équipements. Leur remplacement est en général plus facile à financer et les gains potentiellement plus élevés qu'avec des équipements récents. Le système semble, a priori, complexe.","Es ist interessant, das Alter der Ausrüstung zu kennen. Ihr Ersatz ist im Allgemeinen leichter zu finanzieren, und die potenziellen Gewinne sind höher als bei neueren Geräten. Das System scheint a priori komplex zu sein.","Es ist interessant, das Alter der Ausrüstung zu kennen. Ihr Ersatz ist im Allgemeinen leichter zu finanzieren, und die potenziellen Gewinne sind höher als bei neueren Geräten. Das System scheint a priori komplex zu sein.",1,null,"Il est intéressants de connaître l'âge des équipements. Leur remplacement est en général plus facile à financer et les gains potentiellement plus élevés qu'avec des équipements récents. Le système semble, a priori, complexe."]
["Il est intéressants de connaître l'âge des équipements. Leur remplacement est en général plus facile à financer et les gains potentiellement plus élevés qu'avec des équipements récents. Le système semble, a priori,simple.","Il est intéressants de connaître l'âge des équipements. Leur remplacement est en général plus facile à financer et les gains potentiellement plus élevés qu'avec des équipements récents. Le système semble, a priori,simple.","Es ist interessant, das Alter der Ausrüstung zu kennen. Ihr Ersatz ist im Allgemeinen leichter zu finanzieren, und die potenziellen Gewinne sind höher als bei neueren Geräten. Das System scheint a priori einfach zu sein.","Es ist interessant, das Alter der Ausrüstung zu kennen. Ihr Ersatz ist im Allgemeinen leichter zu finanzieren, und die potenziellen Gewinne sind höher als bei neueren Geräten. Das System scheint a priori einfach zu sein.",null,null,"Il est intéressants de connaître l'âge des équipements. Leur remplacement est en général plus facile à financer et les gains potentiellement plus élevés qu'avec des équipements récents. Le système semble, a priori, complexe."]
["Il est intéressants de connaître l'âge des équipements. Leur remplacement est en général plus facile à financer et les gains potentiellement plus élevés qu'avec des équipements récents. Le système est possiblement complexe.","Il est intéressants de connaître l'âge des équipements. Leur remplacement est en général plus facile à financer et les gains potentiellement plus élevés qu'avec des équipements récents. Le système est possiblement complexe.","Es ist interessant, das Alter der Ausrüstung zu kennen. Ihr Ersatz ist im Allgemeinen leichter zu finanzieren, und die potenziellen Gewinne sind höher als bei neueren Geräten. Das System kann komplex sein.","Es ist interessant, das Alter der Ausrüstung zu kennen. Ihr Ersatz ist im Allgemeinen leichter zu finanzieren, und die potenziellen Gewinne sind höher als bei neueren Geräten. Das System kann komplex sein.",null,null,"Il est intéressants de connaître l'âge des équipements. Leur remplacement est en général plus facile à financer et les gains potentiellement plus élevés qu'avec des équipements récents. Le système est possiblement complexe."]
["Les variations de charge/débit sont-elles bien gérées?","Les variations de charge/débit sont-elles bien gérées?","Werden Last-/Fluss-Schwankungen gut bewältigt?","Werden Last-/Fluss-Schwankungen gut bewältigt?",1,null,"Il est intéressants de connaître l'âge des équipements. Leur remplacement est en général plus facile à financer et les gains potentiellement plus élevés qu'avec des équipements récents. Le système est possiblement complexe."]
["Il existe de multiples façons de gérer un besoin fluctuant. On citera notamment, côté pompe, l'étranglement (vanne), le by-pass, la variation de vitesse et, côté consommateurs, des vannes à deux ou trois voies. Ces dernières maintiennent un débit sans besoin (parfois pour conserver une branche en température). Ces solutions ne sont pas équivalentes en termes énergétiques.\n1) Lorsqu'il n'y a qu'un consommateur ou que, multiples, ils ont un comportement synchrone (donc proche de celui d'un seul consommateur), le profil de débit classé permet de suggérer des optimisations ad hoc basées sur l'introduction d'un variateur (voir utilisation des débits classés). Les optimisations résident dans le redimensionnement, le recours à des cascades et la variation de vitesse.\n2) Lorsque les pompes alimentent des consommateurs aux besoins indépendants les uns des autres dans des réseaux de branches parallèles, la situation est plus compliquée. Des solutions simples comme le réglage de la pression au refoulement de la pompe sont insuffisantes et peuvent parfois poser des problèmes sur certaines branches. Il est alors nécessaire de conserver des vannes, par exemple pour assurer l'équilibrage et les besoins réels. Les analyses doivent alors être menées de cas en cas et des solutions sur mesure proposées. Des approches basées sur des régulateurs de pression dynamique et des capteurs de pression déportés offrent d'excellents résultats énergétiques mais sont relativement complexes.\nLe choix du réglage en vitesse de même que les gains atteignables dépendent aussi de paramètres comme le type de circuit hydraulique. Typiquement, lorsqu'une hauteur statique importante ou une forte contrepression sont à vaincre, l'apport d'un convertisseur peut être limité en termes de gain. ","Il existe de multiples façons de gérer un besoin fluctuant. On citera notamment, côté pompe, l'étranglement (vanne), le by-pass, la variation de vitesse et, côté consommateurs, des vannes à deux ou trois voies. Ces dernières maintiennent un débit sans besoin (parfois pour conserver une branche en température). Ces solutions ne sont pas équivalentes en termes énergétiques.\n1) Lorsqu'il n'y a qu'un consommateur ou que, multiples, ils ont un comportement synchrone (donc proche de celui d'un seul consommateur), le profil de débit classé permet de suggérer des optimisations ad hoc basées sur l'introduction d'un variateur (voir utilisation des débits classés). Les optimisations résident dans le redimensionnement, le recours à des cascades et la variation de vitesse.\n2) Lorsque les pompes alimentent des consommateurs aux besoins indépendants les uns des autres dans des réseaux de branches parallèles, la situation est plus compliquée. Des solutions simples comme le réglage de la pression au refoulement de la pompe sont insuffisantes et peuvent parfois poser des problèmes sur certaines branches. Il est alors nécessaire de conserver des vannes, par exemple pour assurer l'équilibrage et les besoins réels. Les analyses doivent alors être menées de cas en cas et des solutions sur mesure proposées. Des approches basées sur des régulateurs de pression dynamique et des capteurs de pression déportés offrent d'excellents résultats énergétiques mais sont relativement complexes.\nLe choix du réglage en vitesse de même que les gains atteignables dépendent aussi de paramètres comme le type de circuit hydraulique. Typiquement, lorsqu'une hauteur statique importante ou une forte contrepression sont à vaincre, l'apport d'un convertisseur peut être limité en termes de gain. ","Es gibt viele Möglichkeiten, mit einem schwankenden Bedarf umzugehen. Dazu gehören auf der Pumpenseite Drosselung (Ventil), Bypass, Drehzahländerung und auf der Verbraucherseite Zwei- oder Dreiwegeventile. Letztere halten eine Flussrate ohne Notwendigkeit aufrecht (manchmal, um einen Zweig warm zu halten). Diese Lösungen sind in energetischer Hinsicht nicht gleichwertig. \n1) Wenn es nur einen Verbraucher gibt oder wenn es mehrere Verbraucher mit synchronem Verhalten gibt (daher nahe an dem eines einzelnen Verbrauchers), ermöglicht das klassifizierte Strömungsprofil Ad-hoc-Optimierungen auf der Grundlage der Einführung eines drehzahlvariablen Antriebs vorzuschlagen (siehe Verwendung von klassifizierten Strömen). Die Optimierungen liegen in der Größenanpassung, dem Einsatz von Kaskaden und der Geschwindigkeitsvariation. \n2) Wenn Pumpen in parallelen Filialnetzen Verbraucher mit unabhängigen Anforderungen versorgen, ist die Situation komplizierter. Einfache Lösungen wie die Anpassung des Pumpenauslassdrucks sind unzureichend und können manchmal Probleme auf einigen Zweigen verursachen. Es ist dann notwendig, Ventile aufzubewahren, z.B. um den Ausgleich und den tatsächlichen Bedarf sicherzustellen. Dann müssen von Fall zu Fall Analysen durchgeführt und massgeschneiderte Lösungen vorgeschlagen werden. Ansätze, die auf dynamischen Druckreglern und ferngesteuerten Drucksensoren basieren, bieten hervorragende Energieergebnisse, sind aber relativ komplex. \nDie Wahl der Drehzahlregelung sowie die erzielbaren Gewinne hängen auch von Parametern wie der Art des Hydrauliksystems ab. Wenn eine hohe statische Förderhöhe oder ein hoher Gegendruck überwunden werden muss, typischerweise, kann der Beitrag eines Umrichters eher wenig profitable sein.","Es gibt viele Möglichkeiten, mit einem schwankenden Bedarf umzugehen. Dazu gehören auf der Pumpenseite Drosselung (Ventil), Bypass, Drehzahländerung und auf der Verbraucherseite Zwei- oder Dreiwegeventile. Letztere halten eine Flussrate ohne Notwendigkeit aufrecht (manchmal, um einen Zweig warm zu halten). Diese Lösungen sind in energetischer Hinsicht nicht gleichwertig. \n1) Wenn es nur einen Verbraucher gibt oder wenn es mehrere Verbraucher mit synchronem Verhalten gibt (daher nahe an dem eines einzelnen Verbrauchers), ermöglicht das klassifizierte Strömungsprofil Ad-hoc-Optimierungen auf der Grundlage der Einführung eines drehzahlvariablen Antriebs vorzuschlagen (siehe Verwendung von klassifizierten Strömen). Die Optimierungen liegen in der Größenanpassung, dem Einsatz von Kaskaden und der Geschwindigkeitsvariation. \n2) Wenn Pumpen in parallelen Filialnetzen Verbraucher mit unabhängigen Anforderungen versorgen, ist die Situation komplizierter. Einfache Lösungen wie die Anpassung des Pumpenauslassdrucks sind unzureichend und können manchmal Probleme auf einigen Zweigen verursachen. Es ist dann notwendig, Ventile aufzubewahren, z.B. um den Ausgleich und den tatsächlichen Bedarf sicherzustellen. Dann müssen von Fall zu Fall Analysen durchgeführt und massgeschneiderte Lösungen vorgeschlagen werden. Ansätze, die auf dynamischen Druckreglern und ferngesteuerten Drucksensoren basieren, bieten hervorragende Energieergebnisse, sind aber relativ komplex. \nDie Wahl der Drehzahlregelung sowie die erzielbaren Gewinne hängen auch von Parametern wie der Art des Hydrauliksystems ab. Wenn eine hohe statische Förderhöhe oder ein hoher Gegendruck überwunden werden muss, typischerweise, kann der Beitrag eines Umrichters eher wenig profitable sein.",1,null,"Il existe de multiples façons de gérer un besoin fluctuant. On citera notamment, côté pompe, l'étranglement (vanne), le by-pass, la variation de vitesse et, côté consommateurs, des vannes à deux ou trois voies. Ces dernières maintiennent un débit sans besoin (parfois pour conserver une branche en température). Ces solutions ne sont pas équivalentes en termes énergétiques.\n1) Lorsqu'il n'y a qu'un consommateur ou que, multiples, ils ont un comportement synchrone (donc proche de celui d'un seul consommateur), le profil de débit classé permet de suggérer des optimisations ad hoc basées sur l'introduction d'un variateur (voir utilisation des débits classés). Les optimisations résident dans le redimensionnement, le recours à des cascades et la variation de vitesse.\n2) Lorsque les pompes alimentent des consommateurs aux besoins indépendants les uns des autres dans des réseaux de branches parallèles, la situation est plus compliquée. Des solutions simples comme le réglage de la pression au refoulement de la pompe sont insuffisantes et peuvent parfois poser des problèmes sur certaines branches. Il est alors nécessaire de conserver des vannes, par exemple pour assurer l'équilibrage et les besoins réels. Les analyses doivent alors être menées de cas en cas et des solutions sur mesure proposées. Des approches basées sur des régulateurs de pression dynamique et des capteurs de pression déportés offrent d'excellents résultats énergétiques mais sont relativement complexes.\nLe choix du réglage en vitesse de même que les gains atteignables dépendent aussi de paramètres comme le type de circuit hydraulique. Typiquement, lorsqu'une hauteur statique importante ou une forte contrepression sont à vaincre, l'apport d'un convertisseur peut être limité en termes de gain. "]
["6. Mesures d'optimisation et calcul des économies","6. Mesures d'optimisation et calcul des économies","6. Optimierungsmaßnahmen und Berechnung der Einsparungen","6. Optimierungsmaßnahmen und Berechnung der Einsparungen",1,null,"Il existe de multiples façons de gérer un besoin fluctuant. On citera notamment, côté ventilateur, l'étranglement (clapet) et la variation de vitesse et, côté consommateurs, des VAV. Ces solutions ne sont pas équivalentes en termes énergétiques.\n1) Lorsqu'il n'y a qu'un consommateur ou que, multiples, ils ont un comportement synchrone (donc proche de celui d'un seul consommateur), le profil de débit classé permet de suggérer des optimisations ad hoc basées sur l'introduction d'un variateur (voir utilisation des débits classés). Les optimisations résident dans le redimensionnement et la variation de vitesse.\n2) Lorsque le ventilateur alimente des consommateurs aux besoins indépendants les uns des autres dans des réseaux de branches parallèles, la situation est plus compliquée. Des solutions simples comme le réglage de la pression au refoulement du ventilateur sont insuffisantes et peuvent parfois poser des problèmes sur certaines branches. Il est alors nécessaire de conserver des clapets par exemple pour assurer l'équilibrage et les besoins réels. Les analyses doivent alors être menées de cas en cas et des solutions sur mesure proposées. Des approches basées sur des capteurs de pression déportés peuvent offrir de bons résultats énergétiques.\n"]
["Dans la cas d'une pompe ou d'un groupe de pompes, les économies peuvent avoir pour origines:\n- un débit plus important que nécessaire (aux consommateurs)\n- une exploitation non optimisée en termes d'horaire (un mode réduit ou un arrêt possible dans certaines plages horaires)\n- un travail à un niveau de pression trop élevé (le système assurerait sa prestation avec une pression plus faible ou une vanne semi-fermée casse la pression en permanence)\n- le système est ancien, mal dimensionné et les variations de besoin sont gérées de façon non optimale ","Dans la cas d'une pompe ou d'un groupe de pompes, les économies peuvent avoir pour origines:\n- un débit plus important que nécessaire (aux consommateurs)\n- une exploitation non optimisée en termes d'horaire (un mode réduit ou un arrêt possible dans certaines plages horaires)\n- un travail à un niveau de pression trop élevé (le système assurerait sa prestation avec une pression plus faible ou une vanne semi-fermée casse la pression en permanence)\n- le système est ancien, mal dimensionné et les variations de besoin sont gérées de façon non optimale ","\nIm Falle einer Pumpe oder einer Gruppe von Pumpen können die Einsparungen zurückzuführen sein auf: \n- einen höheren Durchfluss als erforderlich (zu den Verbrauchern) \n- einen nicht optimierten Betrieb in Bezug auf den Zeitplan (reduzierter Betrieb oder mögliche Abschaltung in bestimmten Zeitschlitzen) \n- das Arbeiten mit einem zu hohen Druckniveau (das System würde seinen Dienst mit einem niedrigeren Druck versehen oder ein halbgeschlossenes Ventil unterbricht den Druck dauerhaft) \n- das System ist alt, schlecht dimensioniert und Schwankungen der Anforderungen werden nicht optimal bewältigt. ","\nIm Falle einer Pumpe oder einer Gruppe von Pumpen können die Einsparungen zurückzuführen sein auf: \n- einen höheren Durchfluss als erforderlich (zu den Verbrauchern) \n- einen nicht optimierten Betrieb in Bezug auf den Zeitplan (reduzierter Betrieb oder mögliche Abschaltung in bestimmten Zeitschlitzen) \n- das Arbeiten mit einem zu hohen Druckniveau (das System würde seinen Dienst mit einem niedrigeren Druck versehen oder ein halbgeschlossenes Ventil unterbricht den Druck dauerhaft) \n- das System ist alt, schlecht dimensioniert und Schwankungen der Anforderungen werden nicht optimal bewältigt. ",1,null,"On ne sait pas si le variateur est vraiment utile et réglé, considérez les relevés de débit du débitmètre du site."]
["Le calcul des économies d'une pompe à débit variable passe par le calcul des rendements dans les différentes plages de débit. Ainsi, pour chaque classe de débit, on détermine les rendement anciens et nouveaux pour les composants de l'entraînement. Le rendement total de chaque classe i s'exprime par le produit des rendements des composants constituant l'entraînement:","Le calcul des économies d'une pompe à débit variable passe par le calcul des rendements dans les différentes plages de débit. Ainsi, pour chaque classe de débit, on détermine les rendement anciens et nouveaux pour les composants de l'entraînement. Le rendement total de chaque classe i s'exprime par le produit des rendements des composants constituant l'entraînement:","Zur Berechnung der Einsparungen einer Verstellpumpe ist es notwendig, die Wirkungsgrade in den verschiedenen Förderstrombereichen zu berechnen. So werden für jede Strömungsklasse die alten und neuen Wirkungsgrade für die Antriebskomponenten ermittelt. Der Gesamtwirkungsgrad jeder Klasse i wird als Produkt der Wirkungsgrade der Antriebskomponenten ausgedrückt:","Zur Berechnung der Einsparungen einer Verstellpumpe ist es notwendig, die Wirkungsgrade in den verschiedenen Förderstrombereichen zu berechnen. So werden für jede Strömungsklasse die alten und neuen Wirkungsgrade für die Antriebskomponenten ermittelt. Der Gesamtwirkungsgrad jeder Klasse i wird als Produkt der Wirkungsgrade der Antriebskomponenten ausgedrückt:",1,null,"On ne sait pas si le variateur est vraiment utile et réglé, recherchez des informations et, si besoin, procédez à des mesurages de débit."]
["Le débit variable n'est probablement  pas contrôlé de la manière la plus efficace.  Un mesurage du débit est recommandé.","Le débit variable n'est probablement  pas contrôlé de la manière la plus efficace.  Un mesurage du débit est recommandé.","Der variable Fluss wird wahrscheinlich nicht auf die effizienteste Weise kontrolliert. Eine Durchflussmessung wird empfohlen.","Der variable Fluss wird wahrscheinlich nicht auf die effizienteste Weise kontrolliert. Eine Durchflussmessung wird empfohlen.",null,null,"Les variations de débit sont mal connues et possiblement mal maîtrisées, considérez les relevés de débit du site."]
["Le besoin est a priori bien maîtrisé et enregistré. On a par contre un CF sans débit variable. Un démarreur serait plus judicieux. ","Le besoin est a priori bien maîtrisé et enregistré. On a par contre un CF sans débit variable. Un démarreur serait plus judicieux. ","Der Bedarf wird a priori gut kontrolliert und erfasst. Auf der anderen Seite haben wir einen Frequenzumrichter ohne variablen Fluss. Ein Starter wäre umsichtiger. ","Der Bedarf wird a priori gut kontrolliert und erfasst. Auf der anderen Seite haben wir einen Frequenzumrichter ohne variablen Fluss. Ein Starter wäre umsichtiger. ",1,null,"Les variations de débit sont mal connues et possiblement mal maîtrisées, procédez à des mesurages de débit."]
["Le besoin est a priori bien maîtrisé mais pas enregistré. Un mesurage permettrait de valider le débit réel. On a un CF sans débit variable. Un démarreur serait plus judicieux. ","Le besoin est a priori bien maîtrisé mais pas enregistré. Un mesurage permettrait de valider le débit réel. On a un CF sans débit variable. Un démarreur serait plus judicieux. ","Der Bedarf wird a priori gut kontrolliert, aber nicht erfasst. Eine Messung würde es ermöglichen, den tatsächlichen Fluss zu validieren. Wir haben einen Frequenzumrichter ohne variablen Fluss. Ein Starter wäre umsichtiger. ","Der Bedarf wird a priori gut kontrolliert, aber nicht erfasst. Eine Messung würde es ermöglichen, den tatsächlichen Fluss zu validieren. Wir haben einen Frequenzumrichter ohne variablen Fluss. Ein Starter wäre umsichtiger. ",1,null,"On ne sait pas si le débit correspond au besoin ou s'il trop grand, recherchez des informations sur le besoin réel et comparez-les avec les valeurs relevées par l'exploitant."]
["Le besoin est a priori relevé et bien maîtrisé.","Le besoin est a priori relevé et bien maîtrisé.","Der Bedarf wird a priori erhoben und gut kontrolliert.","Der Bedarf wird a priori erhoben und gut kontrolliert.",1,null,"On ne sait pas si le débit correspond au besoin ou s'il trop grand, recherchez des informations sur le besoin réel et procédez à des mesurages de débit."]
["Le débit max. fourni correspond a priori au besoin. Il n'est cependant pas relevé. Le mesurage du débit permettrait de la valider.","Le débit max. fourni correspond a priori au besoin. Il n'est cependant pas relevé. Le mesurage du débit permettrait de la valider.","Die maximale gelieferte Durchflussmenge entspricht a priori dem Bedarf. Sie wird jedoch nicht aufgezeichnet. Die Durchflussmessung würde eine Validierung ermöglichen.","Die maximale gelieferte Durchflussmenge entspricht a priori dem Bedarf. Sie wird jedoch nicht aufgezeichnet. Die Durchflussmessung würde eine Validierung ermöglichen.",null,null,"On ne sait pas si le débit correspond juste ou s'il trop grand, recherchez des informations sur le besoin. Par ailleurs les  variations ne sont probablement pas bien maîtrisées, considérez les relevés de débit du site."]
["On ne sait pas si le variateur est vraiment utile et réglé, considérez les relevés de débit du débitmètre du site.","On ne sait pas si le variateur est vraiment utile et réglé, considérez les relevés de débit du débitmètre du site.","Es ist nicht bekannt, ob der Frequenzumrichter wirklich nützlich und eingestellt ist. Betrachten Sie die Standortdurchflussmesser-Ablesungen.","Es ist nicht bekannt, ob der Frequenzumrichter wirklich nützlich und eingestellt ist. Betrachten Sie die Standortdurchflussmesser-Ablesungen.",1,null,"On ne sait pas si le débit correspond au besoin ou s'il trop grand, recherchez des informations sur le besoin. Par ailleurs, les  variations ne sont probablement pas bien maîtrisées. Un mesurage du débit est recommandé."]
["On ne sait pas si le variateur est vraiment utile et réglé, recherchez des informations et, si besoin, procédez à des mesurages de débit.","On ne sait pas si le variateur est vraiment utile et réglé, recherchez des informations et, si besoin, procédez à des mesurages de débit.","Es ist nicht bekannt, ob der Frequenzumrichter wirklich nützlich und eingerichtet ist, suchen Sie nach Informationen und führen Sie, falls erforderlich, Durchflussmessungen durch.","Es ist nicht bekannt, ob der Frequenzumrichter wirklich nützlich und eingerichtet ist, suchen Sie nach Informationen und führen Sie, falls erforderlich, Durchflussmessungen durch.",null,null,"On ne sait pas si le débit correspond au besoin ou s'il trop grand, recherchez des informations sur le besoin. Il n'y a pas de variations mais un CF. Un démarreur serait plus avisé."]
["Les variations de débit sont mal connues et possiblement mal maîtrisées, considérez les relevés de débit du site.","Les variations de débit sont mal connues et possiblement mal maîtrisées, considérez les relevés de débit du site.","Flussratenschwankungen sind schlecht bekannt und möglicherweise schlecht kontrolliert. Berücksichtigen Sie die Durchflussungsmessungen vor Ort.","Flussratenschwankungen sind schlecht bekannt und möglicherweise schlecht kontrolliert. Berücksichtigen Sie die Durchflussungsmessungen vor Ort.",1,null,"On ne sait pas si le débit correspond juste au besoin ou s'il trop grand, recherchez des informations sur le besoin. Il n'y a pas de variations mais un CF. Un démarreur serait plus avisé."]
["Les variations de débit sont mal connues et possiblement mal maîtrisées, procédez à des mesurages de débit.","Les variations de débit sont mal connues et possiblement mal maîtrisées, procédez à des mesurages de débit.","Flussratenschwankungen sind nicht gut bekannt und möglicherweise nicht gut kontrolliert. Führen Sie Flussratenmessungen durch.","Flussratenschwankungen sind nicht gut bekannt und möglicherweise nicht gut kontrolliert. Führen Sie Flussratenmessungen durch.",null,null,"On ne sait pas si le débit correspond au besoin ou s'il trop grand, recherchez des informations sur le besoin réel et comparez-les aux valeurs relevées."]
["On ne sait pas si le débit correspond au besoin ou s'il trop grand, recherchez des informations sur le besoin réel et comparez-les avec les valeurs relevées par l'exploitant.","On ne sait pas si le débit correspond au besoin ou s'il trop grand, recherchez des informations sur le besoin réel et comparez-les avec les valeurs relevées par l'exploitant.","Es ist nicht bekannt, ob die Durchflussmenge ausreichend oder zu hoch ist. Ermitteln Sie den tatsächlichen Bedarf und vergleichen Sie ihn mit den vom Bediener aufgezeichneten Werten.","Es ist nicht bekannt, ob die Durchflussmenge ausreichend oder zu hoch ist. Ermitteln Sie den tatsächlichen Bedarf und vergleichen Sie ihn mit den vom Bediener aufgezeichneten Werten.",1,null,"On ne sait pas si le débit correspond au besoin ou s'il trop grand, recherchez des informations sur le besoin et comparez-les aux valeurs relevées."]
["On ne sait pas si le débit correspond au besoin ou s'il trop grand, recherchez des informations sur le besoin réel et procédez à des mesurages de débit.","On ne sait pas si le débit correspond au besoin ou s'il trop grand, recherchez des informations sur le besoin réel et procédez à des mesurages de débit.","Es ist nicht bekannt, ob die Flussrate ausreichend oder zu hoch ist. Finden Sie heraus, was der tatsächliche Bedarf ist und messen Sie die Flussrate.","Es ist nicht bekannt, ob die Flussrate ausreichend oder zu hoch ist. Finden Sie heraus, was der tatsächliche Bedarf ist und messen Sie die Flussrate.",null,null,"A priori, on ne sait ni si le débit correspond au besoin ni s'il est variable, recherchez des informations sur le besoin. Considérez le relevé de débit du site."]
["On ne sait pas si le débit correspond juste ou s'il trop grand, recherchez des informations sur le besoin. Par ailleurs les  variations ne sont probablement pas bien maîtrisées, considérez les relevés de débit du site.","On ne sait pas si le débit correspond juste ou s'il trop grand, recherchez des informations sur le besoin. Par ailleurs les  variations ne sont probablement pas bien maîtrisées, considérez les relevés de débit du site.","Es ist nicht bekannt, ob die Durchflussmenge ausreichend oder zu hoch ist. Suchen Sie nach Informationen über den Bedarf. Außerdem sind die Schwankungen wahrscheinlich nicht gut kontrolliert. Berücksichtigen Sie die Durchflussungsmessungen vor Ort.","Es ist nicht bekannt, ob die Durchflussmenge ausreichend oder zu hoch ist. Suchen Sie nach Informationen über den Bedarf. Außerdem sind die Schwankungen wahrscheinlich nicht gut kontrolliert. Berücksichtigen Sie die Durchflussungsmessungen vor Ort.",1,null,"A priori, on ne sait ni si le débit correspond au besoin ni s'il est variable, recherchez des informations sur le besoin. Un mesurage du débit est recommandé."]
["On ne sait pas si le débit correspond au besoin ou s'il trop grand, recherchez des informations sur le besoin. Par ailleurs, les  variations ne sont probablement pas bien maîtrisées. Un mesurage du débit est recommandé.","On ne sait pas si le débit correspond au besoin ou s'il trop grand, recherchez des informations sur le besoin. Par ailleurs, les  variations ne sont probablement pas bien maîtrisées. Un mesurage du débit est recommandé.","Es ist nicht bekannt, ob die Flussrate ausreichend oder zu hoch ist, suchen Sie nach Informationen über den Bedarf. Außerdem sind die Abweichungen wahrscheinlich nicht gut kontrolliert. Eine Durchflussmessung wird empfohlen.","Es ist nicht bekannt, ob die Flussrate ausreichend oder zu hoch ist, suchen Sie nach Informationen über den Bedarf. Außerdem sind die Abweichungen wahrscheinlich nicht gut kontrolliert. Eine Durchflussmessung wird empfohlen.",null,null,"A priori, on ne sait ni si le débit correspond au besoin ni s'il est variable, recherchez des informations sur le besoin. Considérez le relevé de débit du site pour déterminer si le dimensionnement est correct et si un variateur de vitesse ferait sens."]
["On ne sait pas si le débit correspond au besoin ou s'il trop grand, recherchez des informations sur le besoin. Il n'y a pas de variations mais un CF. Un démarreur serait plus avisé.","On ne sait pas si le débit correspond au besoin ou s'il trop grand, recherchez des informations sur le besoin. Il n'y a pas de variations mais un CF. Un démarreur serait plus avisé.","Es ist nicht bekannt, ob die Durchflussmenge ausreichend oder zu hoch ist. Suchen Sie nach Informationen über den Bedarf. Es gibt keine Schwankungen, aber einen Frequenzumrichter. Ein Starter wäre klüger.","Es ist nicht bekannt, ob die Durchflussmenge ausreichend oder zu hoch ist. Suchen Sie nach Informationen über den Bedarf. Es gibt keine Schwankungen, aber einen Frequenzumrichter. Ein Starter wäre klüger.",null,null,"A priori, on ne sait ni si le débit correspond au besoin ni s'il est variable, recherchez des informations sur le besoin. Procédez à un mesurage du débit pour déterminer si le dimensionnement est correct et si un variateur de vitesse ferait sens."]
["On ne sait pas si le débit correspond juste au besoin ou s'il trop grand, recherchez des informations sur le besoin. Il n'y a pas de variations mais un CF. Un démarreur serait plus avisé.","On ne sait pas si le débit correspond juste au besoin ou s'il trop grand, recherchez des informations sur le besoin. Il n'y a pas de variations mais un CF. Un démarreur serait plus avisé.","Es ist nicht bekannt, ob die Flussrate für den Bedarf genau richtig ist oder ob sie zu hoch ist. Es gibt keine Variationen, sondern einen Frequenzumrichter. Ein Starter wäre klüger.","Es ist nicht bekannt, ob die Flussrate für den Bedarf genau richtig ist oder ob sie zu hoch ist. Es gibt keine Variationen, sondern einen Frequenzumrichter. Ein Starter wäre klüger.",null,null,"Recherchez des informations sur le besoin réel et comparez-les avec les valeurs relevées par l'exploitant."]
["On ne sait pas si le débit correspond au besoin ou s'il trop grand, recherchez des informations sur le besoin réel et comparez-les aux valeurs relevées.","On ne sait pas si le débit correspond au besoin ou s'il trop grand, recherchez des informations sur le besoin réel et comparez-les aux valeurs relevées.","Es ist nicht bekannt, ob die Flussrate ausreichend oder zu hoch ist, suchen Sie nach Informationen über den tatsächlichen Bedarf und vergleichen Sie ihn mit den gefundenen Werten.","Es ist nicht bekannt, ob die Flussrate ausreichend oder zu hoch ist, suchen Sie nach Informationen über den tatsächlichen Bedarf und vergleichen Sie ihn mit den gefundenen Werten.",null,null,"Recherchez des informations sur le besoin réel. Procédez à des mesurages de débit et comparez les valeurs."]
["On ne sait pas si le débit correspond au besoin ou s'il trop grand, recherchez des informations sur le besoin et comparez-les aux valeurs relevées.","On ne sait pas si le débit correspond au besoin ou s'il trop grand, recherchez des informations sur le besoin et comparez-les aux valeurs relevées.","Es ist nicht bekannt, ob die Flussrate ausreichend oder zu hoch ist, suchen Sie nach Informationen über den Bedarf und vergleichen Sie diese mit den gefundenen Werten.","Es ist nicht bekannt, ob die Flussrate ausreichend oder zu hoch ist, suchen Sie nach Informationen über den Bedarf und vergleichen Sie diese mit den gefundenen Werten.",null,null,"Recherchez des informations sur le besoin réel.  De plus, les  variations de débit ne sont probablement pas efficacement maîtrisées. Considérez le relevé de débit du site pour déterminer si le dimensionnement est correct et si un variateur de vitesse ferait sens."]
["A priori, on ne sait ni si le débit correspond au besoin ni s'il est variable, recherchez des informations sur le besoin. Considérez le relevé de débit du site.","A priori, on ne sait ni si le débit correspond au besoin ni s'il est variable, recherchez des informations sur le besoin. Considérez le relevé de débit du site.","Es ist nicht bekannt, ob die Durchflussmenge dem Bedarf entspricht, und auch nicht, ob sie variabel ist. Suchen Sie nach Informationen über den Bedarf. Berücksichtigen Sie die Durchflussungsmessungen vor Ort.","Es ist nicht bekannt, ob die Durchflussmenge dem Bedarf entspricht, und auch nicht, ob sie variabel ist. Suchen Sie nach Informationen über den Bedarf. Berücksichtigen Sie die Durchflussungsmessungen vor Ort.",1,null,"Recherchez des informations sur le besoin réel.  De plus, les  variations ne sont probablement pas efficacement maîtrisées. Un mesurage du débit est recommandé pour déterminer si le dimensionnement est correct et si un variateur de vitesse ferait sens."]
["A priori, on ne sait ni si le débit correspond au besoin ni s'il est variable, recherchez des informations sur le besoin. Un mesurage du débit est recommandé.","A priori, on ne sait ni si le débit correspond au besoin ni s'il est variable, recherchez des informations sur le besoin. Un mesurage du débit est recommandé.","Es ist nicht bekannt, ob die Durchflussmenge dem Bedarf entspricht, und auch nicht, ob sie variabel ist. Suchen Sie nach Informationen über den Bedarf. Eine Durchflussmessung wird empfohlen.","Es ist nicht bekannt, ob die Durchflussmenge dem Bedarf entspricht, und auch nicht, ob sie variabel ist. Suchen Sie nach Informationen über den Bedarf. Eine Durchflussmessung wird empfohlen.",null,null,"Recherchez des informations sur le besoin réel et comparez-les avec les valeurs relevées par l'exploitant. Par ailleurs, il n'y a pas de variations mais un CF. Un démarreur serait énergétiquement plus efficace."]
["A priori, on ne sait ni si le débit correspond au besoin ni s'il est variable, recherchez des informations sur le besoin. Considérez le relevé de débit du site pour déterminer si le dimensionnement est correct et si un variateur de vitesse ferait sens.","A priori, on ne sait ni si le débit correspond au besoin ni s'il est variable, recherchez des informations sur le besoin. Considérez le relevé de débit du site pour déterminer si le dimensionnement est correct et si un variateur de vitesse ferait sens.","Es ist nicht bekannt, ob die Durchflussmenge dem Bedarf entspricht, und auch nicht, ob sie variabel ist. Suchen Sie nach Informationen über den Bedarf. Betrachten Sie die Durchflussmessung vor Ort, um festzustellen, ob die Dimensionierung korrekt ist und ob ein drehzahlvariabler Antrieb Sinn machen würde.","Es ist nicht bekannt, ob die Durchflussmenge dem Bedarf entspricht, und auch nicht, ob sie variabel ist. Suchen Sie nach Informationen über den Bedarf. Betrachten Sie die Durchflussmessung vor Ort, um festzustellen, ob die Dimensionierung korrekt ist und ob ein drehzahlvariabler Antrieb Sinn machen würde.",null,null,"Recherchez des informations sur le besoin réel, procédez à des mesurages de débit et comparez les valeurs. Par ailleurs, s'il se confirme qu'il n'y a pas de variations mais un CF. Un démarreur serait plus avisé."]
["A priori, on ne sait ni si le débit correspond au besoin ni s'il est variable, recherchez des informations sur le besoin. Procédez à un mesurage du débit pour déterminer si le dimensionnement est correct et si un variateur de vitesse ferait sens.","A priori, on ne sait ni si le débit correspond au besoin ni s'il est variable, recherchez des informations sur le besoin. Procédez à un mesurage du débit pour déterminer si le dimensionnement est correct et si un variateur de vitesse ferait sens.","Es ist nicht bekannt, ob die Durchflussmenge dem Bedarf entspricht, und auch nicht, ob sie variabel ist. Suchen Sie nach Informationen über den Bedarf. Messen Sie die Durchflussrate, um festzustellen, ob die Dimensionierung korrekt ist und ob ein drehzahlvariabler Antrieb sinnvoll wäre.","Es ist nicht bekannt, ob die Durchflussmenge dem Bedarf entspricht, und auch nicht, ob sie variabel ist. Suchen Sie nach Informationen über den Bedarf. Messen Sie die Durchflussrate, um festzustellen, ob die Dimensionierung korrekt ist und ob ein drehzahlvariabler Antrieb sinnvoll wäre.",null,null,"Recherchez des informations sur le besoin réel et comparez-les avec les valeurs relevées par l'exploitant."]
["Recherchez des informations sur le besoin réel et comparez-les avec les valeurs relevées par l'exploitant.","Recherchez des informations sur le besoin réel et comparez-les avec les valeurs relevées par l'exploitant.","Suchen Sie nach Informationen über den tatsächlichen Bedarf und vergleichen Sie diese mit den vom Betreiber aufgezeichneten Werten.","Suchen Sie nach Informationen über den tatsächlichen Bedarf und vergleichen Sie diese mit den vom Betreiber aufgezeichneten Werten.",null,null,"Recherchez des informations sur le besoin réel, procédez à des mesurages de débit et comparez les valeurs afin de valider le dimensionnement."]
["Recherchez des informations sur le besoin réel. Procédez à des mesurages de débit et comparez les valeurs.","Recherchez des informations sur le besoin réel. Procédez à des mesurages de débit et comparez les valeurs.","Suchen Sie nach Informationen über den tatsächlichen Bedarf. Nehmen Sie Durchflussmessungen vor und vergleichen Sie die Werte.","Suchen Sie nach Informationen über den tatsächlichen Bedarf. Nehmen Sie Durchflussmessungen vor und vergleichen Sie die Werte.",null,null,"Recherchez des informations sur le besoin réel. De plus, les éventuelles variations sont inconnues. Utilisez les valeurs relevées par l'exploitant et déterminer s'il y a lieu de corriger le dimensionnement et si un variateur  de vitesse ferait sens."]
["Recherchez des informations sur le besoin réel.  De plus, les  variations de débit ne sont probablement pas efficacement maîtrisées. Considérez le relevé de débit du site pour déterminer si le dimensionnement est correct et si un variateur de vitesse ferait sens.","Recherchez des informations sur le besoin réel.  De plus, les  variations de débit ne sont probablement pas efficacement maîtrisées. Considérez le relevé de débit du site pour déterminer si le dimensionnement est correct et si un variateur de vitesse ferait sens.","Suchen Sie nach Informationen über den tatsächlichen Bedarf. Darüber hinaus werden Flussschwankungen wahrscheinlich nicht wirksam kontrolliert. Betrachten Sie die Durchflussmessung vor Ort, um festzustellen, ob die Dimensionierung korrekt ist und ob ein drehzahlvariabler Antrieb Sinn machen würde.","Suchen Sie nach Informationen über den tatsächlichen Bedarf. Darüber hinaus werden Flussschwankungen wahrscheinlich nicht wirksam kontrolliert. Betrachten Sie die Durchflussmessung vor Ort, um festzustellen, ob die Dimensionierung korrekt ist und ob ein drehzahlvariabler Antrieb Sinn machen würde.",null,null,"Recherchez des informations sur le besoin réel. De plus, les éventuelles variations sont inconnues. Un mesurage du débit est recommandé. Comparez ensuite les valeurs afin de corriger le dimensionnement et de déterminer si un variateur  de vitesse ferait sens."]
["Recherchez des informations sur le besoin réel.  De plus, les  variations ne sont probablement pas efficacement maîtrisées. Un mesurage du débit est recommandé pour déterminer si le dimensionnement est correct et si un variateur de vitesse ferait sens.","Recherchez des informations sur le besoin réel.  De plus, les  variations ne sont probablement pas efficacement maîtrisées. Un mesurage du débit est recommandé pour déterminer si le dimensionnement est correct et si un variateur de vitesse ferait sens.","Suchen Sie nach Informationen über den tatsächlichen Bedarf. Auch Variationen werden wahrscheinlich nicht wirksam kontrolliert. Eine Durchflussmessung wird empfohlen, um festzustellen, ob die Dimensionierung korrekt ist und ob ein drehzahlvariabler Antrieb sinnvoll wäre.","Suchen Sie nach Informationen über den tatsächlichen Bedarf. Auch Variationen werden wahrscheinlich nicht wirksam kontrolliert. Eine Durchflussmessung wird empfohlen, um festzustellen, ob die Dimensionierung korrekt ist und ob ein drehzahlvariabler Antrieb sinnvoll wäre.",null,null,"Recherchez des informations sur le besoin réel. De plus, les éventuelles variations sont inconnues. Utilisez les valeurs relevées par l'exploitant et déterminer s'il y a lieu de corriger le dimensionnement et si un variateur  de vitesse ferait sens"]
["Recherchez des informations sur le besoin réel et comparez-les avec les valeurs relevées par l'exploitant. Par ailleurs, il n'y a pas de variations mais un CF. Un démarreur serait énergétiquement plus efficace.","Recherchez des informations sur le besoin réel et comparez-les avec les valeurs relevées par l'exploitant. Par ailleurs, il n'y a pas de variations mais un CF. Un démarreur serait énergétiquement plus efficace.","Suchen Sie nach Informationen über den tatsächlichen Bedarf und vergleichen Sie diese mit den vom Betreiber aufgezeichneten Werten. Darüber hinaus gibt es einen Frequenzumrichter ohne variablen Fluss. Ein Starter wäre energieeffizienter.","Suchen Sie nach Informationen über den tatsächlichen Bedarf und vergleichen Sie diese mit den vom Betreiber aufgezeichneten Werten. Darüber hinaus gibt es einen Frequenzumrichter ohne variablen Fluss. Ein Starter wäre energieeffizienter.",null,null,"Recherchez des informations sur le besoin réel. De plus, les éventuelles variations sont inconnues. Un mesurage du débit est recommandé afin de déterminer s'il y a lieu de corriger le dimensionnement et si un variateur  de vitesse ferait sens."]
["Recherchez des informations sur le besoin réel, procédez à des mesurages de débit et comparez les valeurs. Par ailleurs, s'il se confirme qu'il n'y a pas de variations mais un CF. Un démarreur serait plus avisé.","Recherchez des informations sur le besoin réel, procédez à des mesurages de débit et comparez les valeurs. Par ailleurs, s'il se confirme qu'il n'y a pas de variations mais un CF. Un démarreur serait plus avisé.","Suchen Sie nach Informationen über den tatsächlichen Bedarf, führen Sie Durchflussmessungen durch und vergleichen Sie die Werte. Wenn andererseits bestätigt wird, dass es einen Frequenzumrichter ohne Abweichungen gibt, wäre ein Starter energieeffizienter.","Suchen Sie nach Informationen über den tatsächlichen Bedarf, führen Sie Durchflussmessungen durch und vergleichen Sie die Werte. Wenn andererseits bestätigt wird, dass es einen Frequenzumrichter ohne Abweichungen gibt, wäre ein Starter energieeffizienter.",null,null,"avec les rendement des différents composants: ηCF rendement du convertisseur, ηmot rendement du moteur, ηacc rendement de l'accouplement, ηvent rendement du ventilateur, tous ces composants ne sont pas forcément présents"]
["Recherchez des informations sur le besoin réel, procédez à des mesurages de débit et comparez les valeurs afin de valider le dimensionnement.","Recherchez des informations sur le besoin réel, procédez à des mesurages de débit et comparez les valeurs afin de valider le dimensionnement.","Finden Sie Informationen über den tatsächlichen Bedarf, führen Sie Durchflussmessungen durch und vergleichen Sie die Werte, um die Dimensionierung zu validieren.","Finden Sie Informationen über den tatsächlichen Bedarf, führen Sie Durchflussmessungen durch und vergleichen Sie die Werte, um die Dimensionierung zu validieren.",null,null,"Economies annuelles associées à l'optimisation d'un ventilateur à débit variable:"]
["Recherchez des informations sur le besoin réel. De plus, les éventuelles variations sont inconnues. Utilisez les valeurs relevées par l'exploitant et déterminez s'il y a lieu de corriger le dimensionnement et si un variateur  de vitesse ferait sens.","Recherchez des informations sur le besoin réel. De plus, les éventuelles variations sont inconnues. Utilisez les valeurs relevées par l'exploitant et déterminez s'il y a lieu de corriger le dimensionnement et si un variateur  de vitesse ferait sens.","Suchen Sie nach Informationen über den tatsächlichen Bedarf. Darüber hinaus sind mögliche Schwankungen unbekannt. Verwenden Sie die vom Bediener aufgezeichneten Werte, um festzustellen, ob die Dimensionierung korrigiert werden muss und ob ein Frequenzumrichter sinnvoll wäre.","Suchen Sie nach Informationen über den tatsächlichen Bedarf. Darüber hinaus sind mögliche Schwankungen unbekannt. Verwenden Sie die vom Bediener aufgezeichneten Werte, um festzustellen, ob die Dimensionierung korrigiert werden muss und ob ein Frequenzumrichter sinnvoll wäre.",null,null,"Nhi, nombre d'heures de fonctionnement dans la classe de rendement i\nn, nombre de classes de débit\nPel, anc.i est la puissance élect. avant optimisation pour la classe de débit i\nPel, nouv.i est la puissance élect. après optimisation pour la classe de débit i"]
["Recherchez des informations sur le besoin réel. De plus, les éventuelles variations sont inconnues. Un mesurage du débit est recommandé. Comparez ensuite les valeurs afin de corriger le dimensionnement et de déterminer si un variateur  de vitesse ferait sens.","Recherchez des informations sur le besoin réel. De plus, les éventuelles variations sont inconnues. Un mesurage du débit est recommandé. Comparez ensuite les valeurs afin de corriger le dimensionnement et de déterminer si un variateur  de vitesse ferait sens.","Suchen Sie nach Informationen über den tatsächlichen Bedarf. Darüber hinaus sind mögliche Schwangungen unbekannt. Eine Durchflussmessung wird empfohlen. Dann vergleichen Sie die Werte, um die Dimensionierung zu korrigieren und festzustellen, ob ein drehzahlvariabler Antrieb sinnvoll wäre.","Suchen Sie nach Informationen über den tatsächlichen Bedarf. Darüber hinaus sind mögliche Schwangungen unbekannt. Eine Durchflussmessung wird empfohlen. Dann vergleichen Sie die Werte, um die Dimensionierung zu korrigieren und festzustellen, ob ein drehzahlvariabler Antrieb sinnvoll wäre.",null,null,"Paér,anc.i est la puissance aéraulique (avant optimisation) pour la classe de débit i\nƞtot,anc.i est le rendement total avant pour la classe de débit i\nΔpanc.i est le différentiel de pression avant pour la classe de débit i [Pa]\nQanc.i est le débit moyen avant de la classe i [m3/s]\nPaér,nouv.i est la puissance aéraulique (après optimisation) pour la classe de débit i\nƞtot,nouv.i est le rendement total après pour la classe de débit i\nΔpnouv.i est le différentiel de pression après pour la classe de débit i [Pa]\nQnouv.i est le débit moyen après de la classe i [m3/s]"]
["Recherchez des informations sur le besoin réel. De plus, les éventuelles variations sont inconnues. Utilisez les valeurs relevées par l'exploitant et déterminer s'il y a lieu de corriger le dimensionnement et si un variateur  de vitesse ferait sens","Recherchez des informations sur le besoin réel. De plus, les éventuelles variations sont inconnues. Utilisez les valeurs relevées par l'exploitant et déterminer s'il y a lieu de corriger le dimensionnement et si un variateur  de vitesse ferait sens","Suchen Sie nach Informationen über den tatsächlichen Bedarf. Darüber hinaus sind mögliche Schwankungen unbekannt. Verwenden Sie die vom Bediener aufgezeichneten Werte, um festzustellen, ob die Dimensionierung korrigiert werden muss und ob ein Frequenzumrichter sinnvoll wäre.","Suchen Sie nach Informationen über den tatsächlichen Bedarf. Darüber hinaus sind mögliche Schwankungen unbekannt. Verwenden Sie die vom Bediener aufgezeichneten Werte, um festzustellen, ob die Dimensionierung korrigiert werden muss und ob ein Frequenzumrichter sinnvoll wäre.",null,null,"sachant que les débits de chaque classe avant et après sont inchangés donc que Qanc.i = Qnouv.i"]
["Recherchez des informations sur le besoin réel. De plus, les éventuelles variations sont inconnues. Un mesurage du débit est recommandé afin de déterminer s'il y a lieu de corriger le dimensionnement et si un variateur  de vitesse ferait sens.","Recherchez des informations sur le besoin réel. De plus, les éventuelles variations sont inconnues. Un mesurage du débit est recommandé afin de déterminer s'il y a lieu de corriger le dimensionnement et si un variateur  de vitesse ferait sens.","Suchen Sie nach Informationen über den tatsächlichen Bedarf. Darüber hinaus sind mögliche Schwankungen unbekannt. Eine Durchflussmessung wird empfohlen, um festzustellen, ob die Dimensionierung korrigiert werden muss und ob ein drehzahlvariabler Antrieb sinnvoll wäre.","Suchen Sie nach Informationen über den tatsächlichen Bedarf. Darüber hinaus sind mögliche Schwankungen unbekannt. Eine Durchflussmessung wird empfohlen, um festzustellen, ob die Dimensionierung korrigiert werden muss und ob ein drehzahlvariabler Antrieb sinnvoll wäre.",null,null,"Le rendement d'un entraînement électrique comprenant un ventilateur est souvent péjoré par un accouplement peu efficace."]
["avec les rendement des différents composants: ηCF rendement du convertisseur, ηmot rendement du moteur, ηacc rendement de l'accouplement, ηpompe rendement de la pompe, tous ces composants ne sont pas forcément présents","avec les rendement des différents composants: ηCF rendement du convertisseur, ηmot rendement du moteur, ηacc rendement de l'accouplement, ηpompe rendement de la pompe, tous ces composants ne sont pas forcément présents","mit den Wirkungsgraden der einzelnen Komponenten: ηCF Wirkungsgrad des Umrichters, ηmot Wirkungsgrad des Motors, ηacc Wirkungsgrad der Kupplung, ηpompe Wirkungsgrad der Pumpe, nicht unbedingt alle diese Komponenten sind vorhanden","mit den Wirkungsgraden der einzelnen Komponenten: ηCF Wirkungsgrad des Umrichters, ηmot Wirkungsgrad des Motors, ηacc Wirkungsgrad der Kupplung, ηpompe Wirkungsgrad der Pumpe, nicht unbedingt alle diese Komponenten sind vorhanden",1,null,null," η 𝑡𝑜𝑡.𝑖 =  η 𝐶𝐹.𝑖  ∗  η 𝑚𝑜𝑡.𝑖 ∗  η 𝑎𝑐𝑐.𝑖  ∗  η 𝑝𝑜𝑚𝑝𝑒.𝑖  "]
["Economies annuelles associées à l'optimisation d'une pompe à débit variable:","Economies annuelles associées à l'optimisation d'une pompe à débit variable:","Jährliche Einsparungen in Verbindung mit der Optimierung einer Pumpe mit variablem Durchfluss:","Jährliche Einsparungen in Verbindung mit der Optimierung einer Pumpe mit variablem Durchfluss:",1,null,null,"Δ 𝐸 𝑎  =  1 𝑛  (𝑃 𝑒𝑙, 𝑎𝑛𝑐.𝑖  −  𝑃 𝑒𝑙, 𝑛𝑜𝑢𝑣.𝑖 )  ∗ 𝑁ℎ 𝑖 "]
["Nhi, nombre d'heures de fonctionnement dans la classe de rendement i\nn, nombre de classes de débit\nPel, anc.i est la puissance élect. avant optimisation pour la classe de débit i\nPel, nouv.i est la puissance élect. après optimisation pour la classe de débit i","Nhi, nombre d'heures de fonctionnement dans la classe de rendement i\nn, nombre de classes de débit\nPel, anc.i est la puissance élect. avant optimisation pour la classe de débit i\nPel, nouv.i est la puissance élect. après optimisation pour la classe de débit i","Nhi, Anzahl der Betriebsstunden in der Effizienzklasse i\nn, Anzahl der Strömungsklassen\nPel, anc.i ist die elektrische Leistung vor der Optimierung für die Strömungsklasse i\nPel, neu i ist die elektrische Leistung nach der Optimierung für die Strömungsklasse i","Nhi, Anzahl der Betriebsstunden in der Effizienzklasse i\nn, Anzahl der Strömungsklassen\nPel, anc.i ist die elektrische Leistung vor der Optimierung für die Strömungsklasse i\nPel, neu i ist die elektrische Leistung nach der Optimierung für die Strömungsklasse i",1,null,null," 𝑃 𝑒𝑙,𝑎𝑛𝑐.𝑖 =  𝑃 ℎ𝑦𝑑𝑟,𝑎𝑛𝑐.𝑖 / η 𝑡𝑜𝑡,𝑎𝑛𝑐.𝑖 "]
["Phydr,anc.i est la puissance hydraulique (avant optimisation) pour la classe de débit i\nƞtot,anc.i est le rendement total avant pour la classe de débit i\nΔpanc.i est le différentiel de pression avant pour la classe de débit i [Pa]\nQanc.i est le débit moyen avant de la classe i [m3/s]\nPhydr,nouv.i est la puissance hydraulique (après optimisation) pour la classe de débit i\nƞtot,nouv.i est le rendement total après pour la classe de débit i\nΔpnouv.i est le différentiel de pression après pour la classe de débit i [Pa]\nQnouv.i est le débit moyen après de la classe i [m3/s]","Phydr,anc.i est la puissance hydraulique (avant optimisation) pour la classe de débit i\nƞtot,anc.i est le rendement total avant pour la classe de débit i\nΔpanc.i est le différentiel de pression avant pour la classe de débit i [Pa]\nQanc.i est le débit moyen avant de la classe i [m3/s]\nPhydr,nouv.i est la puissance hydraulique (après optimisation) pour la classe de débit i\nƞtot,nouv.i est le rendement total après pour la classe de débit i\nΔpnouv.i est le différentiel de pression après pour la classe de débit i [Pa]\nQnouv.i est le débit moyen après de la classe i [m3/s]","Phydr,anc.i ist die hydraulische Leistung (vor der Optimierung) für die Strömungsklasse i\nƞtot,anc.i ist der Gesamtvorwärtswirkungsgrad für die Strömungsklasse i\nΔpanc.i ist die Vorwärtsdruckdifferenz für die Strömungsklasse i [Pa]\nQanc.i ist der durchschnittliche Vorwärtsfluss für die Strömungsklasse i [m3/s]\nPhydr,nouv.i ist die hydraulische Leistung (nach Optimierung) für die Strömungsklasse i\nƞtot, neu.i ist der Gesamtwirkungsgrad nach für die Strömungsklasse i\nΔpnouv.i ist die Druckdifferenz nach für die Strömungsklasse i [Pa]\nQneu.i ist die mittlere Strömung nach für die Strömungsklasse i [m3/s].","Phydr,anc.i ist die hydraulische Leistung (vor der Optimierung) für die Strömungsklasse i\nƞtot,anc.i ist der Gesamtvorwärtswirkungsgrad für die Strömungsklasse i\nΔpanc.i ist die Vorwärtsdruckdifferenz für die Strömungsklasse i [Pa]\nQanc.i ist der durchschnittliche Vorwärtsfluss für die Strömungsklasse i [m3/s]\nPhydr,nouv.i ist die hydraulische Leistung (nach Optimierung) für die Strömungsklasse i\nƞtot, neu.i ist der Gesamtwirkungsgrad nach für die Strömungsklasse i\nΔpnouv.i ist die Druckdifferenz nach für die Strömungsklasse i [Pa]\nQneu.i ist die mittlere Strömung nach für die Strömungsklasse i [m3/s].",1,null,null," 𝑃 ℎ𝑦𝑑𝑟,𝑎𝑛𝑐.𝑖 = Δ𝑝𝑎𝑛𝑐.𝑖∗𝑄𝑎𝑛𝑐.𝑖"]
["sachant que les débits de chaque classe avant et après sont inchangés donc que Qanc.i = Qnouv.i","sachant que les débits de chaque classe avant et après sont inchangés donc que Qanc.i = Qnouv.i","zu wissen, dass die Flüsse jeder Klasse davor und danach unverändert sind, so dass Qanc.i = Qnouv.i","zu wissen, dass die Flüsse jeder Klasse davor und danach unverändert sind, so dass Qanc.i = Qnouv.i",1,null,null," 𝑃 𝑒𝑙,𝑛𝑜𝑢𝑣.𝑖 =  𝑃 ℎ𝑦𝑑𝑟,𝑛𝑜𝑢𝑣.𝑖 / η 𝑡𝑜𝑡,𝑛𝑜𝑢𝑣.𝑖 "]
["Le rendement d'une pompe en fonction de la vitesse n'est pas toujours estimé correctement.","Le rendement d'une pompe en fonction de la vitesse n'est pas toujours estimé correctement.","Der Wirkungsgrad einer Pumpe abhängig von der Drehzahl wird nicht immer richtig eingeschätzt.","Der Wirkungsgrad einer Pumpe abhängig von der Drehzahl wird nicht immer richtig eingeschätzt.",1,null,null," 𝑃 ℎ𝑦𝑑𝑟,𝑛𝑜𝑢𝑣.𝑖 = Δ𝑝𝑛𝑜𝑢𝑣.𝑖∗𝑄𝑛𝑜𝑢𝑣.𝑖"]
["Analyse fine Ventilateurs","Analyse fine Ventilateurs","Feinanalyse Ventilatoren","Feinanalyse Ventilatoren",1,null,null," η 𝑡𝑜𝑡.𝑖 =  η 𝐶𝐹.𝑖  ∗  η 𝑚𝑜𝑡.𝑖 ∗  η 𝑎𝑐𝑐.𝑖  ∗  η 𝑝𝑜𝑚𝑝𝑒.𝑖  "]
["Ce module FA dévolu aux ventilateurs propose une démarche (voir l'arbre de décision sous le schéma) permettant une analyse approfondie du système existant (incluant des mesurages) et des propositions d'optimisation appropriées.","Ce module FA dévolu aux ventilateurs propose une démarche (voir l'arbre de décision sous le schéma) permettant une analyse approfondie du système existant (incluant des mesurages) et des propositions d'optimisation appropriées.","Dieses den Ventilatoren gewidmete FA-Modul schlägt einen Ansatz vor (siehe den Entscheidungsbaum unter dem Diagramm), der eine eingehende Analyse des bestehenden Systems (einschließlich Messungen) und geeignete Optimierungsvorschläge ermöglicht.","Dieses den Ventilatoren gewidmete FA-Modul schlägt einen Ansatz vor (siehe den Entscheidungsbaum unter dem Diagramm), der eine eingehende Analyse des bestehenden Systems (einschließlich Messungen) und geeignete Optimierungsvorschläge ermöglicht.",1,null,null,"Δ 𝐸 𝑎  =  1 𝑛  (𝑃 𝑒𝑙, 𝑎𝑛𝑐.𝑖  −  𝑃 𝑒𝑙, 𝑛𝑜𝑢𝑣.𝑖 )  ∗ 𝑁ℎ 𝑖 "]
["Des modifications des prestations du ventilateur ont-elles une influence sur d’autres consommations ?","Des modifications des prestations du ventilateur ont-elles une influence sur d’autres consommations ?","Haben Änderungen in der Ventilatorleistung einen Einfluss auf andere Verbräuche?","Haben Änderungen in der Ventilatorleistung einen Einfluss auf andere Verbräuche?",1,null,null," 𝑃 𝑒𝑙,𝑎𝑛𝑐.𝑖 =  𝑃 ℎ𝑦𝑑𝑟,𝑎𝑛𝑐.𝑖 / η 𝑡𝑜𝑡,𝑎𝑛𝑐.𝑖 "]
["Existe-t-il un relevé (enregistrement) des pressions à l'aspiration et au refoulement du ventilateur?","Existe-t-il un relevé (enregistrement) des pressions à l'aspiration et au refoulement du ventilateur?","Gibt es eine Ablesung (Aufzeichnung) der Einlass- und Auslassdrücke der Ventilatoren?","Gibt es eine Ablesung (Aufzeichnung) der Einlass- und Auslassdrücke der Ventilatoren?",null,null,null," 𝑃 ℎ𝑦𝑑𝑟,𝑎𝑛𝑐.𝑖 = Δ𝑝𝑎𝑛𝑐.𝑖∗𝑄𝑎𝑛𝑐.𝑖"]
["Le circuit aéraulique comprend-il des clapets ou des VAV systématiquement en position partiellement fermée?","Le circuit aéraulique comprend-il des clapets ou des VAV systématiquement en position partiellement fermée?","Enthält der Luftkreislauf Klappen oder VVS-Regelgeräte, die sich immer in einer teilweise geschlossenen Position befinden?","Enthält der Luftkreislauf Klappen oder VVS-Regelgeräte, die sich immer in einer teilweise geschlossenen Position befinden?",1,null,null," 𝑃 𝑒𝑙,𝑛𝑜𝑢𝑣.𝑖 =  𝑃 ℎ𝑦𝑑𝑟,𝑛𝑜𝑢𝑣.𝑖 / η 𝑡𝑜𝑡,𝑛𝑜𝑢𝑣.𝑖 "]
["Le système comprend-il des composants induisant des pertes de charge qui pourraient être réduites?","Le système comprend-il des composants induisant des pertes de charge qui pourraient être réduites?","Enthält das System Komponenten, die Druckverluste induzieren, die reduziert werden könnten?","Enthält das System Komponenten, die Druckverluste induzieren, die reduziert werden könnten?",1,null,null," 𝑃 ℎ𝑦𝑑𝑟,𝑛𝑜𝑢𝑣.𝑖 = Δ𝑝𝑛𝑜𝑢𝑣.𝑖∗𝑄𝑛𝑜𝑢𝑣.𝑖"]
["Composants pertes de charge","Composants pertes de charge","Druckverlust-Komponenten","Druckverlust-Komponenten",1,null,null," η 𝑡𝑜𝑡.𝑖 =  η 𝐶𝐹.𝑖  ∗  η 𝑚𝑜𝑡.𝑖 ∗  η 𝑎𝑐𝑐.𝑖  ∗  η 𝑣𝑒𝑛𝑡.𝑖  "]
["Durant des mesurages de débit, on s'efforcera d'ouvrir les clapets semi-fermés de façon à connaître le débit à clapet ouvert. Si ce n'est pas possible, on travaillera avec la caractéristique du clapet. On procédera aux analyses permettant de savoir quel type d'optimisation est adapté (selon les explications de détail).","Durant des mesurages de débit, on s'efforcera d'ouvrir les clapets semi-fermés de façon à connaître le débit à clapet ouvert. Si ce n'est pas possible, on travaillera avec la caractéristique du clapet. On procédera aux analyses permettant de savoir quel type d'optimisation est adapté (selon les explications de détail).","Bei Durchflussmessungen sollte versucht werden, die halbgeschlossenen Ventile zu öffnen, so dass die Durchflussrate bei geöffnetem Ventil bekannt ist. Falls dies nicht möglich ist, arbeiten Sie mit der Ventilcharakteristik. Es werden Analysen durchgeführt, um herauszufinden, welche Art der Optimierung geeignet ist (wie im Detail erläutert).","Bei Durchflussmessungen sollte versucht werden, die halbgeschlossenen Ventile zu öffnen, so dass die Durchflussrate bei geöffnetem Ventil bekannt ist. Falls dies nicht möglich ist, arbeiten Sie mit der Ventilcharakteristik. Es werden Analysen durchgeführt, um herauszufinden, welche Art der Optimierung geeignet ist (wie im Detail erläutert).",null,null,null,"Δ 𝐸 𝑎  =  1 𝑛  (𝑃 𝑒𝑙, 𝑎𝑛𝑐.𝑖  −  𝑃 𝑒𝑙, 𝑛𝑜𝑢𝑣.𝑖 )  ∗ 𝑁ℎ 𝑖 "]
["On trouve différents composants comme des amortisseurs de bruits, des batteries et des filtres qui génèrent des pertes de charge parfois importantes.  Suite à l'évolution du système, ces dispositifs ne sont parfois plus nécessaires. Leur démontage permet de réduire les pertes de charge. Pour les filtres, c'est le manque de maintenance qui peut s'avérer source de pertes de charge inutiles. ","On trouve différents composants comme des amortisseurs de bruits, des batteries et des filtres qui génèrent des pertes de charge parfois importantes.  Suite à l'évolution du système, ces dispositifs ne sont parfois plus nécessaires. Leur démontage permet de réduire les pertes de charge. Pour les filtres, c'est le manque de maintenance qui peut s'avérer source de pertes de charge inutiles. ","Es gibt verschiedene Komponenten wie Geräuschdämpfer, Batterien und Filter, die zum Teil große Druckverluste erzeugen. Mit der Weiterentwicklung des Systems sind diese Geräte manchmal nicht mehr erforderlich. Ihre Demontage verringert den Druckverlust. Bei Filtern ist es die mangelnde Wartung, die eine Quelle für unnötige Druckverluste sein kann. ","Es gibt verschiedene Komponenten wie Geräuschdämpfer, Batterien und Filter, die zum Teil große Druckverluste erzeugen. Mit der Weiterentwicklung des Systems sind diese Geräte manchmal nicht mehr erforderlich. Ihre Demontage verringert den Druckverlust. Bei Filtern ist es die mangelnde Wartung, die eine Quelle für unnötige Druckverluste sein kann. ",1,null,null," 𝑃 𝑒𝑙,𝑎𝑛𝑐.𝑖 =  𝑃 𝑎é𝑟,𝑎𝑛𝑐.𝑖 / η 𝑡𝑜𝑡,𝑎𝑛𝑐.𝑖 "]
["Le débit max. fourni correspond a priori au besoin, mais il n'est pas mesuré. Un mesurage permettrait de mieux connaître le débit réel.","Le débit max. fourni correspond a priori au besoin, mais il n'est pas mesuré. Un mesurage permettrait de mieux connaître le débit réel.","Die maximale Durchflussmenge wird a priori nach Bedarf geliefert, wird aber nicht gemessen. Eine Messung würde eine bessere Kenntnis der tatsächlichen Flussrate ermöglichen.","Die maximale Durchflussmenge wird a priori nach Bedarf geliefert, wird aber nicht gemessen. Eine Messung würde eine bessere Kenntnis der tatsächlichen Flussrate ermöglichen.",null,null,null," 𝑃 𝑎é𝑟,𝑎𝑛𝑐.𝑖 = Δ𝑝𝑎𝑛𝑐.𝑖∗𝑄𝑎𝑛𝑐.𝑖"]
["Les valeurs de pression sont disponibles. Utilisez-les avec les valeurs de débit pour calculer la puissance aéraulique. Utilisez les valeurs de puissance électrique disponibles pour calculer les rendements.","Les valeurs de pression sont disponibles. Utilisez-les avec les valeurs de débit pour calculer la puissance aéraulique. Utilisez les valeurs de puissance électrique disponibles pour calculer les rendements.","Druckwerte sind verfügbar. Verwenden Sie diese zusammen mit den Werten der Durchflussrate zur Berechnung der Luftleistung. Verwenden Sie die verfügbaren elektrischen Leistungswerte zur Berechnung der Effizienz.","Druckwerte sind verfügbar. Verwenden Sie diese zusammen mit den Werten der Durchflussrate zur Berechnung der Luftleistung. Verwenden Sie die verfügbaren elektrischen Leistungswerte zur Berechnung der Effizienz.",null,null,null," 𝑃 𝑒𝑙,𝑛𝑜𝑢𝑣.𝑖 =  𝑃 𝑎é𝑟,𝑛𝑜𝑢𝑣.𝑖 / η 𝑡𝑜𝑡,𝑛𝑜𝑢𝑣.𝑖 "]
["Les valeurs de pression sont disponibles. Utilisez-les avec les valeurs de débit pour calculer la puissance aéraulique. Procédez au mesurage de la puissance électrique et calculez les rendements.","Les valeurs de pression sont disponibles. Utilisez-les avec les valeurs de débit pour calculer la puissance aéraulique. Procédez au mesurage de la puissance électrique et calculez les rendements.","Druckwerte sind verfügbar. Verwenden Sie diese zusammen mit den Werten der Durchflussrate zur Berechnung der Luftleistung. Messen Sie die elektrische Leistung und berechnen Sie den Wirkungsgrad.","Druckwerte sind verfügbar. Verwenden Sie diese zusammen mit den Werten der Durchflussrate zur Berechnung der Luftleistung. Messen Sie die elektrische Leistung und berechnen Sie den Wirkungsgrad.",null,null,null," 𝑃 𝑎é𝑟,𝑛𝑜𝑢𝑣.𝑖 = Δ𝑝𝑛𝑜𝑢𝑣.𝑖∗𝑄𝑛𝑜𝑢𝑣.𝑖"]
["Les valeurs de pression ne sont pas relevées. Si l'on veut calculer le rendement de l'entraînement, il faut mesurer les pressions à l'aspiration et au refoulement du ventilateur puis calculer la puissance aéraulique. Avec les valeurs de puissance électrique relevées par l'exploitant, on peut ensuite calculer les performances de l'entraînement. ","Les valeurs de pression ne sont pas relevées. Si l'on veut calculer le rendement de l'entraînement, il faut mesurer les pressions à l'aspiration et au refoulement du ventilateur puis calculer la puissance aéraulique. Avec les valeurs de puissance électrique relevées par l'exploitant, on peut ensuite calculer les performances de l'entraînement. ","Die Druckwerte werden nicht aufgezeichnet. Um den Wirkungsgrad des Antriebs zu berechnen, muss der Ein- und Ausgangsdruck des Ventilators gemessen und die Luftleistung berechnet werden. Die Antriebsleistung kann dann anhand der vom Bediener aufgezeichneten elektrischen Leistungswerte berechnet werden. ","Die Druckwerte werden nicht aufgezeichnet. Um den Wirkungsgrad des Antriebs zu berechnen, muss der Ein- und Ausgangsdruck des Ventilators gemessen und die Luftleistung berechnet werden. Die Antriebsleistung kann dann anhand der vom Bediener aufgezeichneten elektrischen Leistungswerte berechnet werden. "]
["L'évolution des grandeurs au cours du temps permet d'apprécier les plages de variations et la célérité des variations. Pour des ventilateurs, on en tire notamment:\n- la valeur de la puissance aéraulique fournie, calculée à partir des valeurs de débit et de Δp (aux bornes du ventilateur), puis celle du rendement global, calculée à partir de la puissance aéraulique et de la puissance électrique.\n- les valeurs extrêmes, dont le débit maximum qui permet de juger de la qualité du dimensionnement.\nIl est aussi possible de traiter ces données pour disposer, par exemple, du profil de besoin (débit), sous forme de classes. Ce débit classé permet ensuite de sélectionner au mieux les mesures d'optimisation et de déterminer les gains par classe et total. ","L'évolution des grandeurs au cours du temps permet d'apprécier les plages de variations et la célérité des variations. Pour des ventilateurs, on en tire notamment:\n- la valeur de la puissance aéraulique fournie, calculée à partir des valeurs de débit et de Δp (aux bornes du ventilateur), puis celle du rendement global, calculée à partir de la puissance aéraulique et de la puissance électrique.\n- les valeurs extrêmes, dont le débit maximum qui permet de juger de la qualité du dimensionnement.\nIl est aussi possible de traiter ces données pour disposer, par exemple, du profil de besoin (débit), sous forme de classes. Ce débit classé permet ensuite de sélectionner au mieux les mesures d'optimisation et de déterminer les gains par classe et total. ","Die Entwicklung der Mengen im Laufe der Zeit ermöglicht es, die Schwankungsbreiten und die Geschwindigkeit der Schwankungen einzuschätzen. Für Ventilatoren kann insbesondere Folgendes ermittelt werden: \n- der Wert der zugeführten Luftleistung, berechnet aus den Werten der Flussrate und Δp (an den Anschlüssen des Ventilators), dann der Wert des Gesamtwirkungsgrades, berechnet aus der Luftleistung und der elektrischen Leistung. \n- die Extremwerte, einschließlich der maximalen Luftdurchflussrate, die es ermöglicht, die Qualität der Größenbestimmung zu beurteilen. \nEs ist auch möglich, diese Daten zu verarbeiten, um z.B. das Anforderungsprofil (Luftdurchsatz) in Form von Klassen zu erhalten. Diese klassifizierte Flussrate wird dann zur Auswahl der bestmöglichen Optimierungsmaßnahmen und zur Bestimmung der Gewinne pro Klasse und insgesamt verwendet. ","Die Entwicklung der Mengen im Laufe der Zeit ermöglicht es, die Schwankungsbreiten und die Geschwindigkeit der Schwankungen einzuschätzen. Für Ventilatoren kann insbesondere Folgendes ermittelt werden: \n- der Wert der zugeführten Luftleistung, berechnet aus den Werten der Flussrate und Δp (an den Anschlüssen des Beatmungsgerätes), dann der Wert des Gesamtwirkungsgrades, berechnet aus der Luftleistung und der elektrischen Leistung. \n- die Extremwerte, einschließlich der maximalen Luftdurchflussrate, die es ermöglicht, die Qualität der Größenbestimmung zu beurteilen. \nEs ist auch möglich, diese Daten zu verarbeiten, um z.B. das Anforderungsprofil (Luftdurchsatz) in Form von Klassen zu erhalten. Diese klassifizierte Flussrate wird dann zur Auswahl der bestmöglichen Optimierungsmaßnahmen und zur Bestimmung der Gewinne pro Klasse und insgesamt verwendet. ",null,null,null,"Plusieurs paramètres vont influencer la durée de vie effective d'une installation: le nombre d'heures de fonctionnement par an, la taille, les conditions d'exploitation (milieu agressif).\nPour un moteur et un ventilateur sans problème d'usure particulière"]
["La qualité du dimensionnement s'évalue en premier lieu sur la base du rapport entre le débit max. relevé (et nécessaire) et le débit nominal (rendement max.). Plusieurs situations sont possibles:\n1) Lorsque ce rapport est inférieur à 1, le ventilateur est surdimensionné. Plus ce rapport est petit, plus le rendement sera réduit et plus le potentiel d'optimisation important.\n2) Lorsque ce rapport est proche de 1, le dimensionnement est correct (ce qui ne garantit pas que la situation soit énergétiquement idéale, d'autres inefficiences peuvent exister).\n3) Lorsque ce rapport est supérieur à 1, le ventilateur est sousdimensionné. Plus ce rapport est grand, plus le rendement sera mauvais et les risques de problèmes accrus.","La qualité du dimensionnement s'évalue en premier lieu sur la base du rapport entre le débit max. relevé (et nécessaire) et le débit nominal (rendement max.). Plusieurs situations sont possibles:\n1) Lorsque ce rapport est inférieur à 1, le ventilateur est surdimensionné. Plus ce rapport est petit, plus le rendement sera réduit et plus le potentiel d'optimisation important.\n2) Lorsque ce rapport est proche de 1, le dimensionnement est correct (ce qui ne garantit pas que la situation soit énergétiquement idéale, d'autres inefficiences peuvent exister).\n3) Lorsque ce rapport est supérieur à 1, le ventilateur est sousdimensionné. Plus ce rapport est grand, plus le rendement sera mauvais et les risques de problèmes accrus.","Die Qualität der Dimensionierung wird in erster Linie anhand des Verhältnisses zwischen dem gemessenen (und geforderten) maximalen Durchfluss und dem Nenndurchfluss (max. Wirkungsgrad) beurteilt. Mehrere Situationen sind möglich:\n1) Wenn dieses Verhältnis kleiner als 1 ist, ist der Ventilator überdimensioniert. Je kleiner das Verhältnis, desto geringer die Effizienz und desto größer das Optimierungspotenzial. \n2) Wenn dieses Verhältnis nahe bei 1 liegt, ist die Dimensionierung korrekt (dies garantiert nicht, dass die Situation energetisch ideal ist, es können andere Ineffizienzen vorliegen). \n3) Wenn dieses Verhältnis höher als 1 ist, ist der Ventilator unterdimensioniert. Je höher dieses Verhältnis ist, desto schlechter wird die Leistung sein und desto größer ist das Risiko von Problemen.","Die Qualität der Dimensionierung wird in erster Linie anhand des Verhältnisses zwischen dem gemessenen (und geforderten) maximalen Durchfluss und dem Nenndurchfluss (max. Wirkungsgrad) beurteilt. Mehrere Situationen sind möglich:\n1) Wenn dieses Verhältnis kleiner als 1 ist, ist der Ventilator überdimensioniert. Je kleiner das Verhältnis, desto geringer die Effizienz und desto größer das Optimierungspotenzial. \n2) Wenn dieses Verhältnis nahe bei 1 liegt, ist die Dimensionierung korrekt (dies garantiert nicht, dass die Situation energetisch ideal ist, es können andere Ineffizienzen vorliegen). \n3) Wenn dieses Verhältnis höher als 1 ist, ist der Ventilator unterdimensioniert. Je höher dieses Verhältnis ist, desto schlechter wird die Leistung sein und desto größer ist das Risiko von Problemen.",null,null,null,"Lorsque le système est complexe, il faut comprendre le comportement et la nature des consommateurs. Si les besoins des consommateurs varient de façon concomitante, les analyses et les optimisations sont plus simples."]
["En cas de redimensionnement sans variations de charge/débit, les économies proviennent donc de l'augmentation du rendement, de la baisse de la puissance aéraulique ou des deux.\nL'investissement consistera alors en un nouveau ventilateur et, normalement, un nouveau moteur ou alors en l'ajout d'un variateur et, normalement, un nouveau moteur.","En cas de redimensionnement sans variations de charge/débit, les économies proviennent donc de l'augmentation du rendement, de la baisse de la puissance aéraulique ou des deux.\nL'investissement consistera alors en un nouveau ventilateur et, normalement, un nouveau moteur ou alors en l'ajout d'un variateur et, normalement, un nouveau moteur.","Im Falle einer Größenänderung ohne Last-/Volumenstromschwankungen ergeben sich die Einsparungen daher aus der Erhöhung des Wirkungsgrades, der Verringerung der Luftleistung oder beidem. \nDie Investition besteht dann aus einem neuen Ventilator und in der Regel aus einem neuen Motor oder aus der Hinzufügung eines drehzahlvariablen Antriebs und in der Regel aus einem neuen Motor.","Im Falle einer Größenänderung ohne Last-/Volumenstromschwankungen ergeben sich die Einsparungen daher aus der Erhöhung des Wirkungsgrades, der Verringerung der Luftleistung oder beidem. \nDie Investition besteht dann aus einem neuen Ventilator und in der Regel aus einem neuen Motor oder aus der Hinzufügung eines drehzahlvariablen Antriebs und in der Regel aus einem neuen Motor.",null,null,null,"Il s’agit d’éviter qu’une vision trop restreinte conduise à des mesures contre-productives à un niveau plus élevé. L’idée est également de déterminer le bon périmètre d’analyse."]
["Il existe de multiples façons de gérer un besoin fluctuant. On citera notamment, côté ventilateur, l'étranglement (clapet) et la variation de vitesse et, côté consommateurs, des VAV. Ces solutions ne sont pas équivalentes en termes énergétiques.\n1) Lorsqu'il n'y a qu'un consommateur ou que, multiples, ils ont un comportement synchrone (donc proche de celui d'un seul consommateur), le profil de débit classé permet de suggérer des optimisations ad hoc basées sur l'introduction d'un variateur (voir utilisation des débits classés). Les optimisations résident dans le redimensionnement et la variation de vitesse.\n2) Lorsque le ventilateur alimente des consommateurs aux besoins indépendants les uns des autres dans des réseaux de branches parallèles, la situation est plus compliquée. Des solutions simples comme le réglage de la pression au refoulement du ventilateur sont insuffisantes et peuvent parfois poser des problèmes sur certaines branches. Il est alors nécessaire de conserver des clapets par exemple pour assurer l'équilibrage et les besoins réels. Les analyses doivent alors être menées de cas en cas et des solutions sur mesure proposées. Des approches basées sur des capteurs de pression déportés peuvent offrir de bons résultats énergétiques.\n","Il existe de multiples façons de gérer un besoin fluctuant. On citera notamment, côté ventilateur, l'étranglement (clapet) et la variation de vitesse et, côté consommateurs, des VAV. Ces solutions ne sont pas équivalentes en termes énergétiques.\n1) Lorsqu'il n'y a qu'un consommateur ou que, multiples, ils ont un comportement synchrone (donc proche de celui d'un seul consommateur), le profil de débit classé permet de suggérer des optimisations ad hoc basées sur l'introduction d'un variateur (voir utilisation des débits classés). Les optimisations résident dans le redimensionnement et la variation de vitesse.\n2) Lorsque le ventilateur alimente des consommateurs aux besoins indépendants les uns des autres dans des réseaux de branches parallèles, la situation est plus compliquée. Des solutions simples comme le réglage de la pression au refoulement du ventilateur sont insuffisantes et peuvent parfois poser des problèmes sur certaines branches. Il est alors nécessaire de conserver des clapets par exemple pour assurer l'équilibrage et les besoins réels. Les analyses doivent alors être menées de cas en cas et des solutions sur mesure proposées. Des approches basées sur des capteurs de pression déportés peuvent offrir de bons résultats énergétiques.\n","Es gibt viele Möglichkeiten, mit einem schwankenden Bedarf umzugehen. Dazu gehören auf der Ventilatorseite die Drosselung (Klappe) und die variable Drehzahlregelung und auf der Verbraucherseite die VVS-Regelgeräte. Diese Lösungen sind in energetischer Hinsicht nicht gleichwertig. \n1) Wenn es nur einen Verbraucher gibt oder wenn es mehrere Verbraucher mit synchronem Verhalten gibt (daher nahe an dem eines einzelnen Verbrauchers), ermöglicht das klassifizierte Durchflussprofil, Ad-hoc-Optimierungen vorzuschlagen, die auf der Einführung eines drehzahlvariablen Antriebs basieren (siehe Verwendung von klassifizierten Durchflussmengen). Die Optimierungen liegen in der Größen- und Geschwindigkeitsänderung. \n2) Wenn der Ventilator die Verbraucher in parallelen Filialnetzen mit unabhängigem Bedarf versorgt, ist die Situation komplizierter. Einfache Lösungen wie die Anpassung des Ventilatorauslassdrucks sind nicht ausreichend und können in einigen Branchen manchmal Probleme verursachen. Dann ist es notwendig, Dämpfer zu behalten, um beispielsweise die Ausgewogenheit und den tatsächlichen Bedarf sicherzustellen. Dann müssen von Fall zu Fall Analysen durchgeführt und massgeschneiderte Lösungen vorgeschlagen werden. Ansätze, die auf ferngesteuerten Drucksensoren basieren, können gute energetische Ergebnisse liefern.","Es gibt viele Möglichkeiten, mit einem schwankenden Bedarf umzugehen. Dazu gehören auf der Ventilatorseite die Drosselung (Klappe) und die variable Drehzahlregelung und auf der Verbraucherseite die VVS-Regelgeräte. Diese Lösungen sind in energetischer Hinsicht nicht gleichwertig. \n1) Wenn es nur einen Verbraucher gibt oder wenn es mehrere Verbraucher mit synchronem Verhalten gibt (daher nahe an dem eines einzelnen Verbrauchers), ermöglicht das klassifizierte Durchflussprofil, Ad-hoc-Optimierungen vorzuschlagen, die auf der Einführung eines drehzahlvariablen Antriebs basieren (siehe Verwendung von klassifizierten Durchflussmengen). Die Optimierungen liegen in der Größen- und Geschwindigkeitsänderung. \n2) Wenn der Ventilator die Verbraucher in parallelen Filialnetzen mit unabhängigem Bedarf versorgt, ist die Situation komplizierter. Einfache Lösungen wie die Anpassung des Ventilatorauslassdrucks sind nicht ausreichend und können in einigen Branchen manchmal Probleme verursachen. Dann ist es notwendig, Dämpfer zu behalten, um beispielsweise die Ausgewogenheit und den tatsächlichen Bedarf sicherzustellen. Dann müssen von Fall zu Fall Analysen durchgeführt und massgeschneiderte Lösungen vorgeschlagen werden. Ansätze, die auf ferngesteuerten Drucksensoren basieren, können gute energetische Ergebnisse liefern.",null,null,null,"L’économie la plus simple et la moins onéreuse consiste à assurer le besoin réel et pas plus (donc pas forcément le besoin actuel). Par exemple, il arrive souvent que des modifications dans les besoins (à la baisse) n’aient jamais été intégrées. "]
[{"$f":"IF($B$2=\"FR\",B196,C196)","v":"Dans la cas d'un ventilateur, les inefficiences peuvent avoir pour origines:\n- un débit plus important que nécessaire (aux consommateurs)\n- une exploitation non optimisée en termes d'horaire (un mode réduit ou un arrêt possible dans certaines plages horaires)\n- un travail à un niveau de pression trop élevé (typ. lorsqu'un clapet semi-fermée casse la pression en permanence)\n- un système ancien, mal dimensionné avec des variations des besoins gérées de façon non optimale "},"Dans la cas d'un ventilateur, les inefficiences peuvent avoir pour origines:\n- un débit plus important que nécessaire (aux consommateurs)\n- une exploitation non optimisée en termes d'horaire (un mode réduit ou un arrêt possible dans certaines plages horaires)\n- un travail à un niveau de pression trop élevé (typ. lorsqu'un clapet semi-fermée casse la pression en permanence)\n- un système ancien, mal dimensionné avec des variations des besoins gérées de façon non optimale ","Im Falle eines Ventilators können Ineffizienzen verursacht werden durch: \n- eine höhere Durchflussmenge als notwendig (zu den Verbrauchern) \n- einen zeitlich nicht optimierten Betrieb (reduzierter Betrieb oder mögliche Abschaltung in bestimmten Zeitfenstern) \n- das Arbeiten bei einem zu hohen Druckniveau (z.B. wenn ein halbgeschlossenes Ventil den Druck dauerhaft unterbricht) \n- ein altes, schlecht dimensioniertes System mit Schwankungen der Anforderungen, das nicht optimal verwaltet wird ","Im Falle eines Ventilators können Ineffizienzen verursacht werden durch: \n- eine höhere Durchflussmenge als notwendig (zu den Verbrauchern) \n- einen zeitlich nicht optimierten Betrieb (reduzierter Betrieb oder mögliche Abschaltung in bestimmten Zeitfenstern) \n- das Arbeiten bei einem zu hohen Druckniveau (z.B. wenn ein halbgeschlossenes Ventil den Druck dauerhaft unterbricht) \n- ein altes, schlecht dimensioniertes System mit Schwankungen der Anforderungen, das nicht optimal verwaltet wird ",1,null,null,"Une gestion non optimale des variations de débit est une source de forte surconsommation. L'information sur le caractère variable ou non du besoin est donc importante.\nLa variation du besoin au cours du temps doit être suivie. Une exploitation horaire peu"]
["Le calcul des économies d'un ventilateur à débit variable passe par le calcul des rendements dans les différentes plages de débit. Ainsi, pour chaque classe de débit, on détermine les rendement anciens et nouveaux pour les composants de l'entraînement. Le rendement total de chaque classe i s'exprime par le produit des rendements des composants constituant l'entraînement:","Le calcul des économies d'un ventilateur à débit variable passe par le calcul des rendements dans les différentes plages de débit. Ainsi, pour chaque classe de débit, on détermine les rendement anciens et nouveaux pour les composants de l'entraînement. Le rendement total de chaque classe i s'exprime par le produit des rendements des composants constituant l'entraînement:","Um die Einsparungen eines Ventilators mit variabler Strömung zu berechnen, muss der Wirkungsgrad in den verschiedenen Strömungsbereichen berechnet werden. So werden für jede Strömungsklasse die alten und neuen Wirkungsgrade für die Antriebskomponenten ermittelt. Der Gesamtwirkungsgrad jeder Klasse i wird als Produkt der Wirkungsgrade der Antriebskomponenten ausgedrückt:","Um die Einsparungen eines Ventilators mit variabler Strömung zu berechnen, muss der Wirkungsgrad in den verschiedenen Strömungsbereichen berechnet werden. So werden für jede Strömungsklasse die alten und neuen Wirkungsgrade für die Antriebskomponenten ermittelt. Der Gesamtwirkungsgrad jeder Klasse i wird als Produkt der Wirkungsgrade der Antriebskomponenten ausgedrückt:",1,null,null,"La gestion actuelle des variations est un point clé. Si celle-ci est assurée par étranglement, l’introduction d’un variateur apportera probablement des économies sensibles."]
["avec les rendement des différents composants: ηCF rendement du convertisseur, ηmot rendement du moteur, ηacc rendement de l'accouplement, ηvent rendement du ventilateur, tous ces composants ne sont pas forcément présents","avec les rendement des différents composants: ηCF rendement du convertisseur, ηmot rendement du moteur, ηacc rendement de l'accouplement, ηvent rendement du ventilateur, tous ces composants ne sont pas forcément présents","mit den Wirkungsgraden der einzelnen Komponenten: ηCF Wirkungsgrad des Umrichters, ηmot Wirkungsgrad des Motors, ηacc Wirkungsgrad der Kupplung, ηvent Wirkungsgrad des Ventilators, nicht unbedingt alle diese Komponenten sind vorhanden","mit den Wirkungsgraden der einzelnen Komponenten: ηCF Wirkungsgrad des Umrichters, ηmot Wirkungsgrad des Motors, ηacc Wirkungsgrad der Kupplung, ηvent Wirkungsgrad des Ventilators, nicht unbedingt alle diese Komponenten sind vorhanden",null,null,null,"La connaissance du profil de débit sur une période représentative est fondamentale. Plus les périodes à débits réduit sont longues, plus les économies associées à des mesures d’optimisation (introduction d’un CF) seront importantes."]
["Economies annuelles associées à l'optimisation d'un ventilateur à débit variable:","Economies annuelles associées à l'optimisation d'un ventilateur à débit variable:","Jährliche Einsparungen in Verbindung mit der Optimierung eines Ventilators mit variablem Volumenstrom:","Jährliche Einsparungen in Verbindung mit der Optimierung eines Ventilators mit variablem Volumenstrom:",null,null,null,"La saison, la météo (Text), l’heure du jour, le jour de la semaine, la production, sont des exemples de paramètres qui peuvent influencer le besoin. Cette information permet notamment de déterminer la durée des mesurages."]
["Paér,anc.i est la puissance aéraulique (avant optimisation) pour la classe de débit i\nƞtot,anc.i est le rendement total avant pour la classe de débit i\nΔpanc.i est le différentiel de pression avant pour la classe de débit i [Pa]\nQanc.i est le débit moyen avant de la classe i [m3/s]\nPaér,nouv.i est la puissance aéraulique (après optimisation) pour la classe de débit i\nƞtot,nouv.i est le rendement total après pour la classe de débit i\nΔpnouv.i est le différentiel de pression après pour la classe de débit i [Pa]\nQnouv.i est le débit moyen après de la classe i [m3/s]","Paér,anc.i est la puissance aéraulique (avant optimisation) pour la classe de débit i\nƞtot,anc.i est le rendement total avant pour la classe de débit i\nΔpanc.i est le différentiel de pression avant pour la classe de débit i [Pa]\nQanc.i est le débit moyen avant de la classe i [m3/s]\nPaér,nouv.i est la puissance aéraulique (après optimisation) pour la classe de débit i\nƞtot,nouv.i est le rendement total après pour la classe de débit i\nΔpnouv.i est le différentiel de pression après pour la classe de débit i [Pa]\nQnouv.i est le débit moyen après de la classe i [m3/s]","Paér,anc.i ist die aeraulische Leistung (vor der Optimierung) für die Strömungsklasse \niƞtot,anc.i ist die gesamte Vorwärtseffizienz für die Strömungsklasse \niΔpanc.i ist die Vorwärtsdruckdifferenz für die Strömungsklasse i [Pa]\nQanc.i ist die mittlere Vorwärtsströmungsgeschwindigkeit für die Strömungsklasse i [m3/s]\nPaér,nouv.i ist die aeraulische Leistung (nach Optimierung) für die Strömungsklasse \niƞtot,new.i ist die Gesamteffizienz nach für die Strömungsklasse \niΔpnouv.i ist die Druckdifferenz nach für die Strömungsklasse i [Pa\n]Qnew.i ist die durchschnittliche Strömungsgeschwindigkeit nach für die Strömungsklasse i [m3/s].","Paér,anc.i ist die aeraulische Leistung (vor der Optimierung) für die Strömungsklasse i\nƞtot,anc.i ist die gesamte Vorwärtseffizienz für die Strömungsklasse i\nΔpanc.i ist die Vorwärtsdruckdifferenz für die Strömungsklasse i [Pa] \nQanc.i ist die mittlere Vorwärtsströmungsgeschwindigkeit für die Strömungsklasse i [m3/s]\nPaér,nouv.i ist die aeraulische Leistung (nach Optimierung) für die Strömungsklasse i\nƞtot,new.i ist die Gesamteffizienz nach für die Strömungsklasse i\nΔpnouv.i ist die Druckdifferenz nach für die Strömungsklasse i [Pa]\nQnew.i ist die durchschnittliche Strömungsgeschwindigkeit nach für die Strömungsklasse i [m3/s].",1,null,null,"Le différentiel entre ces deux pressions donne le Δp de fonctionenement du ventilateur. Cette grandeur permet de calculer la puissance aéraulique. Il permet aussi de situer le point de fonctionnement actuel par rapport au point de fonctionnement nominal."]
["Le rendement d'un entraînement électrique comprenant un ventilateur est souvent péjoré par un accouplement peu efficace.","Le rendement d'un entraînement électrique comprenant un ventilateur est souvent péjoré par un accouplement peu efficace.","Der Wirkungsgrad eines Elektroantriebs einschließlich eines Ventilators wird häufig durch eine schlecht funktionierende Kupplung beeinträchtigt.","Der Wirkungsgrad eines Elektroantriebs einschließlich eines Ventilators wird häufig durch eine schlecht funktionierende Kupplung beeinträchtigt.",1,null,null,"La puissance électrique active triphasée correspond à la puissance consommée par l'entraînement. Elle permet avec la puissance hydraulique de calculer le rendement global de l'entraînement."]
["Analyse fine Air comprimé","Analyse fine Air comprimé","Feinanalyse Druckluft","Feinanalyse Druckluft",1,null,null,"On trouve encore souvent des installations dont le mauvais dimensionnement initial ou un changement dans le besoin nominal sont corrigés par un étranglement permanent. Une approche simple mais peu performante. \nLes débits dans les différentes branches d'u"]
["Ce module FA (analyse de détail) dévolu aux installations d'air comprimé propose une démarche permettant une analyse approfondie du système existant (incluant des mesurages) et des propositions d'optimisation appropriées.","Ce module FA (analyse de détail) dévolu aux installations d'air comprimé propose une démarche permettant une analyse approfondie du système existant (incluant des mesurages) et des propositions d'optimisation appropriées.","Dieses Modul FA (Detaillierte Analyse) für Druckluftanlagen bietet einen Ansatz, der eine gründliche Analyse des bestehenden Systems (einschließlich Messungen) und entsprechende Optimierungsvorschläge ermöglicht.","Dieses Modul FA (Feinanalyse) für Druckluftanlagen bietet einen Ansatz, der eine gründliche Analyse des bestehenden Systems (einschließlich Messungen) und entsprechende Optimierungsvorschläge ermöglicht.",1,null,null,"On trouve dans les réseaux de ventilation différents composants qui présentent une résistance au flux d'air et, de fait, génèrent des pertes de charge. Il arrive que ces composants soient inutiles, caduques ou mal entretenus."]
["Definitions","Definitions","Definitionen","Definitionen",1,null,null,"On a souvent recours à un accouplement par courroies car il permet une flexibilité en termes de prestation (vitesse) et de géométrie (intégration des différents composants). \nIl s’agit d’un composant qui présente des pertes, particulièrement lorsqu’il est"]
["Pression nominale :","Pression nominale :","Druckrate :","Druckrate :",1,null,null,"Des installations peuvent nécessiter un assainissement pour des raisons autres qu'énergétiques. On songe notamment à un âge au-delà de la durée de vie attendue, des besoins d'entretien trop importants, des problèmes de fiabilité récurrents, une modificati"]
["Différence de pression entre la pression ambiante et la pression du réseau d'air comprimé","Différence de pression entre la pression ambiante et la pression du réseau d'air comprimé","Druckdifferenz zwischen Umgebungsdruck und Druckluftnetzdruck","Druckdifferenz zwischen Umgebungsdruck und Druckluftnetzdruck",1,null,"Système d'air comprimé à vitesse variable:\nLa plupart des compresseurs à vitesse variable permettent d'extraire, via l'affichage, les pourcentages du temps de fonctionnement correspondant aux différents taux de charge. Grâce à ces pourcentages, aux nombres d'heures de fonctionnement et aux puissances absorbées correspondantes (ces puissances à différents taux de charge sont à demander au constructeur ou à déterminer selon les fiches techniques CAGI américaines), la consommation annuelle totale peut-être déterminée. \nAttention : même si les estimations sont plus précises que dans le GA (analyse préliminaire), ce sont encore des valeurs estimées, basées sur des valeurs indicatives valables dans les conditions standards.\n\nSystème d'air comprimé à vitesse fixe : \nLa plupart des compresseurs d'air ont des compteurs d'heurse de fonctionnement et d'heures en charge. La différence est le temps de marche à vide. Si les heures de fonctionnement ne sont pas relevées régulièrement, un nombre d'heures et une date peuvent parfois être trouvés dans le carnet d'entretien ou l'autocollant d'entretien. Si ces informations ne sont pas disponibles, il est possible d'estimer les heures de fonctionnement annuelles grâce à l'année d'installation ou de construction du compresseur.  La consommation peut être estimée en multipliant les heures de fonctionnement en charge par la puissance absorbé en charge plus les heures de fonctionnement en marche à vide fois la puissance absorbée dans ce mode. Les puissances absorbées sont parfois disponibles sur les fiches techniques. Sinon, on approximera la puissance absorbée en charge à 100% de la puissance nominale et en marche à vide à 25%.\n\nSi aucune de ces informations n'est disponible, la consommation annuelle peut être très grossièrement estimée en multipliant la puissance nominale par 2000 heures de fonctionnement."]
["Débit d'air:","Débit d'air:","Luftdurchfluss :","Luftdurchfluss :",1,null,"Le réduction de la pression permet des économies d'énergie significatives sans coûts. Si l'on considère que la compression se rapproche de la compression isotherme, le gain théorique peut être calculé avec la formule suivante :"]
["Le volume d'air aspiré à pression ambiante.","Le volume d'air aspiré à pression ambiante.","Das bei Umgebungsdruck angesaugte Luftvolumen.","Das bei Umgebungsdruck angesaugte Luftvolumen.",1,null,"Une réduction de pression de 1 bar permet une réduction de la consommation électrique d'environ 7 %. \nLe gain réel est supérieur grâce à la réduction des fuites liée à la réduction du niveau de pression et des coûts de maintenance réduits dus à la baisse des heures de fonctionnement. En générale, une pression au-dessus de 7 bar peut-être considérée comme élevée.\nLe niveau de pression peut-être réduit par petits paliers successifs afin de s'assurer de l'absence de problèmes au niveau des utilisateurs. \nAttention, suivant les machines, une pression d'air comprimé du réseau trop basse risque de les endommager ou de provoquer un arrêt de production. Vérifier les manomètre à l'entrée des machines et les modes de  fonctionnement.\n\nSi un petit nombre d'utilisateurs ont besoin d'un faible volume d'air comprimé mais à une pression élevée, ils peuvent être alimentés via un rehausseur de pression. Le reste du réseau est réglé à une pression plus basse. En pratique, beaucoup de machines ont un besoin de pression limité à 4 bar, quelques-unes à 6 bar. \n\nS'il existe des consommateurs d'air comprimé à débit élevé mais pression basse, il vaut souvent la peine d'installer un second réseau d'air comprimé avec une basse pression et les compresseurs correspondants.\n"]
["1. Analyse de la consommation actuelle ","1. Analyse de la consommation actuelle ","1. Analyse des heutigen Verbrauchs ","1. Analyse des heutigen Verbrauchs ",1,null,"La puissance de compression est dépendante de la température d'aspiration. La diminution de la masse volumique de l'air avec l'augmentation de la température engendre une augmentation de la consommation spécifique.\nMéthode de calcul:\nL'augmentation moyenne de la consommation spécifique d'un compresseur en fonction de la température est de 0.34 %/°C.\n\nOptimisations: \n- Meilleure ventilation des locaux \n- Aspiration de l'air extérieur (généralement)\nUn ventilateur peut être utile (notamment si l'arrivé d'air frais passe par une longue conduite). La propreté de l'air aspiré ne doit pas être négligée."]
["Afin de quantifier les économies d'énergie, il s'agit en premier lieu de connaître la consommation actuelle. Plusieurs méthodes, de précision croissante, sont possibles:","Afin de quantifier les économies d'énergie, il s'agit en premier lieu de connaître la consommation actuelle. Plusieurs méthodes, de précision croissante, sont possibles:","Um Energieeinsparungen quantifizieren zu können, muss zunächst der aktuelle Verbrauch bekannt sein. Mehrere Methoden, mit zunehmender Genauigkeit, sind möglich:","Um Energieeinsparungen quantifizieren zu können, muss zunächst der aktuelle Verbrauch bekannt sein. Mehrere Methoden, mit zunehmender Genauigkeit, sind möglich:",1,null,"On recommande de remplacer à posteriori tous les systèmes de séchage par une machine frigorifique si le point de rosé requis n'est pas trop bas (> 3°C).\nLes économies peuvent être calculées en s'informant sur les consommations des différents sécheurs.\nPour les sécheurs à adsorption les mesures d'optimisation suivantes peuvent être envisagées:\n- Réguler la régénération sur la base de la mesure du point de rosée.\n- Ne pas surdimensionner le sécheur (notamment lorsque la régénération est réalisée par un débit fixe dimensionné pour la capacité nominale).\n- Contrôler le bon fonctionnement des vannes. \n[Hiraux2014]"]
["1.1 Estimation à partir des taux de charge","1.1 Estimation à partir des taux de charge","1.1 Schätzung aus Belastungsraten","1.1 Schätzung aus Belastungsraten",1,null,"[Hiraux2014] Ellipse, Air comprimé, Michel Hiraux, 2014"]
["Système d'air comprimé à vitesse variable:\nLa plupart des compresseurs à vitesse variable permettent d'extraire, via l'affichage, les pourcentages du temps de fonctionnement correspondant aux différents taux de charge. Grâce à ces pourcentages, aux nombres d'heures de fonctionnement et aux puissances absorbées correspondantes (ces puissances à différents taux de charge sont à demander au constructeur ou à déterminer selon les fiches techniques CAGI américaines), la consommation annuelle totale peut-être déterminée. \nAttention : même si les estimations sont plus précises que dans le GA (analyse préliminaire), ce sont encore des valeurs estimées, basées sur des valeurs indicatives valables dans les conditions standards.\n\nSystème d'air comprimé à vitesse fixe : \nLa plupart des compresseurs d'air ont des compteurs d'heures de fonctionnement et d'heures en charge. La différence est le temps de marche à vide. Si les heures de fonctionnement ne sont pas relevées régulièrement, un nombre d'heures et une date peuvent parfois être trouvés dans le carnet d'entretien ou l'autocollant d'entretien. Si ces informations ne sont pas disponibles, il est possible d'estimer les heures de fonctionnement annuelles grâce à l'année d'installation ou de construction du compresseur.  La consommation peut être estimée en multipliant les heures de fonctionnement en charge par la puissance absorbé en charge plus les heures de fonctionnement en marche à vide fois la puissance absorbée dans ce mode. Les puissances absorbées sont parfois disponibles sur les fiches techniques. Sinon, on approximera la puissance absorbée en charge à 100% de la puissance nominale et en marche à vide à 25%.\n\nSi aucune de ces informations n'est disponible, la consommation annuelle peut être très grossièrement estimée en multipliant la puissance nominale par 2000 heures de fonctionnement.","Système d'air comprimé à vitesse variable:\nLa plupart des compresseurs à vitesse variable permettent d'extraire, via l'affichage, les pourcentages du temps de fonctionnement correspondant aux différents taux de charge. Grâce à ces pourcentages, aux nombres d'heures de fonctionnement et aux puissances absorbées correspondantes (ces puissances à différents taux de charge sont à demander au constructeur ou à déterminer selon les fiches techniques CAGI américaines), la consommation annuelle totale peut-être déterminée. \nAttention : même si les estimations sont plus précises que dans le GA (analyse préliminaire), ce sont encore des valeurs estimées, basées sur des valeurs indicatives valables dans les conditions standards.\n\nSystème d'air comprimé à vitesse fixe : \nLa plupart des compresseurs d'air ont des compteurs d'heures de fonctionnement et d'heures en charge. La différence est le temps de marche à vide. Si les heures de fonctionnement ne sont pas relevées régulièrement, un nombre d'heures et une date peuvent parfois être trouvés dans le carnet d'entretien ou l'autocollant d'entretien. Si ces informations ne sont pas disponibles, il est possible d'estimer les heures de fonctionnement annuelles grâce à l'année d'installation ou de construction du compresseur.  La consommation peut être estimée en multipliant les heures de fonctionnement en charge par la puissance absorbé en charge plus les heures de fonctionnement en marche à vide fois la puissance absorbée dans ce mode. Les puissances absorbées sont parfois disponibles sur les fiches techniques. Sinon, on approximera la puissance absorbée en charge à 100% de la puissance nominale et en marche à vide à 25%.\n\nSi aucune de ces informations n'est disponible, la consommation annuelle peut être très grossièrement estimée en multipliant la puissance nominale par 2000 heures de fonctionnement.","Druckluftsystem mit variabler Drehzahl: \nBei den meisten Kompressoren mit variabler Drehzahl können die Prozentsätze der Betriebszeit, die den verschiedenen Belastungsraten entsprechen, über das Display extrahiert werden. Anhand dieser Prozentsätze, der Anzahl der Betriebsstunden und der entsprechenden Leistungsaufnahme (diese Leistungen bei unterschiedlichen Lastzahlen sind beim Hersteller anzufragen oder nach den amerikanischen CAGI-Datenblättern zu ermitteln) kann der jährliche Gesamtverbrauch ermittelt werden. \nAchtung: Auch wenn die Schätzungen präziser sind als in der GA (Grobanalyse), handelt es sich immer noch um Schätzwerte, die auf unter Standardbedingungen gültigen Richtwerten basieren.\n\nDruckluftsystem mit fester Drehzahl: \nDie meisten Druckluftkompressoren haben Betriebsstundenzähler für Klopfen und Last. Der Unterschied ist die Leerlaufzeit. Wenn die Betriebsstunden nicht regelmäßig aufgezeichnet werden, sind manchmal eine Anzahl von Stunden und ein Datum im Serviceprotokoll oder Serviceaufkleber zu finden. Wenn diese Informationen nicht verfügbar sind, ist es möglich, die jährlichen Betriebsstunden anhand des Installations- oder Baujahres des Kompressors zu schätzen. Der Verbrauch kann geschätzt werden, indem die Betriebsstunden unter Last mit der unter Last aufgenommenen Leistung multipliziert werden, zuzüglich der Betriebsstunden im Leerlauf mal der in diesem Modus aufgenommenen Leistung. Die Leistungsaufnahme ist manchmal auf den Datenblättern zu finden. Andernfalls wird die unter Last bei 100% der Nennleistung und bei 25% im Leerlauf aufgenommene Leistung angenähert.\n\nWenn keine dieser Informationen verfügbar ist, kann der Jahresverbrauch sehr grob geschätzt werden, indem die Nennleistung mit 2000 Betriebsstunden multipliziert wird.","Druckluftsystem mit variabler Drehzahl: \nBei den meisten Kompressoren mit variabler Drehzahl können die Prozentsätze der Betriebszeit, die den verschiedenen Belastungsraten entsprechen, über das Display extrahiert werden. Anhand dieser Prozentsätze, der Anzahl der Betriebsstunden und der entsprechenden Leistungsaufnahme (diese Leistungen bei unterschiedlichen Lastzahlen sind beim Hersteller anzufragen oder nach den amerikanischen CAGI-Datenblättern zu ermitteln) kann der jährliche Gesamtverbrauch ermittelt werden. \nAchtung: Auch wenn die Schätzungen präziser sind als in der GA (vorläufige Analyse), handelt es sich immer noch um Schätzwerte, die auf unter Standardbedingungen gültigen Richtwerten basieren.\n\nDruckluftsystem mit fester Drehzahl: \nDie meisten Druckluftkompressoren haben Betriebsstundenzähler für Klopfen und Last. Der Unterschied ist die Leerlaufzeit. Wenn die Betriebsstunden nicht regelmäßig aufgezeichnet werden, sind manchmal eine Anzahl von Stunden und ein Datum im Serviceprotokoll oder Serviceaufkleber zu finden. Wenn diese Informationen nicht verfügbar sind, ist es möglich, die jährlichen Betriebsstunden anhand des Installations- oder Baujahres des Kompressors zu schätzen. Der Verbrauch kann geschätzt werden, indem die Betriebsstunden unter Last mit der unter Last aufgenommenen Leistung multipliziert werden, zuzüglich der Betriebsstunden im Leerlauf mal der in diesem Modus aufgenommenen Leistung. Die Leistungsaufnahme ist manchmal auf den Datenblättern zu finden. Andernfalls wird die unter Last bei 100% der Nennleistung und bei 25% im Leerlauf aufgenommene Leistung angenähert.\n\nWenn keine dieser Informationen verfügbar ist, kann der Jahresverbrauch sehr grob geschätzt werden, indem die Nennleistung mit 2000 Betriebsstunden multipliziert wird.",1,null,"[rat] Ratgeber Druckluft für den Praxiseinsatz, ein Handbuch füe de Instandhaltung. LandesEnergieVerein Steiermark, 2006"]
["1.2. Mesurage ponctuel","1.2. Mesurage ponctuel","1.2. Punktmessung","1.2. Punktmessung",1,null,"Les auteurs remercie Rolf Gloor pour la relecture et les nombreux conseils qui sont intégrés dans ce texte."]
["La consommation électrique du système est mesurée grâce à un wattmètre pendant une période significative (exemple : 1 semaine). Une estimation annuelle est alors obtenue par extrapolation. Cette mesure est à combiner avec les analyses décrites plus bas. La procédure d'aide aux mesurages électriques peut être consultée pour cette variante. Attention, dans le cadre de mesurages avec un ampèremetre (mesure du courant seul sans la tension) le cos phi doit être pris en compte (surtout pour les compresseurs à vitesse fixe). Des ordres de grandeurs typiques sont 0.86 en puissance nominale et 0.44 en marche à vide.","La consommation électrique du système est mesurée grâce à un wattmètre pendant une période significative (exemple : 1 semaine). Une estimation annuelle est alors obtenue par extrapolation. Cette mesure est à combiner avec les analyses décrites plus bas. La procédure d'aide aux mesurages électriques peut être consultée pour cette variante. Attention, dans le cadre de mesurages avec un ampèremetre (mesure du courant seul sans la tension) le cos phi doit être pris en compte (surtout pour les compresseurs à vitesse fixe). Des ordres de grandeurs typiques sont 0.86 en puissance nominale et 0.44 en marche à vide.","Die Leistungsaufnahme des Systems wird mit einem Wattmeter über einen signifikanten Zeitraum (z.B. 1 Woche) gemessen. Eine jährliche Schätzung wird dann durch Extrapolation ermittelt. Diese Messung soll mit den unten beschriebenen Analysen kombiniert werden. Für diese Variante kann das Verfahren für elektrische Messungen herangezogen werden. Vorsicht, im Zusammenhang mit Messungen mit einem Amperemeter (Messung des Stroms allein ohne die Spannung) muss der cos phi berücksichtigt werden (insbesondere bei Verdichtern mit fester Drehzahl). Typische Größenordnungen sind 0,86 bei Nennleistung und 0,44 im Leerlauf.","Die Leistungsaufnahme des Systems wird mit einem Wattmeter über einen signifikanten Zeitraum (z.B. 1 Woche) gemessen. Eine jährliche Schätzung wird dann durch Extrapolation ermittelt. Diese Messung soll mit den unten beschriebenen Analysen kombiniert werden. Für diese Variante kann das Verfahren für elektrische Messungen herangezogen werden. Vorsicht, im Zusammenhang mit Messungen mit einem Amperemeter (Messung des Stroms allein ohne die Spannung) muss der cos phi berücksichtigt werden (insbesondere bei Verdichtern mit fester Drehzahl). Typische Größenordnungen sind 0,86 bei Nennleistung und 0,44 im Leerlauf.",1]
["1.3. Compteurs","1.3. Compteurs","1.3. Zähler","1.3. Zähler",1]
["Dans certains cas, un compteur électrique permet de connaître la consommation annuelle réelle. ","Dans certains cas, un compteur électrique permet de connaître la consommation annuelle réelle. ","In einigen Fällen kann ein Stromzähler verwendet werden, um den tatsächlichen Jahresverbrauch zu ermitteln. ","In einigen Fällen kann ein Stromzähler verwendet werden, um den tatsächlichen Jahresverbrauch zu ermitteln. ",1]
["2. Optimisation de la distribution","2. Optimisation de la distribution","2. Optimierung der Verteilung","2. Optimierung der Verteilung",1]
["2.1 Réduction des fuites ","2.1 Réduction des fuites ","2.1 Reduzierung von Leckagen ","2.1 Reduzierung von Leckagen ",1]
["Les fuites d'air dans le réseau d'air comprimé représentent un gaspillage direct (énergétique et financier). Le taux de fuites peut être déterminé d'après: [ref. OFEN]. Un réseau en bon état à un taux de fuite d'environ 10 %. Une fois le taux de fuite déterminé, la différence entre le taux calculé et ce 10 % donne le potentiel d'économie (première approximation). Avec la consommation actuelle déterminée précédement, une économie en kWh peut être estimée. \nLes grosses fuites peuvent être détectées à l'oreille dans des locaux avec peu de bruit. Pour détecter les fuites plus modestes ou dans des locaux bruyants, un détecteur de fuite à ultrasons est nécessaire. Ces appareils sont efficaces et permettent une detection systématique. Ces équipements peuvent être loués.\nUne fois les fuites repérées, elle doivent être colmatées.\n\nSouvent, les fuites dans les machines se trouvent au niveau des raccords, vannes et applications de l'air comprimé.\n\n","Les fuites d'air dans le réseau d'air comprimé représentent un gaspillage direct (énergétique et financier). Le taux de fuites peut être déterminé d'après: [ref. OFEN]. Un réseau en bon état à un taux de fuite d'environ 10 %. Une fois le taux de fuite déterminé, la différence entre le taux calculé et ce 10 % donne le potentiel d'économie (première approximation). Avec la consommation actuelle déterminée précédement, une économie en kWh peut être estimée. \nLes grosses fuites peuvent être détectées à l'oreille dans des locaux avec peu de bruit. Pour détecter les fuites plus modestes ou dans des locaux bruyants, un détecteur de fuite à ultrasons est nécessaire. Ces appareils sont efficaces et permettent une detection systématique. Ces équipements peuvent être loués.\nUne fois les fuites repérées, elle doivent être colmatées.\n\nSouvent, les fuites dans les machines se trouvent au niveau des raccords, vannes et applications de l'air comprimé.\n\n","Luftlecks im Druckluftnetz stellen eine direkte Verschwendung (Energie und Geld) dar. Daraus kann die Leckrate bestimmt werden: (ref. OFEN). Ein Netz in gutem Zustand weist eine Leckrate von etwa 10 % auf. Sobald die Leckrate bestimmt ist, ergibt die Differenz zwischen der berechneten Leckrate und diesen 10% das Einsparpotenzial (erste Näherung). Mit dem zuvor ermittelten Stromverbrauch lässt sich eine Einsparung in kWh abschätzen. \nGroße Lecks können in Räumen mit wenig Lärm nach Gehör erkannt werden. Zur Erkennung kleinerer Lecks oder in lauten Räumen ist ein Ultraschall-Lecksuchgerät erforderlich. Diese Geräte sind effizient und ermöglichen eine systematische Erkennung. Diese Ausrüstung kann gemietet werden. \nSobald Lecks festgestellt worden sind, müssen sie geschlossen werden.\n\nLeckagen in Maschinen sind häufig bei Armaturen, Ventilen und Druckluftanwendungen zu finden.","Luftlecks im Druckluftnetz stellen eine direkte Verschwendung (Energie und Geld) dar. Daraus kann die Leckrate bestimmt werden: (ref. OFEN). Ein Netz in gutem Zustand weist eine Leckrate von etwa 10 % auf. Sobald die Leckrate bestimmt ist, ergibt die Differenz zwischen der berechneten Leckrate und diesen 10% das Einsparpotenzial (erste Näherung). Mit dem zuvor ermittelten Stromverbrauch lässt sich eine Einsparung in kWh abschätzen. \nGroße Lecks können in Räumen mit wenig Lärm nach Gehör erkannt werden. Zur Erkennung kleinerer Lecks oder in lauten Räumen ist ein Ultraschall-Lecksuchgerät erforderlich. Diese Geräte sind effizient und ermöglichen eine systematische Erkennung. Diese Ausrüstung kann gemietet werden. \nSobald Lecks festgestellt worden sind, müssen sie geschlossen werden.\n\nLeckagen in Maschinen sind häufig bei Armaturen, Ventilen und Druckluftanwendungen zu finden.",1,null,null,"gain théorique = (𝐥𝐧( 𝒑 𝒓𝒆𝒇,𝒊 −𝐥𝐧( 𝒑 𝒓𝒆𝒇,𝒏 )/(𝐥𝐧( 𝒑 𝒓𝒆𝒇,𝒊 )−𝐥𝐧( 𝒑 𝒂𝒔𝒑 ))\n\navec : pref,i= pression de refoulement absolue initiale, pref,n= nouvelle pression de refoulement absolue, pasp = pression absolue de l'aspiration"]
["2.2 Abaissement de la pression","2.2 Abaissement de la pression","2.2 Absenken des Drucks","2.2 Absenken des Drucks",1]
["Le réduction de la pression permet des économies d'énergie significatives sans coûts. Si l'on considère que la compression se rapproche de la compression isotherme, le gain théorique peut être calculé avec la formule suivante :","Le réduction de la pression permet des économies d'énergie significatives sans coûts. Si l'on considère que la compression se rapproche de la compression isotherme, le gain théorique peut être calculé avec la formule suivante :","Die Reduzierung des Drucks ermöglicht erhebliche Energieeinsparungen ohne Kosten. Unter Berücksichtigung der Tatsache, dass die Kompression nahe an der isothermen Kompression liegt, kann der theoretische Gewinn mit der folgenden Formel berechnet werden:","Die Reduzierung des Drucks ermöglicht erhebliche Energieeinsparungen ohne Kosten. Unter Berücksichtigung der Tatsache, dass die Kompression nahe an der isothermen Kompression liegt, kann der theoretische Gewinn mit der folgenden Formel berechnet werden:",1,null,null,"Yannick Riesen:\nTrouver formule"]
["Une réduction de pression de 1 bar permet une réduction de la consommation électrique d'environ 7 %. \nLe gain réel est supérieur grâce à la réduction des fuites liée à la réduction du niveau de pression et des coûts de maintenance réduits dus à la baisse des heures de fonctionnement. En générale, une pression au-dessus de 7 bar peut-être considérée comme élevée.\nLe niveau de pression peut-être réduit par petits paliers successifs afin de s'assurer de l'absence de problèmes au niveau des utilisateurs. \nAttention, suivant les machines, une pression d'air comprimé du réseau trop basse risque de les endommager ou de provoquer un arrêt de production. Vérifier les manomètres à l'entrée des machines et les modes de fonctionnement.\n\nSi un petit nombre d'utilisateurs ont besoin d'un faible volume d'air comprimé mais à une pression élevée, ils peuvent être alimentés via un rehausseur de pression. Le reste du réseau est réglé à une pression plus basse. En pratique, beaucoup de machines ont un besoin de pression limité à 4 bar, quelques-unes à 6 bar. \n\nS'il existe des consommateurs d'air comprimé à débit élevé mais pression basse, il vaut souvent la peine d'installer un second réseau d'air comprimé avec une basse pression et les compresseurs correspondants.\n","Une réduction de pression de 1 bar permet une réduction de la consommation électrique d'environ 7 %. \nLe gain réel est supérieur grâce à la réduction des fuites liée à la réduction du niveau de pression et des coûts de maintenance réduits dus à la baisse des heures de fonctionnement. En générale, une pression au-dessus de 7 bar peut-être considérée comme élevée.\nLe niveau de pression peut-être réduit par petits paliers successifs afin de s'assurer de l'absence de problèmes au niveau des utilisateurs. \nAttention, suivant les machines, une pression d'air comprimé du réseau trop basse risque de les endommager ou de provoquer un arrêt de production. Vérifier les manomètres à l'entrée des machines et les modes de fonctionnement.\n\nSi un petit nombre d'utilisateurs ont besoin d'un faible volume d'air comprimé mais à une pression élevée, ils peuvent être alimentés via un rehausseur de pression. Le reste du réseau est réglé à une pression plus basse. En pratique, beaucoup de machines ont un besoin de pression limité à 4 bar, quelques-unes à 6 bar. \n\nS'il existe des consommateurs d'air comprimé à débit élevé mais pression basse, il vaut souvent la peine d'installer un second réseau d'air comprimé avec une basse pression et les compresseurs correspondants.\n","Eine Druckreduzierung um 1 bar reduziert den Stromverbrauch um ca. 7%. \nDer tatsächliche Gewinn ist aufgrund der Verringerung der Leckage durch das niedrigere Druckniveau und der geringeren Wartungskosten durch die Reduzierung der Betriebsstunden größer. Im Allgemeinen kann ein Druck über 7 bar als hoch angesehen werden. \nDas Druckniveau kann in kleinen Schritten reduziert werden, um sicherzustellen, dass es keine Anwenderprobleme gibt. \nVorsicht, abhängig von den Maschinen kann ein zu niedriger Druckluftdruck im Netzwerk diese beschädigen oder einen Produktionsstopp verursachen. Überprüfen Sie die Manometer an den Maschineneingängen und die Betriebsarten.\n\nWenn eine kleine Anzahl von Anwendern ein kleines Druckluftvolumen, aber mit hohem Druck benötigt, können sie über ein Druckverstärkerventil versorgt werden. Der Rest des Netzes wird auf einen niedrigeren Druck eingestellt. In der Praxis ist bei vielen Maschinen der Druckbedarf auf 4 bar, bei einigen auf 6 bar begrenzt. \n\nGibt es Druckluftverbraucher mit hohem Volumenstrom, aber niedrigem Druck, lohnt es sich oft, ein zweites Druckluftnetz mit niedrigem Druck und den entsprechenden Kompressoren zu installieren.","Eine Druckreduzierung um 1 bar reduziert den Stromverbrauch um ca. 7%. \nDer tatsächliche Gewinn ist aufgrund der Verringerung der Leckage durch das niedrigere Druckniveau und der geringeren Wartungskosten durch die Reduzierung der Betriebsstunden größer. Im Allgemeinen kann ein Druck über 7 bar als hoch angesehen werden. \nDas Druckniveau kann in kleinen Schritten reduziert werden, um sicherzustellen, dass es keine Anwenderprobleme gibt. \nVorsicht, abhängig von den Maschinen kann ein zu niedriger Druckluftdruck im Netzwerk diese beschädigen oder einen Produktionsstopp verursachen. Überprüfen Sie die Manometer an den Maschineneingängen und die Betriebsarten.\n\nWenn eine kleine Anzahl von Anwendern ein kleines Druckluftvolumen, aber mit hohem Druck benötigt, können sie über ein Druckverstärkerventil versorgt werden. Der Rest des Netzes wird auf einen niedrigeren Druck eingestellt. In der Praxis ist bei vielen Maschinen der Druckbedarf auf 4 bar, bei einigen auf 6 bar begrenzt. \n\nGibt es Druckluftverbraucher mit hohem Volumenstrom, aber niedrigem Druck, lohnt es sich oft, ein zweites Druckluftnetz mit niedrigem Druck und den entsprechenden Kompressoren zu installieren.",1,null,"Quelle est le mode de régulation des compresseurs ?\nAfin de déterminer de manière précise le fonctionnement des compresseurs, des mesurages de la puissance électrique (relevés minutes) seront réalisées. \n\nLes différents modes de régulation possibles sont les suivants :\n\nPOUR COMPRESSEURS À PISTONS\n- déconnexion des cylindres : les compresseurs ouverts possédant un nombre élevé de cylindres offrent la possibilité d’une mise hors circuit ou déconnexion de cylindre pour une régulation par degrés de la puissance. La puissance frigorifique obtenue en charge partielle dépend du nombre de cylindres en service par rapport au nombre de cylindres déconnectés.\n\nPOUR COMPRESSEURS À VIS\n- par tiroir : le principe consiste à limiter la course de la vis (pour les compresseurs à vis), en déplacant un \"tiroir\", on modifie la section d'entrée du volume aspiré et donc on module le débit\n\nPOUR TOUT TYPE DE COMPRESSEUR\n- tout ou rien : régulation ancienne et basique qui consiste à la mise en marche ou à l'arrêt des compresseurs\n- en cascade : le principe consiste à découper la tâche par palier, la régulation s’effectue par la mise en parallèle successive des compresseurs (cascade)\n- par  variation de vitesse : la vitesse du compresseur est adaptée en fonction de la demande, modifiant son volume aspiré et donc sa puissance\nLa mise en place d'un système de variation de vitesse apparait comme la méthode la plus adaptée. \n\nL'économie sur la consommation par la mise en place de variateur de vitesse est estimée à :\n- 8% pour une régulation tout ou rien\n- 5% pour une régulation en cascade\n- 2% pour une régulation par tiroir \n- 2% pour une régulation par déconnexion des cylindres "]
["2.3 Minimisation des pertes de charges","2.3 Minimisation des pertes de charges","2.3 Minimierung des Druckabfalls","2.3 Minimierung von Ausgabenverlusten",null,null,"- Vérifier le bon dimensionnement de la pompe et ses paramètres de fonctionnement. A noter que si une régulation de la pompe est prévue sur le primaire, il sera impératif de réguler le circuit secondaire. Les réglages doivent être définis en corrélation avec les points de consigne.\n\n- Vérifier que le débit secondaire soit inférieur au débit primaire. Si cela n'est pas le cas, il existe probablement un phénomène de mélange entre l'aller et le retour, qui a pour conséquence une augmentation de la température de départ. Le débit du réseau secondaire doit être diminué.\n\n- Si le besoin en froid est variable, la mise en place de variateurs de vitesse sur les pompes est préconisée. De cette manière, les pompes sont modulées en fonction du besoin, ce qui diminue le débit du fluide et par conséquent la puissance électrique absorbée par les pompes.\n\n- Analyser les vannes au niveau des émetteurs de froid. Dans le cas de variation de vitesse, les vannes 3 voies devront être remplacées par des vannes 2 voies qui permettent d’adapter le débit en fonction de la demande."]
["Diminuer les pertes de charge du réseau permet de réduire la consigne de pression et  obtenir ainsi des économies d'énergie (voir 2.2). Quelques règles de bonnes pratiques:\n- Créer un réseau bouclé (les pertes de charges sont de l'ordre de 75 % de celles d'un réseau non-bouclé et il y moins de branches \"défavorisées\").\n- Dimensionner les tuyauteries pour une vitesse maximale de l'air de 6 m/s pour les lignes principales et de 15 m/s pour les branches de distribution\n- Choisir des matériaux pour la tuyauterie avec un faible coefficient de rugosité\n- Utiliser des vannes à passage intégral\n- Choisir les accessoires en fonction de leurs pertes de charge annoncées.\n- Limiter la longeur des flexibles.\n- Entretien régulier des appareils de filtration.\n- Si un utilisateur a parfois besoin d'un débit élevé de façon abrupte, il est possible d'installer un stockage d'air comprimé supplémentaire localement afin de diminuer les pertes de charges dans le réseau et de lisser la demande. Ce genre de comportement peut être observé sur le manomètre à l'entrée de la machine (baisse subite de pression). La pression peut aussi être monitorée avec un loggeur. \nLes économies sont à calculer grâce au point 2.2.","Diminuer les pertes de charge du réseau permet de réduire la consigne de pression et  obtenir ainsi des économies d'énergie (voir 2.2). Quelques règles de bonnes pratiques:\n- Créer un réseau bouclé (les pertes de charges sont de l'ordre de 75 % de celles d'un réseau non-bouclé et il y moins de branches \"défavorisées\").\n- Dimensionner les tuyauteries pour une vitesse maximale de l'air de 6 m/s pour les lignes principales et de 15 m/s pour les branches de distribution\n- Choisir des matériaux pour la tuyauterie avec un faible coefficient de rugosité\n- Utiliser des vannes à passage intégral\n- Choisir les accessoires en fonction de leurs pertes de charge annoncées.\n- Limiter la longeur des flexibles.\n- Entretien régulier des appareils de filtration.\n- Si un utilisateur a parfois besoin d'un débit élevé de façon abrupte, il est possible d'installer un stockage d'air comprimé supplémentaire localement afin de diminuer les pertes de charges dans le réseau et de lisser la demande. Ce genre de comportement peut être observé sur le manomètre à l'entrée de la machine (baisse subite de pression). La pression peut aussi être monitorée avec un loggeur. \nLes économies sont à calculer grâce au point 2.2.","Die Verringerung des Druckabfalls im Netz ermöglicht es, den Drucksollwert zu senken und so Energieeinsparungen zu erzielen (siehe 2.2). Einige Regeln für bewährte Praxis: \n- Schaffen Sie ein ringförmiges Netz (die Druckverluste betragen etwa 75% der Druckverluste eines nicht ringförmigen Netzes und es gibt weniger \"benachteiligte\" Zweige). \n- Dimensionieren Sie die Rohrleitungen für eine maximale Luftgeschwindigkeit von 6 m/s für Hauptleitungen und 15 m/s für Verteilerzweige. \n- Wählen Sie Rohrleitungsmaterialien mit einem niedrigen Rauheitskoeffizienten.\n- Verwenden Sie Ventile mit vollem Durchgang.\n- Wählen Sie Zubehörteile entsprechend ihrer angegebenen Druckverluste. \n- Begrenzen Sie die Länge der Schläuche. \n- Regelmäßige Wartung der Filteranlagen.\n- Wenn ein Anwender manchmal abrupt eine hohe Durchflussmenge benötigt, ist es möglich, lokal zusätzliche Druckluftspeicher zu installieren, um Druckabfälle im Netz zu reduzieren und den Bedarf zu glätten. Diese Art von Verhalten kann am Manometer am Maschineneinlass beobachtet werden (plötzlicher Druckabfall). Der Druck kann auch mit einem Logger überwacht werden. Die Einsparungen sind mit Punkt 2.2 zu berechnen.","Die Verringerung des Druckabfalls im Netz ermöglicht es, den Drucksollwert zu senken und so Energieeinsparungen zu erzielen (siehe 2.2). Einige Regeln der guten Praxis:\n- Schaffen Sie ein ringförmiges Netz (die Druckverluste betragen etwa 75% der Druckverluste eines nicht ringförmigen Netzes und es gibt weniger \"benachteiligte\" Zweige). \n- Dimensionieren Sie die Rohrleitungen für eine maximale Luftgeschwindigkeit von 6 m/s für Hauptleitungen und 15 m/s für Verteilerabzweige \n- Wählen Sie Rohrleitungsmaterialien mit einem niedrigen Rauhigkeitskoeffizienten \n- Verwenden Sie Ventile mit vollem Durchgang \n- Wählen Sie Zubehörteile entsprechend ihrer angegebenen Druckverluste. \n- Begrenzen Sie die Länge der Schläuche. \n- Regelmäßige Wartung der Filteranlagen. \n- Wenn ein Anwender manchmal abrupt eine hohe Durchflussmenge benötigt, ist es möglich, lokal zusätzliche Druckluftspeicher zu installieren, um Druckabfälle im Netz zu reduzieren und den Bedarf zu glätten. Diese Art von Verhalten kann am Manometer am Maschineneinlass beobachtet werden (plötzlicher Druckabfall). Der Druck kann auch mit einem Logger überwacht werden. \nDie Einsparungen sind dank Punkt 2.2 zu berechnen.",1,null,null,"EER= 𝛒× 𝑸 𝒗 × 𝑪 𝒑 ×∆𝑻  [𝒌𝑾]   𝑷 𝒆𝒍𝒆𝒄  [𝒌𝑾]     \n\navec :  masse volumique en [kg/m3], Qv débit volumique en [m3/s], Cp capacité thermique massique [kJ/kg.K], T différence de température [K]\n"]
["2.4 Sectionnement du réseau","2.4 Sectionnement du réseau","2.4 Netzwerk-Trennung","2.4 Netzwerk-Trennung",1,null,null,"Economie (%)=𝟏 −   𝑺𝑬𝑷𝑹 𝒓é𝒆𝒍   𝑺𝑬𝑷𝑹 𝒕𝒉é𝒐𝒓𝒊𝒒𝒖𝒆     \n"]
["Suivant le profil d'utilisation de l'air comprimé dans les différents équipements/utilisateurs, une partie du réseau peut-être déconnectée durant les heures de non-utilisation. Les gains se calculent avec le taux de fuite et la proportion du réseau coupé (voir AP+). Il faut toujouirs au préalable vérifier s'il n'est pas possible d'arrêter complètement le compresseur. \nDans le cas où tout le réseau est maintenu en pression hors des heures de travail pour alimenter un utilisateur unique, il peut être envisagé de sortir cet appareil du réseau et l'alimenter avec une compresseur dédié.","Suivant le profil d'utilisation de l'air comprimé dans les différents équipements/utilisateurs, une partie du réseau peut-être déconnectée durant les heures de non-utilisation. Les gains se calculent avec le taux de fuite et la proportion du réseau coupé (voir AP+). Il faut toujouirs au préalable vérifier s'il n'est pas possible d'arrêter complètement le compresseur. \nDans le cas où tout le réseau est maintenu en pression hors des heures de travail pour alimenter un utilisateur unique, il peut être envisagé de sortir cet appareil du réseau et l'alimenter avec une compresseur dédié.","Abhängig vom Druckluftnutzungsprofil in den verschiedenen Geräten/Nutzern kann ein Teil des Netzwerks während der Nichtnutzungszeiten abgeschaltet werden. Die Gewinne werden mit der Leckrate und dem Anteil des abgeschalteten Netzes berechnet (siehe AP+). Es muss immer vorher geprüft werden, ob es nicht möglich ist, den Kompressor vollständig zu stoppen. Wenn das gesamte Netz außerhalb der Arbeitszeiten unter Druck gehalten wird, um einen einzelnen Verbraucher zu versorgen, kann es möglich sein, die Einheit aus dem Netz zu nehmen und mit einem eigenen Kompressor zu versorgen.","Abhängig vom Druckluftnutzungsprofil in den verschiedenen Geräten/Nutzern kann ein Teil des Netzwerks während der Nichtnutzungszeiten abgeschaltet werden. Die Gewinne werden mit der Leckrate und dem Anteil des abgeschalteten Netzes berechnet (siehe AP+). Es muss immer vorher geprüft werden, ob es nicht möglich ist, den Kompressor vollständig zu stoppen. \nWenn das gesamte Netz außerhalb der Arbeitszeiten unter Druck gehalten wird, um einen einzelnen Verbraucher zu versorgen, kann es möglich sein, die Einheit aus dem Netz zu nehmen und mit einem eigenen Kompressor zu versorgen.",1,null,null,"Economie (%)=𝟏 −  𝑺𝑬𝑷𝑹 𝒓é𝒆𝒍 𝑺𝑬𝑷𝑹 𝒕𝒉é𝒐𝒓𝒊𝒒𝒖𝒆 𝒏𝒐𝒖𝒗𝒆𝒂𝒖 𝑮𝑭    \n"]
["3. Optimisation de l'utilisation","3. Optimisation de l'utilisation","3. Optimierung der Nutzung","3. Optimierung der Nutzung",1]
["En règle générale, les consommateurs d'air comprimé avec un grand volume annuel, une pression relativement élevé ( > 6 bar) ou des besoins hors des heures d'ouverture doivent être étudiés plus en détail.\n\nAu niveau des utilisateurs finaux, le besoin peut souvent être réduit par des mesures simples :\n- Ajout d'une électrovanne, à l'entrée des machines, qui se ferme lorsque cette dernière n'est pas utilisée. Les économies peuvent être calculées soit, en mesurant le débit à l'entrée des machines, soit par estimation du débit donné par le fournisseur.\n- Régulation des consommateurs : dans certains cas, le débit ou la pression peuvent  être régulé au niveau des utilisateurs. \n- Remplacer les outillages pneumatiques par des équivalents électriques.\n          - Par exemple la consommation d'un moteur électrique par rapport à un moteur pneumatique et de 5-10 fois plus basse.\n          - Remplacement de piston à air avec plus de 10 mouvement par minute par des piston électrique. \n          - Remplacement de pompe à membrane pneumatique par des pompe à membrane électrique ou pompe de circulation.\n          - Beaucoup de machines utilisent des buses de nettoyage pneumatiques (ou pour du refroidissement), par exemple pour évacuer des copeaux ou nettoyer des capteurs optiques. Sur des machines avec un volume d'ai pour le nettoyage important, il est possible de travailler avec des souffleries locales.\nSur certaines machines outils, l'air comprimés est utilisé pour protéger les broches des impuretés. Lorsque la machine est hors production, l'air continue d'être soufflé pour éviter que lors du nettoyage de la machine des corps étrangers entrent dans les broches. \n\nIl est généralement utile de s'approcher du constructeur de la machine pour discuter des possibilités de réduction du besoin d'air comprimé.","En règle générale, les consommateurs d'air comprimé avec un grand volume annuel, une pression relativement élevé ( > 6 bar) ou des besoins hors des heures d'ouverture doivent être étudiés plus en détail.\n\nAu niveau des utilisateurs finaux, le besoin peut souvent être réduit par des mesures simples :\n- Ajout d'une électrovanne, à l'entrée des machines, qui se ferme lorsque cette dernière n'est pas utilisée. Les économies peuvent être calculées soit, en mesurant le débit à l'entrée des machines, soit par estimation du débit donné par le fournisseur.\n- Régulation des consommateurs : dans certains cas, le débit ou la pression peuvent  être régulé au niveau des utilisateurs. \n- Remplacer les outillages pneumatiques par des équivalents électriques.\n          - Par exemple la consommation d'un moteur électrique par rapport à un moteur pneumatique et de 5-10 fois plus basse.\n          - Remplacement de piston à air avec plus de 10 mouvement par minute par des piston électrique. \n          - Remplacement de pompe à membrane pneumatique par des pompe à membrane électrique ou pompe de circulation.\n          - Beaucoup de machines utilisent des buses de nettoyage pneumatiques (ou pour du refroidissement), par exemple pour évacuer des copeaux ou nettoyer des capteurs optiques. Sur des machines avec un volume d'ai pour le nettoyage important, il est possible de travailler avec des souffleries locales.\nSur certaines machines outils, l'air comprimés est utilisé pour protéger les broches des impuretés. Lorsque la machine est hors production, l'air continue d'être soufflé pour éviter que lors du nettoyage de la machine des corps étrangers entrent dans les broches. \n\nIl est généralement utile de s'approcher du constructeur de la machine pour discuter des possibilités de réduction du besoin d'air comprimé.","In der Regel müssen Druckluftverbraucher mit großem Jahresvolumen, relativ hohem Druck ( > 6 bar) oder Bedarf außerhalb der Geschäftszeiten näher betrachtet werden. \n\nAuf der Ebene des Endbenutzers kann der Bedarf oft durch einfache Maßnahmen reduziert werden: \n- Hinzufügen eines Magnetventils am Einlass der Maschinen, welches sich schließt, wenn es nicht benutzt wird. Die Einsparungen können entweder durch Messung der Durchflussrate am Maschineneinlass oder durch Schätzung der vom Lieferanten angegebenen Durchflussrate berechnet werden. \n- Verbraucherregulierung: In einigen Fällen kann der Durchfluss oder Druck auf der Benutzerebene reguliert werden. \n- Ersetzen Sie pneumatische Werkzeuge durch elektrische Äquivalente. \n       - Beispielsweise ist der Verbrauch eines Elektromotors im Vergleich zu einem Druckluftmotor 5-10 Mal niedriger. \n       - Ersetzen von Luftkolben mit mehr als 10 Bewegungen pro Minute durch Elektrozylinder. \n       - Ersatz der Luftmembranpumpe durch eine elektrische Membranpumpe oder Zirkulationspumpe. \n       - Viele Maschinen verwenden pneumatische Reinigungs- (oder Kühl-) Düsen, z.B. für die Spanabfuhr oder die Reinigung von optischen Sensoren. Bei Maschinen mit einem großen Luftvolumen zur Reinigung ist es möglich, mit lokalen Gebläsen zu arbeiten. \nBei einigen Werkzeugmaschinen wird Druckluft verwendet, um die Spindeln vor Verunreinigungen zu schützen. Wenn die Maschine nicht in Betrieb ist, wird weiter Luft  geblasen, um zu verhindern, dass beim Reinigen der Maschine Fremdkörper in die Spindeln gelangen. Im Allgemeinen ist es sinnvoll, sich mit dem Maschinenhersteller in Verbindung zu setzen, um Möglichkeiten zur Reduzierung des Druckluftbedarfs zu besprechen.","In der Regel müssen Druckluftverbraucher mit großem Jahresvolumen, relativ hohem Druck ( > 6 bar) oder Bedarf außerhalb der Geschäftszeiten näher betrachtet werden.\n\nAuf der Ebene des Endbenutzers kann der Bedarf oft durch einfache Maßnahmen reduziert werden: \n- Hinzufügen eines Magnetventils am Einlass der Maschinen, das sich schließt, wenn es nicht benutzt wird. Die Einsparungen können entweder durch Messung der Durchflussrate am Maschineneinlass oder durch Schätzung der vom Lieferanten angegebenen Durchflussrate berechnet werden. \n- Verbraucherregulierung: In einigen Fällen kann der Durchfluss oder Druck auf der Benutzerebene reguliert werden. \n- Ersetzen Sie pneumatische Werkzeuge durch elektrische Äquivalente.\n           - Beispielsweise ist der Verbrauch eines Elektromotors im Vergleich zu einem Druckluftmotor 5-10 Mal niedriger.\n           - Ersetzen von Luftkolben mit mehr als 10 Bewegungen pro Minute durch Elektrokolben. \n           - Ersatz der Luftmembranpumpe durch eine elektrische Membranpumpe oder Zirkulationspumpe.\n           - Viele Maschinen verwenden pneumatische Reinigungs- (oder Kühl-) Düsen, z.B. für die Spanabfuhr oder die Reinigung von optischen Sensoren. Bei Maschinen mit einem großen Flügelvolumen zur Reinigung ist es möglich, mit lokalen Gebläsen zu arbeiten. \nBei einigen Werkzeugmaschinen wird Druckluft verwendet, um die Spindeln vor Verunreinigungen zu schützen. Wenn die Maschine nicht in Produktion ist, wird die Luft weiter geblasen, um zu verhindern, dass beim Reinigen der Maschine Fremdkörper in die Spindeln gelangen. \n\nIm Allgemeinen ist es sinnvoll, sich mit dem Maschinenhersteller in Verbindung zu setzen, um Möglichkeiten zur Reduzierung des Druckluftbedarfs zu besprechen.",1,null,null," 𝑷 𝒇𝒓𝒊𝒈𝒐 =𝛒× 𝑸 𝒗 × 𝑪 𝒑 ×∆𝑻  [𝒌𝑾]\n\navec :  masse volumique en [kg/m3], Qv débit volumique en [m3/s], Cp capacité thermique massique [kJ/kg.K], T différence de température [K]"]
["4. Optimisation de la production","4. Optimisation de la production","4. Optimierung der Produktion","4. Optimierung der Produktion",1]
["4.1 Adéquation entre les besoins et la production","4.1 Adéquation entre les besoins et la production","4.1 Abstimmung von Bedarf und Produktion","4.1 Abstimmung von Bedarf und Produktion",1]
["Une fois la distribution et l'utilisation de l'air comprimé bien spécifiées et optimisées, il s'agit de vérifer si les compresseurs sont correctement dimensionnés en puissance et en pression. \nPression: Un compresseur avec une pression de consigne effective bien plus basse que la pression nominale aura une efficacité réduite. Il est difficile de calculer le gain obtenu par un compresseur correctement dimensionné en pression. Cette information est à demander au fournisseur.\nAttention, lors d'un redimensionnement, les puissances maximales futures doivent être prises en compte (à discuter avec le personnel sur place).\nDébit nominal: Si le compresseur est surdimensionné en débit, l'efficacité sera prétéritée tant pour des compresseurs fonctionnant en charge/à vide, que pour des compresseur à vitesse variable. Les gains théoriques peuvent être calculés grâce aux données techniques de la puissance du compresseur en fonction du taux de charge. En dessous de 40-50 % de taux de charge, l'efficacité d'un compresseur à vitesse variable se détériore significativement (voir figure 1). Les méthodes de calcul sont décrites sous 4.2.  ","Une fois la distribution et l'utilisation de l'air comprimé bien spécifiées et optimisées, il s'agit de vérifer si les compresseurs sont correctement dimensionnés en puissance et en pression. \nPression: Un compresseur avec une pression de consigne effective bien plus basse que la pression nominale aura une efficacité réduite. Il est difficile de calculer le gain obtenu par un compresseur correctement dimensionné en pression. Cette information est à demander au fournisseur.\nAttention, lors d'un redimensionnement, les puissances maximales futures doivent être prises en compte (à discuter avec le personnel sur place).\nDébit nominal: Si le compresseur est surdimensionné en débit, l'efficacité sera prétéritée tant pour des compresseurs fonctionnant en charge/à vide, que pour des compresseur à vitesse variable. Les gains théoriques peuvent être calculés grâce aux données techniques de la puissance du compresseur en fonction du taux de charge. En dessous de 40-50 % de taux de charge, l'efficacité d'un compresseur à vitesse variable se détériore significativement (voir figure 1). Les méthodes de calcul sont décrites sous 4.2.  ","Nachdem die Verteilung und Nutzung der Druckluft festgelegt und optimiert wurde, ist zu prüfen, ob die Kompressoren hinsichtlich Leistung und Druck richtig dimensioniert sind. Druck: Ein Kompressor mit einem effektiven Ansprechdruck, der viel niedriger als der Nenndruck ist, hat einen reduzierten Wirkungsgrad. Es ist schwierig, die Verstärkung zu berechnen, die durch einen Kompressor mit korrekt dimensioniertem Druck erzielt wird. Diese Informationen sollten beim Lieferanten angefordert werden. Vorsicht: Bei der Größenanpassung müssen zukünftige maximale Kapazitäten berücksichtigt werden (mit dem Personal vor Ort zu besprechen). \nNenndurchsatz: Wenn der Kompressor in Bezug auf den Durchsatz überdimensioniert ist, wird der Wirkungsgrad sowohl für Kompressoren, die unter Last/Leerlast arbeiten, als auch für Kompressoren mit variabler Drehzahl beeinträchigt. Theoretische Gewinne können aus den technischen Daten der Verdichterleistung in Abhängigkeit vom Lastfaktor berechnet werden. Unterhalb eines Lastverhältnisses von 40-50% verschlechtert sich der Wirkungsgrad eines Kompressors mit variabler Drehzahl erheblich (siehe Abbildung 1). Die Berechnungsmethoden werden in Abschnitt 4.2 beschrieben. ","Nachdem die Verteilung und Nutzung der Druckluft festgelegt und optimiert wurde, ist zu prüfen, ob die Kompressoren hinsichtlich Leistung und Druck richtig dimensioniert sind. \nDruck: Ein Kompressor mit einem effektiven Ansprechdruck, der viel niedriger als der Nenndruck ist, hat einen reduzierten Wirkungsgrad. Es ist schwierig, die Einsparung zu berechnen, die durch einen Kompressor mit korrekt dimensioniertem Druck erzielt wird. Diese Informationen sollten beim Lieferanten angefordert werden. \nVorsicht: Bei der Größenanpassung müssen zukünftige maximale Kapazitäten berücksichtigt werden (mit dem Personal vor Ort zu besprechen). \nNenndurchsatz: Wenn der Kompressor in Bezug auf den Durchsatz überdimensioniert ist, wird der Wirkungsgrad sowohl für Kompressoren, die unter Last/Nichtlast arbeiten, als auch für Kompressoren mit variabler Drehzahl vorbestimmt. Theoretische Gewinne können aus den technischen Daten der Verdichterleistung in Abhängigkeit vom Lastfaktor berechnet werden. Unterhalb eines Lastverhältnisses von 40-50% verschlechtert sich der Wirkungsgrad eines Kompressors mit variabler Drehzahl erheblich (siehe Abbildung 1). Die Berechnungsmethoden werden in Abschnitt 4.2 beschrieben. ",1,null,"Cas"]
["Figure 1 : Comparaison des puissances spécifiques de compresseurs à vitesse variable (la médiane en noir) et en marche/arrêt (la médiane en bleu) en fonction du taux de charge. Sources de données: fiche CAGIS de 2017 des compresseurs Atlas Copco et Kaeser avec une Pression nominale entre 7.6 bar  et 8.1 bar et entre 8.3 bar et 8.9 bar soit 22 compresseurs à vitesse variable et 29 en marche arrêt (en traits fins, toutes les courbes individuelles). En rouge les différences entre les deux médianes, donc les potentiels d'économie.","Figure 1 : Comparaison des puissances spécifiques de compresseurs à vitesse variable (la médiane en noir) et en marche/arrêt (la médiane en bleu) en fonction du taux de charge. Sources de données: fiche CAGIS de 2017 des compresseurs Atlas Copco et Kaeser avec une Pression nominale entre 7.6 bar  et 8.1 bar et entre 8.3 bar et 8.9 bar soit 22 compresseurs à vitesse variable et 29 en marche arrêt (en traits fins, toutes les courbes individuelles). En rouge les différences entre les deux médianes, donc les potentiels d'économie.","Abbildung 1: Vergleich der spezifischen Leistungen von drehzahlvariablen Kompressoren (Median in schwarz) und Ein/Aus-Betrieb (Median in blau) als Funktion des Lastverhältnisses. Datenquelle: CAGIS 2017 Datenblatt für Atlas Copco und Kaeser Kompressoren mit einem Nenndruck zwischen 7,6 bar und 8,1 bar und 8,3 bar und 8,3 bar und 8,9 bar, d.h. 22 Kompressoren mit variabler Drehzahl und 29 Kompressoren im Ein/Aus-Betrieb (in dünnen Linien, alle Einzelkurven). In rot dargestellt sind die Unterschiede zwischen den beiden Medianen, d.h. das Einsparpotenzial.","Abbildung 1: Vergleich der spezifischen Kapazitäten von drehzahlvariablen Verdichtern (Median in schwarz) und Ein/Aus (Median in blau) als Funktion des Lastfaktors. Datenquelle: CAGIS 2017 Datenblatt für Atlas Copco und Kaeser Kompressoren mit einem Nenndruck zwischen 7,6 bar und 8,1 bar und 8,3 bar und 8,3 bar und 8,9 bar, d.h. 22 Kompressoren mit variabler Drehzahl und 29 Kompressoren im Ein/Aus-Betrieb (in dünnen Linien, alle Einzelkurven). In rot die Unterschiede zwischen den beiden Medianen, d.h. das Einsparpotenzial.",1,null,"Cas"]
["Conseils:\nComme la plupart des compresseurs sont redondants, il est possible d'optimiser le système économiquement en ne remplacent qu'un seul compresseur par un compresseur à vitesse variable. Celui-ci fonctionnera alors la majorité du temps. L'ancien compresseur à vitesse fixe, ne s'enclanche qu'une heure par semaine ou lors d'un disfonctionnent du nouveau compresseur.\n\nSi un compresseur à vis est surdimensionné et n'est que rarement en puissance, la durée de vie risque de diminuer car le compresseur tourne souvent à froid. Un plus petit compresseur à vis ou un compresseur à piston serait plus adéquat.\n\nUn système d'air comprimé avec des compresseurs à vitesse variable a aussi besoin d'un stock.","Conseils:\nComme la plupart des compresseurs sont redondants, il est possible d'optimiser le système économiquement en ne remplacent qu'un seul compresseur par un compresseur à vitesse variable. Celui-ci fonctionnera alors la majorité du temps. L'ancien compresseur à vitesse fixe, ne s'enclanche qu'une heure par semaine ou lors d'un disfonctionnent du nouveau compresseur.\n\nSi un compresseur à vis est surdimensionné et n'est que rarement en puissance, la durée de vie risque de diminuer car le compresseur tourne souvent à froid. Un plus petit compresseur à vis ou un compresseur à piston serait plus adéquat.\n\nUn système d'air comprimé avec des compresseurs à vitesse variable a aussi besoin d'un stock.","Tipps: Da die meisten Kompressoren redundant sind, ist es möglich, das System wirtschaftlich zu optimieren, indem nur ein Kompressor durch einen Kompressor mit variabler Drehzahl ersetzt wird. Der Kompressor mit variabler Drehzahl wird dann die meiste Zeit laufen. Der alte Kompressor mit fester Drehzahl schaltet sich nur für eine Stunde pro Woche oder bei einer Fehlfunktion des neuen Kompressors ein. \n\nWenn ein Schraubenkompressor überdimensioniert ist und selten mit voller Leistung läuft, kann sich die Lebensdauer verkürzen, weil der Kompressor häufig kalt läuft. Ein kleinerer Schraubenkompressor oder ein Kolbenkompressor wäre besser geeignet. \n\nEin Druckluftsystem mit drehzahlvariablen Kompressoren benötigt ebenfalls einen Speicher.","Tipps: \nDa die meisten Kompressoren redundant sind, ist es möglich, das System wirtschaftlich zu optimieren, indem nur ein Kompressor durch einen Kompressor mit variabler Drehzahl ersetzt wird. Der Kompressor mit variabler Drehzahl wird dann die meiste Zeit laufen. Der alte Kompressor mit fester Drehzahl schaltet sich nur für eine Stunde pro Woche oder bei einer Fehlfunktion des neuen Kompressors ein.\n\nWenn ein Schraubenkompressor überdimensioniert ist und selten mit voller Leistung läuft, kann sich die Lebensdauer verkürzen, weil der Kompressor häufig kalt läuft. Ein kleinerer Schraubenkompressor oder ein Kolbenkompressor wäre besser geeignet.\n\nEin Druckluftsystem mit drehzahlvariablen Kompressoren benötigt ebenfalls einen Drucklufttank.",1,null,"Cas"]
["4.2 Performance compresseur(s)","4.2 Performance compresseur(s)","4.2 Leistung des Kompressors","4.2 Leistung des Kompressors",1,null,"Mai"]
["Il existe plusieurs moyen d'augmenter la performance des compresseurs. Pour avoir une estimation plus précise des gains, la détermination de la performance actuelle du système est un premier pas. Un bon système d'air comprimé à vis à 7 bar nécessite environ 0.1 kWh d'énergie élecrique par m3 d'air comprimé. (rendement isothermique de 60%). Les points suivants décrivent les différentes possibilités d'optimisation. \n\nNotez que les compresseurs sans huiles sont moins efficaces que les compresseurs avec huile, qui peuvent être muni d'un filtre.","Il existe plusieurs moyen d'augmenter la performance des compresseurs. Pour avoir une estimation plus précise des gains, la détermination de la performance actuelle du système est un premier pas. Un bon système d'air comprimé à vis à 7 bar nécessite environ 0.1 kWh d'énergie élecrique par m3 d'air comprimé. (rendement isothermique de 60%). Les points suivants décrivent les différentes possibilités d'optimisation. \n\nNotez que les compresseurs sans huiles sont moins efficaces que les compresseurs avec huile, qui peuvent être muni d'un filtre.","Es gibt mehrere Möglichkeiten, die Kompressorleistung zu erhöhen. Um eine genauere Schätzung der Gewinne zu erhalten, ist die Bestimmung der aktuellen Systemleistung ein erster Schritt. Ein gutes 7-bar-Schraubenluftsystem benötigt etwa 0,1 kWh elektrische Energie pro m3 Druckluft. (60% isothermer Wirkungsgrad). Die folgenden Punkte beschreiben die verschiedenen Optimierungsmöglichkeiten.\n\nBitte beachten Sie, dass ölfreie Kompressoren weniger effizient sind als Kompressoren mit Öl, die mit einem Filter ausgestattet werden können.","Es gibt mehrere Möglichkeiten, die Kompressorleistung zu erhöhen. Um eine genauere Schätzung der Gewinne zu erhalten, ist die Bestimmung der aktuellen Systemleistung ein erster Schritt. Ein gutes 7-bar-Schraubenluftsystem benötigt etwa 0,1 kWh elektrische Energie pro m3 Druckluft. (60% isothermer Wirkungsgrad). Die folgenden Punkte beschreiben die verschiedenen Optimierungsmöglichkeiten. \n\nBitte beachten Sie, dass ölfreie Kompressoren weniger effizient sind als Kompressoren mit Öl, die mit einem Filter ausgestattet werden können.",1,null,"Mai"]
["4.2.1 Déterminer la performance actuelle du ou des compresseur(s)","4.2.1 Déterminer la performance actuelle du ou des compresseur(s)","4.2.1 Bestimmen der aktuellen Leistung des Kompressors (der Kompressoren)","4.2.1 Bestimmen der aktuellen Leistung des Kompressors (der Kompressoren)",1,null,"Mai"]
["Méthode :\n- Mesurage de la puissance électrique absorbée pour chaque compresseur\n- Mesurage concomitant du débit total produit. Le débit total peut soit être connu grace à un débitmètre (qui doit être ajouté), soit via l'enregistrement déjà inclus dans le système. Dans le dernier cas, le compteur peut-être relevé régulièrement à la main.\nCes deux grandeurs permettent de calculer la puissance spécifique du ou des compresseurs, qui pourra être comparée aux valeurs de la fiche technique (dégradation) et aux valeurs des BAT (best available technique). \nAttention : lors de la comparaison, il faut prendre en compte le fait que les valeurs des fiches techniques sont mesurée dans des conditions standard. Ces valeurs doivent être corrigées en fonction de la température d'aspiration et de la pression. La puissance spécifique peut-être calculée au niveau du compresseur ou au niveau de toute la production incluant le séchage et les purges.","Méthode :\n- Mesurage de la puissance électrique absorbée pour chaque compresseur\n- Mesurage concomitant du débit total produit. Le débit total peut soit être connu grace à un débitmètre (qui doit être ajouté), soit via l'enregistrement déjà inclus dans le système. Dans le dernier cas, le compteur peut-être relevé régulièrement à la main.\nCes deux grandeurs permettent de calculer la puissance spécifique du ou des compresseurs, qui pourra être comparée aux valeurs de la fiche technique (dégradation) et aux valeurs des BAT (best available technique). \nAttention : lors de la comparaison, il faut prendre en compte le fait que les valeurs des fiches techniques sont mesurée dans des conditions standard. Ces valeurs doivent être corrigées en fonction de la température d'aspiration et de la pression. La puissance spécifique peut-être calculée au niveau du compresseur ou au niveau de toute la production incluant le séchage et les purges.","Methode: \n- Messung der elektrischen Leistungsaufnahme für jeden Verdichter \n- Gleichzeitige Messung der erzeugten Gesamtdurchflussmenge. Die Gesamtdurchflussrate kann entweder von einem Durchflussmesser (der hinzugefügt werden muss) oder aus dem bereits im System enthaltenen Datensatz bekannt sein. Im letzteren Fall kann der Zähler regelmäßig von Hand abgelesen werden. \nDiese beiden Größen ermöglichen die Berechnung der spezifischen Leistung des/der Verdichter(s), die mit den Werten im Datenblatt (Verminderung) und den BVT-Werten (beste verfügbare Technik) verglichen werden kann. Achtung: Beim Vergleich muss berücksichtigt werden, dass die Werte in den Datenblättern unter Standardbedingungen gemessen werden. Diese Werte müssen für Saugtemperatur und Druck korrigiert werden. Die spezifische Leistung kann auf der Verdichterebene oder auf der Ebene der gesamten Produktion einschließlich Trocknung und Spülung berechnet werden.","Methode:\n- Messung der elektrischen Leistungsaufnahme für jeden Kompressor\n- Gleichzeitige Messung der erzeugten Gesamtdurchflussmenge. Die Gesamtdurchflussrate kann entweder von einem Durchflussmesser (der hinzugefügt werden muss) oder aus dem bereits im System enthaltenen Datensatz bekannt sein. Im letzteren Fall kann der Zähler regelmäßig von Hand aufgezeichnet werden. \nDiese beiden Größen ermöglichen die Berechnung der spezifischen Leistung des/der Verdichter(s), die mit den Werten im Datenblatt (Abbau) und den BVT-Werten (best available technique) verglichen werden kann. \nAchtung: Beim Vergleich muss berücksichtigt werden, dass die Werte in den Datenblättern unter Standardbedingungen gemessen werden. Diese Werte müssen für Saugtemperatur und Druck korrigiert werden. Die spezifische Kapazität kann auf der Verdichterebene oder auf der Ebene der gesamten Produktion einschließlich Trocknung und Wasserentfernung berechnet werden.",1,null,"Note : Les calculs présentés dans cette fiche se basent sur les données météorologiques de la ville de Neuchâtel. Pour les sites avec des températures plus basses, l'économie d'énergie sera plus importante, et inversement pour les sites avec des températures plus élevées. "]
["4.2.2 Remplacement du compresseur en marche/à vide par un compresseur à vitesse variable","4.2.2 Remplacement du compresseur en marche/à vide par un compresseur à vitesse variable","4.2.2 Ersetzen des Kompressors mit ein/aus-Betrieb durch einen Kompressor mit variabler Drehzahl","4.2.2 Ersetzen des Kompressors ein/aus durch einen Kompressor mit variabler Drehzahl",1,null,"Mai"]
["Gains\nLe remplacement d'un compresseur marche/à vide par un nouveau compresseur à vitesse variable permet 3 gains principaux:\n- Un gain d'efficacité lors de taux de charges partiels (notamment en dessous de 80%) comme montré avec la différence des puissances spécifiques dans la fig. 1. Ce gain est dû à la diminution voir à l'élimination de période en marche à vide qui consomment de l'énergie mais ne produisent rien. \n- Gain dû à une plage de pression réduite: en marche à vide, la plage de pression (delta p) est relativement élevée pour éviter des marches/arrêts trop fréquents. Or, une pression augmentée signifie une puissance spécifiques diminuée, donc une efficacité réduite. Un compresseur à vitesse variable n'a plus vraiment de plage de pression (ou une plage plus petite) mais une pression de consigne qui est assurée en continu (voir figure 2).\n- Gain technologique dû à des composants plus performants :  un nouveau compresseur aura généralement une puissance spécifique plus faible qu'un ancien (à vérifier avec les données techniques et éventuellement par mesurage). ","Gains\nLe remplacement d'un compresseur marche/à vide par un nouveau compresseur à vitesse variable permet 3 gains principaux:\n- Un gain d'efficacité lors de taux de charges partiels (notamment en dessous de 80%) comme montré avec la différence des puissances spécifiques dans la fig. 1. Ce gain est dû à la diminution voir à l'élimination de période en marche à vide qui consomment de l'énergie mais ne produisent rien. \n- Gain dû à une plage de pression réduite: en marche à vide, la plage de pression (delta p) est relativement élevée pour éviter des marches/arrêts trop fréquents. Or, une pression augmentée signifie une puissance spécifiques diminuée, donc une efficacité réduite. Un compresseur à vitesse variable n'a plus vraiment de plage de pression (ou une plage plus petite) mais une pression de consigne qui est assurée en continu (voir figure 2).\n- Gain technologique dû à des composants plus performants :  un nouveau compresseur aura généralement une puissance spécifique plus faible qu'un ancien (à vérifier avec les données techniques et éventuellement par mesurage). ","Der Ersatz eines Ein/Aus-Verdichters durch einen neuen drehzahlvariablen Verdichter ermöglicht 3 Hauptgewinne: \n- Eine Steigerung des Wirkungsgrades bei Teillastbetrieb (insbesondere unter 80 %), wie aus der Differenz der spezifischen Leistungen in Abb. 1 ersichtlich ist. Dieser Gewinn ist auf die Reduzierung oder sogar Beseitigung von Leerlaufzeiten zurückzuführen, die Energie verbrauchen, aber nichts erzeugen. \n- Gewinn durch einen reduzierten Druckbereich: Im Leerlauf ist der Druckbereich (delta p) relativ hoch, um zu häufiges Ein- und Ausschalten zu vermeiden. Höherer Druck bedeutet jedoch eine geringere spezifische Leistung und damit einen geringeren Wirkungsgrad. Ein Kompressor mit variabler Drehzahl hat nicht wirklich einen Druckbereich (oder einen kleineren Bereich), sondern einen Solldruck, der kontinuierlich aufrechterhalten wird (siehe Abbildung 2). \n- Technologischer Gewinn durch effizientere Komponenten: ein neuer Kompressor hat in der Regel eine geringere spezifische Leistung als ein alter (mit technischen Daten und eventuell durch Messung zu überprüfen). ","Gewinne\nDer Ersatz eines Ein/Aus-Verdichters durch einen neuen drehzahlvariablen Verdichter ermöglicht 3 Hauptgewinne: \n- Eine Steigerung des Wirkungsgrades bei Teillastbetrieb (insbesondere unter 80 %), wie aus der Differenz der spezifischen Leistungen in Abb. 1 ersichtlich ist. Dieser Gewinn ist auf die Reduzierung oder sogar Beseitigung von Leerlaufzeiten zurückzuführen, die Energie verbrauchen, aber nichts erzeugen. \n- Gewinn durch einen reduzierten Druckbereich: Im Leerlauf ist der Druckbereich (delta p) relativ hoch, um zu häufiges Ein- und Ausschalten zu vermeiden. Höherer Druck bedeutet jedoch eine geringere spezifische Leistung und damit einen geringeren Wirkungsgrad. Ein Kompressor mit variabler Drehzahl hat nicht wirklich einen Druckbereich (oder einen kleineren Bereich), sondern einen Solldruck, der kontinuierlich aufrechterhalten wird (siehe Abbildung 2). \n- Technologischer Gewinn durch effizientere Komponenten: ein neuer Kompressor hat in der Regel eine geringere spezifische Leistung als ein alter (mit technischen Daten und eventuell durch Messung zu überprüfen). ",1,null,"Les calculs présentés dans cette fiche se basent sur l'hypothèse d'une température de sortie d'eau à 45°C sur la récupération de chaleur (température de condensation) , permettant de satisfaire les besoins en chauffage. \n\nSi l'exploitant nécessite de plus hautes températures pour le chauffage (par exemple 60°C) , deux solutions sont possibles :\n- la température de condensation ne doit pas être relevée, 15% de la puissance de condensation peut être récupéré au niveau de la désurchauffe à une température de 60°C\n- la température de condensation doit être relevée pour valoriser la chaleur évacuée. Il en résulte une consommation d'énergie supplémentaire de 2.5% par degré d'élévation de température. Dans ce cas la chaleur rejetée n'est pas gratuite, la commande devra être configurée de manière à augmenter la température de condensation uniquement pendant la durée d'utilisation de la chaleur rejetée. "]
["Figure 2 : Consommation électrique d'un compresseur 22 kW en charge/marche à vide. Le remplacement de ce compresseur par un compresseur à vitesse variable permettrait d'éviter une trop grand plage de pression et ainsi d'économiser la partie verte. De plus, avec une vitesse variable la marche à vide pourrait aussi être supprimée, partie en rouge (à noter que ce compresseur a une marche à vide relativement courte). Dans ce cas précis, sur  une journée , la partie verte permettrait un gain de 4 %. La partie rouge un gain d'environ 10%.","Figure 2 : Consommation électrique d'un compresseur 22 kW en charge/marche à vide. Le remplacement de ce compresseur par un compresseur à vitesse variable permettrait d'éviter une trop grand plage de pression et ainsi d'économiser la partie verte. De plus, avec une vitesse variable la marche à vide pourrait aussi être supprimée, partie en rouge (à noter que ce compresseur a une marche à vide relativement courte). Dans ce cas précis, sur  une journée , la partie verte permettrait un gain de 4 %. La partie rouge un gain d'environ 10%.","Abbildung 2: Leistungsaufnahme eines 22-kW-Kompressors bei Ein/Aus-Last. Das Ersetzen dieses Kompressors durch einen Kompressor mit variabler Drehzahl würde einen zu großen Druckbereich vermeiden und somit den grünen Teil einsparen. Darüber hinaus konnte mit einer variablen Drehzahl auch der Leerlauf eliminiert werden, der teilweise rot dargestellt ist (beachten Sie, dass dieser Kompressor eine relativ kurze Leerlaufzeit hat). In diesem speziellen Fall würde der grüne Teil an einem Tag einen Gewinn von 4% ermöglichen. Der rote Teil ein Gewinn von etwa 10%.","Abbildung 2: Leistungsaufnahme eines 22-kW-Kompressors bei Ein/Aus-Last. Das Ersetzen dieses Kompressors durch einen Kompressor mit variabler Drehzahl würde einen zu großen Druckbereich vermeiden und somit den grünen Teil einsparen. Darüber hinaus konnte mit einer variablen Drehzahl auch der Leerlauf eliminiert werden, der rot dargestellt ist (beachten Sie, dass dieser Kompressor eine relativ kurze Leerlaufzeit hat). In diesem speziellen Fall würde der grüne Teil an einem Tag einen Gewinn von 4% ermöglichen. Der rote Teil einen Gewinn von etwa 10%.",1,null,"Gaz"]
["Méthode de calcul des gains:\n1) Définir un profil annuels des débits \nDans le cas idéal, les débits ont été mesurés sur une année avec une résolution fine (quelques minutes) ce qui permet d'avoir un profil réel. \nMalheureusement, ces données ne sont généralement pas disponibles. Dans ce cas, une campagne de mesurage du débit durant une période représentative peut être organisée. Les résultats peuvent alors être extrapolés sur une année. Dans le cas où une mesure (souvent intrusive) du débit n'est pas possible ou trop compliquée, le profil du débit peut-être estimé en ne mesurant que la puissance électrique du compresseur en fonction du temps (sur une période significative avec un pas de temps d'une minute environ). Le débit peut alors être estimé grâce à la puissance spécifique fournie par la fiche technique (à adapter aux conditions du système en prenant en compte la température de l'air aspiré et les pressions de consigne). Le débit devra ensuite être lissé (effet du stock d'air comprimé). Dans ce dernier cas, les estimations n'intègrent pas la différence entre la puissance spécifique issue de la fiche technique et la valeur réelle. \nUne semaine de mesure est souvent suffisant.\nAttention : si des optimisations du réseau ou des consommateurs sont prévues simultanément, le profil doit être adapté (idéalement ces optimisations sont implémentées avant les mesurages).","Méthode de calcul des gains:\n1) Définir un profil annuels des débits \nDans le cas idéal, les débits ont été mesurés sur une année avec une résolution fine (quelques minutes) ce qui permet d'avoir un profil réel. \nMalheureusement, ces données ne sont généralement pas disponibles. Dans ce cas, une campagne de mesurage du débit durant une période représentative peut être organisée. Les résultats peuvent alors être extrapolés sur une année. Dans le cas où une mesure (souvent intrusive) du débit n'est pas possible ou trop compliquée, le profil du débit peut-être estimé en ne mesurant que la puissance électrique du compresseur en fonction du temps (sur une période significative avec un pas de temps d'une minute environ). Le débit peut alors être estimé grâce à la puissance spécifique fournie par la fiche technique (à adapter aux conditions du système en prenant en compte la température de l'air aspiré et les pressions de consigne). Le débit devra ensuite être lissé (effet du stock d'air comprimé). Dans ce dernier cas, les estimations n'intègrent pas la différence entre la puissance spécifique issue de la fiche technique et la valeur réelle. \nUne semaine de mesure est souvent suffisant.\nAttention : si des optimisations du réseau ou des consommateurs sont prévues simultanément, le profil doit être adapté (idéalement ces optimisations sont implémentées avant les mesurages).","Methode zur Berechnung der Gewinne: \n1) Definition eines Jahresprofils der Ströme Im Idealfall wurden die Ströme über ein Jahr mit einer feinen Auflösung (einige Minuten) gemessen, die ein reales Profil ermöglicht.\nLeider sind diese Daten im Allgemeinen nicht verfügbar. In diesem Fall kann eine Durchflussmesskampagne während eines repräsentativen Zeitraums organisiert werden. Die Ergebnisse können dann auf ein Jahr hochgerechnet werden. Falls eine (oft aufdringliche) Strömungsmessung nicht möglich oder zu kompliziert ist, kann das Strömungsprofil abgeschätzt werden, indem nur die elektrische Leistung des Kompressors als Funktion der Zeit (über einen signifikanten Zeitraum mit einem Zeitschritt von etwa einer Minute) gemessen wird. Die Durchflussmenge kann mit der spezifischen Leistung (die unter Berücksichtigung der Temperatur der Ansaugluft und der eingestellten Drücke an die Systembedingungen anzupassen ist) aus dem Datenblatt abgeschätzt werden. Die Durchflussmenge muss dann geglättet werden (Wirkung des Druckluftvorrats). Im letzteren Fall enthalten die Schätzungen nicht die Differenz zwischen der spezifischen Leistung aus dem Datenblatt und dem tatsächlichen Wert.\nEine einwöchige Messung ist oft ausreichend. \nAchtung: Wenn gleichzeitig Optimierungen des Netzes oder der Verbraucher geplant sind, muss das Profil angepasst werden (idealerweise werden diese Optimierungen vor den Messungen durchgeführt).","Methode zur Berechnung der Gewinne:\n1) Definition eines Jahresprofils der Ströme \nIm Idealfall wurden die Ströme über ein Jahr mit einer feinen Auflösung (einige Minuten) gemessen, die ein reales Profil ermöglicht. \nLeider sind diese Daten meistens nicht verfügbar. In diesem Fall kann eine Durchflussmesskampagne während eines repräsentativen Zeitraums organisiert werden. Die Ergebnisse können dann auf ein Jahr hochgerechnet werden. Falls eine (oft aufdringliche) Strömungsmessung nicht möglich oder zu kompliziert ist, kann das Strömungsprofil abgeschätzt werden, indem nur die elektrische Leistung des Kompressors als Funktion der Zeit (über einen signifikanten Zeitraum mit einem Zeitschritt von etwa einer Minute) gemessen wird. Die Durchflussmenge kann dann dank der vom Datenblatt gelieferten spezifischen Leistung (die unter Berücksichtigung der Temperatur der Ansaugluft und der eingestellten Drücke an die Systembedingungen anzupassen ist) geschätzt werden. Die Durchflussmenge muss dann geglättet werden (Wirkung des Druckluftvorrats). Im letzteren Fall enthalten die Schätzungen nicht die Differenz zwischen der spezifischen Leistung aus dem Datenblatt und dem tatsächlichen Wert. \nEine einwöchige Messung ist oft ausreichend. \nAchtung: Wenn gleichzeitig Optimierungen des Netzes oder der Verbraucher geplant sind, muss das Profil angepasst werden (idealerweise werden diese Optimierungen vor den Messungen durchgeführt).",1,null,"gaz"]
["Figure 3 : Profil des débits en histogramme","Figure 3 : Profil des débits en histogramme","Abbildung 3: Histogramm des Durchflussprofils","Abbildung 3: Histogramm Flussprofil",1]
["2) Grâce au profil des débits annuel mesuré ou estimé, la consommation électrique du nouveau compresseur peut-être estimée des valeurs de puissances spécifiques (adaptées aux conditions de fonctionnement) en fonction du taux de charge (généralement à demander au fournisseur, les fiches américaines CAGIS donnent aussi déjà une bonne estimation). La consommation ainsi calculée peut ensuite être comparée à la consommation actuelle (par exemple mesurée au wattmètre). ","2) Grâce au profil des débits annuel mesuré ou estimé, la consommation électrique du nouveau compresseur peut-être estimée des valeurs de puissances spécifiques (adaptées aux conditions de fonctionnement) en fonction du taux de charge (généralement à demander au fournisseur, les fiches américaines CAGIS donnent aussi déjà une bonne estimation). La consommation ainsi calculée peut ensuite être comparée à la consommation actuelle (par exemple mesurée au wattmètre). ","2) Dank des gemessenen oder geschätzten Jahresdurchflussprofils kann die Leistungsaufnahme des neuen Kompressors aus den spezifischen (an die Betriebsbedingungen angepassten) Leistungswerten je nach Auslastungsrate abgeschätzt werden (in der Regel beim Lieferanten zu erfragen, auch die amerikanischen CAGIS-Blätter geben bereits eine gute Schätzung ab). Der so errechnete Verbrauch kann dann mit dem aktuellen Verbrauch (z.B. gemessen mit einem Wattmeter) verglichen werden. ","2) Dank des gemessenen oder geschätzten Jahresdurchflussprofils kann die Leistungsaufnahme des neuen Kompressors aus den spezifischen (an die Betriebsbedingungen angepassten) Leistungswerten je nach Belastungsrate abgeschätzt werden (in der Regel beim Lieferanten zu erfragen, auch die amerikanischen CAGIS-Blätter geben bereits eine gute Schätzung ab). Der so errechnete Verbrauch kann dann mit dem aktuellen Verbrauch (z.B. gemessen mit einem Wattmeter) verglichen werden. ",1]
["4.2.3 Redimensionnement.","4.2.3 Redimensionnement.","4.2.3 Redimensionierung","4.2.3 Größenänderung.",1]
["Un compresseur surdimensionné n'est pas efficace (voir section 4.1). Suivant les conditions, le remplacement par un compresseur adapté peut-être rentable. ","Un compresseur surdimensionné n'est pas efficace (voir section 4.1). Suivant les conditions, le remplacement par un compresseur adapté peut-être rentable. ","Ein überdimensionierter Kompressor ist nicht effizient (siehe Abschnitt 4.1). Je nach Bedingungen kann der Ersatz durch einen geeigneten Kompressor rentabel sein. ","Ein überdimensionierter Kompressor ist nicht effizient (siehe Abschnitt 4.1). Je nach den Bedingungen kann der Ersatz durch einen geeigneten Kompressor kostengünstig sein. ",1]
["Méthode de calcul","Méthode de calcul","Berechnungsmethode","Berechnungsmethode",1]
["Les gains sont estimés comme à la section 4.2.2. Lors d'un remplacement, il vaut généralement la peine d'installer un compresseur à vitesse variable (si l'ancien n'était pas déjà sur variateur). ","Les gains sont estimés comme à la section 4.2.2. Lors d'un remplacement, il vaut généralement la peine d'installer un compresseur à vitesse variable (si l'ancien n'était pas déjà sur variateur). ","Die Gewinne werden wie in Abschnitt 4.2.2 geschätzt. Beim Austausch eines Verdichters lohnt es sich in der Regel, einen drehzahlvariablen Verdichter zu installieren (wenn der alte nicht bereits variabel war). ","Die Gewinne werden wie in Abschnitt 4.2.2 geschätzt. Beim Austausch eines Verdichters lohnt es sich in der Regel, einen drehzahlvariablen Verdichter zu installieren (wenn der alte nicht bereits inverterbetrieben war). ",1]
["4.2.4 Optimisation de la cascade des compresseurs","4.2.4 Optimisation de la cascade des compresseurs","4.2.4 Optimierung der Verdichterkaskade","4.2.4 Optimierung der Verdichterkaskade",1]
["Dans les situations dans lesquelles le système comprend plusieurs compresseurs pouvant fonctionner simultanément, l'optimisation de la cascade est parfois possible avec des économies significatives et à peu de coûts. En règle générale, le fournisseur du compresseur s'occupe de cette régulation. Les modes de fonctionnement efficaces suivants sont à vérifier/atteindre:\n- Le/les compresseurs à vitesse variable génère(nt) la partie fluctuante du débit (le débit de bande est produit par un/des compresseur(s) sans variateur). Cette condition est vérifiée si le taux de charge du/des compresseur(s) sans variateur est élevé. \n- Les enclenchements/déclenchement assurent des taux de charge optimaux : pour les compresseurs en charge/à vide en dessus de 80/90 %, pour les compresseurs à vitesse variable entre 50% et 90%.\n- Les compresseurs les plus efficients fonctionnent en priorité. ","Dans les situations dans lesquelles le système comprend plusieurs compresseurs pouvant fonctionner simultanément, l'optimisation de la cascade est parfois possible avec des économies significatives et à peu de coûts. En règle générale, le fournisseur du compresseur s'occupe de cette régulation. Les modes de fonctionnement efficaces suivants sont à vérifier/atteindre:\n- Le/les compresseurs à vitesse variable génère(nt) la partie fluctuante du débit (le débit de bande est produit par un/des compresseur(s) sans variateur). Cette condition est vérifiée si le taux de charge du/des compresseur(s) sans variateur est élevé. \n- Les enclenchements/déclenchement assurent des taux de charge optimaux : pour les compresseurs en charge/à vide en dessus de 80/90 %, pour les compresseurs à vitesse variable entre 50% et 90%.\n- Les compresseurs les plus efficients fonctionnent en priorité. ","In Situationen, in denen das System aus mehreren Verdichtern besteht, die gleichzeitig arbeiten können, ist eine Kaskadenoptimierung manchmal mit erheblichen Einsparungen und zu geringen Kosten möglich. In der Regel kümmert sich der Kompressorlieferant um diese Steuerung. Die folgenden effizienten Betriebsarten sollten überprüft/erreicht werden: - Kompressor(en) mit variabler Drehzahl erzeugen den fluktuierenden Teil des Volumenstroms (der Bandstrom wird von Kompressor(en) ohne Variator erzeugt). Diese Bedingung wird überprüft, wenn der Lastfaktor des/der Verdichter(s) ohne Umrichter hoch ist. - Das Ein-/Ausschalten sorgt für optimale Belastungsraten: für Kompressoren mit Last-/Nichtlast über 80/90%, für Kompressoren mit variabler Drehzahl zwischen 50% und 90%. \n- Die effizientesten Kompressoren haben Vorrang. ","In Situationen, in denen das System aus mehreren Verdichtern besteht, die gleichzeitig arbeiten können, ist eine Kaskadenoptimierung manchmal mit erheblichen Einsparungen und zu geringen Kosten möglich. In der Regel kümmert sich der Kompressorlieferant um diese Steuerung. Die folgenden effizienten Betriebsarten sollten überprüft/erreicht werden: \n- Kompressor(en) mit variabler Drehzahl erzeugen den schwankenden Teil des Volumenstroms (der Bandstrom wird von Kompressor(en) ohne Variator erzeugt). Diese Bedingung wird überprüft, wenn der Lastfaktor des/der Verdichter(s) ohne Umrichter hoch ist. \n- Das Ein-/Ausschalten sorgt für optimale Belastungsraten: für Kompressoren mit Last-/Nichtlast über 80/90%, für Kompressoren mit variabler Drehzahl zwischen 50% und 90%. \n- Die effizientesten Kompressoren haben Vorrang. ",1]
["Méthode de calcul des gain:","Méthode de calcul des gain:","Methode zur Gewinnberechnung:","Methode zur Gewinnsberechnung:",1]
["1. Mesurer de manière simultanée la consommation électrique de chaque compresseur sur une période représentative. \n2. Déduire le taux de charge de chaque compresseur en fonction de la tranche de débit.\n3. Grâce aux puissances spécifiques des différents compresseurs et des taux de charge, un débit peut être estimé. En sommant ces valeurs, un débit total peut être obtenu. Idéalement le débit total est mesuré par un débitmètre. \n4. Sur cette base, dressez alors une une monotone inverse ou un histogramme des débits. \n5. Pour chaque tranche de débit, une nouvelle séquence d'enclenchement optimisée assurera la production nécessaire \n6. La nouvelle consommation peut alors être estimée par tranche de débit grâce aux puissances spécifiques et au débit de chaque compresseur. \n7. La somme de ces consommations peut alors être comparée à la consommation initale pour établir le gain potentiel.  ","1. Mesurer de manière simultanée la consommation électrique de chaque compresseur sur une période représentative. \n2. Déduire le taux de charge de chaque compresseur en fonction de la tranche de débit.\n3. Grâce aux puissances spécifiques des différents compresseurs et des taux de charge, un débit peut être estimé. En sommant ces valeurs, un débit total peut être obtenu. Idéalement le débit total est mesuré par un débitmètre. \n4. Sur cette base, dressez alors une une monotone inverse ou un histogramme des débits. \n5. Pour chaque tranche de débit, une nouvelle séquence d'enclenchement optimisée assurera la production nécessaire \n6. La nouvelle consommation peut alors être estimée par tranche de débit grâce aux puissances spécifiques et au débit de chaque compresseur. \n7. La somme de ces consommations peut alors être comparée à la consommation initale pour établir le gain potentiel.  ","1. Gleichzeitiges Messen der Leistungsaufnahme jedes Kompressors über einen repräsentativen Zeitraum. \n2. Ziehen Sie die Belastungsrate jedes Kompressors entsprechend dem Durchflussbereich ab. \n3. Unter Verwendung der spezifischen Leistungen der verschiedenen Kompressoren und Lastraten kann eine Durchflussrate geschätzt werden. Durch Summierung dieser Werte kann eine Gesamtdurchflussrate erhalten werden. Idealerweise wird die Gesamtdurchflussrate mit einem Durchflussmesser gemessen. \n4. Erstellen Sie auf dieser Grundlage ein inverses Monoton- oder Histogramm des Durchflussprofils. \n5. Für jeden Durchflussbereich wird eine neue optimierte Einschaltsequenz die notwendige Produktion sicherstellen \n6. der neue Verbrauch kann dann dank der spezifischen Leistungen und der Durchflussmenge jedes Kompressors pro Durchflussbereich geschätzt werden. \n7. Die Summe dieser Verbräuche kann dann mit dem anfänglichen Verbrauch verglichen werden, um den potenziellen Gewinn zu ermitteln. ","1. Gleichzeitiges Messen der Leistungsaufnahme jedes Kompressors über einen repräsentativen Zeitraum. \n2. Ziehen Sie die Belastungsrate jedes Kompressors entsprechend dem Durchflussbereich ab. \n3. Unter Verwendung der spezifischen Kapazitäten der verschiedenen Kompressoren und Lastraten kann eine Durchflussrate geschätzt werden. Durch Summierung dieser Werte kann eine Gesamtdurchflussrate erhalten werden. Idealerweise wird die Gesamtdurchflussrate mit einem Durchflussmesser gemessen. \n4. Erstellen Sie auf dieser Grundlage ein inverses Monoton- oder Flussdiagramm. \n5. Für jeden Durchflussbereich wird eine neue optimierte Einschaltsequenz die notwendige Produktion sicherstellen \n6. der neue Verbrauch kann dann dank der spezifischen Leistungen und der Durchflussmenge jedes Kompressors pro Durchflussbereich geschätzt werden. \n7. Die Summe dieser Verbräuche kann dann mit dem anfänglichen Verbrauch verglichen werden, um den potenziellen Gewinn zu ermitteln. ",1]
["Remarques: Des systèmes de gestion automatique modernes optimisent automatiquement les séquences d'enclenchement selon le type et l'efficacité des compresseurs.","Remarques: Des systèmes de gestion automatique modernes optimisent automatiquement les séquences d'enclenchement selon le type et l'efficacité des compresseurs.","Anmerkungen: Moderne automatische Steuerungssysteme optimieren automatisch die Einschaltsequenzen je nach Verdichtertyp und Wirkungsgrad.","Anmerkungen: Moderne automatische Steuerungssysteme optimieren automatisch die Einschaltsequenzen je nach Verdichtertyp und Wirkungsgrad.",1,null,null,"Clement Dugua:\nd'après hypothèse"]
["4.3 Température d'aspiration","4.3 Température d'aspiration","4.3 Ansaugtemperatur","4.3 Ansaugtemperatur",1,null,null,"Clement Dugua:\nd'après hypothèse"]
["La puissance de compression est dépendante de la température d'aspiration. La diminution de la masse volumique de l'air avec l'augmentation de la température engendre une augmentation de la consommation spécifique.\nMéthode de calcul:\nL'augmentation moyenne de la consommation spécifique d'un compresseur en fonction de la température est de 0.34 %/°C.\n\nOptimisations: \n- Meilleure ventilation des locaux \n- Aspiration de l'air extérieur (généralement)\nUn ventilateur peut être utile (notamment si l'arrivé d'air frais passe par une longue conduite). La propreté de l'air aspiré ne doit pas être négligée.","La puissance de compression est dépendante de la température d'aspiration. La diminution de la masse volumique de l'air avec l'augmentation de la température engendre une augmentation de la consommation spécifique.\nMéthode de calcul:\nL'augmentation moyenne de la consommation spécifique d'un compresseur en fonction de la température est de 0.34 %/°C.\n\nOptimisations: \n- Meilleure ventilation des locaux \n- Aspiration de l'air extérieur (généralement)\nUn ventilateur peut être utile (notamment si l'arrivé d'air frais passe par une longue conduite). La propreté de l'air aspiré ne doit pas être négligée.","Die Verdichtungsleistung ist abhängig von der Ansaugtemperatur. Die Abnahme der Luftdichte mit steigender Temperatur führt zu einem Anstieg des spezifischen Verbrauchs. \nBerechnungsmethode: \nDer durchschnittliche Anstieg des spezifischen Verbrauchs eines Kompressors in Abhängigkeit von der Temperatur beträgt 0,34 %/°C. \n\nOptimierungen: \n- Bessere Raumbelüftung \n- Ansaugen von Außenluft (im Allgemeinen) \nEin Ventilator kann nützlich sein (insbesondere, wenn die Frischluftzufuhr durch einen langen Kanal erfolgt). Die Sauberkeit der Ansaugluft sollte nicht vernachlässigt werden.","Die Verdichtungsleistung ist abhängig von der Saugtemperatur. Die Abnahme der Luftdichte mit steigender Temperatur führt zu einem Anstieg des spezifischen Verbrauchs. \nBerechnungsmethode:\nDer durchschnittliche Anstieg des spezifischen Verbrauchs eines Kompressors in Abhängigkeit von der Temperatur beträgt 0,34 %/°C.\n\nOptimierungen: \n- Bessere Raumbelüftung \n- Ansaugen von Außenluft (meistens) \nEin Ventilator kann nützlich sein (insbesondere, wenn die Frischluftzufuhr durch einen langen Kanal erfolgt). Die Sauberkeit der Ansaugluft sollte nicht vernachlässigt werden.",1,null,null,"Clement Dugua:\nd'après hypothèse"]
["4.4 Monitoring instrumenté (smart meter)","4.4 Monitoring instrumenté (smart meter)","4.4 Instrumentierte Überwachung (Smart Meter)","4.4 Instrumentiertes Monitoring (Smart Meter)",1,null,null,"Clement Dugua:\nd'après hypothèse"]
["Dans la plupart des cas, il est intéressant d'installer des compteurs d'électricité à demeure (smart metering). Ceci permet la surveillance du bon fonctionnement des installations, de déterminer les coûts pour l'air comprimé et de quantifier l'effet des mesures d'économies implémentées.","Dans la plupart des cas, il est intéressant d'installer des compteurs d'électricité à demeure (smart metering). Ceci permet la surveillance du bon fonctionnement des installations, de déterminer les coûts pour l'air comprimé et de quantifier l'effet des mesures d'économies implémentées.","In den meisten Fällen ist es interessant, Stromzähler permanent zu installieren (Smart Metering). Dies ermöglicht die Überwachung der Anlagen, die Bestimmung der Kosten für Druckluft und die Quantifizierung der Wirkung der durchgeführten Einsparmaßnahmen.","In den meisten Fällen ist es interessant, Stromzähler dauerhaft zu installieren (Smart Metering). Dies ermöglicht die Überwachung des ordnungsgemäßen Funktionierens der Anlagen, die Bestimmung der Kosten für Druckluft und die Quantifizierung der Wirkung der durchgeführten Einsparmaßnahmen.",1,null,null,"Clement Dugua:\nd'après hypothèse"]
["5. Optimisation des auxiliaires","5. Optimisation des auxiliaires","5. Optimierung von Hilfsmitteln","5. Optimierung von Hilfsmitteln",1,null,null,"Clement Dugua:\nd'après hypothèse"]
["5.1 Séchage","5.1 Séchage","5.1 Trocknen","5.1 Trocknung",1,null,null,"Clement Dugua:\nd'après hypothèse"]
["L'air quittant le compresseur est généralement saturé en eau. Cet air doit être séché pour éviter de la condensation dans le réseau. Le niveau de qualité de l'air en lien avec l'humidité est exprimé par le point de rosé. Il existe plusieurs types de sécheurs:\n- Réfrigération:  les machines frigorifiques sont les systèmes de séchage de l'air comprimé les plus efficaces. Elle sont utilisables lorsque le point de rosé est en dessus de 2°C. Si ces sécheurs ont besoin de 10 minutes pour fonctionner en plein ils peuvent être arrêtés en même temps que le compresseur.\n-  Adsoption: deux réservoirs installés en parallèle contiennent un produit siccatif; l'adsoption se déroule dans le premier réservoir et la régénération dans le second. La régénération à froid se fait via l'injection d'air comprimé (10-20 % du débit nominal du sécheur, ce sont donc des pertes). Le point de rosée sous pression se situe entre -40°C et -70°C. La regénération utilise soit de l'air réchauffé (résistance électrique), de la vapeur ou l'air chauffé par le compressaur. La température est ensuite réduite grâce à l'air ambiant. Le point de rosée se situe aux alentours de -40°C. Les pertes se situe entre 8- 12% liée aux pertes de charge et à la consommation d'air comprimé. Ce type doit être utilisé seulement si nécessaire. Ces sécheurs doivent être réglé en humidité et non par horaire. Les sécheurs à absorption sont plus efficace si l'air est d'abord séché par un sécheur à réfrigération.\n- Membrane pour les petits débit (< 85 m3/h) ponctuelle.\nUne estimation de la consommation est donnée par la figure 4.","L'air quittant le compresseur est généralement saturé en eau. Cet air doit être séché pour éviter de la condensation dans le réseau. Le niveau de qualité de l'air en lien avec l'humidité est exprimé par le point de rosé. Il existe plusieurs types de sécheurs:\n- Réfrigération:  les machines frigorifiques sont les systèmes de séchage de l'air comprimé les plus efficaces. Elle sont utilisables lorsque le point de rosé est en dessus de 2°C. Si ces sécheurs ont besoin de 10 minutes pour fonctionner en plein ils peuvent être arrêtés en même temps que le compresseur.\n-  Adsoption: deux réservoirs installés en parallèle contiennent un produit siccatif; l'adsoption se déroule dans le premier réservoir et la régénération dans le second. La régénération à froid se fait via l'injection d'air comprimé (10-20 % du débit nominal du sécheur, ce sont donc des pertes). Le point de rosée sous pression se situe entre -40°C et -70°C. La regénération utilise soit de l'air réchauffé (résistance électrique), de la vapeur ou l'air chauffé par le compressaur. La température est ensuite réduite grâce à l'air ambiant. Le point de rosée se situe aux alentours de -40°C. Les pertes se situe entre 8- 12% liée aux pertes de charge et à la consommation d'air comprimé. Ce type doit être utilisé seulement si nécessaire. Ces sécheurs doivent être réglé en humidité et non par horaire. Les sécheurs à absorption sont plus efficace si l'air est d'abord séché par un sécheur à réfrigération.\n- Membrane pour les petits débit (< 85 m3/h) ponctuelle.\nUne estimation de la consommation est donnée par la figure 4.","Die Luft, die den Kompressor verlässt, ist in der Regel mit Wasser gesättigt. Diese Luft muss getrocknet werden, um Kondensation im Netz zu vermeiden. Das Niveau der Luftqualität im Verhältnis zur Feuchtigkeit wird durch den Taupunkt ausgedrückt. Es gibt verschiedene Arten von Trocknern:\n- Kältetechnik: Kältemaschinen sind die effizientesten Drucklufttrocknungssysteme. Sie sind verwendbar, wenn der Taupunkt über 2°C liegt. Wenn diese Trockner 10 Minuten benötigen, um mit voller Leistung zu laufen, können sie gleichzeitig mit dem Kompressor gestoppt werden. \n- Adsoption: Zwei parallel installierte Tanks enthalten ein Trockenmittel; im ersten Tank erfolgt die Adsorption, im zweiten die Regeneration. Die Kaltregeneration erfolgt durch Einblasen von Druckluft (10-20 % des Nenndurchflusses des Trockners, es handelt sich also um Verluste). Der Drucktaupunkt liegt zwischen -40°C und -70°C. Zur Regeneration wird entweder erwärmte Luft (elektrischer Widerstand), Dampf oder durch den Kompressor erwärmte Luft verwendet. Die Temperatur wird dann mit Umgebungsluft gesenkt. Der Taupunkt liegt bei etwa -40°C. Die Verluste liegen zwischen 8 - 12% aufgrund von Druckverlusten und Druckluftverbrauch. Dieser Typ sollte nur bei Bedarf verwendet werden. Diese Trockner müssen feuchtigkeits- und nicht zeitgesteuert sein. Absorptionstrockner sind effizienter, wenn die Luft zunächst durch einen Kältetrockner getrocknet wird. \n- Membran für kleine Volumenströme (< 85 m3/h). \nEine Schätzung des Verbrauchs ist in Abbildung 4 dargestellt.","Die Luft, die den Kompressor verlässt, ist in der Regel mit Wasser gesättigt. Diese Luft muss getrocknet werden, um Kondensation im Netz zu vermeiden. Das Niveau der Luftqualität im Verhältnis zur Feuchtigkeit wird durch den Taupunkt ausgedrückt. Es gibt verschiedene Arten von Trocknern:\n- Kältetechnik: Kältemaschinen sind die effizientesten Drucklufttrocknungssysteme. Sie können verwendet werden, wenn der Taupunkt über 2°C liegt. Wenn diese Trockner 10 Minuten benötigen, um mit voller Leistung zu laufen, können sie gleichzeitig mit dem Kompressor gestoppt werden. \n- Adsoption: Zwei parallel installierte Tanks enthalten ein Trockenmittel; im ersten Tank erfolgt die Adsorption, im zweiten die Regeneration. Die Kaltregeneration erfolgt durch Einblasen von Druckluft (10-20 % der Trockner-Nennleistung, es handelt sich also um Verluste). Der Drucktaupunkt liegt zwischen -40°C und -70°C. Zur Regeneration wird entweder erwärmte Luft (elektrischer Widerstand), Dampf oder durch den Kompressor erwärmte Luft verwendet. Die Temperatur wird dann mit Umgebungsluft gesenkt. Der Taupunkt liegt bei etwa -40°C. Die Verluste liegen zwischen 8 - 12% aufgrund von Druckverlusten und Druckluftverbrauch. Dieser Typ sollte nur bei Bedarf verwendet werden. Diese Trockner müssen feuchtigkeits- und nicht zeitgesteuert sein. Adsorptionstrockner sind effizienter, wenn die Luft zunächst durch einen Kältetrockner getrocknet wird. \n- Membran für kleine Punktströmungen (< 85 m3/h). \nEine Schätzung des Verbrauchs ist in Abbildung 4 dargestellt.",1,null,null,"Clement Dugua:\nd'après hypothèse"]
[{"$f":"IF($B$2=\"FR\",B260,C260)","v":"Figure 4 : Consommation énergétique de différents sécheurs et leurs domaine d'application [rat]. Attention ces valuers sont approximatives. D'autres sources indiquent entre 2 et 10 Wh/m3 pour les sécheurs frigorifique et entre 15% et 20 % de pertes en volume d'air comprimé pour les sécheurs à adsorption et absoprtion."},"Figure 4 : Consommation énergétique de différents sécheurs et leurs domaine d'application [rat]. Attention ces valuers sont approximatives. D'autres sources indiquent entre 2 et 10 Wh/m3 pour les sécheurs frigorifique et entre 15% et 20 % de pertes en volume d'air comprimé pour les sécheurs à adsorption et absoprtion.","Abbildung 4: Energieverbrauch verschiedener Trockner und ihr Einsatzbereich [Ratte]. Bitte beachten Sie, dass diese Werte ungefähre Werte sind. Andere Quellen geben für Kältetrockner zwischen 2 und 10 Wh/m3 und für Adsorptions- und Absorptionstrockner zwischen 15% und 20% der Druckluftvolumenverluste an.","Abbildung 4: Energieverbrauch verschiedener Trockner und ihr Einsatzbereich [rat]. Bitte beachten Sie, dass diese Werte ungefähre Werte sind. Andere Quellen geben für Kältetrockner zwischen 2 und 10 Wh/m3 und für Adsorptions- und Absorptionstrockner zwischen 15% und 20% der Druckluftvolumenverluste an.",1,null,null,"Clement Dugua:\nd'après hypothèse"]
["On recommande de remplacer à posteriori tous les systèmes de séchage par une machine frigorifique si le point de rosé requis n'est pas trop élevé (bas?) (> 3°C).\nLes économies peuvent être calculées en s'informant sur les consommations des différents sécheurs.\nPour les sécheurs à adsorption les mesures d'optimisation suivantes peuvent être envisagées:\n- Réguler la régénération sur la base de la mesure du point de rosée.\n- Ne pas surdimensionner le sécheur (notamment lorsque la régénération est réalisée par un débit fixe dimensionné pour la capacité nominale).\n- Contrôler le bon fonctionnement des vannes. ","On recommande de remplacer à posteriori tous les systèmes de séchage par une machine frigorifique si le point de rosé requis n'est pas trop élevé (bas?) (> 3°C).\nLes économies peuvent être calculées en s'informant sur les consommations des différents sécheurs.\nPour les sécheurs à adsorption les mesures d'optimisation suivantes peuvent être envisagées:\n- Réguler la régénération sur la base de la mesure du point de rosée.\n- Ne pas surdimensionner le sécheur (notamment lorsque la régénération est réalisée par un débit fixe dimensionné pour la capacité nominale).\n- Contrôler le bon fonctionnement des vannes. ","Es wird empfohlen, alle Trocknungssysteme mit einer Kältemaschine nachzurüsten, wenn der erforderliche Taupunkt nicht zu hoch (niedrig?) ist (> 3°C). \nDie Einsparungen lassen sich berechnen, indem man sich über den Verbrauch der verschiedenen Trockner informiert. \nBei Adsorptionstrocknern können folgende Optimierungsmaßnahmen in Betracht gezogen werden: \n- Regenerationssteuerung auf der Grundlage der Taupunktmessung. \n- Der Trockner darf nicht überdimensioniert werden (insbesondere wenn die Regeneration mit einer festen, für die Nennkapazität bemessenen Durchflussmenge durchgeführt wird). \n- Überprüfen Sie das korrekte Funktionieren der Ventile. ","Es wird empfohlen, alle Trocknungssysteme mit einer Kältemaschine nachzurüsten, wenn der erforderliche Taupunkt nicht zu niedrig ist (> 3°C). \nDie Einsparungen lassen sich berechnen, indem man nach dem Verbrauch der verschiedenen Trockner fragt. \nBei Adsorptionstrocknern können folgende Optimierungsmaßnahmen in Betracht gezogen werden: \n- Regenerationssteuerung auf der Grundlage der Taupunktmessung. \n- Der Trockner darf nicht überdimensioniert werden (insbesondere wenn die Regeneration mit einer festen, für die Nennkapazität bemessenen Durchflussmenge durchgeführt wird). \n- Überprüfen Sie die korrekte Funktion der Ventile. \n[Hiraux2014]",1,null,null,"Clement Dugua:\nd'après hypothèse"]
["Référence:","Référence:","Referenz:","Referenz:",1,null,null,"Clement Dugua:\nd'après hypothèse"]
["[Hiraux2014] Ellipse, Air comprimé, Michel Hiraux, 2014","[Hiraux2014] Ellipse, Air comprimé, Michel Hiraux, 2014","[Hiraux2014] Ellipse, Druckluft, Michel Hiraux, 2014","[Hiraux2014] Ellipse, Air comprimé, Michel Hiraux, 2014",1,null,null,"Clement Dugua:\nd'après hypothèse"]
["Mesurage Planair","Mesurage Planair","Planair-Messung","Messung : Planair",1,null,null,"Clement Dugua:\nd'après facture"]
["[rat] Ratgeber Druckluft für den Praxiseinsatz, ein Handbuch für die Instandhaltung. LandesEnergieVerein Steiermark, 2006","[rat] Ratgeber Druckluft für den Praxiseinsatz, ein Handbuch für die Instandhaltung. LandesEnergieVerein Steiermark, 2006","[rat] Ratgeber Druckluft für den Praxiseinsatz, ein Handbuch für die Instandhaltung. LandesEnergieVerein Steiermark, 2006","[rat] Ratgeber Druckluft für den Praxiseinsatz, ein Handbuch für die Instandhaltung. LandesEnergieVerein Steiermark, 2006",1,null,null,"Clement Dugua:\nd'après facture"]
["Les auteurs remercie Rolf Gloor pour la relecture et les nombreux conseils qui sont intégrés dans ce texte.","Les auteurs remercie Rolf Gloor pour la relecture et les nombreux conseils qui sont intégrés dans ce texte.","Die Autoren danken Rolf Gloor für das Korrekturlesen und die vielen Tipps, die in diesen Text integriert sind.","Die Autoren danken Rolf Gloor für das Korrekturlesen und die vielen Tipps, die in diesen Text integriert sind.",1,null,null,"Clement Dugua:\nd'après facture"]
["Groupe froid","Groupe froid","Kühlaggregat","Kälteanlage",null,null,null,"Clement Dugua:\nd'après facture"]
["Support","Support","Unterstützung","Unterstützung",1,null,null,"Clement Dugua:\nd'après facture"]
["Analyse fine Froid","Analyse fine Froid","Feinanalyse Kälte","Feinanalyse Kälte",1,null,null,"Clement Dugua:\nd'après facture"]
["Ce module FA dévolu aux installations friogrifiques propose une démarche permettant une analyse approfondie du système existant (incluant des mesurages) et des propositions d'optimisation appropriées.","Ce module FA dévolu aux installations friogrifiques propose une démarche permettant une analyse approfondie du système existant (incluant des mesurages) et des propositions d'optimisation appropriées.","Dieses den Kühlanlagen gewidmete FA-Modul schlägt einen Ansatz vor, der eine gründliche Analyse des bestehenden Systems (einschließlich Messungen) und entsprechende Optimierungsvorschläge ermöglicht.","Dieses den Kühlanlagen gewidmete FA-Modul schlägt einen Ansatz vor, der eine gründliche Analyse des bestehenden Systems (einschließlich Messungen) und entsprechende Optimierungsvorschläge ermöglicht.",1,null,null,"Clement Dugua:\nd'après facture"]
["1. Besoins en froid","1. Besoins en froid","1. Kühlbedarf","1. Bedarf an Kälte",1,null,null,"Clement Dugua:\nd'après facture"]
["1.1 Objectif ","1.1 Objectif ","1.1 Zielsetzung ","1.1 Zielsetzung ",1,null,null,"Clement Dugua:\nd'après facture"]
["Déterminer le profil réel des besoins en froid en période d'exploitation et non exploitation (nuit, week-end, arrêt de production)","Déterminer le profil réel des besoins en froid en période d'exploitation et non exploitation (nuit, week-end, arrêt de production)","Bestimmen Sie das tatsächliche Profil des Kühlbedarfs während der Betriebs- und Nichtbetriebszeiten (Nacht, Wochenende, Produktionsabschaltung)","Bestimmen Sie das tatsächliche Profil des Kühlbedarfs während der Betriebs- und Nichtbetriebszeiten (Nacht, Wochenende, Produktionsabschaltung)",1,null,null,"Clement Dugua:\nd'après facture"]
["1.2 Détermination des besoins","1.2 Détermination des besoins","1.2 Bestimmung des Bedarfes","1.2 Bestimmung der Anforderungen",1,null,null,"Clement Dugua:\nd'après facture"]
["Mesurages (relevés horaires) sur une semaine \"type\" durant la période estivale de  :\n- débit du réseau de distribution (débitmètre du site ou débitmètre externe à ultrason)\n- température aller et retour (capteurs de températures)\n\nSuite aux mesurages, les puissances frigorifiques réelles peuvent être calculées via la formule suivante :\n","Mesurages (relevés horaires) sur une semaine \"type\" durant la période estivale de  :\n- débit du réseau de distribution (débitmètre du site ou débitmètre externe à ultrason)\n- température aller et retour (capteurs de températures)\n\nSuite aux mesurages, les puissances frigorifiques réelles peuvent être calculées via la formule suivante :\n","Messungen (stündliche Aufnahmen) über eine \"typische\" Woche während der Sommerperiode von:\n- Durchflussmenge des Verteilungsnetzes (Standortdurchflussmesser oder externer Ultraschall-Durchflussmesser)\n- Vor- und Rücklauftemperatur (Temperatursensoren)\n\nIm Anschluss an die Messungen können die tatsächlichen Kühlleistungen nach folgender Formel berechnet werden:","Messungen (stündliche Messungen) über eine \"typische\" Woche während der Sommerperiode von:\n- Durchflussmenge des Verteilungsnetzes (Standortdurchflussmesser oder externer Ultraschall-Durchflussmesser)\n- Vor- und Rücklauftemperatur (Temperatursensoren)\n\nIm Anschluss an die Messungen können die tatsächlichen Kühlleistungen nach folgender Formel berechnet werden:",1,null,null,"Clement Dugua:\nd'après facture"]
[{"$f":"IF($B$2=\"FR\",B276,C276)","v":"2. Perform. de la production"},"2. Perform. de la production","2. Produktionsleistung"]
["2. Performances de la production de froid","2. Performances de la production de froid","2. Produktionsleistung der Kälte ","2. Kälte Produktionsleistung",1,null,null,"Clement Dugua:\nd'après mesurage ou hyptohèse"]
["2.1 Objectif ","2.1 Objectif ","2.1 Zielsetzung ","2.1 Zielsetzung ",1,null,null,"Clement Dugua:\nd'après mesurage ou hyptohèse"]
["Déterminer la performance réelle du groupe froid et la comparer à la performance théorique :\n- du groupe froid existant\n- d'un nouveau groupe froid\nOn utilisera le SEPR (Seasonal Energy Performance Ratio), qui est le coefficient d'efficacité d'un refroidisseur industriel produissant du froid dans des  conditions nominales standard,  il est  représentatif  des  variations  de  la  charge et de la température ambiante tout au long de l’année.\nLa finalité est de déterminer s'il est plus intéressant d'optimiser les paramètres de fonctionnement du groupe froid actuel ou de changer de groupe.","Déterminer la performance réelle du groupe froid et la comparer à la performance théorique :\n- du groupe froid existant\n- d'un nouveau groupe froid\nOn utilisera le SEPR (Seasonal Energy Performance Ratio), qui est le coefficient d'efficacité d'un refroidisseur industriel produissant du froid dans des  conditions nominales standard,  il est  représentatif  des  variations  de  la  charge et de la température ambiante tout au long de l’année.\nLa finalité est de déterminer s'il est plus intéressant d'optimiser les paramètres de fonctionnement du groupe froid actuel ou de changer de groupe.","Bestimmen Sie die tatsächliche Leistung des Kälteaggregates und vergleichen Sie diese mit der theoretischen Leistung:\n- des bestehenden Kälteaggregates\n- eines neuen Kälteaggregate \nVerwendet wird das SEPR (Seasonal Energy Performance Ratio), das ist der Wirkungsgrad eines industriellen Kälteaggregates, der unter Standardnennbedingungen Kälte erzeugt und repräsentativ für die Last- und Umgebungstemperaturschwankungen während des Jahres ist. \nZiel ist es, festzustellen, ob es interessanter ist, die Betriebsparameter der aktuellen Kältemaschine zu optimieren oder die Gruppe zu ändern.","Bestimmen Sie die tatsächliche Leistung der Kälteanlage und vergleichen Sie diese mit der theoretischen Leistung:\n- der vorhandenen Kälteanlage\n- einer neuen Kälteanlage\nDas SEPR (Seasonal Energy Performance Ratio) wird verwendet. Das ist der Wirkungsgrad eines industriellen Kaltwassersatzes, der unter Standardnennbedingungen Kälte erzeugt und repräsentativ für die Last- und Umgebungstemperaturschwankungen während des Jahres ist. \nZiel ist es, festzustellen, ob es interessanter ist, die Betriebsparameter der aktuellen Kälteanlage zu optimieren oder die Anlage zu ändern.",1,null,null,"Clement Dugua:\nd'après mesurage ou hyptohèse"]
["2.2 Détermination des performances globales du groupe ","2.2 Détermination des performances globales du groupe ","2.2 Bestimmung der Gesamtleistung der Gruppe ","2.2 Bestimmung der Gesamtleistung der Anlage ",1,null,null,"Clement Dugua:\nd'après mesurage ou hyptohèse"]
["2.2.1 Comparaison du SEPR réel du groupe froid avec le SEER théorique du même groupe","2.2.1 Comparaison du SEPR réel du groupe froid avec le SEER théorique du même groupe","2.2.1 Vergleich der tatsächlichen SEPR der Kältemaschine mit der theoretischen SEER der gleichen Einheit","2.2.1 Vergleich der tatsächlichen SEER der Kälteanlage mit der theoretischen SEER der gleichen Anlage",1,null,null,"Clement Dugua:\nd'après mesurage ou hyptohèse"]
["L'EER (Energy Efficiency Ratio) est une valeur représentative de la performance d'un groupe froid pour une température extérieure donnée. Par exemple, un EER égal à 3 signifie que pour 1kW électrique fourni à la machine, elle pourra produire 3 kW de froid.\nLe SEPR (Seasonal Energy Performance Ratio) est une moyenne des EER sur l'année. \nUne méthode simplifiée pour calculer cette valeur, est d'utiliser 4 EER correspondant chacun à une température extérieure représentative du fonctionnement du groupe froid (à définir suivant la localisation du site et le mode d'exploitation du groupe). Le calcul du SEPR peut se faire via la formule suivante :\n                                                           SEPR = a*EER(cas1) + b*EER(cas2) + c*EER(cas3) + d*EER(cas4)\navec a, b, c et d les pourcentages représentatifs du temps de fonctionnement du groupe froid pour chaque cas\n\nMesurages dans les 4 cas de : \n- puissance électrique absorbée des compresseurs\n- débit du réseau de distribution\n- température aller et retour du réseau\nSuite aux mesurages, les 4 EER réels, nécessaires au calcul du SEPR réel, peuvent être calculés via la formule suivante :\n\n\n\n\n\nConcernant le SEPR théorique, le fournisseur peut fournir les 4 EER théoriques du groupe froid, nécessaires au calcul.\n\nL'économie associée à l'optimisation des paramètres de fonctionnement, peut être calculée via la formule suivante :\n\n\n","L'EER (Energy Efficiency Ratio) est une valeur représentative de la performance d'un groupe froid pour une température extérieure donnée. Par exemple, un EER égal à 3 signifie que pour 1kW électrique fourni à la machine, elle pourra produire 3 kW de froid.\nLe SEPR (Seasonal Energy Performance Ratio) est une moyenne des EER sur l'année. \nUne méthode simplifiée pour calculer cette valeur, est d'utiliser 4 EER correspondant chacun à une température extérieure représentative du fonctionnement du groupe froid (à définir suivant la localisation du site et le mode d'exploitation du groupe). Le calcul du SEPR peut se faire via la formule suivante :\n                                                           SEPR = a*EER(cas1) + b*EER(cas2) + c*EER(cas3) + d*EER(cas4)\navec a, b, c et d les pourcentages représentatifs du temps de fonctionnement du groupe froid pour chaque cas\n\nMesurages dans les 4 cas de : \n- puissance électrique absorbée des compresseurs\n- débit du réseau de distribution\n- température aller et retour du réseau\nSuite aux mesurages, les 4 EER réels, nécessaires au calcul du SEPR réel, peuvent être calculés via la formule suivante :\n\n\n\n\n\nConcernant le SEPR théorique, le fournisseur peut fournir les 4 EER théoriques du groupe froid, nécessaires au calcul.\n\nL'économie associée à l'optimisation des paramètres de fonctionnement, peut être calculée via la formule suivante :\n\n\n","Das EER (Energy Efficiency Ratio) ist ein repräsentativer Wert für die Leistung eines Kühlaggregats bei einer bestimmten Außentemperatur. Ein EER von 3 bedeutet zum Beispiel, dass die Maschine pro 1 kW Strom, der ihr zugeführt wird, 3 kW Kälte erzeugen kann. \nDer SEPR (Seasonal Energy Performance Ratio) ist ein Durchschnitt der EERs über das Jahr. \nEine vereinfachte Methode zur Berechnung dieses Wertes ist die Verwendung von 4 EERs, die jeweils einer Außentemperatur entsprechen, die für den Betrieb der Kältemaschine repräsentativ ist (je nach Standort und Betriebsart der Einheit zu definieren). Der SEPR kann mit der folgenden Formel berechnet werden: \n                        SEPR = a*EER(case1) + b*EER(case2) + c*EER(case3) + d*EER(case4) \nmit den Prozentsätzen a, b, c und d, welche für die Betriebszeit des Kühlaggregates für jeden Fall repräsentativ sind.\n\nMessungen in den 4 Fällen von : \n- elektrische Leistungsaufnahme der Kompressoren \n- Durchflussmenge des Verteilungsnetzes \n- Vorlauf- und Rücklauftemperatur des Netzes\nNach den Messungen können die 4 realen EERs, die für die Berechnung des realen SEPR notwendig sind, mit folgender Formel berechnet werden:\n\n\nBezüglich der theoretischen SEPR kann der Lieferant die 4 theoretischen EERs der Kühleinheit liefern, welche für die Berechnung erforderlich sind.\n\nDie mit der Optimierung der Betriebsparameter verbundenen Einsparungen lassen sich anhand der folgenden Formel berechnen:","Das EER (Energy Efficiency Ratio) ist ein repräsentativer Wert für die Leistung eines Kaltwassersatzes bei einer bestimmten Außentemperatur. Ein EER von 3 bedeutet zum Beispiel, dass die Maschine pro 1 kW Strom, der ihr zugeführt wird, 3 kW Kälte erzeugen kann. \nDie SEPR ist ein Durchschnitt der EERs über das Jahr. \nEine vereinfachte Methode zur Berechnung dieses Wertes ist die Verwendung von 4 EERs, die jeweils einer Außentemperatur entsprechen, die für den Betrieb der Kältemaschine repräsentativ ist (je nach Standort und Betriebsart der Einheit zu definieren). Der SEPR kann mit der folgenden Formel berechnet werden: \n                                                        SEPR = a*EER(case1) + b*EER(case2) + c*EER(case3) + d*EER(case4) \nmit a, b, c und d die Prozentsätze, die für die Betriebszeit des Kühlers für jeden Fall repräsentativ sind.\n\nMessungen in den 4 Fällen von : \n- elektrische Leistungsaufnahme der Kompressoren \n- Durchflussmenge des Verteilungsnetzes \n- Vorlauf- und Rücklauftemperatur des Netzes\nNach den Messungen können die 4 realen EERs, die für die Berechnung des realen SEPR notwendig sind, mit folgender Formel berechnet werden:\n\n\n\n\n\nBezüglich der theoretischen SEPR kann der Lieferant die 4 theoretischen EERs der Kühleinheit liefern, die für die Berechnung erforderlich sind.\n\nDie mit der Optimierung der Betriebsparameter verbundenen Einsparungen lassen sich anhand der folgenden Formel berechnen:\n",1,null,null,"Clement Dugua:\nd'après mesurage ou hyptohèse"]
["2.2.2 Comparaison du SEPR réel du groupe froid avec le SEPR théorique d'un nouveau groupe","2.2.2 Comparaison du SEPR réel du groupe froid avec le SEPR théorique d'un nouveau groupe","2.2.2 Vergleich des tatsächlichen SEPR der Kältemaschine mit dem theoretischen SEPR einer neuen Einheit","2.2.2 Vergleich des tatsächlichen SEPR der Kälteanlage mit dem theoretischen SEPR einer neuen Anlage",1,null,null,"Clement Dugua:\nd'après mesurage ou hyptohèse"]
["- Se rapprocher du fournisseur pour la sélection d'un nouveau groupe froid \n- Demander les 4 EER théoriques du groupe froid et calculer la valeur du SEER théorique\n\nL'économie associée à l'achat d'un nouveau groupe froid, peut être calculée via la formule suivante :\n\n","- Se rapprocher du fournisseur pour la sélection d'un nouveau groupe froid \n- Demander les 4 EER théoriques du groupe froid et calculer la valeur du SEER théorique\n\nL'économie associée à l'achat d'un nouveau groupe froid, peut être calculée via la formule suivante :\n\n","\n- Kontaktieren Sie den Lieferanten für die Auswahl eines neuen Kühlers \n- Fragen Sie nach den 4 theoretischen EERs des Kühlers und berechnen Sie den theoretischen SEPR-Wert\n\nDie mit der Anschaffung eines neuen Kühlers verbundenen Einsparungen lassen sich anhand der folgenden Formel berechnen:","\n- Kontaktieren Sie den Lieferanten für die Auswahl einer neuen Kälteanlage \n- Fragen Sie nach den 4 theoretischen EERs der Kälteanlage und berechnen Sie den theoretischen SEER-Wert\nDie mit der Anschaffung einer neuen Kälteanlage verbundenen Einsparungen lassen sich anhand der folgenden Formel berechnen:",1,null,null,"Clement Dugua:\nd'après mesurage ou hyptohèse"]
["2.3 Outil de décision","2.3 Outil de décision","2.3 Entscheidungshilfe","2.3 Entscheidungshilfe",1,null,null,"Clement Dugua:\nd'après mesurage ou hyptohèse"]
["Si la différence d'économie entre les 2 cas est :\n- faible (inférieure à 20%) : la solution envisagée est de conserver le groupe froid et d'optimiser son fonctionnement\n- élevée (supérieure à 20%) : la solution envisagée est de changer de groupe froid\nNota : La valeur de 20% reste une valeur à titre indicatif","Si la différence d'économie entre les 2 cas est :\n- faible (inférieure à 20%) : la solution envisagée est de conserver le groupe froid et d'optimiser son fonctionnement\n- élevée (supérieure à 20%) : la solution envisagée est de changer de groupe froid\nNota : La valeur de 20% reste une valeur à titre indicatif","Wenn die Differenz der Einsparungen zwischen den beiden Fällen :\n- gering ist (weniger als 20%): die in Betracht gezogene Lösung besteht darin, die Kühleinheit beizubehalten und ihren Betrieb zu optimieren\n- hoch ist (mehr als 20%): die in Betracht gezogene Lösung besteht darin, die Kühleinheit zu ändern\nHinweis: Der Wert von 20% bleibt ein Richtwert.","Wenn die Differenz der Einsparungen zwischen den beiden Fällen ist:\n- gering (weniger als 20%): die in Betracht gezogene Lösung besteht darin, die Kälteanlage beizubehalten und ihren Betrieb zu optimieren\n- hoch (mehr als 20%): die in Betracht gezogene Lösung besteht darin, die Kälteanlage zu ändern\nHinweis: Der Wert von 20% bleibt ein Richtwert.",1,null,null,"Clement Dugua:\nd'après mesurage ou hyptohèse"]
["3. Optimisation de la production de froid","3. Optimisation de la production de froid","3. Optimierung der Kälteproduktion","3. Optimierung der Kälteproduktion",1,null,null,"Clement Dugua:\nvaleur communiquée par le fournisseur pour la température représentative"]
["3.1 Objectif ","3.1 Objectif ","3.1 Zielsetzung ","3.1 Zielsetzung ",1,null,null,"Clement Dugua:\nvaleur communiquée par le fournisseur pour la température représentative"]
["Analyser le fonctionnement des différents composants de la production de froid","Analyser le fonctionnement des différents composants de la production de froid","Analyse der Funktionsweise der verschiedenen Komponenten des Kaltproduktionsprozesses","Analyse der Funktionsweise der verschiedenen Komponenten des Kaltproduktionsprozesses",1,null,null,"Clement Dugua:\nvaleur communiquée par le fournisseur pour la température représentative"]
["3.2 Compresseur(s)","3.2 Compresseur(s)","3.2 Kompressor(en)","3.2 Kompressor(en)",1,null,null,"Clement Dugua:\nvaleur communiquée par le fournisseur pour la température représentative"]
["Quelle est le mode de régulation des compresseurs ?\nAfin de déterminer de manière précise le fonctionnement des compresseurs, des mesurages de la puissance électrique (relevés minutes) seront réalisées. \n\nLes différents modes de régulation possibles sont les suivants :\npour les compresseurs à pistons\n- déconnexion des cylindres : les compresseurs ouverts possédant un nombre élevé de cylindres offrent la possibilité d’une mise hors circuit ou déconnexion de cylindre pour une régulation par degrés de la puissance. La puissance frigorifique obtenue en charge partielle dépend du nombre de cylindres en service par rapport au nombre de cylindres déconnectés.\npour les compresseurs à vis\n- par tiroir : le principe consiste à limiter la course de la vis (pour les compresseurs à vis), en déplacant un \"tiroir\", on modifie la section d'entrée du volume aspiré et donc on module le débit\npour tout type de compresseur\n- tout ou rien : régulation ancienne et basique qui consiste à la mise en marche ou à l'arrêt des compresseurs\n- en cascade : le principe consiste à découper la tâche par palier, la régulation s’effectue par la mise en parallèle successive des compresseurs (cascade)\n- par  variation de vitesse : la vitesse du compresseur est adaptée en fonction de la demande, modifiant son volume aspiré et donc sa puissance\nLa mise en place d'un système de variation de vitesse apparait comme la méthode la plus adaptée. \n\nL'économie sur la consommation par la mise en place de variateur de vitesse est estimée à :\n- 8% pour une régulation tout ou rien\n- 5% pour une régulation en cascade\n- 2% pour une régulation par tiroir \n- 2% pour une régulation par déconnexion des cylindres ","Quelle est le mode de régulation des compresseurs ?\nAfin de déterminer de manière précise le fonctionnement des compresseurs, des mesurages de la puissance électrique (relevés minutes) seront réalisées. \n\nLes différents modes de régulation possibles sont les suivants :\npour les compresseurs à pistons\n- déconnexion des cylindres : les compresseurs ouverts possédant un nombre élevé de cylindres offrent la possibilité d’une mise hors circuit ou déconnexion de cylindre pour une régulation par degrés de la puissance. La puissance frigorifique obtenue en charge partielle dépend du nombre de cylindres en service par rapport au nombre de cylindres déconnectés.\npour les compresseurs à vis\n- par tiroir : le principe consiste à limiter la course de la vis (pour les compresseurs à vis), en déplacant un \"tiroir\", on modifie la section d'entrée du volume aspiré et donc on module le débit\npour tout type de compresseur\n- tout ou rien : régulation ancienne et basique qui consiste à la mise en marche ou à l'arrêt des compresseurs\n- en cascade : le principe consiste à découper la tâche par palier, la régulation s’effectue par la mise en parallèle successive des compresseurs (cascade)\n- par  variation de vitesse : la vitesse du compresseur est adaptée en fonction de la demande, modifiant son volume aspiré et donc sa puissance\nLa mise en place d'un système de variation de vitesse apparait comme la méthode la plus adaptée. \n\nL'économie sur la consommation par la mise en place de variateur de vitesse est estimée à :\n- 8% pour une régulation tout ou rien\n- 5% pour une régulation en cascade\n- 2% pour une régulation par tiroir \n- 2% pour une régulation par déconnexion des cylindres ","Wie werden die Kompressoren geregelt? \nUm den Betrieb der Kompressoren genau zu bestimmen, werden elektrische Leistungsmessungen (Minutenmessungen) durchgeführt. \n\nDie verschiedenen Regelmodi sind wie folgt: \nfür Kolbenkompressoren \n- Zylinderabschaltung: offene Kompressoren mit einer hohen Anzahl von Zylindern bieten die Möglichkeit der Zylinderabschaltung oder Zylinderabschaltung zur stufenweisen Leistungsregelung. Die bei Teillast erzielte Kälteleistung hängt von der Anzahl, der in Betrieb befindlichen Zylinder, im Vergleich zur Anzahl der abgekoppelten Zylinder, ab. \nfür Schraubenkompressoren \n- durch Schieber: Das Prinzip besteht darin, den Hub der Schraube (bei Schraubenkompressoren) zu begrenzen; durch die Bewegung eines \"Schiebers\" wird der Ansaugquerschnitt des angesaugten Volumens verändert und somit die Durchflussmenge für jeden Kompressortyp moduliert \n- ein/aus: alte und grundlegende Regelung, die darin besteht, die Kompressoren zu starten oder zu stoppen \n- in Kaskade : das Prinzip besteht in der Aufteilung der Aufgabe in Stufen, die Regelung erfolgt durch die sukzessive Parallelschaltung der Verdichter (Kaskade) \n- durch Drehzahlvariation: die Drehzahl des Verdichters wird je nach Bedarf angepasst, wodurch sein Ansaugvolumen und damit seine Leistung verändert wird\nDie Implementierung eines Systems zur Drehzahlvariation scheint die geeignetste Methode zu sein.\n\nDie Verbrauchseinsparungen durch den Einbau eines drehzahlvariablen Antriebs werden geschätzt auf:\n- 8% bei einer Auf-Zu-Regelung,- \n5% bei einer Kaskadenregelung,- \n2% bei einer Schieberregelung,- 2% bei einer \nRegelung durch Abschaltung der Zylinder. ","Wie werden die Kompressoren geregelt? \nUm den Betrieb der Kompressoren genau zu bestimmen, werden elektrische Leistungsmessungen (Minutenmessungen) durchgeführt. \n\nDie verschiedenen Regelmodi sind wie folgt: \nfür Kolbenkompressoren \n- Zylinderabschaltung: offene Kompressoren mit einer hohen Anzahl von Zylindern bieten die Möglichkeit der Zylinderabschaltung oder Zylinderabschaltung zur stufenweisen Leistungsregelung. Die bei Teillast erzielte Kälteleistung hängt von der Anzahl der in Betrieb befindlichen Zylinder im Vergleich zur Anzahl der abgekoppelten Zylinder ab. \nfür Schraubenkompressoren \n- durch Schieber: Das Prinzip besteht darin, den Hub der Schraube (bei Schraubenkompressoren) zu begrenzen; durch die Bewegung eines \"Schiebers\" wird der Ansaugquerschnitt des angesaugten Volumens verändert und somit die Durchflussmenge moduliert.\nfür jeden Kompressortyp \n- ein/aus: alte und grundlegende Regelung, die darin besteht, die Kompressoren zu starten oder zu stoppen .\n- in Kaskade : das Prinzip besteht in der Aufteilung der Aufgabe in Stufen, die Regelung erfolgt durch die sukzessive Parallelschaltung der Verdichter (Kaskade).\n- durch Drehzahlvariation: die Drehzahl des Verdichters wird je nach Bedarf angepasst, wodurch sein Ansaugvolumen und damit seine Leistung verändert wird.\nDie Implementierung eines Systems zur Drehzahlvariation scheint die geeignetste Methode zu sein.\n\nDie Verbrauchseinsparungen durch den Einbau eines drehzahlvariablen Antriebs werden geschätzt auf:\n- 8% bei einer Auf-Zu-Regelung,\n- 5% bei einer Kaskadenregelung,\n- 2% bei einer Schieberregelung,\n- 2% bei einer Regelung durch Abschaltung der Zylinder. ",1,null,null,"Clement Dugua:\nvaleur communiquée par le fournisseur pour la température représentative"]
["3.3 Détendeur","3.3 Détendeur","3.3 Druckminderer","3.3 Druckminderer",1,null,null,"Clement Dugua:\nvaleur communiquée par le fournisseur pour la température représentative"]
["Quelle est la technologie du  détendeur en place : thermostatique ou électronique ?\nLa technologie du détendeur thermostatique est obsolète. Il est préconisé de remplacer ce dernier par un détendeur électronique qui permet de limiter la surchauffe entre 3 à 5°C en sortie d’évaporateur au lieu de 6 à 8°C. \n\nL'économie sur la consommation est calculée via la formule suivante :\nEconomie (%) = ∆T de l'augmentation de température d'évaporation * 3","Quelle est la technologie du  détendeur en place : thermostatique ou électronique ?\nLa technologie du détendeur thermostatique est obsolète. Il est préconisé de remplacer ce dernier par un détendeur électronique qui permet de limiter la surchauffe entre 3 à 5°C en sortie d’évaporateur au lieu de 6 à 8°C. \n\nL'économie sur la consommation est calculée via la formule suivante :\nEconomie (%) = ∆T de l'augmentation de température d'évaporation * 3","Welche Ventiltechnik ist vor Ort installiert: thermostatisch oder elektronisch? \nDie Technologie der thermostatischen Expansionsventile ist veraltet. Es wird empfohlen, es durch ein elektronisches Expansionsventil zu ersetzen, das die Überhitzung am Verdampferausgang auf 3 bis 5°C statt auf 6 bis 8°C begrenzt. \n\nDie Verbrauchseinsparungen werden nach folgender Formel berechnet:\nEinsparung (%) = ∆T der Erhöhung der Verdampfungstemperatur * 3","Welche Ventiltechnik gibt es: thermostatisch oder elektronisch? \nDie Technologie der thermostatischen Expansionsventile ist veraltet. Es wird empfohlen, es durch ein elektronisches Expansionsventil zu ersetzen, das die Überhitzung am Verdampferausgang auf 3 bis 5°C statt auf 6 bis 8°C begrenzt. \n\nDie Verbrauchseinsparungen werden nach folgender Formel berechnet:\nEinsparung (%) = ∆T der Erhöhung der Verdampfungstemperatur * 3",1,null,null,"Clement Dugua:\nvaleur communiquée par le fournisseur pour la température représentative"]
["3.4 Evaporateur","3.4 Evaporateur","3.4 Verdampfer","3.4 Verdampfer",1,null,null,"Clement Dugua:\nvaleur communiquée par le fournisseur pour la température représentative"]
[{"$f":"IF($B$2=\"FR\",B295,C295)","v":"Evaporateur"},"Evaporateur","Verdampfer"]
["La température de consigne d'évaporation est-elle adaptée à l'utilisation ?\nRelever la température d’évaporation de quelques degrés permet des économies non négligeables.\n\n- Si l'installation est dédiée au confort, il est probable que l'on puisse augmenter la température de quelques degrés. Des tests pourront être effectués afin de voir si cela impact ou non le confort des personnes. Par exemple, pour un réseau de climatisation avec une température de départ réglée à 10°C, une augmentation de la consigne pourrait potentiellement être réalisée. Se référer aux prescriptions SIA 382/1 concernant les températures d'utilisation dans les applications de confort.\n\n- Si l'installation est dédiée au process, l'augmentation de la température est sensiblement réduite dans le sens où elle est conditionnée par le mode de fonctionnement des machines. Il faudrait se rapprocher des fournisseurs machines pour connaitre l'impact d'un tel changement. \n\nL'économie sur la consommation est calculée via la formule suivante :\nEconomie (%)  = ∆T de l'augmentation de température d'évaporation * 3","La température de consigne d'évaporation est-elle adaptée à l'utilisation ?\nRelever la température d’évaporation de quelques degrés permet des économies non négligeables.\n\n- Si l'installation est dédiée au confort, il est probable que l'on puisse augmenter la température de quelques degrés. Des tests pourront être effectués afin de voir si cela impact ou non le confort des personnes. Par exemple, pour un réseau de climatisation avec une température de départ réglée à 10°C, une augmentation de la consigne pourrait potentiellement être réalisée. Se référer aux prescriptions SIA 382/1 concernant les températures d'utilisation dans les applications de confort.\n\n- Si l'installation est dédiée au process, l'augmentation de la température est sensiblement réduite dans le sens où elle est conditionnée par le mode de fonctionnement des machines. Il faudrait se rapprocher des fournisseurs machines pour connaitre l'impact d'un tel changement. \n\nL'économie sur la consommation est calculée via la formule suivante :\nEconomie (%)  = ∆T de l'augmentation de température d'évaporation * 3","Ist die Verdampfungs-Solltemperatur für die Anwendung geeignet? \nDie Erhöhung der Verdampfungstemperatur um einige Grad führt zu erheblichen Einsparungen.\n\n- Wenn die Anlage für den Komfort ausgelegt ist, ist es wahrscheinlich, dass die Temperatur um einige Grad erhöht werden kann. Es können Tests durchgeführt werden, um festzustellen, ob sich dies auf das Wohlbefinden der Menschen auswirkt oder nicht. Beispielsweise könnte für ein Klimaanlagennetz mit einer auf 10°C eingestellten Vorlauftemperatur potenziell eine Erhöhung des Sollwerts erreicht werden. Beachten Sie die Anforderungen der SIA 382/1 für Betriebstemperaturen in Komfortanwendungen.\n\n- Wenn die Anlage für den Prozess ausgelegt ist, wird die Temperaturerhöhung in dem Sinne deutlich reduziert, dass sie durch die Betriebsweise der Maschinen bedingt ist. Um die Auswirkungen einer solchen Änderung zu kennen, kontaktieren Sie die Maschinenliferanten.\n\nDie Verbrauchseinsparung wird nach folgender Formel berechnet: \nEinsparung (%) = ∆T des Anstiegs der Verdampfungstemperatur * 3","Ist die Verdampfungs-Solltemperatur für die Anwendung geeignet? \nDie Erhöhung der Verdampfungstemperatur um einige Grad führt zu erheblichen Einsparungen.\n\n- Wenn die Anlage dem Komfort gewidmet ist, ist es wahrscheinlich, dass die Temperatur um einige Grad erhöht werden kann. Es können Tests durchgeführt werden, um festzustellen, ob sich dies auf das Wohlbefinden der Menschen auswirkt oder nicht. Beispielsweise könnte für ein Klimaanlagennetz mit einer auf 10°C eingestellten Vorlauftemperatur potenziell eine Erhöhung des Sollwerts erreicht werden. Beachten Sie die Anforderungen der SIA 382/1 für Betriebstemperaturen in Komfortanwendungen.\n\n- Wenn die Anlage dem Prozess gewidmet ist, wird der Temperaturanstieg in dem Sinne deutlich reduziert, dass er durch die Betriebsweise der Maschinen bedingt ist. Es wäre notwendig, die Maschinenlieferanten zu kontaktieren, um die Auswirkungen einer solchen Änderung zu kennen. \n\nDie Verbrauchseinsparung wird nach folgender Formel berechnet: \nEinsparung (%) = ∆T des Anstiegs der Verdampfungstemperatur * 3",1,null,null,"Clement Dugua:\nd'après hypothèse"]
["3.5 Condenseur","3.5 Condenseur","3.5 Kondensator","3.5 Verflüssiger",1,null,null,"Clement Dugua:\nd'après hypothèse"]
[{"$f":"IF($B$2=\"FR\",B298,C298)","v":"Condenseur"},"Condenseur","Kondensator"]
["La température de condensation est-elle fixe ou flottante ?\nIl est préconisé de mettre en place un système de HP  flottante en fonction de la température extérieure. De cette manière la température de condensation fluctue suivant les conditions climatiques.\n\nL'économie sur la consommation est calculée via la formule suivante :\nEconomie (%) = ∆T de la diminution de température de condensation * 2.5","La température de condensation est-elle fixe ou flottante ?\nIl est préconisé de mettre en place un système de HP  flottante en fonction de la température extérieure. De cette manière la température de condensation fluctue suivant les conditions climatiques.\n\nL'économie sur la consommation est calculée via la formule suivante :\nEconomie (%) = ∆T de la diminution de température de condensation * 2.5","Ist die Kondensationstemperatur fest oder schwankend? \nEs wird empfohlen, abhängig von der Außentemperatur ein schwankendes HP-System zu installieren. Auf diese Weise schwankt die Kondensationstemperatur je nach Wetterbedingungen.\n\nDie Verbrauchseinsparung wird nach folgender Formel berechnet:\nEinsparung (%) = ∆T der Kondensationstemperaturabsenkung * 2,5","Ist die Verflüssigungstemperatur fest oder schwankend? \nEs wird empfohlen, abhängig von der Außentemperatur ein schwimmendes HP-System zu installieren. Auf diese Weise schwankt die Kondensationstemperatur je nach Wetterbedingungen.\n\nDie Verbrauchseinsparung wird nach folgender Formel berechnet:\nEinsparung (%) = ∆T der Kondensationstemperaturabsenkung * 2,5",1,null,null,"Clement Dugua:\nd'après hypothèse"]
["4. Optimisation de la distribution de froid","4. Optimisation de la distribution de froid","4. Optimierung der Kälteverteilung","4. Optimierung der Kälteverteilung",1,null,null,"Clement Dugua:\nd'après hypothèse"]
["4.1 Objectif ","4.1 Objectif ","4.1 Zielsetzung ","4.1 Zielsetzung ",1,null,null,"Nicolas Macabrey:\n"]
["Analyser les différents éléments du réseau de distibution ","Analyser les différents éléments du réseau de distibution ","Analysieren Sie die verschiedenen Elemente des Vertriebsnetzes ","Analysieren Sie die verschiedenen Elemente des Vertriebsnetzes ",1,null,"Temps nécessaire à rentabiliser financièrement la mesure d’optimisation énergétique en considérant que cette dernière supporte le 100% du coût de l’investissement. "]
["4.2 Général ","4.2 Général ","4.2 Allgemeines ","4.2 Allgemeines ",1,null,"Le TRB est souvent utilisé dans des programmes de soutien (comme par exemple Prokilowatt) pour calculer le droit aux subventions. Il permet un calcul simple et rapide de la rentabilité du projet, mais ne tient pas compte de l’évolution de la valeur monétaire ni de la durée de vie du projet."]
["Les réseaux froids sont isolés pour limiter les pertes thermiques et également éviter la condensation qui provoque l'oxydation des tuyauteries et des appareillages. \nDe ce fait,  une attention particulière devra être portée à l'état du calorifuge. Un remplacement des parties détériorées doit être effectué.","Les réseaux froids sont isolés pour limiter les pertes thermiques et également éviter la condensation qui provoque l'oxydation des tuyauteries et des appareillages. \nDe ce fait,  une attention particulière devra être portée à l'état du calorifuge. Un remplacement des parties détériorées doit être effectué.","Die Kältenetze sind isoliert, um den Wärmeverlust zu begrenzen und auch um Kondensation zu vermeiden, welche eine Oxidation von Rohren und Geräten verursacht. \nAus diesem Grund muss dem Zustand der Isolierung besondere Aufmerksamkeit geschenkt werden. Beschädigte Teile müssen ersetzt werden.","Die Kältenetze sind isoliert, um den Wärmeverlust zu begrenzen und auch um Kondensation zu vermeiden, die eine Oxidation von Rohren und Geräten verursacht. \nAus diesem Grund muss dem Zustand der Isolierung besondere Aufmerksamkeit geschenkt werden. Beschädigte Teile müssen ersetzt werden.",1,null,"Temps nécessaire à rentabiliser financièrement la mesure d’optimisation énergétique en considérant qu’elle supporte uniquement la partie du coût de l’investissement liée à l’économie d’énergie. "]
["4.3 Réseau primaire (entre le groupe froid et le stock froid)","4.3 Réseau primaire (entre le groupe froid et le stock froid)","4.3 Primärnetz (zwischen dem Kühler und dem Kühlhaus)","4.3 Primärnetz (zwischen der Kälteanlage und dem Kühllager)",1,null,"La part des coûts liée à l’énergie sert à évaluer quelle part des coûts de l'investissement a été dépensée pour économiser de l'énergie. Elle peut varier entre 0% si l'investissement est réalisé uniquement à des fins de remplacement et 100% si la totalité de l'investissement est destinée à l'amélioration énergétique. Elle se calcule comme suit:"]
["- Vérifier le bon dimensionnement de la pompe et ses paramètres de fonctionnement \n\n- Vérifier que l'écart de température entre l'aller et le retour, soit minimum de 4°C. Dans le cas contraire, diminuer le débit d’eau glacée.","- Vérifier le bon dimensionnement de la pompe et ses paramètres de fonctionnement \n\n- Vérifier que l'écart de température entre l'aller et le retour, soit minimum de 4°C. Dans le cas contraire, diminuer le débit d’eau glacée.","- Überprüfen Sie die korrekte Dimensionierung der Pumpe und ihre Betriebsparameter. \n\n- Überprüfen Sie, dass die Temperaturdifferenz zwischen Vor- und Rücklauf mindestens 4°C beträgt. Wenn dies nicht der Fall ist, reduzieren Sie den Durchfluss des gekühlten Wassers."," - Überprüfen Sie die korrekte Dimensionierung der Pumpe und ihre Betriebsparameter. \n\n- Überprüfen Sie, dass die Temperaturdifferenz zwischen Vor- und Rücklauf mindestens 4°C beträgt. Wenn dies nicht der Fall ist, reduzieren Sie den Durchfluss von gekühltem Wasser.",1,null,"- Remplacement d'une installation ou équipement avec pour but principal l'amélioration de l'efficacité énergétique :"]
["4.4 Réseau secondaire (entre le stock froid et les émetteurs)","4.4 Réseau secondaire (entre le stock froid et les émetteurs)","4.4 Sekundäres Netzwerk (zwischen Kühllager und Emittenten)","4.4 Sekundäres Netzwerk (zwischen Kühllager und Emittenten)",1,null,"- Nouvelle installation ou équipement avec l’amélioration énergétique comme but partiel :"]
["- Vérifier le bon dimensionnement de la pompe et ses paramètres de fonctionnement. A noter que si une régulation de la pompe est prévue sur le primaire, il sera impératif de réguler le circuit secondaire. Les réglages doivent être définis en corrélation avec les points de consigne.\n\n- Vérifier que le débit secondaire soit inférieur au débit primaire. Si cela n'est pas le cas, il existe probablement un phénomène de mélange entre l'aller et le retour, qui a pour conséquence une augmentation de la température de départ. Le débit du réseau secondaire doit être diminué.\n\n- Si le besoin en froid est variable, la mise en place de variateurs de vitesse sur les pompes est préconisée. De cette manière, les pompes sont modulées en fonction du besoin, ce qui diminue le débit du fluide et par conséquent la puissance électrique absorbée par les pompes.\n\n- Analyser les vannes au niveau des émetteurs de froid. Dans le cas de variation de vitesse, les vannes 3 voies devront être remplacées par des vannes 2 voies qui permettent d’adapter le débit en fonction de la demande.","- Vérifier le bon dimensionnement de la pompe et ses paramètres de fonctionnement. A noter que si une régulation de la pompe est prévue sur le primaire, il sera impératif de réguler le circuit secondaire. Les réglages doivent être définis en corrélation avec les points de consigne.\n\n- Vérifier que le débit secondaire soit inférieur au débit primaire. Si cela n'est pas le cas, il existe probablement un phénomène de mélange entre l'aller et le retour, qui a pour conséquence une augmentation de la température de départ. Le débit du réseau secondaire doit être diminué.\n\n- Si le besoin en froid est variable, la mise en place de variateurs de vitesse sur les pompes est préconisée. De cette manière, les pompes sont modulées en fonction du besoin, ce qui diminue le débit du fluide et par conséquent la puissance électrique absorbée par les pompes.\n\n- Analyser les vannes au niveau des émetteurs de froid. Dans le cas de variation de vitesse, les vannes 3 voies devront être remplacées par des vannes 2 voies qui permettent d’adapter le débit en fonction de la demande.","- Überprüfen Sie die korrekte Dimensionierung der Pumpe und ihre Betriebsparameter. Beachten Sie, dass, wenn die Pumpe auf der Primärseite geregelt werden soll, der Sekundärkreislauf unbedingt geregelt werden muss. Die Einstellungen müssen in Korrelation mit den Sollwerten definiert werden.\n\n- Prüfen Sie, ob die sekundäre Flussrate niedriger ist als die primäre Flussrate. Ist dies nicht der Fall, liegt wahrscheinlich ein Vermischungsphänomen zwischen Vor- und Rücklauf vor, das zu einer Erhöhung der Vorlauftemperatur führt. Die Durchflussrate des Sekundärsystems muss reduziert werden.\n\n- Wenn der Kühlbedarf variabel ist, wird die Installation von drehzahlvariablen Antrieben an den Pumpen empfohlen. Auf diese Weise werden die Pumpen bedarfsgerecht moduliert, was die Durchflussmenge der Flüssigkeit und damit die von den Pumpen aufgenommene elektrische Leistung reduziert.\n\n- Analysieren Sie die Ventile an den kalten Emittern. Bei Geschwindigkeitsänderungen sollten die 3-Wege-Ventile durch 2-Wege-Ventile ersetzt werden, die eine Anpassung der Durchflussmenge an den Bedarf ermöglichen."," - Überprüfen Sie die korrekte Dimensionierung der Pumpe und ihre Betriebsparameter. Beachten Sie, dass, wenn die Pumpe auf dem Primärnetz geregelt werden soll, der Sekundärkreislauf unbedingt geregelt werden muss. Die Einstellungen müssen in Korrelation mit den Sollwerten definiert werden.\n\n- Prüfen Sie, dass die sekundäre Flussrate niedriger ist als die primäre Flussrate. Ist dies nicht der Fall, liegt wahrscheinlich ein Vermischungsphänomen zwischen Vor- und Rücklauf vor, das zu einer Erhöhung der Vorlauftemperatur führt. Die Durchflussrate des Sekundärsystems muss reduziert werden.\n\n- Wenn der Kühlbedarf variabel ist, wird die Installation von drehzahlvariablen Antrieben an den Pumpen empfohlen. Auf diese Weise werden die Pumpen bedarfsgerecht moduliert, was die Durchflussmenge der Flüssigkeit und damit die von den Pumpen aufgenommene elektrische Leistung reduziert.\n\n- Analysieren Sie die Ventile an den kalten Emittern. Bei Drehzahlschwankungen sollten die 3-Wege-Ventile durch 2-Wege-Ventile ersetzt werden, die eine Anpassung der Durchflussmenge an den Bedarf ermöglichen.",1,null,"Sert à évaluer la création de valeur liée à un investissement initial après une certaine période de temps en tenant compte du taux d’actualisation."]
["5. Optimisation des auxiliaires électriques","5. Optimisation des auxiliaires électriques","5. Optimierung der elektrischen Hilfsaggregate","5. Optimierung der elektrischen Nebenanlagen",1,null,"I0 est l’investissement réalisé au moment initial (t=0)"]
["5.1 Objectif ","5.1 Objectif ","5.1 Zielsetzung ","5.1 Zielsetzung ",1,null,"Ft est le flux économique (recettes – dépenses) lié à la mesure d’optimisation pour la période t"]
["Analyser le fonctionnement des auxiliaires électriques présents sur des systèmes externes tels que les tours de refroidissement ","Analyser le fonctionnement des auxiliaires électriques présents sur des systèmes externes tels que les tours de refroidissement ","Analysieren Sie den Betrieb der elektrischen Hilfsgeräte, die in externen Systemen wie Kühltürmen vorhanden sind ","Analysieren Sie den Betrieb der elektrischen Hilfsgeräte, die in externen Systemen wie Kühltürmen vorhanden sind ",1,null,"n est le nombre de périodes de temps (durée d’effet de la mesure d’optimisation)"]
["5.2 Analyse des auxiliaires électriques","5.2 Analyse des auxiliaires électriques","5.2 Analyse der elektrischen Hilfsaggregate","5.2 Analyse der elektrischen Nebenanlagen",1,null,"k est le taux d’actualisation et correspond au taux de rentabilité souhaité par l’entreprise"]
["L'étude du fonctionnement de ces auxiliaires électriques ne doit pas être négligé. Le potentiel d'économie peut s'avérer être important. Ce travail sera réalisé en s'appuyant sur les analyses de détails suivantes : \"Analyse Préliminaire Pompe\" et \"Analyse Préliminaire Ventilateur\"","L'étude du fonctionnement de ces auxiliaires électriques ne doit pas être négligé. Le potentiel d'économie peut s'avérer être important. Ce travail sera réalisé en s'appuyant sur les analyses de détails suivantes : \"Analyse Préliminaire Pompe\" et \"Analyse Préliminaire Ventilateur\"","Die Untersuchung der Funktionsfähigkeit dieser elektrischen Hilfsgeräte darf nicht vernachlässigt werden. Das Einsparungspotenzial kann beträchtlich sein. Diese Arbeit wird auf der Grundlage der folgenden detaillierten Analysen durchgeführt: \"Grobanalyse Pumpen\" und \"Grobanalyse Gebläse\".","Die Untersuchung des Betriebs dieser elektrischen Hilfsgeräte darf nicht vernachlässigt werden. Das Einsparungspotenzial kann beträchtlich sein. Diese Arbeit wird auf der Grundlage der folgenden Feinanalysen durchgeführt: \"Vorläufige Pumpenanalyse\" und \"Vorläufige Analyse Ventilators\".",1,null,"La VAN est calculée au moment de l’investissement initial. L’investissement est rentable lorsque la VAN est positive. Cet indicateur permet aussi de déterminer le projet qui permet de créer plus de valeur pour une même durée de vie du projet."]
["6. Autres optimisations","6. Autres optimisations","6. Andere Optimierungen","6. Andere Optimierungen",1,null,"Taux d’actualisation qui annule la VAN, c’est-à-dire le seuil nécessaire pour que l’investissement soit rentable. "]
["6.1 Objectif ","6.1 Objectif ","6.1 Zielsetzung ","6.1 Zielsetzung ",1,null,"5. Taux d'enrichissement en capital (TEC)"]
["Etudier l'optimisation la plus adaptée entre les deux systèmes suivants : \n- Free cooling \n- Récupération de chaleur","Etudier l'optimisation la plus adaptée entre les deux systèmes suivants : \n- Free cooling \n- Récupération de chaleur","Untersuchung der am besten geeigneten Optimierung zwischen den beiden folgenden Systemen: \n-Free cooling\n- Wärmerückgewinnung","Untersuchung der am besten geeigneten Optimierung zwischen den beiden folgenden Systemen: \n- Freecooling\n- Wärmerückgewinnung",1,null,"Indicateur du profit (valeur crée) par unité de capital investi. "]
["6.2 Analyse préliminaire","6.2 Analyse préliminaire","6.2 Grobanalyse","6.2 Vorläufige Analyse",1,null,"Le TEC permet de réaliser des analyses économiques préalables des projets d’investissement de façon fiable et rapide. Il est un indicateur très répandu dans le secteur des énergies."]
["Afin d'étudier les variantes de free cooling et de récupération de chaleur, il est nécessaire de déterminer les consommations mensuelles associées à la production de froid et de chaleur\n","Afin d'étudier les variantes de free cooling et de récupération de chaleur, il est nécessaire de déterminer les consommations mensuelles associées à la production de froid et de chaleur\n","Um die Varianten des free cooling und der Wärmerückgewinnung zu untersuchen, ist es notwendig, den monatlichen Verbrauch zu bestimmen, welcher mit der Produktion von Kälte und Wärme verbunden ist.","Um die Varianten des Freecoolings und Wärmerückgewinnung zu untersuchen, ist es notwendig, den monatlichen Verbrauch zu bestimmen, der mit der Produktion von Kälte und Wärme verbunden ist.",1]
["6.3 Mise en place d'un système de free cooling","6.3 Mise en place d'un système de free cooling","6.3 Einrichten eines free cooling Systems","6.3 Einrichten eines Freecoling-Systems",1]
["Le free cooling consiste à utiliser l'air extérieur, en période froide, pour refroidir directement le réseau d'eau glacée, à l'aide d'un aérorefroidisseur. De cette manière, le compresseur du groupe froid n'a pas besoin de fonctionner.\n\nLes étapes de l'étude sont les suivantes : \n- Définir la température nécessaire du réseau de froid et voir si cette température peut être atteinte avec T° extérieure :\nT°besoin ≥ T°ext FC + 3°C de pincement\n- Définir le nombre d'heures de fonctionnement du free cooling sur une année\n- Définir le potentiel d'économie d'énergie","Le free cooling consiste à utiliser l'air extérieur, en période froide, pour refroidir directement le réseau d'eau glacée, à l'aide d'un aérorefroidisseur. De cette manière, le compresseur du groupe froid n'a pas besoin de fonctionner.\n\nLes étapes de l'étude sont les suivantes : \n- Définir la température nécessaire du réseau de froid et voir si cette température peut être atteinte avec T° extérieure :\nT°besoin ≥ T°ext FC + 3°C de pincement\n- Définir le nombre d'heures de fonctionnement du free cooling sur une année\n- Définir le potentiel d'économie d'énergie","Beim free cooling wird die Außenluft während kalten Perioden zur direkten Kühlung des Kaltwassersystems mit Hilfe einer Klimaanlage verwendet. Auf diese Weise muss der Kompressor der Kältemaschine nicht arbeiten.\n\nDie Schritte der Studie sind wie folgt: \n-Definieren Sie die erforderliche Temperatur des Kühlnetzes und prüfen Sie, ob diese Temperatur mit T°aussen erreicht werden kann :\nT°benötigt ≥ T°aussen FC + 3°C Pinch\n- Definieren Sie die Anzahl der Betriebsstunden des free cooling über ein Jahr\n-Definieren Sie das Energiesparpotenzial","Bei dem Freecooling wird die Außenluft in kalten Perioden zur direkten Kühlung des Kaltwassersystems mit Hilfe eines Luftkülers verwendet. Auf diese Weise muss der Kompressor der Kälteanlage nicht arbeiten.\n\nDie Schritte der Studie sind wie folgt: \n- Definieren Sie die erforderliche Temperatur des Kühlnetzes und prüfen Sie, ob diese Temperatur mit externen T° :\nT°ext FC + 3°C Pinch erreicht werden kann ≥ T°ext FC + 3°C Pinch\n- Definieren Sie die Anzahl der Betriebsstunden des Freecoolings über ein Jahr\n- Definieren Sie das Energiesparpotenzial",1,null,null,"𝑇𝑅𝐵 [𝑎𝑛]= 𝑐𝑜û𝑡 𝑑𝑒  𝑙 ′ 𝑖𝑛𝑣𝑒𝑠𝑡𝑖𝑠𝑠𝑒𝑚𝑒𝑛𝑡 [𝐶𝐻𝐹] é𝑐𝑜𝑛𝑜𝑚𝑖𝑒 𝑎𝑛𝑢𝑒𝑙𝑙𝑒   𝐶𝐻𝐹 𝑎𝑛   "]
["6.4 Mise en place d'un système de récupération de chaleur","6.4 Mise en place d'un système de récupération de chaleur","6.4 Installation eines Wärmerückgewinnungssystems","6.4 Installation eines Wärmerückgewinnungssystems",1,null,null,"𝑇𝑅𝑁  𝑎𝑛 = 𝑐𝑜û𝑡 𝑑𝑒  𝑙 ′ 𝑖𝑛𝑣𝑒𝑠𝑡𝑖𝑠𝑠𝑒𝑚𝑒𝑛𝑡 [𝐶𝐻𝐹]∙𝑝𝑎𝑟𝑡 𝑑𝑒𝑠 𝑐𝑜û𝑡𝑠 𝑙𝑖é𝑒 à  𝑙 ′ é𝑛𝑒𝑟𝑔𝑖𝑒 −  é𝑐𝑜𝑛𝑜𝑚𝑖𝑒 𝑎𝑛𝑢𝑒𝑙𝑙𝑒   𝐶𝐻𝐹 𝑎𝑛   "]
["La récupération de chaleur consiste à récupérer l'énergie dissipée au niveau du condenseur du groupe froid, et à valoriser cette chaleur pour le chauffage ou l'ECS.\n\nLes questions à se poser sont les suivantes :\n- A-t-on besoin de chaleur ?\n- Quel niveau de température s'impose ?\n- Quand et en quelle saison faut-il de la chaleur ?\n- De quelle quantité de chaleur a-t-on besoin\nA partir de ces données, le potentiel d'économie d'énergie peut être estimé.","La récupération de chaleur consiste à récupérer l'énergie dissipée au niveau du condenseur du groupe froid, et à valoriser cette chaleur pour le chauffage ou l'ECS.\n\nLes questions à se poser sont les suivantes :\n- A-t-on besoin de chaleur ?\n- Quel niveau de température s'impose ?\n- Quand et en quelle saison faut-il de la chaleur ?\n- De quelle quantité de chaleur a-t-on besoin\nA partir de ces données, le potentiel d'économie d'énergie peut être estimé.","Die Wärmerückgewinnung besteht aus der Rückgewinnung der am Kondensator der Kühleinheit abgegebenen Energie und in der Nutzung dieser Wärme für Heizung oder Warmwasser.\n\nDie zu stellenden Fragen lauten: \n- Wird Wärme benötigt? \n- Welches Temperaturniveau ist erforderlich? \n- Wann und in welcher Jahreszeit wird Wärme benötigt? \n-Wie viel Wärme wird benötigt? \nAuf der Grundlage dieser Daten lässt sich das Energieeinsparpotenzial abschätzen.","Die Wärmerückgewinnung besteht in der Rückgewinnung der am Kondensator der Kälteanlage abgegebenen Energie und in der Nutzung dieser Wärme für Heizung oder Warmwasser.\n\nDie zu stellenden Fragen lauten: \n- Wird Wärme benötigt? \n- Welches Temperaturniveau ist erforderlich? \n- Wann und in welcher Jahreszeit wird Wärme benötigt? \n- Wie viel Wärme wird benötigt? \nAuf der Grundlage dieser Daten lässt sich das Energieeinsparpotenzial abschätzen.",1,null,null,"𝑝𝑎𝑟𝑡 𝑑𝑒𝑠 𝑐𝑜û𝑡𝑠 𝑙𝑖é𝑒 à  𝑙 ′ é𝑛𝑒𝑟𝑔𝑖𝑒 − =1− â𝑔𝑒 𝑑𝑒  𝑙 ′ 𝑖𝑛𝑠𝑡𝑎𝑙𝑙𝑎𝑡𝑖𝑜𝑛  𝑎𝑛  𝑑𝑢𝑟é𝑒 𝑑𝑒 𝑣𝑖𝑒 𝑡𝑒𝑐ℎ𝑛𝑖𝑞𝑢𝑒 𝑑𝑒  𝑙 ′ 𝑖𝑛𝑠𝑡𝑎𝑙𝑙𝑎𝑡𝑖𝑜𝑛  𝑎𝑛  "]
["6.5 Outil de décision","6.5 Outil de décision","6.5 Entscheidungshilfe","6.5 Entscheidungshilfe",1,null,null,"𝑝𝑎𝑟𝑡 𝑑𝑒𝑠 𝑐𝑜û𝑡𝑠 𝑙𝑖é𝑒 à  𝑙 ′ é𝑛𝑒𝑟𝑔𝑖𝑒 − = 𝑐𝑜û𝑡 𝑑𝑒  𝑙 ′ 𝑖𝑛𝑣𝑒𝑠𝑡𝑖𝑠𝑠𝑒𝑚𝑒𝑛𝑡 é𝑛𝑒𝑟𝑔é𝑡𝑖𝑞𝑢𝑒 [𝐶𝐻𝐹] 𝑐𝑜û𝑡 𝑑𝑒  𝑙 ′ 𝑖𝑛𝑣𝑒𝑠𝑡𝑖𝑠𝑠𝑒𝑚𝑒𝑛𝑡 𝑡𝑜𝑡𝑎𝑙 [𝐶𝐻𝐹] "]
["Le choix entre les deux sytèmes d'optimisation se base principalement sur les critères suivants :\n-Economique : réduction des frais liés à l'énergie\n-Environnemental : réduction des émissions de C02","Le choix entre les deux sytèmes d'optimisation se base principalement sur les critères suivants :\n-Economique : réduction des frais liés à l'énergie\n-Environnemental : réduction des émissions de C02","Die Wahl zwischen den beiden Optimierungssystemen basiert hauptsächlich auf den folgenden Kriterien:\n-Ökonomisch: Senkung der energiebezogenen Kosten\n-Umwelt: Senkung der C02-Emissionen","Die Wahl zwischen den beiden Optimierungssystemen basiert hauptsächlich auf den folgenden Kriterien:\n-Ökonomisch: Senkung der energiebezogenen Kosten\n-Umwelt: Senkung der C02-Emissionen",1,null,null,"𝑇𝐸𝐶   𝐶𝐻𝐹 𝑐𝑟é𝑒 𝐶𝐻𝐹 𝑖𝑛𝑣𝑒𝑠𝑡𝑖  = 𝑉𝐴𝑁 [𝐶𝐻𝐹] 𝑖𝑛𝑣𝑒𝑠𝑡𝑖𝑠𝑠𝑒𝑚𝑒𝑛𝑡 𝑖𝑛𝑖𝑡𝑖𝑎𝑙 [𝐶𝐻𝐹] "]
["Aide","Aide","Hilfe","Hilfe"]
["Vous trouverez ci-dessous les liens vers les sujets d'aide:","Vous trouverez ci-dessous les liens vers les sujets d'aide:","Unten finden Sie Links zu Hilfethemen:","Unten finden Sie Links zu Hilfethemen:",1]
[{"$f":"IF($B$2=\"FR\",B327,C327)","v":"Calcul des économies"},"Calcul des économies","Berechnung der Einsparungen","Berechnung der Einsparungen",1]
["Légende :         \n          données pré-remplies\n          données à compléter (selon mesurages ou hypothèses)\n          données calculées\n\n","Légende :         \n          données pré-remplies\n          données à compléter (selon mesurages ou hypothèses)\n          données calculées\n\n","Legende:         \n          Vorgegebene Daten         \n          Einzutragende Daten (nach Messungen oder Annahmen)       \n          Berechnete Daten \n","Legende:         \n      vorgefüllte Daten\n      zu ergänzende Daten\n      berechnete Daten ",1]
["1. Détermination des caractéristiques du fluide","1. Détermination des caractéristiques du fluide","1. Bestimmung von Flüssigkeitseigenschaften","1. Bestimmung von Flüssigkeitseigenschaften",1]
["Déterminer le type de fluide présent dans votre réseau de distribution ainsi que le régime de température, puis compléter les caractéristiques de ce dernier d'après les tableaux ci-dessous.","Déterminer le type de fluide présent dans votre réseau de distribution ainsi que le régime de température, puis compléter les caractéristiques de ce dernier d'après les tableaux ci-dessous.","Bestimmen Sie die Art des in Ihrem Verteilungsnetz vorhandenen Fluids und das Temperaturregime und vervollständigen Sie dann die Eigenschaften des letzteren gemäß den untenstehenden Tabellen.","Bestimmen Sie die Art des in Ihrem Verteilungsnetz vorhandenen Fluids und das Temperaturregime und vervollständigen Sie dann die Eigenschaften des letzteren gemäß den untenstehenden Tabellen.",1]
["1.1 Eau","1.1 Eau","1.1 Wasser","1.1 Wasser",1]
["Température (°C)","Température (°C)","Temperatur (°C)","Temperatur (°C)",1]
["Masse volumique (kg/m3)","Masse volumique (kg/m3)","Dichte (kg/m3)","Dichte (kg/m3)",1]
["Chaleur spécifique (J/kg.K)","Chaleur spécifique (J/kg.K)","Spezifische Wärme (J/kg.K)","Spezifische Wärme (J/kg.K)",1]
["1.2 Eau + antigel","1.2 Eau + antigel","1.2 Wasser + Frostschutzmittel","1.2 Wasser + Frostschutzmittel",1]
["Masse volumique (kg/m3):","Masse volumique (kg/m3):","Dichte (kg/m3):","Dichte (kg/m3):",1]
["Concentration en % du poids d'antigel","Concentration en % du poids d'antigel","Konzentration in Gewichtsprozent des Frostschutzmittels","Konzentration in Gewichtsprozent des Frostschutzmittels",1]
["Chaleur spécifique (J/kg.K) :","Chaleur spécifique (J/kg.K) :","Spezifische Wärme (J/kg.K) :","Spezifische Wärme (J/kg.K) :",1]
["1.3 Résultats","1.3 Résultats","1.3 Ergebnisse","1.3 Ergebnisse",1]
["Masse volumique","Masse volumique","Dichte","Dichte",1]
["Chaleur spécifique","Chaleur spécifique","Spezifische Wärme","Spezifische Wärme",1]
["2. Détermination du profil froid hebdomadaire en été","2. Détermination du profil froid hebdomadaire en été","2. Bestimmung des wöchentlichen Kälteprofils im Sommer","2. Bestimmung des wöchentlichen Kälteprofils im Sommer",1]
["Date","Date","Datum","Datum",1]
["Heure","Heure","Zeit","Zeit",1]
["Température aller (°C)","Température aller (°C)","Vorlauftemperatur (°C)","Vorlauftemperatur (°C)",1]
["Température retour (°C)","Température retour (°C)","Rücklauftemperatur (°C)","Rücklauftemperatur (°C)",1]
["Débit (m3/h)","Débit (m3/h)","Durchflussmenge (m3/h)","Durchflussmenge (m3/h)",1]
["Puissance frigorifique (kWf)","Puissance frigorifique (kWf)","Kühlleistung (kWf)","Kühlleistung (kWf)",1]
["2.1 Mesurages","2.1 Mesurages","2.1 Messungen","2.1 Messungen",1]
["Jour","Jour","Tag","Tag",1]
["Lundi ","Lundi ","Montag ","Montag ",1]
["Mardi","Mardi","Dienstag","Dienstag",1]
["Mercredi","Mercredi","Mittwoch","Mittwoch",1]
["Jeudi","Jeudi","Donnerstag","Donnerstag",1]
["Vendredi","Vendredi","Freitag","Freitag",1]
["Samedi","Samedi","Samstag","Samstag",1]
["Dimanche","Dimanche","Sonntag","Sonntag",1]
["2.2 Résultats","2.2 Résultats","2.2 Ergebnisse","2.2 Ergebnisse",1]
["Température aller moyennne (°C)","Température aller moyennne (°C)","Durchschnittliche Vorlauftemperatur(°C)","Durchschnittliche Vorwärtstemperatur (°C)",1]
["Température retour moyenne (°C)","Température retour moyenne (°C)","Durchschnittliche Rücklauftemperatur (°C)","Durchschnittliche Rücklauftemperatur (°C)",1]
["Débit moyen (m3/h)","Débit moyen (m3/h)","Durchschnittliche Durchflussrate (m3/h)","Durchschnittliche Durchflussrate (m3/h)",1]
["Puissance frigorifique moyenne (kWf)","Puissance frigorifique moyenne (kWf)","Durchschnittliche Kühlleistung (kWf)","Durchschnittliche Kühlleistung (kWf)",1]
["Besoins frigorifiques hebdomadaires (kWh)","Besoins frigorifiques hebdomadaires (kWh)","Wöchentlicher Kühlbedarf (kWh)","Wöchentlicher Kühlbedarf (kWh)",1]
["Besoins frigorifiques mensuels (kWh)","Besoins frigorifiques mensuels (kWh)","Monatlicher Kühlbedarf (kWh)","Monatlicher Kühlbedarf (kWh)",1]
["Temps de fonctionnement moyen du groupe","Temps de fonctionnement moyen du groupe","Durchschnittliche Laufzeit der Einheit","Durchschnittliche Laufzeit der Anlage",1]
["3. Détermination de la performance du groupe froid","3. Détermination de la performance du groupe froid","3. Bestimmung der Leistung der Kühleinheit","3. Bestimmung der Leistung der Kälteanlage",1]
["1 (hiver)","1 (hiver)","1 (Winter)","1 (Winter)",1]
["2 (automne)","2 (automne)","2 (Herbst)","2 (Herbst)",1]
["3 (printemps)","3 (printemps)","3 (Frühling)","3 (Frühling)",1]
["4 (été)","4 (été)","4 (Sommer)","4 (Sommer)",1]
["3.1 Fonctionnement du groupe froid","3.1 Fonctionnement du groupe froid","3.1 Betrieb der Kühleinheit","3.1 Betrieb der Kälteanlage",1]
["Période","Période","Zeitraum","Zeitraum",1]
["Moyenne température extérieure","Moyenne température extérieure","Durchschnittliche Außentemperatur","Durchschnittliche Außentemperatur",1]
["Répartition du temps de fonctionnement ","Répartition du temps de fonctionnement ","Verteilung der Betriebszeit ","Verteilung der Betriebszeit ",1]
["3.2 SEPR réel du groupe existant","3.2 SEPR réel du groupe existant","3.2 Tatsächlicher SEPR der bestehenden Gruppe","3.2 Tatsächlicher SEPR der bestehenden Anlage",1]
["Puissance électrique (kWf)","Puissance électrique (kWf)","Elektrische Leistung (kWf)","Elektrische Leistung (kWf)",1]
["EER réel","EER réel","aktuelle EER","Tatsächliches EER"]
["SEPR réel","SEPR réel","tatsächliche SEPR","Tatsächlicher SEPR"]
["3.3 SEPR théorique du groupe existant","3.3 SEPR théorique du groupe existant","3.3 Theoretischer SEPR der bestehenden Gruppe","3.3 Theoretischer SEPR der bestehenden Anlage",1]
["EER théorique","EER théorique","theoretische EER","theoretisches EER",1]
["SEPR théorique","SEPR théorique","theoretischer SEPR","theoretischer SEPR",1]
["3.4 SEPR théorique du nouveau groupe","3.4 SEPR théorique du nouveau groupe","3.4 Theoretischer SEPR der neuen Gruppe","3.4 Theoretischer SEPR der neuen Anlage",1]
["3.5 Résultats","3.5 Résultats","3.5 Ergebnisse","3.5 Ergebnisse",1]
["Potentiel d'économie par l'optimisation du groupe existant","Potentiel d'économie par l'optimisation du groupe existant","Einsparpotenzial durch Optimierung der bestehenden Gruppe","Einsparpotenzial durch Optimierung der bestehenden Anlage",1]
["Potentiel d'économie par l'achat d'un nouveau groupe froid","Potentiel d'économie par l'achat d'un nouveau groupe froid","Einsparungspotenzial durch den Kauf eines neuen Kühlaggregats","Einsparungspotenzial durch den Kauf eines neuen Kälteanlage",1,null,null," η 𝑡𝑜𝑡.𝑖 =  η 𝐶𝐹.𝑖  ∗  η 𝑚𝑜𝑡.𝑖 ∗  η 𝑎𝑐𝑐.𝑖  ∗  η 𝑝𝑜𝑚𝑝𝑒.𝑖  "]
["4. Détermination de la consommation électrique du groupe froid et du producteur de chaleur","4. Détermination de la consommation électrique du groupe froid et du producteur de chaleur","4. Bestimmung der Leistungsaufnahme der Kühleinheit und des Wärmeerzeugers","4. Bestimmung der Leistungsaufnahme der Kälteanlage und des Wärmeerzeugers",1,null,null,"Δ 𝐸 𝑎  =  1 𝑛  (𝑃 𝑒𝑙, 𝑎𝑛𝑐.𝑖  −  𝑃 𝑒𝑙, 𝑛𝑜𝑢𝑣.𝑖 )  ∗ 𝑁ℎ 𝑖 "]
["Taux de charge par rapport à la période estivale","Taux de charge par rapport à la période estivale","Belastungsrate im Vergleich zur Sommerperiode","Belastungsrate im Vergleich zur Sommerperiode",1,null,null," 𝑃 𝑒𝑙,𝑎𝑛𝑐.𝑖 =  𝑃 ℎ𝑦𝑑𝑟,𝑎𝑛𝑐.𝑖 / η 𝑡𝑜𝑡,𝑎𝑛𝑐.𝑖 "]
["Besoin en froid","Besoin en froid","Bedarf an Kälte","Bedarf an Kälte",1,null,null," 𝑃 ℎ𝑦𝑑𝑟,𝑎𝑛𝑐.𝑖 = Δ𝑝𝑎𝑛𝑐.𝑖∗𝑄𝑎𝑛𝑐.𝑖"]
["Consommation électrique","Consommation électrique","Leistungsaufnahme","Leistungsaufnahme",1,null,null," 𝑃 𝑒𝑙,𝑛𝑜𝑢𝑣.𝑖 =  𝑃 ℎ𝑦𝑑𝑟,𝑛𝑜𝑢𝑣.𝑖 / η 𝑡𝑜𝑡,𝑛𝑜𝑢𝑣.𝑖 "]
["4.1 Consommation électrique du groupe froid","4.1 Consommation électrique du groupe froid","4.1 Leistungsaufnahme der Kühleinheit","4.1 Leistungsaufnahme der Kälteanlage",1,null,null," 𝑃 ℎ𝑦𝑑𝑟,𝑛𝑜𝑢𝑣.𝑖 = Δ𝑝𝑛𝑜𝑢𝑣.𝑖∗𝑄𝑛𝑜𝑢𝑣.𝑖"]
[{"$f":"IF($B$2=\"FR\",B391,C391)","v":"Mois"},"Mois","Monat","Monat",1,null,null," η 𝑡𝑜𝑡.𝑖 =  η 𝐶𝐹.𝑖  ∗  η 𝑚𝑜𝑡.𝑖 ∗  η 𝑎𝑐𝑐.𝑖  ∗  η 𝑝𝑜𝑚𝑝𝑒.𝑖  "]
["Janvier","Janvier","Januar","Januar",1,null,null,"Δ 𝐸 𝑎  =  1 𝑛  (𝑃 𝑒𝑙, 𝑎𝑛𝑐.𝑖  −  𝑃 𝑒𝑙, 𝑛𝑜𝑢𝑣.𝑖 )  ∗ 𝑁ℎ 𝑖 "]
["Février","Février","Februar","Februar",1,null,null," 𝑃 𝑒𝑙,𝑎𝑛𝑐.𝑖 =  𝑃 ℎ𝑦𝑑𝑟,𝑎𝑛𝑐.𝑖 / η 𝑡𝑜𝑡,𝑎𝑛𝑐.𝑖 "]
["Mars","Mars","März","März",1,null,null," η 𝑡𝑜𝑡.𝑖 =  η 𝐶𝐹.𝑖  ∗  η 𝑚𝑜𝑡.𝑖 ∗  η 𝑎𝑐𝑐.𝑖  ∗  η 𝑝𝑜𝑚𝑝𝑒.𝑖  "]
["Avril","Avril","April","April",1,null,null,"Δ 𝐸 𝑎  =  1 𝑛  (𝑃 𝑒𝑙, 𝑎𝑛𝑐.𝑖  −  𝑃 𝑒𝑙, 𝑛𝑜𝑢𝑣.𝑖 )  ∗ 𝑁ℎ 𝑖 "]
["Juin","Juin","Juni","Juni",1,null,null," 𝑃 𝑒𝑙,𝑎𝑛𝑐.𝑖 =  𝑃 ℎ𝑦𝑑𝑟,𝑎𝑛𝑐.𝑖 / η 𝑡𝑜𝑡,𝑎𝑛𝑐.𝑖 "]
["Juillet","Juillet","Juli","Juli",1,null,null," 𝑃 ℎ𝑦𝑑𝑟,𝑎𝑛𝑐.𝑖 = Δ𝑝𝑎𝑛𝑐.𝑖∗𝑄𝑎𝑛𝑐.𝑖"]
["Août","Août","August","August",1,null,null," 𝑃 𝑒𝑙,𝑛𝑜𝑢𝑣.𝑖 =  𝑃 ℎ𝑦𝑑𝑟,𝑛𝑜𝑢𝑣.𝑖 / η 𝑡𝑜𝑡,𝑛𝑜𝑢𝑣.𝑖 "]
["Septembre","Septembre","September","September",1,null,null," 𝑃 ℎ𝑦𝑑𝑟,𝑛𝑜𝑢𝑣.𝑖 = Δ𝑝𝑛𝑜𝑢𝑣.𝑖∗𝑄𝑛𝑜𝑢𝑣.𝑖"]
["Octobre","Octobre","Oktober","Oktober",1,null,null," η 𝑡𝑜𝑡.𝑖 =  η 𝐶𝐹.𝑖  ∗  η 𝑚𝑜𝑡.𝑖 ∗  η 𝑎𝑐𝑐.𝑖  ∗  η 𝑝𝑜𝑚𝑝𝑒.𝑖  "]
["Novembre","Novembre","November","November",1,null,null,"Δ 𝐸 𝑎  =  1 𝑛  (𝑃 𝑒𝑙, 𝑎𝑛𝑐.𝑖  −  𝑃 𝑒𝑙, 𝑛𝑜𝑢𝑣.𝑖 )  ∗ 𝑁ℎ 𝑖 "]
["Décembre","Décembre","Dezember","Dezember",1,null,null," 𝑃 𝑒𝑙,𝑎𝑛𝑐.𝑖 =  𝑃 ℎ𝑦𝑑𝑟,𝑎𝑛𝑐.𝑖 / η 𝑡𝑜𝑡,𝑎𝑛𝑐.𝑖 "]
["Total","Total","Gesamt","Summe",1,null,null," 𝑃 ℎ𝑦𝑑𝑟,𝑎𝑛𝑐.𝑖 = Δ𝑝𝑎𝑛𝑐.𝑖∗𝑄𝑎𝑛𝑐.𝑖"]
["Consommation thermique ","Consommation thermique ","Wärmeverbrauch ","Wärmeverbrauch ",1,null,null," 𝑃 𝑒𝑙,𝑛𝑜𝑢𝑣.𝑖 =  𝑃 ℎ𝑦𝑑𝑟,𝑛𝑜𝑢𝑣.𝑖 / η 𝑡𝑜𝑡,𝑛𝑜𝑢𝑣.𝑖 "]
["4.2 Consommation du producteur de chaleur","4.2 Consommation du producteur de chaleur","4.2 Verbrauch des Wärmeerzeugers","4.2 Verbrauch des Wärmeerzeugers",1,null,null," 𝑃 ℎ𝑦𝑑𝑟,𝑛𝑜𝑢𝑣.𝑖 = Δ𝑝𝑛𝑜𝑢𝑣.𝑖∗𝑄𝑛𝑜𝑢𝑣.𝑖"]
["4. Détermination des économies par la mise en place d'un système de free cooling","4. Détermination des économies par la mise en place d'un système de free cooling","4. Ermittlung von Einsparungen durch die Implementierung eines free cooling","4. Ermittlung von Einsparungen durch die Implementierung eines Freecoolingsystems",1,null,null," η 𝑡𝑜𝑡.𝑖 =  η 𝐶𝐹.𝑖  ∗  η 𝑚𝑜𝑡.𝑖 ∗  η 𝑎𝑐𝑐.𝑖  ∗  η 𝑣𝑒𝑛𝑡.𝑖  "]
["4.1 Principe du free cooling","4.1 Principe du free cooling","4.1 Prinzip des free cooling","4.1 Prinzip des Freecoolings",1,null,null,"Δ 𝐸 𝑎  =  1 𝑛  (𝑃 𝑒𝑙, 𝑎𝑛𝑐.𝑖  −  𝑃 𝑒𝑙, 𝑛𝑜𝑢𝑣.𝑖 )  ∗ 𝑁ℎ 𝑖 "]
["Lorsque la température extérieure est inférieure à la température du réseau de froid, l'eau glacée circule à travers l'aérorefroidisseur, qui n'est autre qu'un échangeur avec des ventilateurs qui forcent l'échange entre l'air et l'eau. De cette manière le fluide est refroidi sans que le groupe froid n'ait besoin de fonctionner.\nUne différence de température entre l'eau à refroidir et l'air extérieur est indispensable, sinon aucun transfert de chaleur n'est possible. Un différentiel d'environ 3 °C entre la température de l’air extérieur et celle de l’eau est nécessaire pour le fonctionnement du free-cooling. Ce différentiel étant lié aux caractéristiques des échangeurs de chaleur, le cas échéant, il pourrait être réduit.","Lorsque la température extérieure est inférieure à la température du réseau de froid, l'eau glacée circule à travers l'aérorefroidisseur, qui n'est autre qu'un échangeur avec des ventilateurs qui forcent l'échange entre l'air et l'eau. De cette manière le fluide est refroidi sans que le groupe froid n'ait besoin de fonctionner.\nUne différence de température entre l'eau à refroidir et l'air extérieur est indispensable, sinon aucun transfert de chaleur n'est possible. Un différentiel d'environ 3 °C entre la température de l’air extérieur et celle de l’eau est nécessaire pour le fonctionnement du free-cooling. Ce différentiel étant lié aux caractéristiques des échangeurs de chaleur, le cas échéant, il pourrait être réduit.","Wenn die Außentemperatur niedriger ist als die Temperatur des Kühlnetzes, zirkuliert das gekühlte Wasser durch den Luftkühler, der nichts anderes als ein Wärmetauscher mit Ventilatoren ist, die den Austausch zwischen Luft und Wasser erzwingen. Auf diese Weise wird die Flüssigkeit gekühlt, ohne dass die Kältemaschine arbeiten muss. \nEine Temperaturdifferenz zwischen dem zu kühlenden Wasser und der Außenluft ist unerlässlich, da sonst keine Wärmeübertragung möglich ist. Für das free cooling ist eine Differenz von etwa 3 °C zwischen der Temperatur der Außenluft und der des Wassers erforderlich. Diese Differenz hängt mit den Eigenschaften der Wärmetauscher zusammen und könnte bei Bedarf reduziert werden.","Wenn die Außentemperatur niedriger ist als die Temperatur des Kühlnetzes, zirkuliert das gekühlte Wasser durch den Luftkühler, der nichts anderes als ein Tauscher mit Ventilatoren ist, die den Austausch zwischen Luft und Wasser erzwingen. Auf diese Weise wird die Flüssigkeit gekühlt, ohne dass die Kälteanlage arbeiten muss. \nEine Temperaturdifferenz zwischen dem zu kühlenden Wasser und der Außenluft ist unerlässlich, da sonst keine Wärmeübertragung möglich ist. Für das Freecooling ist eine Differenz von etwa 3 °C zwischen der Temperatur der Außenluft und der des Wassers erforderlich. Diese Differenz hängt mit den Eigenschaften der Wärmetauscher zusammen und könnte bei Bedarf reduziert werden.",1,null,null," 𝑃 𝑒𝑙,𝑎𝑛𝑐.𝑖 =  𝑃 𝑎é𝑟,𝑎𝑛𝑐.𝑖 / η 𝑡𝑜𝑡,𝑎𝑛𝑐.𝑖 "]
["Température extérieure (°C)","Température extérieure (°C)","Außentemperatur (°C)","Außentemperatur (°C)",1,null,null," 𝑃 𝑎é𝑟,𝑎𝑛𝑐.𝑖 = Δ𝑝𝑎𝑛𝑐.𝑖∗𝑄𝑎𝑛𝑐.𝑖"]
["Température de fonctionnement du free cooling (°C)","Température de fonctionnement du free cooling (°C)","Betriebstemperatur des free cooling (°C)","Betriebstemperatur des Freecoolings (°C)",1,null,null," 𝑃 𝑒𝑙,𝑛𝑜𝑢𝑣.𝑖 =  𝑃 𝑎é𝑟,𝑛𝑜𝑢𝑣.𝑖 / η 𝑡𝑜𝑡,𝑛𝑜𝑢𝑣.𝑖 "]
["Heures Freecooling","Heures Freecooling","Stunden Freecooling","Stunden Freecooling",1,null,null," 𝑃 𝑎é𝑟,𝑛𝑜𝑢𝑣.𝑖 = Δ𝑝𝑛𝑜𝑢𝑣.𝑖∗𝑄𝑛𝑜𝑢𝑣.𝑖"]
["Heures","Heures","Stunden","Stunden",1,null,null,"Le différentiel entre ces deux pressions donne le Δp de fonctionenement de la pompe. Cette grandeur permet de calculer la puissance hydraulique. Il permet aussi de situer le point de fonctionnement actuel par rapport au point de fonctionnement nominal."]
["Heures de free cooling","Heures de free cooling","Stunden des free cooling","Stunden des Freecoolings",1,null,null,"Plusieurs paramètres vont influencer la durée de vie effective d'une installation: le nombre d'heures de fonctionnement par an, la taille, les conditions d'exploitation (milieu agressif).\nPour un moteur et un ventilateur sans problème d'usure particulière"]
["Potentiel du free cooling","Potentiel du free cooling","Potential des free cooling","Potential des Freecoolings",1,null,null,"Lorsque le système est complexe, il faut comprendre le comportement et la nature des consommateurs. Si les besoins des consommateurs varient de façon concomitante, les analyses et les optimisations sont plus simples."]
[{"$f":"IF($B$2=\"FR\",B415,C415)","v":"Economie d'énergie (par an)"},"Economie d'énergie (par an)","Energieeinsparung (pro Jahr)","Energieeinsparung",1,null,null,"Il s’agit d’éviter qu’une vision trop restreinte conduise à des mesures contre-productives à un niveau plus élevé. L’idée est également de déterminer le bon périmètre d’analyse."]
["4.2 Résultats","4.2 Résultats","4.2 Ergebnisse","4.2 Ergebnisse",1,null,null,"L’économie la plus simple et la moins onéreuse consiste à assurer le besoin réel et pas plus (donc pas forcément le besoin actuel). Par exemple, il arrive souvent que des modifications dans les besoins (à la baisse) n’aient jamais été intégrées. "]
["Température moyenne aller du réseau d'eau glacée","Température moyenne aller du réseau d'eau glacée","Durchschnittliche Vorlauftemperatur des Kaltwassersystems","Durchschnittliche Vorlauftemperatur des Kaltwassersystems",1,null,null,"Une gestion non optimale des variations de débit est une source de forte surconsommation. L'information sur le caractère variable ou non du besoin est donc importante.\nLa variation du besoin au cours du temps doit être suivie. Une exploitation horaire peu"]
["Température de mise en service du free cooling","Température de mise en service du free cooling","Betriebstemperatur für free cooling","Betriebstemperatur für Freecooling",1,null,null,"La gestion actuelle des variations est un point clé. Si celle-ci est assurée par étranglement, l’introduction d’un variateur apportera probablement des économies sensibles."]
[0.95967741935483875,0.95967741935483875,0.95967741900000003,0.95967741900000003,1,null,null,"La connaissance du profil de débit sur une période représentative est fondamentale. Plus les périodes à débits réduit sont longues, plus les économies associées à des mesures d’optimisation (introduction d’un CF) seront importantes."]
[0.96577380952380953,0.96577380952380953,0.96577380999999995,0.96577380999999995,1,null,null,"La saison, la météo (Text), l’heure du jour, le jour de la semaine, la production, sont des exemples de paramètres qui peuvent influencer le besoin. Cette information permet notamment de déterminer la durée des mesurages."]
[0.73252688172043012,0.73252688172043012,0.73252688200000005,0.73252688200000005,1,null,null,"Le différentiel entre ces deux pressions donne le Δp de fonctionenement du ventilateur. Cette grandeur permet de calculer la puissance aéraulique. Il permet aussi de situer le point de fonctionnement actuel par rapport au point de fonctionnement nominal."]
[0.42777777777777776,0.42777777777777776,0.427777778,0.427777778,null,null,null,"La puissance électrique active triphasée correspond à la puissance consommée par l'entraînement. Elle permet avec la puissance hydraulique de calculer le rendement global de l'entraînement."]
[0.10483870967741936,0.10483870967741936,0.10483871,0.10483871,1,null,null,"On trouve encore souvent des installations dont le mauvais dimensionnement initial ou un changement dans le besoin nominal sont corrigés par un étranglement permanent. Une approche simple mais peu performante. \nLes débits dans les différentes branches d'u"]
[6.9444444444444441E-3,6.9444444444444441E-3,6.9444440000000001E-3,6.9444440000000001E-3,null,null,null,"On trouve dans les réseaux de ventilation différents composants qui présentent une résistance au flux d'air et, de fait, génèrent des pertes de charge. Il arrive que ces composants soient inutiles, caduques ou mal entretenus."]
[5.6944444444444443E-2,5.6944444444444443E-2,5.6944443999999997E-2,5.6944443999999997E-2,null,null,null,"On a souvent recours à un accouplement par courroies car il permet une flexibilité en termes de prestation (vitesse) et de géométrie (intégration des différents composants). \nIl s’agit d’un composant qui présente des pertes, particulièrement lorsqu’il est"]
[0.2768817204301075,0.2768817204301075,0.27688172,0.27688172,1,null,null,"Des installations peuvent nécessiter un assainissement pour des raisons autres qu'énergétiques. On songe notamment à un âge au-delà de la durée de vie attendue, des besoins d'entretien trop importants, des problèmes de fiabilité récurrents, une modificati"]
[0.82916666666666672,0.82916666666666672,0.82916666699999997,0.82916666699999997]
[0.97983870967741937,0.97983870967741937,0.97983871,0.97983871,1]
["Rappel de la consommation d'électricité du groupe froid","Rappel de la consommation d'électricité du groupe froid","Erinnerung an den Stromverbrauch der Kühleinheit","Erinnerung an den Stromverbrauch der Kälteanlage",1]
["Economie d'électricité par le free cooling","Economie d'électricité par le free cooling","Stromeinsparung durch free cooling","Stromeinsparung durch Freecooling",1]
["Consommation d'électricité restante","Consommation d'électricité restante","Verbleibender Stromverbrauch","Verbleibender Stromverbrauch",1]
["Nota : Les calculs présentés dans cette fiche se basent sur les données météorologiques de la ville de Neuchâtel. Pour les sites avec des températures plus basses, l'économie d'énergie sera plus importante, et inversement pour les sites avec des températures plus élevées. ","Nota : Les calculs présentés dans cette fiche se basent sur les données météorologiques de la ville de Neuchâtel. Pour les sites avec des températures plus basses, l'économie d'énergie sera plus importante, et inversement pour les sites avec des températures plus élevées. ","Anmerkung: Die in diesem Blatt vorgestellten Berechnungen basieren auf meteorologischen Daten der Stadt Neuenburg. An Standorten mit niedrigeren Temperaturen werden die Energieeinsparungen größer sein, und umgekehrt an Standorten mit höheren Temperaturen. ","Anmerkung: Die in diesem Blatt vorgestellten Berechnungen basieren auf meteorologischen Daten der Stadt Neuenburg. An Standorten mit niedrigeren Temperaturen werden die Energieeinsparungen größer sein, und umgekehrt an Standorten mit höheren Temperaturen. ",1]
["5. Détermination des économies par la mise en place d'un système de récupération de chaleur","5. Détermination des économies par la mise en place d'un système de récupération de chaleur","5. Bestimmung der Einsparungen durch die Implementierung eines Wärmerückgewinnungssystems","5. Bestimmung der Einsparungen durch die Implementierung eines Wärmerückgewinnungssystems",1]
["5.1 Principe de la récupération de chaleur","5.1 Principe de la récupération de chaleur","5.1 Prinzip der Wärmerückgewinnung","5.1 Prinzip der Wärmerückgewinnung",1]
["Un groupe frigorifique ne produit pas du froid mais il retire de la chaleur à une source telle que l'eau ou l'air au niveau de l'évaporateur.\nCette chaleur est le plus souvent évacuée dans l'air ambiant au niveau du condenseur et donc perdue. L'installation d'un récupérateur de chaleur permet de valoriser cette énergie lorsque le groupe froid fonctionne, l'eau réchauffée dans l'échangeur est stocké dans un ballon et peut ensuite être utilisée pour les besoins de chauffage ou d'eau chaude sanitaire.","Un groupe frigorifique ne produit pas du froid mais il retire de la chaleur à une source telle que l'eau ou l'air au niveau de l'évaporateur.\nCette chaleur est le plus souvent évacuée dans l'air ambiant au niveau du condenseur et donc perdue. L'installation d'un récupérateur de chaleur permet de valoriser cette énergie lorsque le groupe froid fonctionne, l'eau réchauffée dans l'échangeur est stocké dans un ballon et peut ensuite être utilisée pour les besoins de chauffage ou d'eau chaude sanitaire.","Ein Kühlaggregat erzeugt keine Kälte, sondern entzieht einer Quelle wie Wasser oder Luft am Verdampfer Wärme. \nDiese Wärme wird in der Regel am Kondensator an die Umgebungsluft abgegeben und geht somit verloren. Die Installation einer Wärmerückgewinnungseinheit ermöglicht die Rückgewinnung dieser Energie bei laufendem Betrieb der Kältemaschine. Das im Austauscher erwärmte Wasser wird in einem Tank gespeichert und kann dann für Heizung oder Warmwasserbereitung verwendet werden.","Ein Kühlaggregat erzeugt keine Kälte, sondern entzieht einer Quelle wie Wasser oder Luft am Verdampfer Wärme. \nDiese Wärme wird in der Regel am Kondensator an die Umgebungsluft abgegeben und geht somit verloren. Die Installation einer Wärmerückgewinnungseinheit ermöglicht die Rückgewinnung dieser Energie bei laufendem Betrieb der Kälteanlage. Das im Austauscher erwärmte Wasser wird in einem Tank gespeichert und kann dann für Heizung oder Warmwasserbereitung verwendet werden.",1]
["Principe de la récupération de chaleur","Principe de la récupération de chaleur","Prinzip der Wärmerückgewinnung","Prinzip der Wärmerückgewinnung"]
["Synthèse","Synthèse","Synthese","Synthese"]
["Puissance froid moyenne Evaporateur","Puissance froid moyenne Evaporateur","Durchschnittliche Kühlleistung Verdampfer","Durchschnittliche Kühlleistung Verdampfer",1]
["Puissance chaud moyenne Condenseur","Puissance chaud moyenne Condenseur","Durchschnittliche Heizleistung Kondensator","Durchschnittliche Heizleistung Kondensator",1]
["Simultanéité besoin chaud vs récupération","Simultanéité besoin chaud vs récupération","Gleichzeitigkeit von Wärmebedarf vs. Rückgewinnung","Gleichzeitigkeit von Wärmebedarf vs. Rückgewinnung",1,null,null,"gain théorique = (𝐥𝐧( 𝒑 𝒓𝒆𝒇,𝒊 −𝐥𝐧( 𝒑 𝒓𝒆𝒇,𝒏 )/(𝐥𝐧( 𝒑 𝒓𝒆𝒇,𝒊 )−𝐥𝐧( 𝒑 𝒂𝒔𝒑 ))\n\navec : pref,i= pression de refoulement absolue initiale, pref,n= nouvelle pression de refoulement absolue, pasp = pression absolue de l'aspiration"]
["Energie valorisable","Energie valorisable","Wiedergewinnbare Energie","Wiedergewinnbare Energie",1]
["5.2 Résultats","5.2 Résultats","5.2 Ergebnisse","5.2 Ergebnisse",1,null,null,"Yannick Riesen:\nTrouver formule"]
["Rappel de la consommation thermique","Rappel de la consommation thermique","Erinnerung an den Wärmeverbrauch","Erinnerung an den Wärmeverbrauch",1]
["Economie thermique par la récupération de chaleur","Economie thermique par la récupération de chaleur","Thermische Einsparungen durch Wärmerückgewinnung","Thermische Einsparungen durch Wärmerückgewinnung",1]
["Consommation thermique restante","Consommation thermique restante","Verbleibender Wärmeverbrauch","Verbleibender Wärmeverbrauch",1,null,null,"EER= 𝛒× 𝑸 𝒗 × 𝑪 𝒑 ×∆𝑻  [𝒌𝑾]   𝑷 𝒆𝒍𝒆𝒄  [𝒌𝑾]     \n\navec :  masse volumique en [kg/m3], Qv débit volumique en [m3/s], Cp capacité thermique massique [kJ/kg.K], T différence de température [K]\n"]
["Les calculs présentés dans cette fiche se basent sur l'hypothèse d'une température de sortie d'eau à 45°C sur la récupération de chaleur (température de condensation) , permettant de satisfaire les besoins en chauffage. \n\nSi l'exploitant nécessite de plus hautes températures pour le chauffage (par exemple 60°C) , deux solutions sont possibles :\n- la température de condensation ne doit pas être relevée, 15% de la puissance de condensation peut être récupéré au niveau de la désurchauffe à une température de 60°C\n- la température de condensation doit être relevée pour valoriser la chaleur évacuée. Il en résulte une consommation d'énergie supplémentaire de 2.5% par degré d'élévation de température. Dans ce cas la chaleur rejetée n'est pas gratuite, la commande devra être configurée de manière à augmenter la température de condensation uniquement pendant la durée d'utilisation de la chaleur rejetée. ","Les calculs présentés dans cette fiche se basent sur l'hypothèse d'une température de sortie d'eau à 45°C sur la récupération de chaleur (température de condensation) , permettant de satisfaire les besoins en chauffage. \n\nSi l'exploitant nécessite de plus hautes températures pour le chauffage (par exemple 60°C) , deux solutions sont possibles :\n- la température de condensation ne doit pas être relevée, 15% de la puissance de condensation peut être récupéré au niveau de la désurchauffe à une température de 60°C\n- la température de condensation doit être relevée pour valoriser la chaleur évacuée. Il en résulte une consommation d'énergie supplémentaire de 2.5% par degré d'élévation de température. Dans ce cas la chaleur rejetée n'est pas gratuite, la commande devra être configurée de manière à augmenter la température de condensation uniquement pendant la durée d'utilisation de la chaleur rejetée. ","Die in diesem Datenblatt vorgestellten Berechnungen basieren auf der Annahme einer Wasseraustrittstemperatur von 45°C bei Wärmerückgewinnung (Kondensationstemperatur), wodurch der Heizbedarf gedeckt werden kann. \n\nBenötigt der Betreiber höhere Temperaturen zum Heizen (z.B. 60°C), so sind zwei Lösungen möglich:\n- die Kondensationstemperatur muss nicht angehoben werden, 15% der Kondensationsleistung kann bei einer Temperatur von 60°C aus dem Enthitzer zurückgewonnen werden.\n-die Kondensationstemperatur muss erhöht werden, um die Abwärme zu nutzen. Daraus ergibt sich ein zusätzlicher Energieverbrauch von 2,5% pro Grad Temperaturerhöhung. In diesem Fall ist die Abwärme nicht kostenlos, die Steuerung sollte so konfiguriert werden, dass die Kondensationstemperatur nur während der Zeit erhöht wird, in der die Abwärme genutzt wird. ","Die in diesem Datenblatt vorgestellten Berechnungen basieren auf der Annahme einer Wasseraustrittstemperatur von 45°C bei Wärmerückgewinnung (Kondensationstemperatur), wodurch der Heizbedarf gedeckt werden kann. \n\nBenötigt der Betreiber höhere Temperaturen zum Heizen (z.B. 60°C), so sind zwei Lösungen möglich: \n- die Kondensationstemperatur muss nicht angehoben werden, 15% der Kondensationsleistung kann bei einer Temperatur von 60°C aus dem Enthitzer zurückgewonnen werden. \n- die Kondensationstemperatur muss erhöht werden, um die Abwärme zu nutzen. Daraus ergibt sich ein zusätzlicher Energieverbrauch von 2,5% pro Grad Temperaturerhöhung. In diesem Fall ist die Abwärme nicht kostenlos. Die Steuerung sollte so konfiguriert werden, dass die Kondensationstemperatur nur während der Zeit erhöht wird, in der die Abwärme genutzt wird. ",null,null,null,"Economie (%)=𝟏 −   𝑺𝑬𝑷𝑹 𝒓é𝒆𝒍   𝑺𝑬𝑷𝑹 𝒕𝒉é𝒐𝒓𝒊𝒒𝒖𝒆     \n"]
["6. Free cooling vs récupération de chaleur","6. Free cooling vs récupération de chaleur","6. Free cooling vs. Wärmerückgewinnung","6. Freecooling vs. Wärmerückgewinnung",1,null,null,"Economie (%)=𝟏 −  𝑺𝑬𝑷𝑹 𝒓é𝒆𝒍 𝑺𝑬𝑷𝑹 𝒕𝒉é𝒐𝒓𝒊𝒒𝒖𝒆 𝒏𝒐𝒖𝒗𝒆𝒂𝒖 𝑮𝑭    \n"]
["6.1 Facteurs d'émission de C02 des énergies fossiles","6.1 Facteurs d'émission de C02 des énergies fossiles","6.1 C02-Emissionsfaktoren für fossile Brennstoffe","6.1 C02-Emissionsfaktoren für fossile Brennstoffe",1,null,null," 𝑃 ℎ𝑦𝑑𝑟,𝑎𝑛𝑐.𝑖 = Δ𝑝𝑎𝑛𝑐.𝑖∗𝑄𝑎𝑛𝑐.𝑖"]
["Mazout","Mazout","Heizöl","Heizöl",1,null,null," 𝑷 𝒇𝒓𝒊𝒈𝒐 =𝛒× 𝑸 𝒗 × 𝑪 𝒑 ×∆𝑻  [𝒌𝑾]\n\navec :  masse volumique en [kg/m3], Qv débit volumique en [m3/s], Cp capacité thermique massique [kJ/kg.K], T différence de température [K]"]
["Free cooling","Free cooling","Free cooling","Freecooling",1,null,null," 𝑃 ℎ𝑦𝑑𝑟,𝑛𝑜𝑢𝑣.𝑖 = Δ𝑝𝑛𝑜𝑢𝑣.𝑖∗𝑄𝑛𝑜𝑢𝑣.𝑖"]
["Récupération de chaleur","Récupération de chaleur","Wärmerückgewinnung","Wärmerückgewinnung",1,null,null," η 𝑡𝑜𝑡.𝑖 =  η 𝐶𝐹.𝑖  ∗  η 𝑚𝑜𝑡.𝑖 ∗  η 𝑎𝑐𝑐.𝑖  ∗  η 𝑝𝑜𝑚𝑝𝑒.𝑖  "]
["électricité","électricité","Elektrizität","Elektrizität",1,null,null,"Δ 𝐸 𝑎  =  1 𝑛  (𝑃 𝑒𝑙, 𝑎𝑛𝑐.𝑖  −  𝑃 𝑒𝑙, 𝑛𝑜𝑢𝑣.𝑖 )  ∗ 𝑁ℎ 𝑖 "]
["6.2 Résulats","6.2 Résulats","6.2 Ergebnisse","6.2 Ergebnisse",1,null,null," 𝑃 𝑒𝑙,𝑎𝑛𝑐.𝑖 =  𝑃 ℎ𝑦𝑑𝑟,𝑎𝑛𝑐.𝑖 / η 𝑡𝑜𝑡,𝑎𝑛𝑐.𝑖 "]
["Système","Système","System","System",1,null,null," 𝑃 ℎ𝑦𝑑𝑟,𝑎𝑛𝑐.𝑖 = Δ𝑝𝑎𝑛𝑐.𝑖∗𝑄𝑎𝑛𝑐.𝑖"]
[{"$f":"IF($B$2=\"FR\",B455,C455)","v":"Type d'énergie"},"Type d'énergie","Art der Energie","Art der Energie",1,null,null," 𝑃 𝑒𝑙,𝑛𝑜𝑢𝑣.𝑖 =  𝑃 ℎ𝑦𝑑𝑟,𝑛𝑜𝑢𝑣.𝑖 / η 𝑡𝑜𝑡,𝑛𝑜𝑢𝑣.𝑖 "]
["Coût de l'énergie","Coût de l'énergie","Kosten für Energie","Kosten für Energie",1,null,null," 𝑃 ℎ𝑦𝑑𝑟,𝑛𝑜𝑢𝑣.𝑖 = Δ𝑝𝑛𝑜𝑢𝑣.𝑖∗𝑄𝑛𝑜𝑢𝑣.𝑖"]
["Réduction des frais (par an)","Réduction des frais (par an)","Gebührenermässigung (pro Jahr)","Gebührenermäßigung",null,null,null," η 𝑡𝑜𝑡.𝑖 =  η 𝐶𝐹.𝑖  ∗  η 𝑚𝑜𝑡.𝑖 ∗  η 𝑎𝑐𝑐.𝑖  ∗  η 𝑣𝑒𝑛𝑡.𝑖  "]
["Réduction des émissions de CO2 (par an)","Réduction des émissions de CO2 (par an)","Reduzierung der CO2-Emissionen (pro Jahr)","Reduzierung der CO2-Emissionen",1,null,null,"Δ 𝐸 𝑎  =  1 𝑛  (𝑃 𝑒𝑙, 𝑎𝑛𝑐.𝑖  −  𝑃 𝑒𝑙, 𝑛𝑜𝑢𝑣.𝑖 )  ∗ 𝑁ℎ 𝑖 "]
["Aide calcul financier","Aide calcul financier","Hilfe zur Finanzkalkulation","Hilfe zur Finanzkalkulation",1,null,null," 𝑃 𝑒𝑙,𝑎𝑛𝑐.𝑖 =  𝑃 𝑎é𝑟,𝑎𝑛𝑐.𝑖 / η 𝑡𝑜𝑡,𝑎𝑛𝑐.𝑖 "]
["Menu","Menu","Menü","Menü",1,null,null," 𝑃 𝑎é𝑟,𝑎𝑛𝑐.𝑖 = Δ𝑝𝑎𝑛𝑐.𝑖∗𝑄𝑎𝑛𝑐.𝑖"]
["Analyse fine","Analyse fine","Feinanalyse","Feinanalyse",1,null,null," 𝑃 𝑒𝑙,𝑛𝑜𝑢𝑣.𝑖 =  𝑃 𝑎é𝑟,𝑛𝑜𝑢𝑣.𝑖 / η 𝑡𝑜𝑡,𝑛𝑜𝑢𝑣.𝑖 "]
["Langue","Langue","Sprache","Sprache",1,null,null," 𝑃 𝑎é𝑟,𝑛𝑜𝑢𝑣.𝑖 = Δ𝑝𝑛𝑜𝑢𝑣.𝑖∗𝑄𝑛𝑜𝑢𝑣.𝑖"]
["Souce pour les aides","Souce pour les aides","Hilfe Quelle","Quellen für Hilfe",1]
["Local","Local","Lokal","Lokale",1,null,null,"Plusieurs paramètres vont influencer la durée de vie effective d'une installation: le nombre d'heures de fonctionnement par an, la taille, les conditions d'exploitation (milieu agressif).\nPour un moteur et un ventilateur sans problème d'usure particulière"]
["Cliquez sur les rectangles ci-dessous  (encadrés en bleu) pour accéder de façon directe aux différents modules de l'outil.","Cliquez sur les rectangles ci-dessous  (encadrés en bleu) pour accéder de façon directe aux différents modules de l'outil.","Klicken Sie auf die untenstehenden Rechtecke (blau umrandet), um direkten Zugang zu den verschiedenen Modulen des Werkzeugs zu erhalten.","Klicken Sie auf die untenstehenden Rechtecke (blau umrandet), um direkten Zugang zu den verschiedenen Modulen des Werkzeugs zu erhalten.",null,null,null,"Lorsque le système est complexe, il faut comprendre le comportement et la nature des consommateurs. Si les besoins des consommateurs varient de façon concomitante, les analyses et les optimisations sont plus simples."]
["Mode d'emploi de l'outil","Mode d'emploi de l'outil","Wie Sie das Tool verwenden","Wie Sie das Tool verwenden",1,null,null,"Il s’agit d’éviter qu’une vision trop restreinte conduise à des mesures contre-productives à un niveau plus élevé. L’idée est également de déterminer le bon périmètre d’analyse."]
["Instructions pour l'analyse détaillée","Instructions pour l'analyse détaillée","Anweisungen zur detaillierten Analyse","Anweisungen zur Feinanalyse",1,null,null,"L’économie la plus simple et la moins onéreuse consiste à assurer le besoin réel et pas plus (donc pas forcément le besoin actuel). Par exemple, il arrive souvent que des modifications dans les besoins (à la baisse) n’aient jamais été intégrées. "]
["Modules d'aide","Modules d'aide","Hilfe-Module","Hilfe-Module",1,null,null,"Une gestion non optimale des variations de débit est une source de forte surconsommation. L'information sur le caractère variable ou non du besoin est donc importante.\nLa variation du besoin au cours du temps doit être suivie. Une exploitation horaire peu"]
["Support aux mesurages et calculs économiques","Support aux mesurages et calculs économiques","Unterstützung für wirtschaftliche Messungen und Berechnungen","Unterstützung für wirtschaftliche Messungen und Berechnungen",null,null,null,"La gestion actuelle des variations est un point clé. Si celle-ci est assurée par étranglement, l’introduction d’un variateur apportera probablement des économies sensibles."]
["Aperçu des résultats de l'analyse détaillée","Aperçu des résultats de l'analyse détaillée","Überblick über die Ergebnisse der detaillierten Analyse","Überblick über die Ergebnisse der Feinanalyse",null,null,null,"La connaissance du profil de débit sur une période représentative est fondamentale. Plus les périodes à débits réduit sont longues, plus les économies associées à des mesures d’optimisation (introduction d’un CF) seront importantes."]
["Introduction/Explications","Introduction/Explications","Einleitung/Erläuterungen","Einleitung/Erläuterungen",1,null,null,"La saison, la météo (Text), l’heure du jour, le jour de la semaine, la production, sont des exemples de paramètres qui peuvent influencer le besoin. Cette information permet notamment de déterminer la durée des mesurages."]
["Signification des couleurs","Signification des couleurs","Bedeutung der Farben","Bedeutung der Farben",1,null,null,"Clement Dugua:\nd'après hypothèse"]
["Case à compléter ou liste déroulante","Case à compléter ou liste déroulante","Auszufüllende Box oder Dropdown-Liste","Auszufüllende Box oder Dropdown-Liste",1,null,null,"Clement Dugua:\nd'après hypothèse"]
["Default","Default","Standardmäßig","Standardmäßig",null,null,null,"Clement Dugua:\nd'après hypothèse"]
["Valeur par défaut, peut être précisée","Valeur par défaut, peut être précisée","Standardwert, kann angegeben werden","Standardwert, kann angegeben werden",1,null,null,"Clement Dugua:\nd'après hypothèse"]
["Champ facultatif","Champ facultatif","Optionales Feld","Optionales Feld",1,null,null,"Clement Dugua:\nd'après hypothèse"]
["Introduction","Introduction","Einführung","Einführung",1,null,null,"Clement Dugua:\nd'après hypothèse"]
["L'objectif de l'analyse de détail est de fournir à l'exploitant les informations sur les mesures d'optimisation adéquates, leurs coûts, le gain énergétique attendu et le temps de retour sur investissement.","L'objectif de l'analyse de détail est de fournir à l'exploitant les informations sur les mesures d'optimisation adéquates, leurs coûts, le gain énergétique attendu et le temps de retour sur investissement.","Ziel der detaillierten Analyse ist es, dem Betreiber Informationen über die geeigneten Optimierungsmaßnahmen, deren Kosten, den zu erwartenden Energiegewinn und die Amortisationszeit zu liefern.","Ziel der Feinanalyse ist es, dem Betreiber Informationen über die geeigneten Optimierungsmaßnahmen, deren Kosten, den zu erwartenden Energiegewinn und die Amortisationszeit zu liefern.",null,null,null,"Clement Dugua:\nd'après hypothèse"]
["Un niveau de connaissance élevé permet de cibler les optimisations les plus ambitieuses. Lorsque le système est peu instrumenté, les données nécessaires doivent être obtenues par des mesurages externes (expert). ","Un niveau de connaissance élevé permet de cibler les optimisations les plus ambitieuses. Lorsque le système est peu instrumenté, les données nécessaires doivent être obtenues par des mesurages externes (expert). ","Ein hoher Wissensstand erlaubt es uns, die ehrgeizigsten Optimierungen anzustreben. Wenn das System wenig instrumentiert ist, müssen die notwendigen Daten durch externe (Experten-)Messungen gewonnen werden. ","Ein hoher Wissensstand erlaubt es uns, die ehrgeizigsten Optimierungen anzustreben. Wenn das System schlecht instrumentiert ist, müssen die notwendigen Daten durch externe (Experten-)Messungen gewonnen werden. ",null,null,null,"Clement Dugua:\nd'après hypothèse"]
["Les \"recettes\" constituent des aides pour le responsable en charge de l'analyse de détail.","Les \"recettes\" constituent des aides pour le responsable en charge de l'analyse de détail.","Die \"Rezepte\" sind Hilfsmittel für die mit der Feinanalyse beauftragte Person.","Die \"Einnahmen\" sind Hilfsmittel für die mit der Feinanalyse beauftragte Person.",null,null,null,"Clement Dugua:\nd'après hypothèse"]
["Fiche \"Pompes\"","Fiche \"Pompes\"","Blatt \"Pumpen\".",null,null,null,null,"Clement Dugua:\nd'après hypothèse"]
["Cette fiche fait partie des \"recettes\" destinées à guider le responsable des analyses de détail. Elle porte sur les systèmes de pompage.\nLa première partie est constituée d'une liste de questions devant permettre à l'expert de mieux connaître l'équipement et son évolution prévue. La seconde partie précise les besoins de mesurages externes (à réaliser par l'expert). Elle comprend des liens avec les aides à la bonne conduite des mesurages. La troisième partie est un résumé de la situation et des conseils pour la conduite des mesurages.\nLa partie 4 porte sur les analyses. Elle soutient l'expert dans sa façon d'utiliser les résultats de mesurages et de la définition des options d'optimisation possibles et recommandables. Les partie  5 et 6 présentent enfin les calculs des économies et de la rentabilité des mesures.\nDifférentes fiches de détails sont proposées afin d'éclairer le propos. Pour les mesurages, des procédures d'aide sont à disposition avec des conseils pratiques.","Cette fiche fait partie des \"recettes\" destinées à guider le responsable des analyses de détail. Elle porte sur les systèmes de pompage.\nLa première partie est constituée d'une liste de questions devant permettre à l'expert de mieux connaître l'équipement et son évolution prévue. La seconde partie précise les besoins de mesurages externes (à réaliser par l'expert). Elle comprend des liens avec les aides à la bonne conduite des mesurages. La troisième partie est un résumé de la situation et des conseils pour la conduite des mesurages.\nLa partie 4 porte sur les analyses. Elle soutient l'expert dans sa façon d'utiliser les résultats de mesurages et de la définition des options d'optimisation possibles et recommandables. Les partie  5 et 6 présentent enfin les calculs des économies et de la rentabilité des mesures.\nDifférentes fiches de détails sont proposées afin d'éclairer le propos. Pour les mesurages, des procédures d'aide sont à disposition avec des conseils pratiques.","Dieses Blatt ist Teil der \"Rezepte\", die den Verantwortlichen für die Feinanalyse als Leitfaden dienen sollen. Sie befasst sich mit Pumpsystemen. \nDer erste Teil besteht aus einer Liste von Fragen, die es dem Experten ermöglichen sollen, die Ausrüstung und ihre geplante Entwicklung besser zu verstehen. Der zweite Teil spezifiziert den Bedarf an externen Messungen (die vom Experten durchzuführen sind). Sie enthält Links zu den Hilfsmitteln für die ordnungsgemäße Durchführung der Messungen. Der dritte Teil ist eine Zusammenfassung der Situation und Ratschläge für die Durchführung von Messungen. \nTeil 4 befasst sich mit Analysen. Es unterstützt den Experten bei der Verwendung der Messergebnisse und bei der Definition möglicher und empfehlenswerter Optimierungsmöglichkeiten. Die Teile 5 und 6 schließlich präsentieren die Berechnungen der Einsparungen und der Kostenwirksamkeit der Messungen. \nZur Klärung des Themas werden verschiedene Detailblätter vorgeschlagen. Für die Messungen stehen Hilfsverfahren mit praktischen Ratschlägen zur Verfügung.",null,null,null,null,"Clement Dugua:\nd'après hypothèse"]
["Fiche \"Ventilateurs\"","Fiche \"Ventilateurs\"","Blatt \"Fans\".",null,null,null,null,"Clement Dugua:\nd'après hypothèse"]
["Cette fiche fait partie des \"recettes\" destinées à guider le responsable des analyses de détail. Elle porte sur les systèmes de ventilation.\nLa première partie est constituée d'une liste de questions devant permettre à l'expert de mieux connaître l'équipement et son évolution prévue. La seconde partie précise les besoins de mesurages externes (à réaliser par l'expert). Elle comprend des liens avec les aides à la bonne conduite des mesurages. Dans la partie 3, des questions supplémentaires permettent de mieux identifier les sources d'économie du ventilateur considéré. La quatrième partie offre un résumé de la situation et des conseils pour la conduite des mesurages.\nLa partie 5 porte sur les analyses. Elle soutient l'expert dans sa façon d'utiliser les résultats de mesurages et de la définition des options d'optimisation possibles et recommandables. Lea partie  6  présentent enfin les calculs des économies et de rentabilité des mesures.\nDifférentes fiches de détails sont proposées afin d'éclairer le propos. Pour les mesurages, des procédures d'aide sont à disposition avec des conseils pratiques.","Cette fiche fait partie des \"recettes\" destinées à guider le responsable des analyses de détail. Elle porte sur les systèmes de ventilation.\nLa première partie est constituée d'une liste de questions devant permettre à l'expert de mieux connaître l'équipement et son évolution prévue. La seconde partie précise les besoins de mesurages externes (à réaliser par l'expert). Elle comprend des liens avec les aides à la bonne conduite des mesurages. Dans la partie 3, des questions supplémentaires permettent de mieux identifier les sources d'économie du ventilateur considéré. La quatrième partie offre un résumé de la situation et des conseils pour la conduite des mesurages.\nLa partie 5 porte sur les analyses. Elle soutient l'expert dans sa façon d'utiliser les résultats de mesurages et de la définition des options d'optimisation possibles et recommandables. Lea partie  6  présentent enfin les calculs des économies et de rentabilité des mesures.\nDifférentes fiches de détails sont proposées afin d'éclairer le propos. Pour les mesurages, des procédures d'aide sont à disposition avec des conseils pratiques.","Dieses Blatt ist Teil der \"Rezepte\", die den Verantwortlichen für die Feinanalyse als Leitfaden dienen sollen. Sie befasst sich mit Lüftungssystemen. \nDer erste Teil besteht aus einer Liste von Fragen, die es dem Experten ermöglichen sollen, sich ein besseres Wissen über die Ausrüstung und ihre geplante Entwicklung zu verschaffen. Der zweite Teil spezifiziert den Bedarf an externen Messungen (die vom Experten durchzuführen sind). Sie enthält Links zu den Hilfsmitteln für die ordnungsgemäße Durchführung der Messungen. In Teil 3 helfen zusätzliche Fragen dabei, die Einsparungsquellen des betrachteten Ventilators besser zu identifizieren. Teil 4 enthält eine Zusammenfassung der Situation und Tipps zur Durchführung der Messungen. \nTeil 5 befasst sich mit den Analysen. Es unterstützt den Experten bei der Verwendung der Messergebnisse und bei der Definition möglicher und empfehlenswerter Optimierungsoptionen. Schließlich werden in Teil 6 die Berechnungen der Einsparungen und der Kostenwirksamkeit der Messungen vorgestellt. \nZur Klärung des Themas werden verschiedene Detailblätter vorgeschlagen. Für die Messungen stehen Hilfsverfahren mit praktischen Ratschlägen zur Verfügung.",null,null,null,null,"Clement Dugua:\nd'après facture"]
["Fiche \"Air comprimé\"","Fiche \"Air comprimé\"","Blatt \"Druckluft\"",null,null,null,null,"Clement Dugua:\nd'après facture"]
["Cette fiche fait partie des \"recettes\" destinées à guider le responsable des analyses de détail. Elle porte sur les systèmes de production d'air comprimé.\n\nElle est constituée d'une liste de points permettant à l'expert de caractériser l'équipement à analyser et le besoin en mesurages externes (à réaliser par l'expert). \n\nCette fiche soutient l'expert dans sa façon d'utiliser les résultats de mesurages et de la définition des options d'optimisation possibles et recommandables. Elle présente notament les calculs des économies.\nDifférentes fiches de détails sont proposées afin d'éclairer le propos.","Cette fiche fait partie des \"recettes\" destinées à guider le responsable des analyses de détail. Elle porte sur les systèmes de production d'air comprimé.\n\nElle est constituée d'une liste de points permettant à l'expert de caractériser l'équipement à analyser et le besoin en mesurages externes (à réaliser par l'expert). \n\nCette fiche soutient l'expert dans sa façon d'utiliser les résultats de mesurages et de la définition des options d'optimisation possibles et recommandables. Elle présente notament les calculs des économies.\nDifférentes fiches de détails sont proposées afin d'éclairer le propos.","Dieses Blatt ist Teil der \"Rezepte\", die den Verantwortlichen für die Feinanalyse als Leitfaden dienen sollen. Sie befasst sich mit Drucklufterzeugungssystemen.\n\nSie besteht aus einer Liste von Punkten, die es dem Experten ermöglicht, die zu analysierende Ausrüstung und die Notwendigkeit von externen Messungen (die vom Experten durchzuführen sind) zu charakterisieren. \n\nDieses Blatt unterstützt den Experten bei der Verwendung der Messergebnisse und bei der Definition möglicher und empfehlenswerter Optimierungsoptionen. Insbesondere werden die Berechnungen der Einsparungen vorgestellt. \nEs werden verschiedene Detailblätter vorgeschlagen, um das Thema aufzuklären.",null,null,null,null,"Clement Dugua:\nd'après facture"]
["Fiche \"Groupe froid\"","Fiche \"Groupe froid\"","Blatt \"Kühlaggregat\"",null,null,null,null,"Clement Dugua:\nd'après facture"]
["Cette fiche fait partie des \"recettes\" destinées à guider le responsable des analyses de détail. Elle porte sur les systèmes de production de froid.\n\nElle est constituée d'une liste de points permettant à l'expert de caractériser l'équipement à analyser et le besoin en mesurages externes (à réaliser par l'expert). Le minimum nécessaire à l'étude est la réalisation de mesurages en été. Cependant, l'idéal est de réaliser également des mesurages en hiver, afin d'affiner la précision des résultats.\n\nCette fiche soutient l'expert dans sa façon d'utiliser les résultats de mesurages et dans la définition des options d'optimisation possibles et recommandables. Elle présente notament les calculs des économies.\nDifférentes fiches de détails sont proposées afin d'éclairer le propos.\n","Cette fiche fait partie des \"recettes\" destinées à guider le responsable des analyses de détail. Elle porte sur les systèmes de production de froid.\n\nElle est constituée d'une liste de points permettant à l'expert de caractériser l'équipement à analyser et le besoin en mesurages externes (à réaliser par l'expert). Le minimum nécessaire à l'étude est la réalisation de mesurages en été. Cependant, l'idéal est de réaliser également des mesurages en hiver, afin d'affiner la précision des résultats.\n\nCette fiche soutient l'expert dans sa façon d'utiliser les résultats de mesurages et dans la définition des options d'optimisation possibles et recommandables. Elle présente notament les calculs des économies.\nDifférentes fiches de détails sont proposées afin d'éclairer le propos.\n","Dieses Blatt ist Teil der \"Rezepte\", die den Verantwortlichen für die Feinanalyse als Leitfaden dienen sollen. Es befasst sich mit Kälteproduktionssystemen.\n\nSie besteht aus einer Liste von Punkten, die es dem Experten ermöglicht, die zu analysierende Ausrüstung und die Notwendigkeit von externen Messungen (die vom Experten durchzuführen sind) zu charakterisieren. Das für die Studie notwendige Minimum ist die Durchführung von Messungen im Sommer. Ideal ist es jedoch, Messungen auch im Winter durchzuführen, um die Genauigkeit der Ergebnisse zu verfeinern.\n\nDieses Blatt unterstützt den Experten bei der Verwendung der Messergebnisse und bei der Definition möglicher und empfohlener Optimierungsoptionen. Insbesondere werden die Berechnungen der Einsparungen vorgestellt. \nZur Klärung des Themas werden verschiedene Detailblätter vorgeschlagen.",null,null,null,null,"Clement Dugua:\nd'après facture"]
[8.2018000000000004,8.2018000000000004,8.2018000000000004,8.2018000000000004,null,null,null,"Clement Dugua:\nd'après facture"]
["1. Questions liminaires","1. Questions liminaires","1. Einleitende Fragen","1. Einleitende Fragen",null,null,null,"Clement Dugua:\nd'après facture"]
["2. Besoins en mesurages","2. Besoins en mesurages","2. Bedarf an Messungen","2. Bedarf an Messungen",1,null,null,"Clement Dugua:\nd'après facture"]
["3. Questions additionnelles","3. Questions additionnelles","3. Zusätzliche Fragen","3. Zusätzliche Fragen",null,null,null,"Clement Dugua:\nd'après facture"]
["4. Synthèse","4. Synthèse","4. Synthese","4. Synthese",1,null,null,"Clement Dugua:\nd'après facture"]
["5. Données de mesurage","5. Données de mesurage","5. Messdaten","5. Messdaten",1,null,null,"Clement Dugua:\nd'après facture"]
["6. Calcul des économies","6. Calcul des économies","6. Berechnung der Einsparungen","6. Berechnung der Einsparungen",1,null,null,"Clement Dugua:\nd'après facture"]
["Analyse fine Pompes","Analyse fine Pompes","Feinanalyse Pumpen","Feinanalyse Pumpen",null,null,null,"Clement Dugua:\nd'après mesurage ou hyptohèse"]
["But:","But:","Ziel:","Ziel:",1,null,null,"Clement Dugua:\nd'après mesurage ou hyptohèse"]
["Ce module FA dévolu aux pompes propose une démarche (voir l'arbre de décision sous le schéma) permettant une analyse approfondie du système existant (incluant des mesurages) et des propositions d'optimisation appropriées.","Ce module FA dévolu aux pompes propose une démarche (voir l'arbre de décision sous le schéma) permettant une analyse approfondie du système existant (incluant des mesurages) et des propositions d'optimisation appropriées.","Dieses FA-Modul für Pumpen schlägt einen Ansatz vor (siehe den Entscheidungsbaum unterhalb des Diagramms), der eine gründliche Analyse des bestehenden Systems (einschließlich Messungen) und geeignete Optimierungsvorschläge ermöglicht.","Dieses FA-Modul für Pumpen schlägt einen Ansatz vor (siehe den Entscheidungsbaum unterhalb des Diagramms), der eine gründliche Analyse des bestehenden Systems (einschließlich Messungen) und geeignete Optimierungsvorschläge ermöglicht.",null,null,null,"Clement Dugua:\nd'après mesurage ou hyptohèse"]
["Question No","Question No","Frage Nr.","Frage Nr.",null,null,null,"Clement Dugua:\nd'après mesurage ou hyptohèse"]
["Les équipements sont-ils âgés?","Les équipements sont-ils âgés?","Ist die Ausrüstung alt?","Ist die Ausrüstung alt?",null,null,null,"Clement Dugua:\nd'après mesurage ou hyptohèse"]
["Les consommateurs ont-ils des besoins concomitants/synchrones ?","Les consommateurs ont-ils des besoins concomitants/synchrones ?","Haben Verbraucher gleichzeitige/synchrone Bedürfnisse?","Haben Verbraucher gleichzeitige/synchrone Bedürfnisse?",null,null,null,"Clement Dugua:\nd'après mesurage ou hyptohèse"]
["Des modifications des prestations de la pompe ont-elles une influence sur d’autres consommations ?","Des modifications des prestations de la pompe ont-elles une influence sur d’autres consommations ?","Haben Änderungen der Pumpenleistung einen Einfluss auf andere Verbräuche?","Haben Änderungen der Pumpenleistung einen Einfluss auf andere Verbräuche?",null,null,null,"Clement Dugua:\nd'après mesurage ou hyptohèse"]
["La prestation actuelle (offre) correspond-elle au besoin réel (débit-pression) de l’installation ?","La prestation actuelle (offre) correspond-elle au besoin réel (débit-pression) de l’installation ?","Entspricht die aktuelle Leistung (Angebot) dem tatsächlichen Bedarf (Durchfluss/Druck) der Anlage?","Entspricht die aktuelle Leistung (Angebot) dem tatsächlichen Bedarf (Durchfluss/Druck) der Anlage?",null,null,null,"Clement Dugua:\nd'après mesurage ou hyptohèse"]
["Le besoin (débit) est-il variable?","Le besoin (débit) est-il variable?","Ist der Bedarf (Flussrate) variabel?","Ist der Bedarf (Flussrate) variabel?",null,null,null,"Clement Dugua:\nd'après mesurage ou hyptohèse"]
["ne sais pas","ne sais pas","weiß nicht","weiß nicht",null,null,null,"Clement Dugua:\nd'après mesurage ou hyptohèse"]
["Le moteur est-il entraîné via un convertisseur de fréquence?","Le moteur est-il entraîné via un convertisseur de fréquence?","Wird der Motor über einen Frequenzumrichter angetrieben?","Wird der Motor über einen Frequenzumrichter angetrieben?",null,null,null,"Clement Dugua:\nvaleur communiquée par le fournisseur pour la température représentative"]
["Le profil de débit effectif est-il disponible?","Le profil de débit effectif est-il disponible?","Ist das tatsächliche Flussprofil verfügbar?","Ist das tatsächliche Flussprofil verfügbar?",null,null,null,"Clement Dugua:\nvaleur communiquée par le fournisseur pour la température représentative"]
["Quel paramètre influence majoritairement le profil de débit?","Quel paramètre influence majoritairement le profil de débit?","Welcher Parameter hat den grössten Einfluss auf das Flussprofil?","Welcher Parameter hat den grössten Einfluss auf das Flussprofil?",null,null,null,"Clement Dugua:\nvaleur communiquée par le fournisseur pour la température représentative"]
["autre ou ne sais pas","autre ou ne sais pas","andere oder weiß nicht","andere oder weiß nicht",null,null,null,"Clement Dugua:\nvaleur communiquée par le fournisseur pour la température représentative"]
["Existe-t-il un relevé (enregistrement) des pressions à l'aspiration et au refoulement de la pompe?","Existe-t-il un relevé (enregistrement) des pressions à l'aspiration et au refoulement de la pompe?","Gibt es eine Ablesung (Aufzeichnung) der Saug- und Förderdrücke der Pumpe?","Gibt es eine Ablesung (Aufzeichnung) der Saug- und Förderdrücke der Pumpe?",null,null,null,"Clement Dugua:\nvaleur communiquée par le fournisseur pour la température représentative"]
["Le circuit hydraulique comprend-il des vannes en position partiellement fermée?","Le circuit hydraulique comprend-il des vannes en position partiellement fermée?","Hat das Hydrauliksystem Ventile in der teilweise geschlossenen Position?","Hat das Hydrauliksystem Ventile in der teilweise geschlossenen Position?",null,null,null,"Clement Dugua:\nvaleur communiquée par le fournisseur pour la température représentative"]
["La pompe fait-elle partie d'une cascade?","La pompe fait-elle partie d'une cascade?","Ist die Pumpe Teil einer Kaskade?","Ist die Pumpe Teil einer Kaskade?",null,null,null,"Clement Dugua:\nvaleur communiquée par le fournisseur pour la température représentative"]
["L'entraînement comprend-il un accouplement?","L'entraînement comprend-il un accouplement?","Enthält der Antrieb eine Kupplung?","Enthält der Antrieb eine Kupplung?",null,null,null,"Clement Dugua:\nvaleur communiquée par le fournisseur pour la température représentative"]
["Existe-t-il un besoin d'assainissement?","Existe-t-il un besoin d'assainissement?","Gibt es Sanierungsbedarf? ","Gibts es einen Bedarf an Sanierung?",null,null,null,"Clement Dugua:\nd'après hypothèse"]
["synchrone","synchrone","synchron","synchron",null,null,null,"Clement Dugua:\nd'après hypothèse"]
["influence","influence","beeinflussen","Einfluss",null,null,null,"Clement Dugua:\nd'après hypothèse"]
["besoin réel","besoin réel","wahrer Bedarf","tatsächlicher Bedarf",null,null,null,"Clement Dugua:\nd'après hypothèse"]
["variable","variable","variabel","variabel",null,null,null,"Nicolas Macabrey:\n"]
[{"$f":"IF($B$2=\"FR\",B519,C519)","v":"débit dispo"},"débit dispo","verfügbarer Durchfluss","verfügbarer Durchfluss"]
["pression","pression","Druck","Druck"]
["puissance","puissance","Leistung","Leistung "]
["vanne semi","vanne semi","Halbventil","Halbventil"]
["Cascade","Cascade","Kaskade","Kaskade"]
["Assainissement","Assainissement","Sanierung","Sanierung"]
["ouiouiouioui","ouiouiouioui","jajajajajaja","jajajaja",1]
["Le débit max. fourni correspond a priori au besoin et il est mesuré par l'exploitant. De plus, les vartiations sont assurées par un variateur. La situation est favorable et il n'y a à priori pas d'investigations supplémentaires à réaliser.","Le débit max. fourni correspond a priori au besoin et il est mesuré par l'exploitant. De plus, les vartiations sont assurées par un variateur. La situation est favorable et il n'y a à priori pas d'investigations supplémentaires à réaliser.","Die max. gelieferte Durchflussmenge ist a priori nach Bedarf und wird vom Bediener gemessen. Zusätzlich wird für die Steuerung ein drehzahlvariabler Antrieb verwendet. Die Situation ist günstig, und es sind keine weiteren Untersuchungen erforderlich.","Die max. gelieferte Durchflussmenge ist a priori nach Bedarf und wird vom Bediener gemessen. Zusätzlich wird für die Steuerung ein drehzahlvariabler Antrieb verwendet. Die Situation ist günstig, und es sind keine weiteren Untersuchungen erforderlich."]
["OuiOuiOuiNon","OuiOuiOuiNon","JaJaJaNein","JaJaJaNein",1]
["Le débit max. fourni correspond a priori au besoin, maisil n'est pas mesuré. Un mesurage permettrait de mieux connaître le débit réel.","Le débit max. fourni correspond a priori au besoin, maisil n'est pas mesuré. Un mesurage permettrait de mieux connaître le débit réel.","Die maximale Durchflussmenge wird a priori nach Bedarf geliefert, wird aber nicht gemessen. Eine Messung würde eine bessere Kenntnis der tatsächlichen Flussrate ermöglichen.","Die maximale Durchflussmenge wird a priori nach Bedarf geliefert, wird aber nicht gemessen. Eine Messung würde eine bessere Kenntnis der tatsächlichen Flussrate ermöglichen."]
["Non ","Non ","Nein ","Nein "]
["OuiOuiNon Oui","OuiOuiNon Oui","JaJaNein Ja","JaJaNein Ja",1,null,null,"Clement Dugua:\nd'après hypothèse"]
["Le débit variable n'est probablement  pas contrôlé de la manière la plus efficace.  Considérez le débit relevé par les appareils du site pour valider le recours à un variateur de vitesse.","Le débit variable n'est probablement  pas contrôlé de la manière la plus efficace.  Considérez le débit relevé par les appareils du site pour valider le recours à un variateur de vitesse.","Der variable Fluss wird wahrscheinlich nicht auf die effizienteste Weise kontrolliert. Betrachten Sie die von der Anlage vor Ort aufgezeichnete Durchflussmenge, um die Verwendung eines drehzahlvariablen Antriebs zu validieren.","Der variable Fluss wird wahrscheinlich nicht auf die effizienteste Weise kontrolliert. Betrachten Sie die von der Anlage vor Ort aufgezeichnete Durchflussmenge, um die Verwendung eines drehzahlvariablen Antriebs zu validieren.",null,null,null,"Clement Dugua:\nd'après hypothèse"]
["Saison et Text","Saison et Text","Jahreszeit und Text","Jahreszeit und Text",null,null,null,"Clement Dugua:\nd'après hypothèse"]
["nonSaison et Text","nonSaison et Text","neinSeason und Text","noSeason und Text",1,null,null,"Clement Dugua:\nd'après hypothèse"]
["La durée et la période des mesurages doivent intégrer l'éventuel caractère saisonnier. Il est parfois bienvenu de réaliser plusieurs campagnes notamment une en été et une en hiver.","La durée et la période des mesurages doivent intégrer l'éventuel caractère saisonnier. Il est parfois bienvenu de réaliser plusieurs campagnes notamment une en été et une en hiver.","Die Dauer und der Zeitraum der Messungen sollten die mögliche Saisonabhängigkeit berücksichtigen. Manchmal ist es ratsam, mehrere Kampagnen durchzuführen, insbesondere eine im Sommer und eine im Winter.","Die Dauer und der Zeitraum der Messungen sollten die mögliche Saisonabhängigkeit berücksichtigen. Manchmal ist es ratsam, mehrere Kampagnen durchzuführen, insbesondere eine im Sommer und eine im Winter.",null,null,null,"Clement Dugua:\nd'après hypothèse"]
["l'heure et le jour de la semaine","l'heure et le jour de la semaine","die Uhrzeit und den Wochentag","Zeit und Wochentag",null,null,null,"Clement Dugua:\nd'après hypothèse"]
["nonl'heure et le jour de la semaine","nonl'heure et le jour de la semaine","neindie Uhrzeit und den Wochentag","nicht die Uhrzeit und den Wochentag",1,null,null,"Clement Dugua:\nd'après hypothèse"]
["Une durée de mesurage de l'ordre d'une semaine convient bien dans ce cas.","Une durée de mesurage de l'ordre d'une semaine convient bien dans ce cas.","Eine Messzeit von etwa einer Woche ist in diesem Fall geeignet.","Eine Messzeit von etwa einer Woche ist in diesem Fall geeignet.",null,null,null,"𝑇𝑅𝐵 [𝑎𝑛]= 𝑐𝑜û𝑡 𝑑𝑒  𝑙 ′ 𝑖𝑛𝑣𝑒𝑠𝑡𝑖𝑠𝑠𝑒𝑚𝑒𝑛𝑡 [𝐶𝐻𝐹] é𝑐𝑜𝑛𝑜𝑚𝑖𝑒 𝑎𝑛𝑢𝑒𝑙𝑙𝑒   𝐶𝐻𝐹 𝑎𝑛   "]
["la production (type, nbre ou vol. de produit)","la production (type, nbre ou vol. de produit)","Produktion (Typ, Nr. oder Vol. des Produktes)","Produktion (Typ, Anzahl oder Volumen des Produktes)",null,null,null,"𝑇𝑅𝑁  𝑎𝑛 = 𝑐𝑜û𝑡 𝑑𝑒  𝑙 ′ 𝑖𝑛𝑣𝑒𝑠𝑡𝑖𝑠𝑠𝑒𝑚𝑒𝑛𝑡 [𝐶𝐻𝐹]∙𝑝𝑎𝑟𝑡 𝑑𝑒𝑠 𝑐𝑜û𝑡𝑠 𝑙𝑖é𝑒 à  𝑙 ′ é𝑛𝑒𝑟𝑔𝑖𝑒 −  é𝑐𝑜𝑛𝑜𝑚𝑖𝑒 𝑎𝑛𝑢𝑒𝑙𝑙𝑒   𝐶𝐻𝐹 𝑎𝑛   "]
["nonla production (type, nbre ou vol. de produit)","nonla production (type, nbre ou vol. de produit)","nein die Produktion (Art, Anzahl oder Volumen des Produkts)","Produktion (Art, Anzahl oder Volumen des Produkts)",null,null,null,"𝑝𝑎𝑟𝑡 𝑑𝑒𝑠 𝑐𝑜û𝑡𝑠 𝑙𝑖é𝑒 à  𝑙 ′ é𝑛𝑒𝑟𝑔𝑖𝑒 − =1− â𝑔𝑒 𝑑𝑒  𝑙 ′ 𝑖𝑛𝑠𝑡𝑎𝑙𝑙𝑎𝑡𝑖𝑜𝑛  𝑎𝑛  𝑑𝑢𝑟é𝑒 𝑑𝑒 𝑣𝑖𝑒 𝑡𝑒𝑐ℎ𝑛𝑖𝑞𝑢𝑒 𝑑𝑒  𝑙 ′ 𝑖𝑛𝑠𝑡𝑎𝑙𝑙𝑎𝑡𝑖𝑜𝑛  𝑎𝑛  "]
["Les mesurages doivent être menés sur une période représentative de la production annuelle.","Les mesurages doivent être menés sur une période représentative de la production annuelle.","Die Messungen müssen über einen für die Jahresproduktion repräsentativen Zeitraum durchgeführt werden.","Die Messungen müssen über einen für die Jahresproduktion repräsentativen Zeitraum durchgeführt werden.",null,null,null,"𝑝𝑎𝑟𝑡 𝑑𝑒𝑠 𝑐𝑜û𝑡𝑠 𝑙𝑖é𝑒 à  𝑙 ′ é𝑛𝑒𝑟𝑔𝑖𝑒 − = 𝑐𝑜û𝑡 𝑑𝑒  𝑙 ′ 𝑖𝑛𝑣𝑒𝑠𝑡𝑖𝑠𝑠𝑒𝑚𝑒𝑛𝑡 é𝑛𝑒𝑟𝑔é𝑡𝑖𝑞𝑢𝑒 [𝐶𝐻𝐹] 𝑐𝑜û𝑡 𝑑𝑒  𝑙 ′ 𝑖𝑛𝑣𝑒𝑠𝑡𝑖𝑠𝑠𝑒𝑚𝑒𝑛𝑡 𝑡𝑜𝑡𝑎𝑙 [𝐶𝐻𝐹] "]
["nonautre ou ne sais pas","nonautre ou ne sais pas","nein anders oder weiß nicht","nicht anders oder weiß nicht",1,null,null,"𝑇𝐸𝐶   𝐶𝐻𝐹 𝑐𝑟é𝑒 𝐶𝐻𝐹 𝑖𝑛𝑣𝑒𝑠𝑡𝑖  = 𝑉𝐴𝑁 [𝐶𝐻𝐹] 𝑖𝑛𝑣𝑒𝑠𝑡𝑖𝑠𝑠𝑒𝑚𝑒𝑛𝑡 𝑖𝑛𝑖𝑡𝑖𝑎𝑙 [𝐶𝐻𝐹] "]
["Il s'agit de parvenir à déterminer quelle période et quelle durée de mesurage conviennent afin de couvrir l'évolution annuelle des besoins.","Il s'agit de parvenir à déterminer quelle période et quelle durée de mesurage conviennent afin de couvrir l'évolution annuelle des besoins.","Ziel ist es, zu bestimmen, welcher Zeitraum und welche Dauer der Messung angemessen ist, um die jährliche Bedarfsveränderung abzudecken.","Ziel ist es, zu bestimmen, welcher Zeitraum und welche Dauer der Messung angemessen ist, um die jährliche Bedarfsveränderung abzudecken.",null,null,null,"Clement Dugua:\nd'après facture"]
["ouioui","ouioui","jaja","jaja",1,null,null,"Clement Dugua:\nd'après facture"]
["Les valeurs de pression sont disponibles. Utilisez-les avec les valeurs de débit pour calculer la puissance hydraulique. Utilisez les valeurs de puissance électrique disponibles pour calculer les rendements.","Les valeurs de pression sont disponibles. Utilisez-les avec les valeurs de débit pour calculer la puissance hydraulique. Utilisez les valeurs de puissance électrique disponibles pour calculer les rendements.","Druckwerte sind verfügbar. Verwenden Sie diese zusammen mit den Durchflusswerten zur Berechnung der hydraulischen Leistung. Verwenden Sie die verfügbaren elektrischen Leistungswerte zur Berechnung der Effizienz.","Druckwerte sind verfügbar. Verwenden Sie diese zusammen mit den Durchflusswerten zur Berechnung der hydraulischen Leistung. Verwenden Sie die verfügbaren elektrischen Leistungswerte zur Berechnung der Effizienz.",null,null,null,"Clement Dugua:\nd'après facture"]
["ouinon","ouinon","janein","ouinon",1,null,null,"Clement Dugua:\nd'après facture"]
["Les valeurs de pression sont disponibles. Utilisez-les avec les valeurs de débit pour calculer la puissance hydraulique .Procédéez aux mesurages de la puissance électrique et calculez les rendements.","Les valeurs de pression sont disponibles. Utilisez-les avec les valeurs de débit pour calculer la puissance hydraulique .Procédéez aux mesurages de la puissance électrique et calculez les rendements.","Druckwerte sind verfügbar. Verwenden Sie diese zusammen mit den Durchflusswerten zur Berechnung der hydraulischen Leistung. Messen Sie die elektrische Leistung und berechnen Sie den Wirkungsgrad.","Druckwerte sind verfügbar. Verwenden Sie diese zusammen mit den Durchflusswerten zur Berechnung der hydraulischen Leistung. Messen Sie die elektrische Leistung und berechnen Sie den Wirkungsgrad.",null,null,null,"Clement Dugua:\nd'après facture"]
["nonoui","nonoui","nein ja","nein ja",1,null,null,"Clement Dugua:\nd'après facture"]
["Les valeurs de pression ne sont pas relevées. Si l'on veut calculer le rendement de l'entraînement, il faut mesurer les pressions à l'aspiration et au refoulement de la pompe puis calculer la puissance hydraulique. Avec les valeurs de puissance électrique relevées par l'exploitant, on peut ensuite calculer les performances de l'entraînement. ","Les valeurs de pression ne sont pas relevées. Si l'on veut calculer le rendement de l'entraînement, il faut mesurer les pressions à l'aspiration et au refoulement de la pompe puis calculer la puissance hydraulique. Avec les valeurs de puissance électrique relevées par l'exploitant, on peut ensuite calculer les performances de l'entraînement. ","Die Druckwerte werden nicht aufgezeichnet. Um den Wirkungsgrad des Antriebs zu berechnen, messen Sie den Saug- und Förderdruck der Pumpe und berechnen Sie die hydraulische Leistung. Mit den vom Bediener erfassten elektrischen Leistungswerten kann dann die Antriebsleistung berechnet werden. ","Die Druckwerte werden nicht aufgezeichnet. Um den Wirkungsgrad des Antriebs zu berechnen, messen Sie den Saug- und Förderdruck der Pumpe und berechnen Sie die hydraulische Leistung. Mit den vom Bediener erfassten elektrischen Leistungswerten kann dann die Antriebsleistung berechnet werden. ",null,null,null,"Clement Dugua:\nd'après facture"]
["Durant des mesurages de débit, on s'efforcera d'ouvrir la vanne semi-fermée de façon à connaître le débit à vanne ouverte. Si ce n'est pas possible, on travaillera avec la caractéristique de la vanne. On procédera aux analyses permettant de savoir quel type d'optimisation est adapté (selon les explications de détail).","Durant des mesurages de débit, on s'efforcera d'ouvrir la vanne semi-fermée de façon à connaître le débit à vanne ouverte. Si ce n'est pas possible, on travaillera avec la caractéristique de la vanne. On procédera aux analyses permettant de savoir quel type d'optimisation est adapté (selon les explications de détail).","Bei Durchflussmessungen sollte versucht werden, das halbgeschlossene Ventil zu öffnen, so dass die Durchflussrate bei geöffnetem Ventil bekannt ist. Falls dies nicht möglich ist, arbeiten Sie mit der Ventilcharakteristik. Es werden Analysen durchgeführt, um herauszufinden, welche Art der Optimierung geeignet ist (wie im Detail erläutert).","Bei Durchflussmessungen sollte versucht werden, das halbgeschlossene Ventil zu öffnen, so dass die Durchflussrate bei geöffnetem Ventil bekannt ist. Falls dies nicht möglich ist, arbeiten Sie mit der Ventilcharakteristik. Es werden Analysen durchgeführt, um herauszufinden, welche Art der Optimierung geeignet ist (wie im Detail erläutert).",null,null,null,"Clement Dugua:\nd'après facture"]
["Lorsque l'on a à faire à des pompes en cascade, il faut pouvoir interpréter les valeurs de puissance él. et de débit en identifiant les séquences d'enclenchement/déclenchement.","Lorsque l'on a à faire à des pompes en cascade, il faut pouvoir interpréter les valeurs de puissance él. et de débit en identifiant les séquences d'enclenchement/déclenchement.","Wenn es sich um Kaskadenpumpen handelt, muss es möglich sein, die elektrischen Leistungs- und Durchflusswerte zu interpretieren, indem die Ein- und Ausschaltsequenzen identifiziert werden.","Wenn es sich um Kaskadenpumpen handelt, muss es möglich sein, die elektrischen Leistungs- und Durchflusswerte zu interpretieren, indem die Ein- und Ausschaltsequenzen identifiziert werden.",null,null,null,"Clement Dugua:\nd'après facture"]
["On cherche à éviter les accouplements qui sont sources de frais et d'inefficience énergétique. Dans le cadre d'un assainissement, évaluez la possibilité de travailler avec un entraînement direct.","On cherche à éviter les accouplements qui sont sources de frais et d'inefficience énergétique. Dans le cadre d'un assainissement, évaluez la possibilité de travailler avec un entraînement direct.","Kupplungen, die Kosten und energetische Ineffizienz verursachen, sind zu vermeiden. Prüfen Sie, im Rahmen einer Sanierung, die Möglichkeit mit einem Direktantrieb zu arbeiten.\nKopplungen, die eine Quelle von Kosten und Energieineffizienz sind, sind zu vermeiden. Beurteilen Sie im Zusammenhang mit einer Sanierung die Möglichkeit, mit einem Direktantrieb zu arbeiten.","Kupplungen, die eine Quelle von Kosten und Energieineffizienz sind, sind zu vermeiden. Beurteilen Sie im Zusammenhang mit einer Sanierung die Möglichkeit, mit einem Direktantrieb zu arbeiten.",null,null,null,"Clement Dugua:\nd'après facture"]
["Le besoin d'assainissement facilite la démarche d'analyse et d'optimisation.","Le besoin d'assainissement facilite la démarche d'analyse et d'optimisation.","Die Notwendigkeit von Sanierungsmaßnahmen erleichtert den Analyse- und Optimierungsprozess.","Die Notwendigkeit von Sanierungsmaßnahmen erleichtert den Analyse- und Optimierungsprozess.",null,null,null,"Clement Dugua:\nd'après facture"]
["Accouplement","Accouplement","Kopplung","Kupplung ",null,null,null,"Clement Dugua:\nd'après facture"]
["ouiouinonnon","ouiouinonnon","jajaneinnein","yesouinonnonon",1,null,null,"Clement Dugua:\nd'après mesurage ou hyptohèse"]
["Le débit variable n'est probablement  pas contrôlé de la manière la plus efficace.  Un mesurage du débit est recommandé.","Le débit variable n'est probablement  pas contrôlé de la manière la plus efficace.  Un mesurage du débit est recommandé.","Der variable Fluss wird wahrscheinlich nicht auf die effizienteste Weise kontrolliert. Eine Durchflussmessung wird empfohlen.","Der variable Fluss wird wahrscheinlich nicht auf die effizienteste Weise kontrolliert. Eine Durchflussmessung wird empfohlen.",null,null,null,"Clement Dugua:\nd'après mesurage ou hyptohèse"]
["ouinonouioui","ouinonouioui","jajajajajaja","jajajajajaja",1,null,null,"Clement Dugua:\nd'après mesurage ou hyptohèse"]
["Le besoin est a priori bien maîtrisé et enregistré. On a par contre un CF sans débit variable. Un démarreur serait plus judicieux. ","Le besoin est a priori bien maîtrisé et enregistré. On a par contre un CF sans débit variable. Un démarreur serait plus judicieux. ","Der Bedarf wird a priori gut kontrolliert und erfasst. Auf der anderen Seite haben wir eine CF ohne variablen Fluss. Ein Starter wäre umsichtiger. ","Der Bedarf wird a priori gut kontrolliert und erfasst. Auf der anderen Seite haben wir einen Frequenzumrichter ohne variablen Fluss. Ein Starter wäre umsichtiger. ",null,null,null,"Clement Dugua:\nd'après mesurage ou hyptohèse"]
["ouinonouinon","ouinonouinon","ouinononouinon","ouinononouinon",1,null,null,"Clement Dugua:\nd'après mesurage ou hyptohèse"]
["Le besoin est a priori bien maîtrisé mais pas enregistré. Un mesurage permettrait de valider le débit réel. On a un CF sans débit variable. Un démarreur serait plus judicieux. ","Le besoin est a priori bien maîtrisé mais pas enregistré. Un mesurage permettrait de valider le débit réel. On a un CF sans débit variable. Un démarreur serait plus judicieux. ","Der Bedarf wird a priori gut kontrolliert, aber nicht erfasst. Eine Messung würde es ermöglichen, den realen Fluss zu validieren. Wir haben eine CF ohne variablen Fluss. Ein Starter wäre sinnvoller. ","Der Bedarf wird a priori gut kontrolliert, aber nicht erfasst. Eine Messung würde es ermöglichen, den realen Fluss zu validieren. Wir haben einen Frequenzumrichter ohne variablen Fluss. Ein Starter wäre umsichtiger. ",null,null,null,"Clement Dugua:\nd'après mesurage ou hyptohèse"]
["ouinonnon","ouinonnon","jaNeinNein","ouinonnonon",1,null,null,"Clement Dugua:\nd'après mesurage ou hyptohèse"]
["Le besoin est a priori relevé et bien maîtrisé.","Le besoin est a priori relevé et bien maîtrisé.","Der Bedarf wird a priori erhoben und gut kontrolliert.","Der Bedarf wird a priori erhoben und gut kontrolliert.",null,null,null,"Clement Dugua:\nd'après mesurage ou hyptohèse"]
["ouinonnonnon","ouinonnonnon","janeinneinnein","ouinonnonnonnon",1,null,null,"Clement Dugua:\nd'après mesurage ou hyptohèse"]
["Le débit max. fourni correspond a priori au besoin. Il n'est cependant pas relevé. Le mesurage du débit permettrait de la valider.","Le débit max. fourni correspond a priori au besoin. Il n'est cependant pas relevé. Le mesurage du débit permettrait de la valider.","Die max. gelieferte Durchflussmenge entspricht a priori dem Bedarf.  Er wird jedoch nicht erfasst. Die Durchflussmessung würde eine Validierung ermöglichen.","Die max. gelieferte Durchflussmenge entspricht a priori dem Bedarf. Es wird jedoch nicht aufgezeichnet. Die Durchflussmessung würde eine Validierung ermöglichen.",null,null,null,"Clement Dugua:\nd'après mesurage ou hyptohèse"]
["ouiNe sais pasouioui","ouiNe sais pasouioui","jaWeiß nicht ja","jaWeiß nicht ja",1,null,null,"Clement Dugua:\nvaleur communiquée par le fournisseur pour la température représentative"]
["On ne sait pas si le variateur est vraiment utile et réglé, considérez les relevés de débit du débitmètre du site.","On ne sait pas si le variateur est vraiment utile et réglé, considérez les relevés de débit du débitmètre du site.","Wenn Sie nicht sicher sind, ob der Wechselrichter wirklich nützlich und geregelt ist, sollten Sie die Durchflussmesswerte des Standorts berücksichtigen.","Es ist nicht bekannt, ob der Frequenzumrichter wirklich nützlich und eingerichtet ist.  Berücksichtigen Sie die Durchflussmesswerte des Standorts.",null,null,null,"Clement Dugua:\nvaleur communiquée par le fournisseur pour la température représentative"]
["OuiNe sais pasOuiNon","OuiNe sais pasOuiNon","JaWeiß nichtJaNein","JaWeiß nichtJaNein",1,null,null,"Clement Dugua:\nvaleur communiquée par le fournisseur pour la température représentative"]
["On ne sait pas si le variateur est vraiment utile et réglé, recherchez des informations et, si besoin, procédez à des mesurages de débit.","On ne sait pas si le variateur est vraiment utile et réglé, recherchez des informations et, si besoin, procédez à des mesurages de débit.","Es ist nicht bekannt, ob der Antrieb wirklich nützlich und eingerichtet ist, suchen Sie nach Informationen und führen Sie, falls erforderlich, Durchflussmessungen durch.","Es ist nicht bekannt, ob der Antrieb wirklich nützlich und eingerichtet ist, suchen Sie nach Informationen und führen Sie, falls erforderlich, Durchflussmessungen durch.",null,null,null,"Clement Dugua:\nvaleur communiquée par le fournisseur pour la température représentative"]
["OuiNe sais pasNonOui","OuiNe sais pasNonOui","JaWeiß nichtNeinJa","JaWeiß nichtNeinJa",1,null,null,"Clement Dugua:\nvaleur communiquée par le fournisseur pour la température représentative"]
["Les variations de débit sont mal connues et possiblement mal maîtrisées, considérez les relevés de débit du site.","Les variations de débit sont mal connues et possiblement mal maîtrisées, considérez les relevés de débit du site.","Die Strömungsvariationen sind schlecht bekannt und möglicherweise schlecht kontrolliert, wenn man die Strömungsmessungen vor Ort berücksichtigt.","Flussratenschwankungen sind schlecht bekannt und möglicherweise schlecht kontrolliert. Berücksichtigen Sie die Durchflussungsmessungen vor Ort.",null,null,null,"Clement Dugua:\nvaleur communiquée par le fournisseur pour la température représentative"]
["OuiNe sais pasNonNon","OuiNe sais pasNonNon","JaWeiß nichtNeinNein","JaWeiß nichtNein",1,null,null,"Clement Dugua:\nvaleur communiquée par le fournisseur pour la température représentative"]
["Les variations de débit sont mal connues et possiblement mal maîtrisées, procédez à des mesurages de débit.","Les variations de débit sont mal connues et possiblement mal maîtrisées, procédez à des mesurages de débit.","Flussratenschwankungen sind nicht gut bekannt und möglicherweise nicht gut kontrolliert, führen Sie Flussratenmessungen durch.","Flussratenschwankungen sind nicht gut bekannt und möglicherweise nicht gut kontrolliert, führen Sie Flussratenmessungen durch.",null,null,null,"Clement Dugua:\nvaleur communiquée par le fournisseur pour la température représentative"]
["Ne sais pasOuiOuiOui","Ne sais pasOuiOuiOui","Weiß nichtJaJaJa","Weiß nichtJaJa",1,null,null,"Clement Dugua:\nd'après hypothèse"]
["On ne sait pas si le débit correspond au besoin ou s'il trop grand, recherchez des informations sur le besoin réel et comparez-les avec les valeurs relevées par l'exploitant.","On ne sait pas si le débit correspond au besoin ou s'il trop grand, recherchez des informations sur le besoin réel et comparez-les avec les valeurs relevées par l'exploitant.","Es ist nicht bekannt, ob die Durchflussmenge ausreichend oder zu hoch ist, ermitteln Sie den tatsächlichen Bedarf und vergleichen Sie ihn mit den vom Bediener aufgezeichneten Werten.","Flussratenschwankungen sind schlecht bekannt und möglicherweise schlecht kontrolliert. Berücksichtigen Sie die Durchflussungsmessungen vor Ort.",null,null,null,"Clement Dugua:\nd'après hypothèse"]
["Ne sais pasOuiOuiNon","Ne sais pasOuiOuiNon","Weiß nichtJaJaNein","Weiß nichtJaJaNein",1,null,null,"Clement Dugua:\nd'après hypothèse"]
["On ne sait pas si le débit correspond au besoin ou s'il trop grand, recherchez des informations sur le besoin réel et procédez à des mesurages de débit.","On ne sait pas si le débit correspond au besoin ou s'il trop grand, recherchez des informations sur le besoin réel et procédez à des mesurages de débit.","Es ist nicht bekannt, ob der Durchfluss ausreichend oder zu hoch ist. Finden Sie heraus, was der tatsächliche Bedarf ist und messen Sie den Durchfluss.","Es ist nicht bekannt, ob die Flussrate ausreichend oder zu hoch ist. Finden Sie heraus, was der tatsächliche Bedarf ist und messen Sie die Flussrate.",null,null,null,"Clement Dugua:\nd'après hypothèse"]
["Ne sais pasOuiNonOui","Ne sais pasOuiNonOui","Weiß nichtJaNeinJa","Weiß nichtJaNeinJa",1,null,null,"Nicolas Macabrey:\n"]
["On ne sait pas si le débit correspond juste ou s'il trop grand, recherchez des informations sur le besoin. Par ailleurs les  variations ne sont probablement pas bien maîtrisées, considérez les relevés de débit du site.","On ne sait pas si le débit correspond juste ou s'il trop grand, recherchez des informations sur le besoin. Par ailleurs les  variations ne sont probablement pas bien maîtrisées, considérez les relevés de débit du site.","Sie wissen nicht, ob die Flussrate richtig oder zu hoch ist, suchen Sie nach Informationen über den Bedarf. Außerdem sind die Schwankungen wahrscheinlich nicht gut kontrolliert, wenn man die Strömungsaufzeichnungen des Standorts berücksichtigt.","Es ist nicht bekannt, ob die Durchflussmenge ausreichend oder zu hoch ist. Suchen Sie nach Informationen über den Bedarf. Außerdem sind die Schwankungen wahrscheinlich nicht gut kontrolliert. Berücksichtigen Sie die Durchflussungsmessungen vor Ort."]
["Ne sais pasOuiNonNon","Ne sais pasOuiNonNon","Weiß nichtJaNeinNein","Weiß nichtJaNein",1]
["On ne sait pas si le débit correspond au besoin ou s'il trop grand, recherchez des informations sur le besoin. Par ailleurs, les  variations ne sont probablement pas bien maîtrisées. Un mesurage du débit est recommandé.","On ne sait pas si le débit correspond au besoin ou s'il trop grand, recherchez des informations sur le besoin. Par ailleurs, les  variations ne sont probablement pas bien maîtrisées. Un mesurage du débit est recommandé.","Es ist nicht bekannt, ob die Flussrate ausreichend oder zu hoch ist, suchen Sie nach Informationen über den Bedarf. Außerdem sind die Abweichungen wahrscheinlich nicht gut kontrolliert. Eine Durchflussmessung wird empfohlen.","Es ist nicht bekannt, ob die Flussrate ausreichend oder zu hoch ist, suchen Sie nach Informationen über den Bedarf. Außerdem sind die Abweichungen wahrscheinlich nicht gut kontrolliert. Eine Durchflussmessung wird empfohlen."]
["Ne sais pasNonOuiOui","Ne sais pasNonOuiOui","Weiß nicht NeinJaJa","Weiß nicht NeinJa",1]
["On ne sait pas si le débit correspond au besoin ou s'il trop grand, recherchez des informations sur le besoin. Il n'y a pas de variations mais un CF. Un démarreur serait plus avisé.","On ne sait pas si le débit correspond au besoin ou s'il trop grand, recherchez des informations sur le besoin. Il n'y a pas de variations mais un CF. Un démarreur serait plus avisé.","Es ist nicht bekannt, ob die Flussrate ausreichend oder zu hoch ist, suchen Sie nach Informationen über den Bedarf. Es gibt keine Variationen, sondern einen CF. Ein Starter wäre sinnvoller.","Es ist nicht bekannt, ob die Durchflussmenge ausreichend oder zu hoch ist. Suchen Sie nach Informationen über den Bedarf. Es gibt keine Schwankungen, aber einen Frequenzumrichter. Ein Starter wäre klüger."]
["Ne sais pasNonOuiNon","Ne sais pasNonOuiNon","Weiß nichtNeinJaNein","Weiß nichtNeinJaNein",1]
[{"$f":"IF($B$2=\"FR\",B583,C583)","v":"On ne sait pas si le débit correspond juste au besoin ou s'il trop grand, recherchez des informations sur le besoin. Il n'y a pas de variations mais un CF. Un démarreur serait plus avisé."},"On ne sait pas si le débit correspond juste au besoin ou s'il trop grand, recherchez des informations sur le besoin. Il n'y a pas de variations mais un CF. Un démarreur serait plus avisé.","Es ist nicht bekannt, ob die Flussrate für den Bedarf genau richtig ist oder ob sie zu hoch ist. Suchen Sie nach Informationen über den Bedarf. Es gibt keine Variationen, sondern einen CF. Ein Starter wäre sinnvoller.","Es ist nicht bekannt, ob die Flussrate für den Bedarf genau richtig ist oder ob sie zu hoch ist. Es gibt keine Variationen, sondern einen Frequenzumrichter. Ein Starter wäre klüger."]
["Ne sais pasNonNonOui","Ne sais pasNonNonOui","Weiß nichtNeinNeinJa","Weiß nichtNeinNeinJa",1]
["On ne sait pas si le débit correspond au besoin ou s'il trop grand, recherchez des informations sur le besoin réel et comparez-les aux valeurs relevées.","On ne sait pas si le débit correspond au besoin ou s'il trop grand, recherchez des informations sur le besoin réel et comparez-les aux valeurs relevées.","Es ist nicht bekannt, ob die Flussrate ausreichend oder zu hoch ist, suchen Sie nach Informationen über den tatsächlichen Bedarf und vergleichen Sie ihn mit den gemessenen Werten.","Es ist nicht bekannt, ob die Durchflussmenge ausreichend oder zu hoch ist. Suchen Sie nach Informationen über den tatsächlichen Bedarf und vergleichen Sie diese mit den aufgezeichneten Werten."]
["Ne sais pasNonNonNon","Ne sais pasNonNonNon","Weiß nichtNeinNeinNein","Weiß nichtNeinNein",1]
["On ne sait pas si le débit correspond au besoin ou s'il trop grand, recherchez des informations sur le besoin et comparez-les aux valeurs relevées.","On ne sait pas si le débit correspond au besoin ou s'il trop grand, recherchez des informations sur le besoin et comparez-les aux valeurs relevées.","Es ist nicht bekannt, ob die Flussrate ausreichend oder zu hoch ist, suchen Sie nach Informationen über den Bedarf und vergleichen Sie diese mit den gemessenen Werten.","Es ist nicht bekannt, ob die Flussrate ausreichend oder zu hoch ist, suchen Sie nach Informationen über den Bedarf und vergleichen Sie diese mit den gefundenen Werten."]
["Ne sais pasNe sais pasOuiOui","Ne sais pasNe sais pasOuiOui","Weiß nichtWeiß nichtJaJa","Weiß nichtWeiß nichtWeiß nichtJaJa",1]
["A priori, on ne sait ni si le débit correspond au besoin ni s'il est variable, recherchez des informations sur le besoin. Considérez le relevé de débit du site.","A priori, on ne sait ni si le débit correspond au besoin ni s'il est variable, recherchez des informations sur le besoin. Considérez le relevé de débit du site.","A priori wissen wir nicht, ob die Flussrate dem Bedarf entspricht oder ob sie variabel ist, suchen Sie nach Informationen über den Bedarf. Betrachten Sie das Strömungsprotokoll des Standorts.","Es ist nicht bekannt, ob die Durchflussmenge dem Bedarf entspricht, und auch nicht, ob sie variabel ist. Suchen Sie nach Informationen über den Bedarf. Berücksichtigen Sie die Durchflussungsmessungen vor Ort."]
["Ne sais pasNe sais pasOuiNon","Ne sais pasNe sais pasOuiNon","Weiß nichtWeiß nichtJaNein","Weiß nichtWeiß nichtWeiß nichtJaNein",1]
["A priori, on ne sait ni si le débit correspond au besoin ni s'il est variable, recherchez des informations sur le besoin. Un mesurage du débit est recommandé.","A priori, on ne sait ni si le débit correspond au besoin ni s'il est variable, recherchez des informations sur le besoin. Un mesurage du débit est recommandé.","A priori wissen wir nicht, ob die Flussrate dem Bedarf entspricht oder ob sie variabel ist, suchen Sie nach Informationen über den Bedarf. Eine Durchflussmessung wird empfohlen.","Es ist nicht bekannt, ob die Durchflussmenge dem Bedarf entspricht, und auch nicht, ob sie variabel ist. Suchen Sie nach Informationen über den Bedarf. Eine Durchflussmessung wird empfohlen."]
["Ne sais pasNe sais pasNonOui","Ne sais pasNe sais pasNonOui","Weiß nichtWeiß nichtNeinJa","Weiß nichtWeiß nichtWeiß nichtNeinJa",1]
["A priori, on ne sait ni si le débit correspond au besoin ni s'il est variable, recherchez des informations sur le besoin. Considérez le relevé de débit du site pour déterminer si le dimensionnement est correct et si un variateur de vitesse ferait sens.","A priori, on ne sait ni si le débit correspond au besoin ni s'il est variable, recherchez des informations sur le besoin. Considérez le relevé de débit du site pour déterminer si le dimensionnement est correct et si un variateur de vitesse ferait sens.","A priori wissen wir nicht, ob die Flussrate dem Bedarf entspricht oder ob sie variabel ist, suchen Sie nach Informationen über den Bedarf. Betrachten Sie die Durchflussmessung vor Ort, um festzustellen, ob die Dimensionierung korrekt ist und ob ein drehzahlvariabler Antrieb sinnvoll wäre.","Es ist nicht bekannt, ob die Durchflussmenge dem Bedarf entspricht, und auch nicht, ob sie variabel ist. Suchen Sie nach Informationen über den Bedarf. Betrachten Sie die Durchflussmessung vor Ort, um festzustellen, ob die Dimensionierung korrekt ist und ob ein drehzahlvariabler Antrieb Sinn machen würde."]
["Ne sais pasNe sais pasNonNon","Ne sais pasNe sais pasNonNon","Weiß nichtWeiß nichtNeinNein","Weiß nichtWeiß nichtWeiß nichtNein",1]
["A priori, on ne sait ni si le débit correspond au besoin ni s'il est variable, recherchez des informations sur le besoin. Procédez à un mesurage du débit pour déterminer si le dimensionnement est correct et si un variateur de vitesse ferait sens.","A priori, on ne sait ni si le débit correspond au besoin ni s'il est variable, recherchez des informations sur le besoin. Procédez à un mesurage du débit pour déterminer si le dimensionnement est correct et si un variateur de vitesse ferait sens.","A priori wissen wir nicht, ob die Flussrate dem Bedarf entspricht oder ob sie variabel ist, suchen Sie nach Informationen über den Bedarf. Messen Sie die Durchflussrate, um festzustellen, ob die Dimensionierung korrekt ist und ob ein drehzahlvariabler Antrieb sinnvoll wäre.","Es ist nicht bekannt, ob die Durchflussmenge dem Bedarf entspricht, und auch nicht, ob sie variabel ist. Suchen Sie nach Informationen über den Bedarf. Messen Sie die Durchflussrate, um festzustellen, ob die Dimensionierung korrekt ist und ob ein drehzahlvariabler Antrieb sinnvoll wäre."]
["NonOuiOuiOui","NonOuiOuiOui","NeinJaJaJa","NeinJaJaJaJa",1]
["Recherchez des informations sur le besoin réel et comparez-les avec les valeurs relevées par l'exploitant.","Recherchez des informations sur le besoin réel et comparez-les avec les valeurs relevées par l'exploitant.","Suchen Sie nach Informationen über den tatsächlichen Bedarf und vergleichen Sie diese mit den vom Betreiber aufgezeichneten Werten.","Suchen Sie nach Informationen über den tatsächlichen Bedarf und vergleichen Sie diese mit den vom Betreiber aufgezeichneten Werten."]
["NonOuiOuiNon","NonOuiOuiNon","NeinJaJaNein","NeinJaJaNein",1]
["Recherchez des informations sur le besoin réel. Procédez à des mesurages de débit et comparez les valeurs.","Recherchez des informations sur le besoin réel. Procédez à des mesurages de débit et comparez les valeurs.","Suchen Sie nach Informationen über den tatsächlichen Bedarf. Nehmen Sie Durchflussmessungen vor und vergleichen Sie die Werte.","Suchen Sie nach Informationen über den tatsächlichen Bedarf. Nehmen Sie Durchflussmessungen vor und vergleichen Sie die Werte.",null,null,null,"𝑇𝑅𝐵 [𝑎𝑛]= 𝑐𝑜û𝑡 𝑑𝑒  𝑙 ′ 𝑖𝑛𝑣𝑒𝑠𝑡𝑖𝑠𝑠𝑒𝑚𝑒𝑛𝑡 [𝐶𝐻𝐹] é𝑐𝑜𝑛𝑜𝑚𝑖𝑒 𝑎𝑛𝑢𝑒𝑙𝑙𝑒   𝐶𝐻𝐹 𝑎𝑛   "]
["NonOuiNonOui","NonOuiNonOui","NeinJaNeinJa","NeinJaNeinJaJa",1,null,null,"𝑇𝑅𝑁  𝑎𝑛 = 𝑐𝑜û𝑡 𝑑𝑒  𝑙 ′ 𝑖𝑛𝑣𝑒𝑠𝑡𝑖𝑠𝑠𝑒𝑚𝑒𝑛𝑡 [𝐶𝐻𝐹]∙𝑝𝑎𝑟𝑡 𝑑𝑒𝑠 𝑐𝑜û𝑡𝑠 𝑙𝑖é𝑒 à  𝑙 ′ é𝑛𝑒𝑟𝑔𝑖𝑒 −  é𝑐𝑜𝑛𝑜𝑚𝑖𝑒 𝑎𝑛𝑢𝑒𝑙𝑙𝑒   𝐶𝐻𝐹 𝑎𝑛   "]
["Recherchez des informations sur le besoin réel.  De plus, les  variations de débit ne sont probablement pas efficacement maîtrisées. Considérez le relevé de débit du site pour déterminer si le dimensionnement est correct et si un variateur de vitesse ferait sens.","Recherchez des informations sur le besoin réel.  De plus, les  variations de débit ne sont probablement pas efficacement maîtrisées. Considérez le relevé de débit du site pour déterminer si le dimensionnement est correct et si un variateur de vitesse ferait sens.","Suchen Sie nach Informationen über den tatsächlichen Bedarf. Darüber hinaus werden Flussschwankungen wahrscheinlich nicht wirksam kontrolliert. Betrachten Sie die Durchflussmessung vor Ort, um festzustellen, ob die Dimensionierung korrekt ist und ob ein drehzahlvariabler Antrieb  sinnvoll wäre.","Suchen Sie nach Informationen über den tatsächlichen Bedarf. Darüber hinaus werden Flussschwankungen wahrscheinlich nicht wirksam kontrolliert. Betrachten Sie die Durchflussmessung vor Ort, um festzustellen, ob die Dimensionierung korrekt ist und ob ein drehzahlvariabler Antrieb Sinn machen würde.",null,null,null,"𝑝𝑎𝑟𝑡 𝑑𝑒𝑠 𝑐𝑜û𝑡𝑠 𝑙𝑖é𝑒 à  𝑙 ′ é𝑛𝑒𝑟𝑔𝑖𝑒 − =1− â𝑔𝑒 𝑑𝑒  𝑙 ′ 𝑖𝑛𝑠𝑡𝑎𝑙𝑙𝑎𝑡𝑖𝑜𝑛  𝑎𝑛  𝑑𝑢𝑟é𝑒 𝑑𝑒 𝑣𝑖𝑒 𝑡𝑒𝑐ℎ𝑛𝑖𝑞𝑢𝑒 𝑑𝑒  𝑙 ′ 𝑖𝑛𝑠𝑡𝑎𝑙𝑙𝑎𝑡𝑖𝑜𝑛  𝑎𝑛  "]
["NonOuiNonNon","NonOuiNonNon","NeinJaNeinNein","NeinJaNeinNein",1,null,null,"𝑝𝑎𝑟𝑡 𝑑𝑒𝑠 𝑐𝑜û𝑡𝑠 𝑙𝑖é𝑒 à  𝑙 ′ é𝑛𝑒𝑟𝑔𝑖𝑒 − = 𝑐𝑜û𝑡 𝑑𝑒  𝑙 ′ 𝑖𝑛𝑣𝑒𝑠𝑡𝑖𝑠𝑠𝑒𝑚𝑒𝑛𝑡 é𝑛𝑒𝑟𝑔é𝑡𝑖𝑞𝑢𝑒 [𝐶𝐻𝐹] 𝑐𝑜û𝑡 𝑑𝑒  𝑙 ′ 𝑖𝑛𝑣𝑒𝑠𝑡𝑖𝑠𝑠𝑒𝑚𝑒𝑛𝑡 𝑡𝑜𝑡𝑎𝑙 [𝐶𝐻𝐹] "]
["Recherchez des informations sur le besoin réel.  De plus, les  variations ne sont probablement pas efficacement maîtrisées. Un mesurage du débit est recommandé pour déterminer si le dimensionnement est correct et si un variateur de vitesse ferait sens.","Recherchez des informations sur le besoin réel.  De plus, les  variations ne sont probablement pas efficacement maîtrisées. Un mesurage du débit est recommandé pour déterminer si le dimensionnement est correct et si un variateur de vitesse ferait sens.","Suchen Sie nach Informationen über den tatsächlichen Bedarf. Auch Variationen werden wahrscheinlich nicht wirksam kontrolliert. Eine Durchflussmessung wird empfohlen, um festzustellen, ob die Dimensionierung korrekt ist und ob ein drehzahlvariabler Antrieb sinnvoll wäre.","Suchen Sie nach Informationen über den tatsächlichen Bedarf. Auch Variationen werden wahrscheinlich nicht wirksam kontrolliert. Eine Durchflussmessung wird empfohlen, um festzustellen, ob die Dimensionierung korrekt ist und ob ein drehzahlvariabler Antrieb sinnvoll wäre.",null,null,null,"𝑇𝐸𝐶   𝐶𝐻𝐹 𝑐𝑟é𝑒 𝐶𝐻𝐹 𝑖𝑛𝑣𝑒𝑠𝑡𝑖  = 𝑉𝐴𝑁 [𝐶𝐻𝐹] 𝑖𝑛𝑣𝑒𝑠𝑡𝑖𝑠𝑠𝑒𝑚𝑒𝑛𝑡 𝑖𝑛𝑖𝑡𝑖𝑎𝑙 [𝐶𝐻𝐹] "]
["NonNonOuiOui","NonNonOuiOui","NeinNeinJaJa","NeinNeinJaJaJa",1]
["Recherchez des informations sur le besoin réel et comparez-les avec les valeurs relevées par l'exploitant. Par ailleurs, il n'y a pas de variations mais un CF. Un démarreur serait énergétiquement plus efficace.","Recherchez des informations sur le besoin réel et comparez-les avec les valeurs relevées par l'exploitant. Par ailleurs, il n'y a pas de variations mais un CF. Un démarreur serait énergétiquement plus efficace.","Suchen Sie nach Informationen über den tatsächlichen Bedarf und vergleichen Sie diese mit den vom Betreiber aufgezeichneten Werten. Darüber hinaus gibt es keine Variationen, sondern einen CF. Ein Starter wäre energieeffizienter.","Suchen Sie nach Informationen über den tatsächlichen Bedarf und vergleichen Sie diese mit den vom Betreiber aufgezeichneten Werten. Darüber hinaus gibt es einen Frequenzumrichter ohne variablen Fluss. Ein Starter wäre energieeffizienter."]
["NonNonOuiNon","NonNonOuiNon","NeinNeinJaNein","NeinNeinJaNein",1]
["Recherchez des informations sur le besoin réel, procédez à des mesurages de débit et comparez les valeurs. Par ailleurs, s'il se confirme qu'il n'y a pas de variations mais un CF. Un démarreur serait plus avisé.","Recherchez des informations sur le besoin réel, procédez à des mesurages de débit et comparez les valeurs. Par ailleurs, s'il se confirme qu'il n'y a pas de variations mais un CF. Un démarreur serait plus avisé.","Suchen Sie nach Informationen über den tatsächlichen Bedarf, führen Sie Durchflussmessungen durch und vergleichen Sie die Werte. Auch, wenn bestätigt wird, dass es keine Variationen, sondern einen CF gibt. Ein Starter wäre empfehlenswerter.","Suchen Sie nach Informationen über den tatsächlichen Bedarf, führen Sie Durchflussmessungen durch und vergleichen Sie die Werte. Wenn andererseits bestätigt wird, dass es einen Frequenzumrichter ohne Abweichungen gibt, wäre ein Starter energieeffizienter."]
["NonNonNonOui","NonNonNonOui","NeinNeinNeinJa","NeinNeinNeinJaJa",1]
["NonNonNonNon","NonNonNonNon","NeinNeinNeinNein","NeinNeinNeinNein",1]
["Recherchez des informations sur le besoin réel, procédez à des mesurages de débit et comparez les valeurs afin de valider le dimensionnement.","Recherchez des informations sur le besoin réel, procédez à des mesurages de débit et comparez les valeurs afin de valider le dimensionnement.","Finden Sie Informationen über den tatsächlichen Bedarf, führen Sie Durchflussmessungen durch und vergleichen Sie die Werte, um die Dimensionierung zu validieren.","Finden Sie Informationen über den tatsächlichen Bedarf, führen Sie Durchflussmessungen durch und vergleichen Sie die Werte, um die Dimensionierung zu validieren."]
["NonNe sais pasOuiOui","NonNe sais pasOuiOui","NeinWeiß nichtJaJa","NeinWeiß nichtJaJa",1]
["Recherchez des informations sur le besoin réel. De plus, les éventuelles variations sont inconnues. Utilisez les valeurs relevées par l'exploitant et déterminer s'il y a lieu de corriger le dimensionnement et si un variateur  de vitesse ferait sens.","Recherchez des informations sur le besoin réel. De plus, les éventuelles variations sont inconnues. Utilisez les valeurs relevées par l'exploitant et déterminer s'il y a lieu de corriger le dimensionnement et si un variateur  de vitesse ferait sens.","Suchen Sie nach Informationen über den tatsächlichen Bedarf. Darüber hinaus sind mögliche Variationen unbekannt. Verwenden Sie die vom Bediener aufgezeichneten Werte, um festzustellen, ob die Dimensionierung korrigiert werden muss und ob ein Controller sinnvoll wäre.","Suchen Sie nach Informationen über den tatsächlichen Bedarf. Darüber hinaus sind mögliche Variationen unbekannt. Verwenden Sie die vom Bediener aufgezeichneten Werte, um festzustellen, ob die Dimensionierung korrigiert werden muss und ob ein Frequenzumrichter sinnvoll wäre."]
["NonNe sais pasOuiNon","NonNe sais pasOuiNon","NeinWeiß nichtJaNein","NeinWeiß nichtJaNein",1]
["Recherchez des informations sur le besoin réel. De plus, les éventuelles variations sont inconnues. Un mesurage du débit est recommandé. Comparez ensuite les valeurs afin de corriger le dimensionnement et de déterminer si un variateur  de vitesse ferait sens.","Recherchez des informations sur le besoin réel. De plus, les éventuelles variations sont inconnues. Un mesurage du débit est recommandé. Comparez ensuite les valeurs afin de corriger le dimensionnement et de déterminer si un variateur  de vitesse ferait sens.","Suchen Sie nach Informationen über den tatsächlichen Bedarf. Darüber hinaus sind mögliche Variationen unbekannt. Eine Durchflussmessung wird empfohlen. Dann vergleichen Sie die Werte, um die Dimensionierung zu korrigieren und festzustellen, ob ein drehzahlvariabler Antrieb sinnvoll wäre.","Suchen Sie nach Informationen über den tatsächlichen Bedarf. Darüber hinaus sind mögliche Variationen unbekannt. Eine Durchflussmessung wird empfohlen. Dann vergleichen Sie die Werte, um die Dimensionierung zu korrigieren und festzustellen, ob ein drehzahlvariabler Antrieb sinnvoll wäre."]
["NonNe sais pasNonOui","NonNe sais pasNonOui","NeinWeiß nichtNeinJa","NeinWeiß nichtNeinJa",1]
["Recherchez des informations sur le besoin réel. De plus, les éventuelles variations sont inconnues. Utilisez les valeurs relevées par l'exploitant et déterminer s'il y a lieu de corriger le dimensionnement et si un variateur  de vitesse ferait sens","Recherchez des informations sur le besoin réel. De plus, les éventuelles variations sont inconnues. Utilisez les valeurs relevées par l'exploitant et déterminer s'il y a lieu de corriger le dimensionnement et si un variateur  de vitesse ferait sens","Suchen Sie nach Informationen über den tatsächlichen Bedarf. Darüber hinaus sind mögliche Variationen unbekannt. Verwenden Sie die vom Bediener aufgezeichneten Werte, um festzustellen, ob die Dimensionierung korrigiert werden muss und ob ein Controller sinnvoll wäre.","Suchen Sie nach Informationen über den tatsächlichen Bedarf. Darüber hinaus sind mögliche Variationen unbekannt. Verwenden Sie die vom Bediener aufgezeichneten Werte, um festzustellen, ob die Dimensionierung korrigiert werden muss und ob ein Frequenzumrichter sinnvoll wäre."]
["NonNe sais pasNonNon","NonNe sais pasNonNon","NeinWeiß nichtNein","NeinWeiß nichtNein",1]
["Recherchez des informations sur le besoin réel. De plus, les éventuelles variations sont inconnues. Un mesurage du débit est recommandé afin de déterminer s'il y a lieu de corriger le dimensionnement et si un variateur  de vitesse ferait sens.","Recherchez des informations sur le besoin réel. De plus, les éventuelles variations sont inconnues. Un mesurage du débit est recommandé afin de déterminer s'il y a lieu de corriger le dimensionnement et si un variateur  de vitesse ferait sens.","Suchen Sie nach Informationen über den tatsächlichen Bedarf. Darüber hinaus sind mögliche Variationen unbekannt. Eine Durchflussmessung wird empfohlen, um festzustellen, ob die Dimensionierung korrigiert werden muss und ob ein drehzahlvariabler Antrieb sinnvoll wäre.","Suchen Sie nach Informationen über den tatsächlichen Bedarf. Darüber hinaus sind mögliche Variationen unbekannt. Eine Durchflussmessung wird empfohlen, um festzustellen, ob die Dimensionierung korrigiert werden muss und ob ein drehzahlvariabler Antrieb sinnvoll wäre."]
["NonNon","NonNon","NeinNein","NeinNein",1]
["Les valeurs de pression et de puissance électrique ne sont pas relevées. Procédez au mesurage de ces grandeurs de façon à pouvoir calculer les performances de l'entraînement.  ","Les valeurs de pression et de puissance électrique ne sont pas relevées. Procédez au mesurage de ces grandeurs de façon à pouvoir calculer les performances de l'entraînement.  ","Die Werte für Druck und elektrische Leistung werden nicht aufgezeichnet. Messen Sie diese Werte, damit die Leistung des Antriebs berechnet werden kann. ","Die Werte für Druck und elektrische Leistung werden nicht aufgezeichnet. Messen Sie diese Werte, damit die Leistung des Antriebs berechnet werden kann. "]
["5. Traitement des données de mesurage, analyses et propositions","5. Traitement des données de mesurage, analyses et propositions","5. Verarbeitung von Messdaten, Analysen und Vorschlägen","5. Verarbeitung von Messdaten, Analysen und Vorschlägen"]
["Bases des analyses de détail","Bases des analyses de détail","Grundlage für Feinanalyse","Grundlage für Feinanalyse"]
["Les réponses aux questions ainsi que les valeurs enregistrées des grandeurs suggérées dans la synthèse ci-dessus permettent de procéder aux analyses de détail.\nCes dernières, développées ci-dessous, se basent donc sur la disponibilité des valeurs de débits, de Δp et de Pel sur une période de temps représentative des besoins annuels.","Les réponses aux questions ainsi que les valeurs enregistrées des grandeurs suggérées dans la synthèse ci-dessus permettent de procéder aux analyses de détail.\nCes dernières, développées ci-dessous, se basent donc sur la disponibilité des valeurs de débits, de Δp et de Pel sur une période de temps représentative des besoins annuels.","Die Antworten auf die Fragen sowie die aufgezeichneten Werte der in der obigen Synthese vorgeschlagenen Mengen erlauben es, Feinanalyse durchzuführen. \nLetztere, die im Folgenden entwickelt werden, basieren daher auf der Verfügbarkeit von Durchflusswerten von Δp und Pel über einen Zeitraum, der für den Jahresbedarf repräsentativ ist.","Die Antworten auf die Fragen sowie die aufgezeichneten Werte der in der obigen Synthese vorgeschlagenen Mengen erlauben es, Feinanalyse durchzuführen. \nLetztere, die im Folgenden entwickelt werden, basieren daher auf der Verfügbarkeit von Durchflusswerten von Δp und Pel über einen Zeitraum, der für den Jahresbedarf repräsentativ ist."]
["Traitement des données de mesurage","Traitement des données de mesurage","Verarbeitung von Messdaten","Verarbeitung von Messdaten"]
["L'évolution des grandeurs au cours du temps permet d'apprécier les plages de variations et la célérité des variations. Pour des pompes, on en tire notamment:\n- la valeur de la puissance hydraulique fournie, calculée à partir des valeurs de débit et de Δp (aux bornes de la pompe), puis celle du rendement global, calculée à partir de la puissance hydraulique et de la puissance électrique.\n- les valeurs extrêmes, dont le débit maximum qui permet de juger de la qualité du dimensionnement.\nIl est aussi possible de traiter ces données pour disposer, par exemple, du profil de besoin (débit), sous forme de classes. Ce débit classé permet ensuite de sélectionner au mieux les mesures d'optimisation et de déterminer les gains par classe et total. ","L'évolution des grandeurs au cours du temps permet d'apprécier les plages de variations et la célérité des variations. Pour des pompes, on en tire notamment:\n- la valeur de la puissance hydraulique fournie, calculée à partir des valeurs de débit et de Δp (aux bornes de la pompe), puis celle du rendement global, calculée à partir de la puissance hydraulique et de la puissance électrique.\n- les valeurs extrêmes, dont le débit maximum qui permet de juger de la qualité du dimensionnement.\nIl est aussi possible de traiter ces données pour disposer, par exemple, du profil de besoin (débit), sous forme de classes. Ce débit classé permet ensuite de sélectionner au mieux les mesures d'optimisation et de déterminer les gains par classe et total. ","Die Entwicklung der Mengen im Laufe der Zeit ermöglicht es, die Schwankungsbreiten und die Geschwindigkeit der Variationen einzuschätzen. Für Pumpen kann insbesondere Folgendes ermittelt werden: \n- der Wert der gelieferten hydraulischen Leistung, berechnet aus den Werten der Fördermenge und von Δp (an den Anschlüssen der Pumpen), dann der Wert des Gesamtwirkungsgrades, berechnet aus der hydraulischen Leistung und der elektrischen Leistung. \n- die Extremwerte, einschließlich der maximalen Durchflussmenge, die es ermöglicht, die Qualität der Dimensionierung zu beurteilen. \nEs ist auch möglich, diese Daten zu verarbeiten, um z.B. das Anforderungsprofil (Flussrate) in Form von Klassen zu erhalten. Diese klassifizierte Flussrate wird dann zur Auswahl der bestmöglichen Optimierungsmaßnahmen und zur Bestimmung der Gewinne pro Klasse und insgesamt verwendet. ","Die Entwicklung der Mengen im Laufe der Zeit ermöglicht es, die Schwankungsbreiten und die Geschwindigkeit der Variationen einzuschätzen. Für Pumpen kann insbesondere Folgendes ermittelt werden: \n- der Wert der gelieferten hydraulischen Leistung, berechnet aus den Durchflusswerten und von Δp (an den Pumpenterminals), dann der Wert des Gesamtwirkungsgrades, berechnet aus der hydraulischen Leistung und der elektrischen Leistung. \n- die Extremwerte, einschließlich der maximalen Durchflussmenge, die es ermöglicht, die Qualität der Dimensionierung zu beurteilen. \nEs ist auch möglich, diese Daten zu verarbeiten, um z.B. das Anforderungsprofil (Flussrate) in Form von Klassen zu erhalten. Diese klassifizierte Flussrate wird dann zur Auswahl der bestmöglichen Optimierungsmaßnahmen und zur Bestimmung der Gewinne pro Klasse und insgesamt verwendet. "]
["Analyse de détail","Analyse de détail","Feinanalyse","Feinanalyse"]
["Le dimensionnement est-il correct ou nécessite-t-il d'être optimisé?","Le dimensionnement est-il correct ou nécessite-t-il d'être optimisé?","Ist die Dimensionierung richtig oder muss sie optimiert werden?","Ist die Dimensionierung richtig oder muss sie optimiert werden?"]
["La qualité du dimensionnement s'évalue en premier lieu sur la base du rapport entre le débit max. relevé (et nécessaire) et le débit nominal (rendement max.). Plusieurs situations sont possibles:\n1) Lorsque ce rapport est inférieur à 1, la pompe est surdimensionnée. Plus ce rapport est petit, plus le rendement sera réduit et plus le potentiel d'optimisation important.\n2) Lorsque ce rapport est proche de 1, le dimensionnement est correct (ce qui ne garantit pas que la situation soit énergétiquement idéale, d'autres inefficiences peuvent exister).\n3) Lorsque ce rapport est supérieur à 1, la pompe est sousdimensionnée. Plus ce rapport est grand, plus le rendement sera mauvais et les risques de problèmes élevés (cavitation par exemple)","La qualité du dimensionnement s'évalue en premier lieu sur la base du rapport entre le débit max. relevé (et nécessaire) et le débit nominal (rendement max.). Plusieurs situations sont possibles:\n1) Lorsque ce rapport est inférieur à 1, la pompe est surdimensionnée. Plus ce rapport est petit, plus le rendement sera réduit et plus le potentiel d'optimisation important.\n2) Lorsque ce rapport est proche de 1, le dimensionnement est correct (ce qui ne garantit pas que la situation soit énergétiquement idéale, d'autres inefficiences peuvent exister).\n3) Lorsque ce rapport est supérieur à 1, la pompe est sousdimensionnée. Plus ce rapport est grand, plus le rendement sera mauvais et les risques de problèmes élevés (cavitation par exemple)","Die Qualität der Dimensionierung wird in erster Linie anhand des Verhältnisses zwischen dem gemessenen (und geforderten) maximalen Durchfluss und dem Nenndurchfluss (max. Wirkungsgrad) beurteilt. Mehrere Situationen sind möglich:\n1) Wenn dieses Verhältnis kleiner als 1 ist, ist die Pumpe überdimensioniert. Je kleiner das Verhältnis, desto geringer der Wirkungsgrad und desto größer das Optimierungspotenzial. \n2) Wenn dieses Verhältnis nahe bei 1 liegt, ist die Dimensionierung korrekt (dies garantiert nicht, dass die Situation energetisch ideal ist, es können andere Ineffizienzen vorliegen). \n3) Wenn dieses Verhältnis größer als 1 ist, ist die Pumpe unterdimensioniert. Je höher dieses Verhältnis ist, desto schlechter ist der Wirkungsgrad und desto höher das Risiko von Problemen (z.B. Kavitation).","Die Qualität der Dimensionierung wird in erster Linie anhand des Verhältnisses zwischen dem gemessenen (und geforderten) maximalen Durchfluss und dem Nenndurchfluss (max. Wirkungsgrad) beurteilt. Mehrere Situationen sind möglich:\n1) Wenn dieses Verhältnis kleiner als 1 ist, ist die Pumpe überdimensioniert. Je kleiner das Verhältnis, desto geringer der Wirkungsgrad und desto größer das Optimierungspotenzial. \n2) Wenn dieses Verhältnis nahe bei 1 liegt, ist die Dimensionierung korrekt (dies garantiert nicht, dass die Situation energetisch ideal ist, es können andere Ineffizienzen vorliegen). \n3) Wenn dieses Verhältnis größer als 1 ist, ist die Pumpe unterdimensioniert. Je höher dieses Verhältnis ist, desto schlechter ist der Wirkungsgrad und desto höher das Risiko von Problemen (z.B. Kavitation)."]
["En cas de redimensionnement sans variations de charge/débit, les économies proviennent donc de l'augmentation du rendement, de la baisse de la puissance hydraulique ou des deux.\nL'investissement consistera alors en une nouvelle pompe et, normalement, un nouveau moteur ou alors en l'ajout d'un variateur et, normalement, un nouveau moteur","En cas de redimensionnement sans variations de charge/débit, les économies proviennent donc de l'augmentation du rendement, de la baisse de la puissance hydraulique ou des deux.\nL'investissement consistera alors en une nouvelle pompe et, normalement, un nouveau moteur ou alors en l'ajout d'un variateur et, normalement, un nouveau moteur","Im Falle einer Größenänderung ohne Last-/Durchflussschwankungen ergeben sich die Einsparungen daher aus einem höheren Wirkungsgrad, einer geringeren hydraulischen Leistung oder beidem. \nDie Investition besteht dann aus einer neuen Pumpe und in der Regel aus einem neuen Motor oder aus der Hinzufügung eines drehzahlvariablen Antriebs und in der Regel aus einem neuen Motor.","Im Falle einer Größenänderung ohne Last-/Durchflussschwankungen ergeben sich die Einsparungen daher aus einem höheren Wirkungsgrad, einer geringeren hydraulischen Leistung oder beidem. \nDie Investition besteht dann aus einer neuen Pumpe und in der Regel aus einem neuen Motor oder aus der Hinzufügung eines drehzahlvariablen Antriebs und in der Regel aus einem neuen Motor."]
["Les équipements sont anciens et le système a priori plutôt complexe.","Les équipements sont anciens et le système a priori plutôt complexe.","Die Ausrüstung ist alt und das System a priori eher komplex.","Die Ausrüstung ist alt und das System a priori ziemlich komplex."]
["Les équipements sont anciens et le système a priori plutôt simple.","Les équipements sont anciens et le système a priori plutôt simple.","Die Ausrüstung ist alt und das System a priori eher einfach.","Die Ausrüstung ist alt und das System a priori eher einfach."]
["Les équipements sont anciens et possiblement complexes","Les équipements sont anciens et possiblement complexes","Die Ausrüstung ist alt und möglicherweise komplex","Die Ausrüstung ist alt und möglicherweise komplex"]
["Les équipements sont anciens et le système, a priori, complexe.","Les équipements sont anciens et le système, a priori, complexe.","Die Ausrüstung ist alt und das System a priori komplex.","Die Ausrüstung ist alt und das System a priori komplex."]
["Les équipements sont anciens et le système, a priori, plutôt complexe.","Les équipements sont anciens et le système, a priori, plutôt complexe.","Die Ausrüstung ist alt und das System a priori eher komplex.","Die Ausrüstung ist alt und das System a priori ziemlich komplex."]
["Les équipements sont anciens et le système possiblement complexe.","Les équipements sont anciens et le système possiblement complexe.","Die Ausrüstung ist alt und das System möglicherweise komplex.","Die Ausrüstung ist alt und das System kann komplex sein."]
["Les équipements sont récents. Le système semble, a priori, complexe.","Les équipements sont récents. Le système semble, a priori, complexe.","Die Ausrüstung ist neueren Datums. Das System scheint a priori komplex zu sein.","Die Ausrüstung ist neueren Datums. Das System scheint a priori komplex zu sein."]
["Les équipements sont récents. Le système semble, a priori, simple.","Les équipements sont récents. Le système semble, a priori, simple.","Die Ausrüstung ist neueren Datums. Das System scheint a priori einfach zu sein.","Die Ausrüstung ist neueren Datums. Das System scheint a priori einfach zu sein."]
["Les équipements sont récents et le système possiblement complexe.","Les équipements sont récents et le système possiblement complexe.","Die Ausrüstung ist neu und das System möglicherweise komplex.","Die Ausrüstung ist neu und das System kann komplex sein."]
["Il est intéressants de connaître l'âge des équipements. Leur remplacement est en général plus facile à financer et les gains potentiellement plus élevés qu'avec des équipements récents. Le système semble, a priori, complexe.","Il est intéressants de connaître l'âge des équipements. Leur remplacement est en général plus facile à financer et les gains potentiellement plus élevés qu'avec des équipements récents. Le système semble, a priori, complexe.","Es ist interessant, das Alter der Ausrüstung zu kennen. Ihr Ersatz ist im Allgemeinen leichter zu finanzieren, und die potenziellen Gewinne sind höher als bei neueren Geräten. Das System scheint a priori komplex zu sein.","Es ist interessant, das Alter der Ausrüstung zu kennen. Ihr Ersatz ist im Allgemeinen leichter zu finanzieren, und die potenziellen Gewinne sind höher als bei neueren Geräten. Das System scheint a priori komplex zu sein."]
["Il est intéressants de connaître l'âge des équipements. Leur remplacement est en général plus facile à financer et les gains potentiellement plus élevés qu'avec des équipements récents. Le système semble, a priori,simple.","Il est intéressants de connaître l'âge des équipements. Leur remplacement est en général plus facile à financer et les gains potentiellement plus élevés qu'avec des équipements récents. Le système semble, a priori,simple.","Es ist interessant, das Alter der Ausrüstung zu kennen. Ihr Ersatz ist im Allgemeinen leichter zu finanzieren, und die potenziellen Gewinne sind höher als bei neueren Geräten. Das System scheint a priori einfach zu sein.","Es ist interessant, das Alter der Ausrüstung zu kennen. Ihr Ersatz ist im Allgemeinen leichter zu finanzieren, und die potenziellen Gewinne sind höher als bei neueren Geräten. Das System scheint a priori einfach zu sein."]
["Il est intéressants de connaître l'âge des équipements. Leur remplacement est en général plus facile à financer et les gains potentiellement plus élevés qu'avec des équipements récents. Le système est possiblement complexe.","Il est intéressants de connaître l'âge des équipements. Leur remplacement est en général plus facile à financer et les gains potentiellement plus élevés qu'avec des équipements récents. Le système est possiblement complexe.","Es ist interessant, das Alter der Ausrüstung zu kennen. Ihr Ersatz ist im Allgemeinen leichter zu finanzieren, und die potenziellen Gewinne sind höher als bei neueren Geräten. Das System ist möglicherweise komplex.","Es ist interessant, das Alter der Ausrüstung zu kennen. Ihr Ersatz ist im Allgemeinen leichter zu finanzieren, und die potenziellen Gewinne sind höher als bei neueren Geräten. Das System kann komplex sein."]
["Les variations de charge/débit sont-elles bien gérées?","Les variations de charge/débit sont-elles bien gérées?","Werden Last-/Fluss-Schwankungen gut bewältigt?","Werden Last-/Fluss-Schwankungen gut bewältigt?"]
["Il existe de multiples façons de gérer un besoin fluctuant. On citera notamment, côté pompe, l'étranglement (vanne), le by-pass, la variation de vitesse et, côté consommateurs, des vannes à deux ou trois voies. Ces dernières maintiennent un débit sans besoin (parfois pour conserver une branche en température). Ces solutions ne sont pas équivalentes en termes énergétiques.\n1) Lorsqu'il n'y a qu'un consommateur ou que, multiples, ils ont un comportement synchrone (donc proche de celui d'un seul consommateur), le profil de débit classé permet de suggérer des optimisations ad hoc basées sur l'introduction d'un variateur (voir utilisation des débits classés). Les optimisations résident dans le redimensionnement, le recours à des cascades et la variation de vitesse.\n2) Lorsque les pompes alimentent des consommateurs aux besoins indépendants les uns des autres dans des réseaux de branches parallèles, la situation est plus compliquée. Des solutions simples comme le réglage de la pression au refoulement de la pompe sont insuffisantes et peuvent parfois poser des problèmes sur certaines branches. Il est alors nécessaire de conserver des vannes, par exemple pour assurer l'équilibrage et les besoins réels. Les analyses doivent alors être menées de cas en cas et des solutions sur mesure proposées. Des approches basées sur des régulateurs de pression dynamique et des capteurs de pression déportés offrent d'excellents résultats énergétiques mais sont relativement complexes.\nLe choix du réglage en vitesse de même que les gains atteignables dépendent aussi de paramètres comme le type de circuit hydraulique. Typiquement, lorsqu'une hauteur statique importante ou une forte contrepression sont à vaincre, l'apport d'un convertisseur peut être limité en termes de gain. ","Il existe de multiples façons de gérer un besoin fluctuant. On citera notamment, côté pompe, l'étranglement (vanne), le by-pass, la variation de vitesse et, côté consommateurs, des vannes à deux ou trois voies. Ces dernières maintiennent un débit sans besoin (parfois pour conserver une branche en température). Ces solutions ne sont pas équivalentes en termes énergétiques.\n1) Lorsqu'il n'y a qu'un consommateur ou que, multiples, ils ont un comportement synchrone (donc proche de celui d'un seul consommateur), le profil de débit classé permet de suggérer des optimisations ad hoc basées sur l'introduction d'un variateur (voir utilisation des débits classés). Les optimisations résident dans le redimensionnement, le recours à des cascades et la variation de vitesse.\n2) Lorsque les pompes alimentent des consommateurs aux besoins indépendants les uns des autres dans des réseaux de branches parallèles, la situation est plus compliquée. Des solutions simples comme le réglage de la pression au refoulement de la pompe sont insuffisantes et peuvent parfois poser des problèmes sur certaines branches. Il est alors nécessaire de conserver des vannes, par exemple pour assurer l'équilibrage et les besoins réels. Les analyses doivent alors être menées de cas en cas et des solutions sur mesure proposées. Des approches basées sur des régulateurs de pression dynamique et des capteurs de pression déportés offrent d'excellents résultats énergétiques mais sont relativement complexes.\nLe choix du réglage en vitesse de même que les gains atteignables dépendent aussi de paramètres comme le type de circuit hydraulique. Typiquement, lorsqu'une hauteur statique importante ou une forte contrepression sont à vaincre, l'apport d'un convertisseur peut être limité en termes de gain. ","Es gibt viele Möglichkeiten, mit einem schwankenden Bedarf umzugehen. Dazu gehören auf der Pumpenseite Drosselung (Ventil), Bypass, Drehzahländerung und auf der Verbraucherseite Zwei- oder Dreiwegeventile. Letztere halten eine Flussrate ohne Bedarf aufrecht (manchmal, um einen Zweig warm zu halten). Diese Lösungen sind in energetischer Hinsicht nicht gleichwertig. \n1) Wenn es nur einen Verbraucher gibt oder wenn es mehrere Verbraucher mit synchronem Verhalten gibt (daher nahe an dem eines einzelnen Verbrauchers), ermöglicht das klassifizierte Strömungsprofil Ad-hoc-Optimierungen auf  der Grundlage der Einführung eines drehzahlvariablen Antriebs vorzuschlagen (siehe Verwendung von klassifizierten Strömen). Die Optimierungen liegen in der Größenanpassung, dem Einsatz von Kaskaden und der Geschwindigkeitsvariation. \n2) Wenn Pumpen in parallelen Filialnetzen Verbraucher mit unabhängigen Bedarfe versorgen, ist die Situation komplizierter. Einfache Lösungen wie die Anpassung des Pumpenauslassdrucks sind unzureichend und können manchmal Probleme auf einigen Zweigen verursachen. Es ist dann notwendig, Ventile aufzubewahren, z.B. um den Ausgleich und den tatsächlichen Bedarf sicherzustellen. Dann müssen von Fall zu Fall Analysen durchgeführt und massgeschneiderte Lösungen vorgeschlagen werden. Ansätze, die auf dynamischen Druckreglern und ferngesteuerten Drucksensoren basieren, bieten hervorragende Energieergebnisse, sind aber relativ komplex. \nDie Wahl der Drehzahlregelung sowie die erzielbaren Gewinne hängen auch von Parametern wie der Art des Hydrauliksystems ab. Wenn eine hohe statische Förderhöhe oder ein hoher Gegendruck überwunden werden muss, typischerweise, kann der Beitrag eines Umrichters eher wenig profitable sein.","Es gibt viele Möglichkeiten, mit einem schwankenden Bedarf umzugehen. Dazu gehören auf der Pumpenseite Drosselung (Ventil), Bypass, Drehzahländerung und auf der Verbraucherseite Zwei- oder Dreiwegeventile. Letztere halten eine Flussrate ohne Notwendigkeit aufrecht (manchmal, um einen Zweig warm zu halten). Diese Lösungen sind in energetischer Hinsicht nicht gleichwertig. \n1) Wenn es nur einen Verbraucher gibt oder wenn es mehrere Verbraucher mit synchronem Verhalten gibt (daher nahe an dem eines einzelnen Verbrauchers), ermöglicht das klassifizierte Strömungsprofil Ad-hoc-Optimierungen auf der Grundlage der Einführung eines drehzahlvariablen Antriebs vorzuschlagen (siehe Verwendung von klassifizierten Strömen). Die Optimierungen liegen in der Größenanpassung, dem Einsatz von Kaskaden und der Geschwindigkeitsvariation. \n2) Wenn Pumpen in parallelen Filialnetzen Verbraucher mit unabhängigen Anforderungen versorgen, ist die Situation komplizierter. Einfache Lösungen wie die Anpassung des Pumpenauslassdrucks sind unzureichend und können manchmal Probleme auf einigen Zweigen verursachen. Es ist dann notwendig, Ventile aufzubewahren, z.B. um den Ausgleich und den tatsächlichen Bedarf sicherzustellen. Dann müssen von Fall zu Fall Analysen durchgeführt und massgeschneiderte Lösungen vorgeschlagen werden. Ansätze, die auf dynamischen Druckreglern und ferngesteuerten Drucksensoren basieren, bieten hervorragende Energieergebnisse, sind aber relativ komplex. \nDie Wahl der Drehzahlregelung sowie die erzielbaren Gewinne hängen auch von Parametern wie der Art des Hydrauliksystems ab. Wenn eine hohe statische Förderhöhe oder ein hoher Gegendruck überwunden werden muss, typischerweise, kann der Beitrag eines Umrichters eher wenig profitable sein."]
["6. Mesures d'optimisation et calcul des économies","6. Mesures d'optimisation et calcul des économies","6. Optimierungsmaßnahmen und Berechnung der Einsparungen","6. Optimierungsmaßnahmen und Berechnung der Einsparungen"]
["Dans la cas d'une pompe ou d'un groupe de pompes, les économies peuvent avoir pour origines:\n- un débit plus important que nécessaire (aux consommateurs)\n- une exploitation non optimisée en termes d'horaire (un mode réduit ou un arrêt possible dans certaines plages horaires)\n- un travail à un niveau de pression trop élevé (le système assurerait sa prestation avec une pression plus faible ou une vanne semi-fermée casse la pression en permanence)\n- le système est ancien, mal dimensionné et les variations de besoin sont gérées de façon non optimale ","Dans la cas d'une pompe ou d'un groupe de pompes, les économies peuvent avoir pour origines:\n- un débit plus important que nécessaire (aux consommateurs)\n- une exploitation non optimisée en termes d'horaire (un mode réduit ou un arrêt possible dans certaines plages horaires)\n- un travail à un niveau de pression trop élevé (le système assurerait sa prestation avec une pression plus faible ou une vanne semi-fermée casse la pression en permanence)\n- le système est ancien, mal dimensionné et les variations de besoin sont gérées de façon non optimale ","\nIm Falle einer Pumpe oder einer Gruppe von Pumpen können die Einsparungen zurückzuführen sein auf: \n- einen höheren Durchfluss als erforderlich (zu den Verbrauchern) \n- einen nicht optimierten Betrieb in Bezug auf den Zeitplan (reduzierter Betrieb oder mögliche Abschaltung in bestimmten Zeitschlitzen) \n- das Arbeiten mit einem zu hohen Druckniveau (das System würde seinen Dienst mit einem niedrigeren Druck versehen oder ein halbgeschlossenes Ventil unterbricht den Druck dauerhaft) \n- das System ist alt, schlecht dimensioniert und Schwankungen der Anforderungen werden nicht optimal bewältigt. ","\nIm Falle einer Pumpe oder einer Gruppe von Pumpen können die Einsparungen zurückzuführen sein auf: \n- einen höheren Durchfluss als erforderlich (zu den Verbrauchern) \n- einen nicht optimierten Betrieb in Bezug auf den Zeitplan (reduzierter Betrieb oder mögliche Abschaltung in bestimmten Zeitschlitzen) \n- das Arbeiten mit einem zu hohen Druckniveau (das System würde seinen Dienst mit einem niedrigeren Druck versehen oder ein halbgeschlossenes Ventil unterbricht den Druck dauerhaft) \n- das System ist alt, schlecht dimensioniert und Schwankungen der Anforderungen werden nicht optimal bewältigt. "]
["Le calcul des économies d'une pompe à débit variable passe par le calcul des rendements dans les différentes plages de débit. Ainsi, pour chaque classe de débit, on détermine les rendement anciens et nouveaux pour les composants de l'entraînement. Le rendement total de chaque classe i s'exprime par le produit des rendements des composants constituant l'entraînement:","Le calcul des économies d'une pompe à débit variable passe par le calcul des rendements dans les différentes plages de débit. Ainsi, pour chaque classe de débit, on détermine les rendement anciens et nouveaux pour les composants de l'entraînement. Le rendement total de chaque classe i s'exprime par le produit des rendements des composants constituant l'entraînement:","Zur Berechnung der Einsparungen einer Verstellpumpe ist es notwendig, die Wirkungsgrade in den verschiedenen Förderstrombereichen zu berechnen. So werden für jede Strömungsklasse die alten und neuen Wirkungsgrade für die Antriebskomponenten ermittelt. Der Gesamtwirkungsgrad jeder Klasse i wird als Produkt der Wirkungsgrade der Antriebskomponenten ausgedrückt:","Zur Berechnung der Einsparungen einer Verstellpumpe ist es notwendig, die Wirkungsgrade in den verschiedenen Förderstrombereichen zu berechnen. So werden für jede Strömungsklasse die alten und neuen Wirkungsgrade für die Antriebskomponenten ermittelt. Der Gesamtwirkungsgrad jeder Klasse i wird als Produkt der Wirkungsgrade der Antriebskomponenten ausgedrückt:"]
[{"$f":"IF($B$2=\"FR\",B647,C647)","v":"avec les rendement des différents composants: ηCF rendement du convertisseur, ηmot rendement du moteur, ηacc rendement de l'accouplement, ηpompe rendement de la pompe, tous ces composants ne sont pas forcément présents"},"avec les rendement des différents composants: ηCF rendement du convertisseur, ηmot rendement du moteur, ηacc rendement de l'accouplement, ηpompe rendement de la pompe, tous ces composants ne sont pas forcément présents","mit den Wirkungsgraden der einzelnen Komponenten: ηCF Wirkungsgrad des Umrichters, ηmot Wirkungsgrad des Motors, ηacc Wirkungsgrad der Kupplung, ηpompe Wirkungsgrad der Pumpe, nicht unbedingt alle diese Komponenten sind vorhanden","mit den Wirkungsgraden der einzelnen Komponenten: ηCF Wirkungsgrad des Umrichters, ηmot Wirkungsgrad des Motors, ηacc Wirkungsgrad der Kupplung, ηpompe Wirkungsgrad der Pumpe, nicht unbedingt alle diese Komponenten sind vorhanden"]
["Economies annuelles associées à l'optimisation d'une pompe à débit variable:","Economies annuelles associées à l'optimisation d'une pompe à débit variable:","Jährliche Einsparungen in Verbindung mit der Optimierung einer Pumpe mit variablem Durchfluss:","Jährliche Einsparungen in Verbindung mit der Optimierung einer Pumpe mit variablem Durchfluss:"]
["Nhi, nombre d'heures de fonctionnement dans la classe de rendement i\nn, nombre de classes de débit\nPel, anc.i est la puissance élect. avant optimisation pour la classe de débit i\nPel, nouv.i est la puissance élect. après optimisation pour la classe de débit i","Nhi, nombre d'heures de fonctionnement dans la classe de rendement i\nn, nombre de classes de débit\nPel, anc.i est la puissance élect. avant optimisation pour la classe de débit i\nPel, nouv.i est la puissance élect. après optimisation pour la classe de débit i","Nhi, Anzahl der Betriebsstunden in der Effizienzklasse i\nn, Anzahl der Strömungsklassen\nPel, anc.i ist die elektrische Leistung vor der Optimierung für die Strömungsklasse i\nPel, nouv.i ist die elektrische Leistung nach der Optimierung für die Strömungsklasse i","Nhi, Anzahl der Betriebsstunden in der Effizienzklasse \nin, Anzahl der Strömungsklassen\nPel, anc.i ist die elektrische Leistung vor der Optimierung für die Strömungsklasse i\nPel, neu i ist die elektrische Leistung nach der Optimierung für die Strömungsklasse i"]
["Phydr,anc.i est la puissance hydraulique (avant optimisation) pour la classe de débit i\nƞtot,anc.i est le rendement total avant pour la classe de débit i\nΔpanc.i est le différentiel de pression avant pour la classe de débit i [Pa]\nQanc.i est le débit moyen avant de la classe i [m3/s]\nPhydr,nouv.i est la puissance hydraulique (après optimisation) pour la classe de débit i\nƞtot,nouv.i est le rendement total après pour la classe de débit i\nΔpnouv.i est le différentiel de pression après pour la classe de débit i [Pa]\nQnouv.i est le débit moyen après de la classe i [m3/s]","Phydr,anc.i est la puissance hydraulique (avant optimisation) pour la classe de débit i\nƞtot,anc.i est le rendement total avant pour la classe de débit i\nΔpanc.i est le différentiel de pression avant pour la classe de débit i [Pa]\nQanc.i est le débit moyen avant de la classe i [m3/s]\nPhydr,nouv.i est la puissance hydraulique (après optimisation) pour la classe de débit i\nƞtot,nouv.i est le rendement total après pour la classe de débit i\nΔpnouv.i est le différentiel de pression après pour la classe de débit i [Pa]\nQnouv.i est le débit moyen après de la classe i [m3/s]","Phydr,anc.i ist die hydraulische Leistung (vor der Optimierung) für die Strömungsklasse i\nƞtot,anc.i ist der Gesamtwirkungsgrad vorher für die Strömungsklasse i\nΔpanc.i ist die Druckdifferenz vorher für die Strömungsklasse i [Pa]\nQanc.i ist der durchschnittliche Durchfluss vorher für die Strömungsklasse i [m3/s]\nPhydr,nouv.i ist die hydraulische Leistung (nach Optimierung) für die Strömungsklasse i\nƞtot, neu.i ist der Gesamtwirkungsgrad nachher für die Strömungsklasse i\nΔpnouv.i ist die Druckdifferenz nachher für die Strömungsklasse i [Pa]\nQneu.i ist die mittlere Strömung nachher für die Strömungsklasse i [m3/s].","Phydr,anc.i ist die hydraulische Leistung (vor der Optimierung) für die Strömungsklasse i\nƞtot,anc.i ist der Gesamtvorwärtswirkungsgrad für die Strömungsklasse i\nΔpanc.i ist die Vorwärtsdruckdifferenz für die Strömungsklasse i [Pa]\nQanc.i ist der durchschnittliche Vorwärtsfluss für die Strömungsklasse i [m3/s]\nPhydr,nouv.i ist die hydraulische Leistung (nach Optimierung) für die Strömungsklasse i\nƞtot, neu.i ist der Gesamtwirkungsgrad nach für die Strömungsklasse i\nΔpnouv.i ist die Druckdifferenz nach für die Strömungsklasse i [Pa]\nQneu.i ist die mittlere Strömung nach für die Strömungsklasse i [m3/s]"]
["sachant que les débits de chaque classe avant et après sont inchangés donc que Qanc.i = Qnouv.i","sachant que les débits de chaque classe avant et après sont inchangés donc que Qanc.i = Qnouv.i","zu wissen, dass die Durchflüsse jeder Klasse davor und danach unverändert sind, so dass Qanc.i = Qnouv.i","zu wissen, dass die Flüsse jeder Klasse davor und danach unverändert sind, so dass Qanc.i = Qnouv.i"]
["Le rendement d'une pompe en fonction de la vitesse n'est pas toujours estimé correctement.","Le rendement d'une pompe en fonction de la vitesse n'est pas toujours estimé correctement.","Der Wirkungsgrad einer Pumpe als Funktion der Drehzahl wird nicht immer korrekt geschätzt.","Der Wirkungsgrad einer Pumpe als Funktion der Drehzahl wird nicht immer korrekt geschätzt."]
["Composants pertes de charge","Composants pertes de charge","Druckverlust-Komponenten","Druckverlust-Komponenten"]
["ouiouioui","ouiouioui","jajaja","jajaja",1]
["ouiouioon","ouiouioon",null,"yesouioon",1]
["OuiouiNe sais pas","OuiouiNe sais pas","JaJaWeiss nicht","JaJaJaWeiss nicht",1]
["ouinonoui","ouinonoui",null,"ouinonoui",1]
["ouiNonNon","ouiNonNon","jaNeinNein","jaNeinNein",1]
["ouinonne sais pas","ouinonne sais pas",null,"weiß nicht",1]
["Ouine sais pasNon","Ouine sais pasNon",null,"Oder weiß nicht Nein",1]
["ouine sais pasne sais pas","ouine sais pasne sais pas",null,"weiß nicht weiß nicht weiß",1]
["NonOuioui","NonOuioui","NeinJaJa","NeinJa",1]
["Le débit max. fourni correspond a priori au besoin, mais il n'est pas mesuré. Un mesurage permettrait de mieux connaître le débit réel.","Le débit max. fourni correspond a priori au besoin, mais il n'est pas mesuré. Un mesurage permettrait de mieux connaître le débit réel.","Die maximale Durchflussmenge wird a priori nach Bedarf geliefert, wird aber nicht gemessen. Eine Messung würde eine bessere Kenntnis der tatsächlichen Flussrate ermöglichen.","Die maximale Durchflussmenge wird a priori nach Bedarf geliefert, wird aber nicht gemessen. Eine Messung würde eine bessere Kenntnis der tatsächlichen Flussrate ermöglichen."]
["ouiSaison et Text","ouiSaison et Text",null,"yesSaison und Text",1]
["ouil'heure et le jour de la semaine","ouil'heure et le jour de la semaine",null,"ie Uhrzeit und der Wochentag",1]
["ouila production (type, nbre ou vol. de produit)","ouila production (type, nbre ou vol. de produit)","ja es hat Produktion (Art, Nr. oder Volumen des Produkts)","ouila-Produktion (Art, Anzahl oder Volumen des Produkts)"]
["ouiautre ou ne sais pas","ouiautre ou ne sais pas",null,"oder sonst oder weiß nicht",1]
["Les valeurs de pression sont disponibles. Utilisez-les avec les valeurs de débit pour calculer la puissance aéraulique. Utilisez les valeurs de puissance électrique disponibles pour calculer les rendements.","Les valeurs de pression sont disponibles. Utilisez-les avec les valeurs de débit pour calculer la puissance aéraulique. Utilisez les valeurs de puissance électrique disponibles pour calculer les rendements.","Druckwerte sind verfügbar. Verwenden Sie diese zusammen mit den Werten der Durchflussrate zur Berechnung der Luftleistung. Verwenden Sie die verfügbaren elektrischen Leistungswerte zur Berechnung der Effizienz.","Druckwerte sind verfügbar. Verwenden Sie diese zusammen mit den Werten der Durchflussrate zur Berechnung der Luftleistung. Verwenden Sie die verfügbaren elektrischen Leistungswerte zur Berechnung der Effizienz."]
["Les valeurs de pression sont disponibles. Utilisez-les avec les valeurs de débit pour calculer la puissance aéraulique. Procédez au mesurage de la puissance électrique et calculez les rendements.","Les valeurs de pression sont disponibles. Utilisez-les avec les valeurs de débit pour calculer la puissance aéraulique. Procédez au mesurage de la puissance électrique et calculez les rendements.","Druckwerte sind verfügbar. Verwenden Sie diese zusammen mit den Werten der Durchflussrate zur Berechnung der Luftleistung. Messen Sie die elektrische Leistung und berechnen Sie den Wirkungsgrad.","Druckwerte sind verfügbar. Verwenden Sie diese zusammen mit den Werten der Durchflussrate zur Berechnung der Luftleistung. Messen Sie die elektrische Leistung und berechnen Sie den Wirkungsgrad."]
["Les valeurs de pression ne sont pas relevées. Si l'on veut calculer le rendement de l'entraînement, il faut mesurer les pressions à l'aspiration et au refoulement du ventilateur puis calculer la puissance aéraulique. Avec les valeurs de puissance électrique relevées par l'exploitant, on peut ensuite calculer les performances de l'entraînement. ","Les valeurs de pression ne sont pas relevées. Si l'on veut calculer le rendement de l'entraînement, il faut mesurer les pressions à l'aspiration et au refoulement du ventilateur puis calculer la puissance aéraulique. Avec les valeurs de puissance électrique relevées par l'exploitant, on peut ensuite calculer les performances de l'entraînement. ","Die Druckwerte werden nicht aufgezeichnet. Um den Wirkungsgrad des Antriebs zu berechnen, muss der Ein- und Ausgangsdruck des Ventilators gemessen und die Luftleistung berechnet werden. Die Antriebsleistung kann dann anhand der vom Bediener aufgezeichneten elektrischen Leistungswerte berechnet werden. ","Die Druckwerte werden nicht aufgezeichnet. Um den Wirkungsgrad des Antriebs zu berechnen, muss der Ein- und Ausgangsdruck des Ventilators gemessen und die Luftleistung berechnet werden. Die Antriebsleistung kann dann anhand der vom Bediener aufgezeichneten elektrischen Leistungswerte berechnet werden. "]
["Durant des mesurages de débit, on s'efforcera d'ouvrir les clapets semi-fermés de façon à connaître le débit à clapet ouvert. Si ce n'est pas possible, on travaillera avec la caractéristique du clapet. On procédera aux analyses permettant de savoir quel type d'optimisation est adapté (selon les explications de détail).","Durant des mesurages de débit, on s'efforcera d'ouvrir les clapets semi-fermés de façon à connaître le débit à clapet ouvert. Si ce n'est pas possible, on travaillera avec la caractéristique du clapet. On procédera aux analyses permettant de savoir quel type d'optimisation est adapté (selon les explications de détail).","Bei Durchflussmessungen sollte versucht werden, die halbgeschlossenen Ventile zu öffnen, so dass die Durchflussrate bei geöffnetem Ventil bekannt ist. Falls dies nicht möglich ist, arbeiten Sie mit der Ventilcharakteristik. Es werden Analysen durchgeführt, um herauszufinden, welche Art der Optimierung geeignet ist (wie im Detail erläutert).","Bei Durchflussmessungen sollte versucht werden, die halbgeschlossenen Ventile zu öffnen, so dass die Durchflussrate bei geöffnetem Ventil bekannt ist. Falls dies nicht möglich ist, arbeiten Sie mit der Ventilcharakteristik. Es werden Analysen durchgeführt, um herauszufinden, welche Art der Optimierung geeignet ist (wie im Detail erläutert)."]
["On trouve différents composants comme des amortisseurs de bruits, des batteries et des filtres qui génèrent des pertes de charge parfois importantes.  Suite à l'évolution du système, ces dispositifs ne sont parfois plus nécessaires. Leur démontage permet de réduire les pertes de charge. Pour les filtres, c'est le manque de maintenance qui peut s'avérer source de pertes de charge inutiles. ","On trouve différents composants comme des amortisseurs de bruits, des batteries et des filtres qui génèrent des pertes de charge parfois importantes.  Suite à l'évolution du système, ces dispositifs ne sont parfois plus nécessaires. Leur démontage permet de réduire les pertes de charge. Pour les filtres, c'est le manque de maintenance qui peut s'avérer source de pertes de charge inutiles. ","Es gibt verschiedene Komponenten wie Geräuschdämpfer, Batterien und Filter, die zum Teil große Druckverluste erzeugen. Mit der Weiterentwicklung des Systems sind diese Geräte manchmal nicht mehr erforderlich. Ihre Demontage verringert den Druckabfall. Bei Filtern ist es die mangelnde Wartung, die eine Quelle für unnötige Druckverluste sein kann. ","Es gibt verschiedene Komponenten wie Geräuschdämpfer, Batterien und Filter, die zum Teil große Druckverluste erzeugen. Mit der Weiterentwicklung des Systems sind diese Geräte manchmal nicht mehr erforderlich. Ihre Demontage verringert den Druckabfall. Bei Filtern ist es die mangelnde Wartung, die eine Quelle für unnötige Druckverluste sein kann. "]
["nonouiNon","nonouiNon","neinJaNein","neinJaNein",1]
["nonouiNe sais pas","nonouiNe sais pas","neinJaWeiß nicht","neinJaWeiß nicht",1]
["nonNonOui","nonNonOui","neinneinJaJa","neinneinJaJa",1]
["nonNonNon","nonNonNon","neinneinneinnein","neinneinneinnein",1]
["nonnonne sais pas","nonnonne sais pas","Nonne weiß es nicht","Nonne weiß es nicht",1]
["nonne sais pasNon","nonne sais pasNon","weiß nicht nein","weiß nicht nein",1]
["nonne sais pasne sais pas","nonne sais pasne sais pas","weiß nicht weiß nicht weiß","weiß nicht weiß nicht weiß",1]
["ne sais pasOuioui","ne sais pasOuioui","weiß nichtJa","weiß nichtJa",1]
["ne sais pasouiNon","ne sais pasouiNon","weiß nicht ja nein","weiß nicht ja nein",1]
["ne sais pasouiNe sais pas","ne sais pasouiNe sais pas","weiß nicht ja weiß nicht","weiß nicht ja weiß nicht",1]
["ne sais pasNonOui","ne sais pasNonOui","weiß nicht neinJa","weiß nicht neinJa",1]
["ne sais pasNonNon","ne sais pasNonNon","weiß nicht nein","weiß nicht nein",1]
["ne sais pasnonne sais pas","ne sais pasnonne sais pas","weiß nicht weiß nicht weiß","weiß nicht weiß nicht weiß",1]
["ne sais pasne sais pasNon","ne sais pasne sais pasNon","weiß nicht weiß nicht weiß nein","weiß nicht weiß nicht weiß nein",1]
["ne sais pasne sais pasne sais pas","ne sais pasne sais pasne sais pas","nicht wissen nicht wissen nicht wissen nicht wissen nicht wissen","nicht wissen nicht wissen nicht wissen nicht wissen nicht wissen",1]
["L'évolution des grandeurs au cours du temps permet d'apprécier les plages de variations et la célérité des variations. Pour des ventilateurs, on en tire notamment:\n- la valeur de la puissance aéraulique fournie, calculée à partir des valeurs de débit et de Δp (aux bornes du ventilateur), puis celle du rendement global, calculée à partir de la puissance aéraulique et de la puissance électrique.\n- les valeurs extrêmes, dont le débit maximum qui permet de juger de la qualité du dimensionnement.\nIl est aussi possible de traiter ces données pour disposer, par exemple, du profil de besoin (débit), sous forme de classes. Ce débit classé permet ensuite de sélectionner au mieux les mesures d'optimisation et de déterminer les gains par classe et total. ","L'évolution des grandeurs au cours du temps permet d'apprécier les plages de variations et la célérité des variations. Pour des ventilateurs, on en tire notamment:\n- la valeur de la puissance aéraulique fournie, calculée à partir des valeurs de débit et de Δp (aux bornes du ventilateur), puis celle du rendement global, calculée à partir de la puissance aéraulique et de la puissance électrique.\n- les valeurs extrêmes, dont le débit maximum qui permet de juger de la qualité du dimensionnement.\nIl est aussi possible de traiter ces données pour disposer, par exemple, du profil de besoin (débit), sous forme de classes. Ce débit classé permet ensuite de sélectionner au mieux les mesures d'optimisation et de déterminer les gains par classe et total. ","Die Entwicklung der Mengen im Laufe der Zeit ermöglicht es, die Schwankungsbreiten und die Geschwindigkeit der Schwankungen einzuschätzen. Für Ventilatoren kann insbesondere Folgendes ermittelt werden: \n- der Wert der zugeführten Luftleistung, berechnet aus den Werten der Flussrate und Δp (an den Anschlüssen des Ventilators), dann der Wert des Gesamtwirkungsgrades, berechnet aus der Luftleistung und der elektrischen Leistung. \n- die Extremwerte, einschließlich der maximalen Luftdurchflussrate, die es ermöglicht, die Qualität der Dimensionierung zu beurteilen. \nEs ist auch möglich, diese Daten zu verarbeiten, um z.B. das Anforderungsprofil (Luftdurchsatz) in Form von Klassen zu erhalten. Diese klassifizierte Flussrate wird dann zur Auswahl der bestmöglichen Optimierungsmaßnahmen und zur Bestimmung der Gewinne pro Klasse und insgesamt verwendet. ","Die Entwicklung der Mengen im Laufe der Zeit ermöglicht es, die Schwankungsbreiten und die Geschwindigkeit der Schwankungen einzuschätzen. Für Ventilatoren kann insbesondere Folgendes ermittelt werden: \n- der Wert der zugeführten Luftleistung, berechnet aus den Werten der Flussrate und Δp (an den Anschlüssen des Beatmungsgerätes), dann der Wert des Gesamtwirkungsgrades, berechnet aus der Luftleistung und der elektrischen Leistung. \n- die Extremwerte, einschließlich der maximalen Luftdurchflussrate, die es ermöglicht, die Qualität der Größenbestimmung zu beurteilen. \nEs ist auch möglich, diese Daten zu verarbeiten, um z.B. das Anforderungsprofil (Luftdurchsatz) in Form von Klassen zu erhalten. Diese klassifizierte Flussrate wird dann zur Auswahl der bestmöglichen Optimierungsmaßnahmen und zur Bestimmung der Gewinne pro Klasse und insgesamt verwendet. "]
["La qualité du dimensionnement s'évalue en premier lieu sur la base du rapport entre le débit max. relevé (et nécessaire) et le débit nominal (rendement max.). Plusieurs situations sont possibles:\n1) Lorsque ce rapport est inférieur à 1, le ventilateur est surdimensionné. Plus ce rapport est petit, plus le rendement sera réduit et plus le potentiel d'optimisation important.\n2) Lorsque ce rapport est proche de 1, le dimensionnement est correct (ce qui ne garantit pas que la situation soit énergétiquement idéale, d'autres inefficiences peuvent exister).\n3) Lorsque ce rapport est supérieur à 1, le ventilateur est sousdimensionné. Plus ce rapport est grand, plus le rendement sera mauvais et les risques de problèmes accrus.","La qualité du dimensionnement s'évalue en premier lieu sur la base du rapport entre le débit max. relevé (et nécessaire) et le débit nominal (rendement max.). Plusieurs situations sont possibles:\n1) Lorsque ce rapport est inférieur à 1, le ventilateur est surdimensionné. Plus ce rapport est petit, plus le rendement sera réduit et plus le potentiel d'optimisation important.\n2) Lorsque ce rapport est proche de 1, le dimensionnement est correct (ce qui ne garantit pas que la situation soit énergétiquement idéale, d'autres inefficiences peuvent exister).\n3) Lorsque ce rapport est supérieur à 1, le ventilateur est sousdimensionné. Plus ce rapport est grand, plus le rendement sera mauvais et les risques de problèmes accrus.","Die Qualität der Dimensionierung wird in erster Linie anhand des Verhältnisses zwischen dem gemessenen (und geforderten) maximalen Durchfluss und dem Nenndurchfluss (max. Wirkungsgrad) beurteilt. Mehrere Situationen sind möglich:\n1) Wenn dieses Verhältnis kleiner als 1 ist, ist der Ventilator überdimensioniert. Je kleiner das Verhältnis, desto geringer die Effizienz und desto größer das Optimierungspotenzial. \n2) Wenn dieses Verhältnis nahe bei 1 liegt, ist die Dimensionierung korrekt (dies garantiert nicht, dass die Situation energetisch ideal ist, es können andere Ineffizienzen vorliegen). \n3) Wenn dieses Verhältnis höher als 1 ist, ist der Ventilator unterdimensioniert. Je höher dieses Verhältnis ist, desto schlechter wird die Leistung sein und desto größer ist das Risiko von Problemen.","Die Qualität der Dimensionierung wird in erster Linie anhand des Verhältnisses zwischen dem gemessenen (und geforderten) maximalen Durchfluss und dem Nenndurchfluss (max. Wirkungsgrad) beurteilt. Mehrere Situationen sind möglich:\n1) Wenn dieses Verhältnis kleiner als 1 ist, ist der Ventilator überdimensioniert. Je kleiner das Verhältnis, desto geringer die Effizienz und desto größer das Optimierungspotenzial. \n2) Wenn dieses Verhältnis nahe bei 1 liegt, ist die Dimensionierung korrekt (dies garantiert nicht, dass die Situation energetisch ideal ist, es können andere Ineffizienzen vorliegen). \n3) Wenn dieses Verhältnis höher als 1 ist, ist der Ventilator unterdimensioniert. Je höher dieses Verhältnis ist, desto schlechter wird die Leistung sein und desto größer ist das Risiko von Problemen."]
["Il existe de multiples façons de gérer un besoin fluctuant. On citera notamment, côté ventilateur, l'étranglement (clapet) et la variation de vitesse et, côté consommateurs, des VAV. Ces solutions ne sont pas équivalentes en termes énergétiques.\n1) Lorsqu'il n'y a qu'un consommateur ou que, multiples, ils ont un comportement synchrone (donc proche de celui d'un seul consommateur), le profil de débit classé permet de suggérer des optimisations ad hoc basées sur l'introduction d'un variateur (voir utilisation des débits classés). Les optimisations résident dans le redimensionnement et la variation de vitesse.\n2) Lorsque le ventilateur alimente des consommateurs aux besoins indépendants les uns des autres dans des réseaux de branches parallèles, la situation est plus compliquée. Des solutions simples comme le réglage de la pression au refoulement du ventilateur sont insuffisantes et peuvent parfois poser des problèmes sur certaines branches. Il est alors nécessaire de conserver des clapets par exemple pour assurer l'équilibrage et les besoins réels. Les analyses doivent alors être menées de cas en cas et des solutions sur mesure proposées. Des approches basées sur des capteurs de pression déportés peuvent offrir de bons résultats énergétiques.\n","Il existe de multiples façons de gérer un besoin fluctuant. On citera notamment, côté ventilateur, l'étranglement (clapet) et la variation de vitesse et, côté consommateurs, des VAV. Ces solutions ne sont pas équivalentes en termes énergétiques.\n1) Lorsqu'il n'y a qu'un consommateur ou que, multiples, ils ont un comportement synchrone (donc proche de celui d'un seul consommateur), le profil de débit classé permet de suggérer des optimisations ad hoc basées sur l'introduction d'un variateur (voir utilisation des débits classés). Les optimisations résident dans le redimensionnement et la variation de vitesse.\n2) Lorsque le ventilateur alimente des consommateurs aux besoins indépendants les uns des autres dans des réseaux de branches parallèles, la situation est plus compliquée. Des solutions simples comme le réglage de la pression au refoulement du ventilateur sont insuffisantes et peuvent parfois poser des problèmes sur certaines branches. Il est alors nécessaire de conserver des clapets par exemple pour assurer l'équilibrage et les besoins réels. Les analyses doivent alors être menées de cas en cas et des solutions sur mesure proposées. Des approches basées sur des capteurs de pression déportés peuvent offrir de bons résultats énergétiques.\n","Es gibt viele Möglichkeiten, mit einem schwankenden Bedarf umzugehen. Dazu gehören auf der Ventilatorseite die Drosselung (Klappe) und die variable Drehzahlregelung und auf der Verbraucherseite die VAVs. Diese Lösungen sind in energetischer Hinsicht nicht gleichwertig. \n1) Wenn es nur einen Verbraucher gibt oder wenn es mehrere Verbraucher mit synchronem Verhalten gibt (daher nahe an dem eines einzelnen Verbrauchers), ermöglicht das klassifizierte Durchflussprofil, Ad-hoc-Optimierungen vorzuschlagen, die auf der Einführung eines drehzahlvariablen Antriebs basieren (siehe Verwendung von klassifizierten Durchflussmengen). Die Optimierungen liegen in der Größen- und Geschwindigkeitsänderung. \n2) Wenn der Ventilator die Verbraucher in parallelen Filialnetzen mit unabhängigem Bedarf versorgt, ist die Situation komplizierter. Einfache Lösungen wie die Anpassung des Ventilatorauslassdrucks sind nicht ausreichend und können in einigen Branchen manchmal Probleme verursachen. Dann ist es notwendig, Dämpfer zu behalten, um beispielsweise die Ausgewogenheit und den tatsächlichen Bedarf sicherzustellen. Dann müssen von Fall zu Fall Analysen durchgeführt und massgeschneiderte Lösungen vorgeschlagen werden. Ansätze, die auf ferngesteuerten Drucksensoren basieren, können gute energetische Ergebnisse liefern.","Es gibt viele Möglichkeiten, mit einem schwankenden Bedarf umzugehen. Dazu gehören auf der Ventilatorseite die Drosselung (Klappe) und die variable Drehzahlregelung und auf der Verbraucherseite die VVS-Regelgeräte. Diese Lösungen sind in energetischer Hinsicht nicht gleichwertig. \n1) Wenn es nur einen Verbraucher gibt oder wenn es mehrere Verbraucher mit synchronem Verhalten gibt (daher nahe an dem eines einzelnen Verbrauchers), ermöglicht das klassifizierte Durchflussprofil, Ad-hoc-Optimierungen vorzuschlagen, die auf der Einführung eines drehzahlvariablen Antriebs basieren (siehe Verwendung von klassifizierten Durchflussmengen). Die Optimierungen liegen in der Größen- und Geschwindigkeitsänderung. \n2) Wenn der Ventilator die Verbraucher in parallelen Filialnetzen mit unabhängigem Bedarf versorgt, ist die Situation komplizierter. Einfache Lösungen wie die Anpassung des Ventilatorauslassdrucks sind nicht ausreichend und können in einigen Branchen manchmal Probleme verursachen. Dann ist es notwendig, Dämpfer zu behalten, um beispielsweise die Ausgewogenheit und den tatsächlichen Bedarf sicherzustellen. Dann müssen von Fall zu Fall Analysen durchgeführt und massgeschneiderte Lösungen vorgeschlagen werden. Ansätze, die auf ferngesteuerten Drucksensoren basieren, können gute energetische Ergebnisse liefern."]
["avec les rendement des différents composants: ηCF rendement du convertisseur, ηmot rendement du moteur, ηacc rendement de l'accouplement, ηvent rendement du ventilateur, tous ces composants ne sont pas forcément présents","avec les rendement des différents composants: ηCF rendement du convertisseur, ηmot rendement du moteur, ηacc rendement de l'accouplement, ηvent rendement du ventilateur, tous ces composants ne sont pas forcément présents","mit den Wirkungsgraden der einzelnen Komponenten: ηCF Wirkungsgrad des Umrichters, ηmot Wirkungsgrad des Motors, ηacc Wirkungsgrad der Kupplung, ηvent Wirkungsgrad des Ventilators, nicht unbedingt alle diese Komponenten sind vorhanden","mit den Wirkungsgraden der einzelnen Komponenten: ηCF Wirkungsgrad des Umrichters, ηmot Wirkungsgrad des Motors, ηacc Wirkungsgrad der Kupplung, ηvent Wirkungsgrad des Ventilators, nicht unbedingt alle diese Komponenten sind vorhanden"]
["Economies annuelles associées à l'optimisation d'un ventilateur à débit variable:","Economies annuelles associées à l'optimisation d'un ventilateur à débit variable:","Jährliche Einsparungen in Verbindung mit der Optimierung eines Ventilators mit variablem Volumenstrom:","Jährliche Einsparungen in Verbindung mit der Optimierung eines Ventilators mit variablem Volumenstrom:"]
["Paér,anc.i est la puissance aéraulique (avant optimisation) pour la classe de débit i\nƞtot,anc.i est le rendement total avant pour la classe de débit i\nΔpanc.i est le différentiel de pression avant pour la classe de débit i [Pa]\nQanc.i est le débit moyen avant de la classe i [m3/s]\nPaér,nouv.i est la puissance aéraulique (après optimisation) pour la classe de débit i\nƞtot,nouv.i est le rendement total après pour la classe de débit i\nΔpnouv.i est le différentiel de pression après pour la classe de débit i [Pa]\nQnouv.i est le débit moyen après de la classe i [m3/s]","Paér,anc.i est la puissance aéraulique (avant optimisation) pour la classe de débit i\nƞtot,anc.i est le rendement total avant pour la classe de débit i\nΔpanc.i est le différentiel de pression avant pour la classe de débit i [Pa]\nQanc.i est le débit moyen avant de la classe i [m3/s]\nPaér,nouv.i est la puissance aéraulique (après optimisation) pour la classe de débit i\nƞtot,nouv.i est le rendement total après pour la classe de débit i\nΔpnouv.i est le différentiel de pression après pour la classe de débit i [Pa]\nQnouv.i est le débit moyen après de la classe i [m3/s]","doublon","Paér,anc.i ist die aeraulische Leistung (vor der Optimierung) für die Strömungsklasse i\nƞtot,anc.i ist die gesamte Vorwärtseffizienz für die Strömungsklasse i\nΔpanc.i ist die Vorwärtsdruckdifferenz für die Strömungsklasse i [Pa] \nQanc.i ist die mittlere Vorwärtsströmungsgeschwindigkeit für die Strömungsklasse i [m3/s]\nPaér,nouv.i ist die aeraulische Leistung (nach Optimierung) für die Strömungsklasse i\nƞtot,new.i ist die Gesamteffizienz nach für die Strömungsklasse i\nΔpnouv.i ist die Druckdifferenz nach für die Strömungsklasse i [Pa]\nQnew.i ist die durchschnittliche Strömungsgeschwindigkeit nach für die Strömungsklasse i [m3/s]."]
["Le rendement d'un entraînement électrique comprenant un ventilateur est souvent péjoré par un accouplement peu efficace.","Le rendement d'un entraînement électrique comprenant un ventilateur est souvent péjoré par un accouplement peu efficace.","Der Wirkungsgrad eines Elektroantriebs einschließlich eines Ventilators wird häufig durch eine schlecht funktionierende Kupplung beeinträchtigt.","Der Wirkungsgrad eines Elektroantriebs einschließlich eines Ventilators wird häufig durch eine schlecht funktionierende Kupplung beeinträchtigt."]
["1. Analyse","1. Analyse","1. Analyse","1. Analyse",1]
["2. Optimisat. distribution","2. Optimisat. distribution","2. Optimierung der Verteilung","2. Optimierung der Verteilung",1]
["4. Optimisat. distribution","4. Optimisat. distribution","4. Optimierung der Verteilung"]
["3. Optimisat. utilisation","3. Optimisat. utilisation","3. Optimierung der Verwendung","3. Optimierung der Nutzung",1]
["4. Optimisati. production","4. Optimisati. production","4. Optimierung der Produktion","4. Optimierung der Produktion",1]
[{"$f":"IF($B$2=\"FR\",B700,C700)","v":"3. Optimisati. production"},"3. Optimisati. production","3. Optimierung der Produktion"]
["5. Optimisat. auxiliaires","5. Optimisat. auxiliaires","5. Hilfsoptimismus","5. zusätzliche Optimierung",1]
["Système d'air comprimé à vitesse variable:\nLa plupart des compresseurs à vitesse variable permettent d'extraire, via l'affichage, les pourcentages du temps de fonctionnement correspondant aux différents taux de charge. Grâce à ces pourcentages, aux nombres d'heures de fonctionnement et aux puissances absorbées correspondantes (ces puissances à différents taux de charge sont à demander au constructeur ou à déterminer selon les fiches techniques CAGI américaines), la consommation annuelle totale peut-être déterminée. \nAttention : même si les estimations sont plus précises que dans le GA (analyse préliminaire), ce sont encore des valeurs estimées, basées sur des valeurs indicatives valables dans les conditions standards.\n\nSystème d'air comprimé à vitesse fixe : \nLa plupart des compresseurs d'air ont des compteurs d'heurse de fonctionnement et d'heures en charge. La différence est le temps de marche à vide. Si les heures de fonctionnement ne sont pas relevées régulièrement, un nombre d'heures et une date peuvent parfois être trouvés dans le carnet d'entretien ou l'autocollant d'entretien. Si ces informations ne sont pas disponibles, il est possible d'estimer les heures de fonctionnement annuelles grâce à l'année d'installation ou de construction du compresseur.  La consommation peut être estimée en multipliant les heures de fonctionnement en charge par la puissance absorbé en charge plus les heures de fonctionnement en marche à vide fois la puissance absorbée dans ce mode. Les puissances absorbées sont parfois disponibles sur les fiches techniques. Sinon, on approximera la puissance absorbée en charge à 100% de la puissance nominale et en marche à vide à 25%.\n\nSi aucune de ces informations n'est disponible, la consommation annuelle peut être très grossièrement estimée en multipliant la puissance nominale par 2000 heures de fonctionnement.","Système d'air comprimé à vitesse variable:\nLa plupart des compresseurs à vitesse variable permettent d'extraire, via l'affichage, les pourcentages du temps de fonctionnement correspondant aux différents taux de charge. Grâce à ces pourcentages, aux nombres d'heures de fonctionnement et aux puissances absorbées correspondantes (ces puissances à différents taux de charge sont à demander au constructeur ou à déterminer selon les fiches techniques CAGI américaines), la consommation annuelle totale peut-être déterminée. \nAttention : même si les estimations sont plus précises que dans le GA (analyse préliminaire), ce sont encore des valeurs estimées, basées sur des valeurs indicatives valables dans les conditions standards.\n\nSystème d'air comprimé à vitesse fixe : \nLa plupart des compresseurs d'air ont des compteurs d'heurse de fonctionnement et d'heures en charge. La différence est le temps de marche à vide. Si les heures de fonctionnement ne sont pas relevées régulièrement, un nombre d'heures et une date peuvent parfois être trouvés dans le carnet d'entretien ou l'autocollant d'entretien. Si ces informations ne sont pas disponibles, il est possible d'estimer les heures de fonctionnement annuelles grâce à l'année d'installation ou de construction du compresseur.  La consommation peut être estimée en multipliant les heures de fonctionnement en charge par la puissance absorbé en charge plus les heures de fonctionnement en marche à vide fois la puissance absorbée dans ce mode. Les puissances absorbées sont parfois disponibles sur les fiches techniques. Sinon, on approximera la puissance absorbée en charge à 100% de la puissance nominale et en marche à vide à 25%.\n\nSi aucune de ces informations n'est disponible, la consommation annuelle peut être très grossièrement estimée en multipliant la puissance nominale par 2000 heures de fonctionnement.","Druckluftsystem mit variabler Drehzahl: \nBei den meisten Kompressoren mit variabler Drehzahl können die Prozentsätze der Betriebszeit, die den verschiedenen Belastungsraten entsprechen, über das Display extrahiert werden. Anhand dieser Prozentsätze, der Anzahl der Betriebsstunden und der entsprechenden Leistungsaufnahme (diese Leistungen bei unterschiedlichen Lastzahlen sind beim Hersteller anzufragen oder nach den amerikanischen CAGI-Datenblättern zu ermitteln) kann der jährliche Gesamtverbrauch ermittelt werden. \nAchtung: Auch wenn die Schätzungen präziser sind als in der GA (Grobanalyse), handelt es sich immer noch um Schätzwerte, die auf unter Standardbedingungen gültigen Richtwerten basieren.\n\nDruckluftsystem mit fester Drehzahl: \nDie meisten Druckluftkompressoren haben Betriebsstundenzähler für Klopfen und Last. Der Unterschied ist die Leerlaufzeit. Wenn die Betriebsstunden nicht regelmäßig aufgezeichnet werden, sind manchmal eine Anzahl von Stunden und ein Datum im Serviceprotokoll oder Serviceaufkleber zu finden. Wenn diese Informationen nicht verfügbar sind, ist es möglich, die jährlichen Betriebsstunden anhand des Installations- oder Baujahres des Kompressors zu schätzen. Der Verbrauch kann geschätzt werden, indem die Betriebsstunden unter Last mit der unter Last aufgenommenen Leistung multipliziert werden, zuzüglich der Betriebsstunden im Leerlauf mal der in diesem Modus aufgenommenen Leistung. Die Leistungsaufnahme ist manchmal auf den Datenblättern zu finden. Andernfalls wird die unter Last bei 100% der Nennleistung und bei 25% im Leerlauf aufgenommene Leistung angenähert.\n\nWenn keine dieser Informationen verfügbar ist, kann der Jahresverbrauch sehr grob geschätzt werden, indem die Nennleistung mit 2000 Betriebsstunden multipliziert wird.","Druckluftsystem mit variabler Drehzahl: \nBei den meisten Kompressoren mit variabler Drehzahl können die Prozentsätze der Betriebszeit, die den verschiedenen Belastungsraten entsprechen, über das Display extrahiert werden. Anhand dieser Prozentsätze, der Anzahl der Betriebsstunden und der entsprechenden Leistungsaufnahme (diese Leistungen bei unterschiedlichen Lastzahlen sind beim Hersteller anzufragen oder nach den amerikanischen CAGI-Datenblättern zu ermitteln) kann der jährliche Gesamtverbrauch ermittelt werden. \nAchtung: Auch wenn die Schätzungen präziser sind als in der GA (vorläufige Analyse), handelt es sich immer noch um Schätzwerte, die auf unter Standardbedingungen gültigen Richtwerten basieren.\n\nDruckluftsystem mit fester Drehzahl: \nDie meisten Druckluftkompressoren haben Betriebsstundenzähler für Klopfen und Last. Der Unterschied ist die Leerlaufzeit. Wenn die Betriebsstunden nicht regelmäßig aufgezeichnet werden, sind manchmal eine Anzahl von Stunden und ein Datum im Serviceprotokoll oder Serviceaufkleber zu finden. Wenn diese Informationen nicht verfügbar sind, ist es möglich, die jährlichen Betriebsstunden anhand des Installations- oder Baujahres des Kompressors zu schätzen. Der Verbrauch kann geschätzt werden, indem die Betriebsstunden unter Last mit der unter Last aufgenommenen Leistung multipliziert werden, zuzüglich der Betriebsstunden im Leerlauf mal der in diesem Modus aufgenommenen Leistung. Die Leistungsaufnahme ist manchmal auf den Datenblättern zu finden. Andernfalls wird die unter Last bei 100% der Nennleistung und bei 25% im Leerlauf aufgenommene Leistung angenähert.\n\nWenn keine dieser Informationen verfügbar ist, kann der Jahresverbrauch sehr grob geschätzt werden, indem die Nennleistung mit 2000 Betriebsstunden multipliziert wird."]
["Le réduction de la pression permet des économies d'énergie significatives sans coûts. Si l'on considère que la compression se rapproche de la compression isotherme, le gain théorique peut être calculé avec la formule suivante :","Le réduction de la pression permet des économies d'énergie significatives sans coûts. Si l'on considère que la compression se rapproche de la compression isotherme, le gain théorique peut être calculé avec la formule suivante :","Die Reduzierung des Drucks ermöglicht erhebliche Energieeinsparungen ohne Kosten. Unter Berücksichtigung der Tatsache, dass die Kompression nahe an der isothermen Kompression liegt, kann der theoretische Gewinn mit der folgenden Formel berechnet werden:","Die Reduzierung des Drucks ermöglicht erhebliche Energieeinsparungen ohne Kosten. Unter Berücksichtigung der Tatsache, dass die Kompression nahe an der isothermen Kompression liegt, kann der theoretische Gewinn mit der folgenden Formel berechnet werden:"]
["Une réduction de pression de 1 bar permet une réduction de la consommation électrique d'environ 7 %. \nLe gain réel est supérieur grâce à la réduction des fuites liée à la réduction du niveau de pression et des coûts de maintenance réduits dus à la baisse des heures de fonctionnement. En générale, une pression au-dessus de 7 bar peut-être considérée comme élevée.\nLe niveau de pression peut-être réduit par petits paliers successifs afin de s'assurer de l'absence de problèmes au niveau des utilisateurs. \nAttention, suivant les machines, une pression d'air comprimé du réseau trop basse risque de les endommager ou de provoquer un arrêt de production. Vérifier les manomètre à l'entrée des machines et les modes de  fonctionnement.\n\nSi un petit nombre d'utilisateurs ont besoin d'un faible volume d'air comprimé mais à une pression élevée, ils peuvent être alimentés via un rehausseur de pression. Le reste du réseau est réglé à une pression plus basse. En pratique, beaucoup de machines ont un besoin de pression limité à 4 bar, quelques-unes à 6 bar. \n\nS'il existe des consommateurs d'air comprimé à débit élevé mais pression basse, il vaut souvent la peine d'installer un second réseau d'air comprimé avec une basse pression et les compresseurs correspondants.\n","Une réduction de pression de 1 bar permet une réduction de la consommation électrique d'environ 7 %. \nLe gain réel est supérieur grâce à la réduction des fuites liée à la réduction du niveau de pression et des coûts de maintenance réduits dus à la baisse des heures de fonctionnement. En générale, une pression au-dessus de 7 bar peut-être considérée comme élevée.\nLe niveau de pression peut-être réduit par petits paliers successifs afin de s'assurer de l'absence de problèmes au niveau des utilisateurs. \nAttention, suivant les machines, une pression d'air comprimé du réseau trop basse risque de les endommager ou de provoquer un arrêt de production. Vérifier les manomètre à l'entrée des machines et les modes de  fonctionnement.\n\nSi un petit nombre d'utilisateurs ont besoin d'un faible volume d'air comprimé mais à une pression élevée, ils peuvent être alimentés via un rehausseur de pression. Le reste du réseau est réglé à une pression plus basse. En pratique, beaucoup de machines ont un besoin de pression limité à 4 bar, quelques-unes à 6 bar. \n\nS'il existe des consommateurs d'air comprimé à débit élevé mais pression basse, il vaut souvent la peine d'installer un second réseau d'air comprimé avec une basse pression et les compresseurs correspondants.\n","Eine Druckreduzierung um 1 bar reduziert den Stromverbrauch um ca. 7%. \nDer tatsächliche Gewinn ist aufgrund der Verringerung der Leckage durch das niedrigere Druckniveau und der geringeren Wartungskosten durch die Reduzierung der Betriebsstunden größer. Im Allgemeinen kann ein Druck über 7 bar als hoch angesehen werden. \nDas Druckniveau kann in kleinen Schritten reduziert werden, um sicherzustellen, dass es keine Anwenderprobleme gibt. \nVorsicht, abhängig von den Maschinen kann ein zu niedriger Druckluftdruck im Netzwerk diese beschädigen oder einen Produktionsstopp verursachen. Überprüfen Sie die Manometer an den Maschineneingängen und die Betriebsarten.\n\nWenn eine kleine Anzahl von Anwendern ein kleines Druckluftvolumen, aber mit hohem Druck benötigt, können sie über ein Druckverstärkerventil versorgt werden. Der Rest des Netzes wird auf einen niedrigeren Druck eingestellt. In der Praxis ist bei vielen Maschinen der Druckbedarf auf 4 bar, bei einigen auf 6 bar begrenzt. \n\nGibt es Druckluftverbraucher mit hohem Volumenstrom, aber niedrigem Druck, lohnt es sich oft, ein zweites Druckluftnetz mit niedrigem Druck und den entsprechenden Kompressoren zu installieren.","Eine Druckreduzierung um 1 bar reduziert den Stromverbrauch um ca. 7%. \nDer tatsächliche Gewinn ist aufgrund der Verringerung der Leckage durch das niedrigere Druckniveau und der geringeren Wartungskosten durch die Reduzierung der Betriebsstunden größer. Im Allgemeinen kann ein Druck über 7 bar als hoch angesehen werden. \nDas Druckniveau kann in kleinen Schritten reduziert werden, um sicherzustellen, dass es keine Anwenderprobleme gibt. \nVorsicht, abhängig von den Maschinen kann ein zu niedriger Druckluftdruck im Netzwerk diese beschädigen oder einen Produktionsstopp verursachen. Überprüfen Sie die Manometer an den Maschineneingängen und die Betriebsarten.\n\nWenn eine kleine Anzahl von Anwendern ein kleines Druckluftvolumen, aber mit hohem Druck benötigt, können sie über ein Druckverstärkerventil versorgt werden. Der Rest des Netzes wird auf einen niedrigeren Druck eingestellt. In der Praxis ist bei vielen Maschinen der Druckbedarf auf 4 bar, bei einigen auf 6 bar begrenzt. \n\nGibt es Druckluftverbraucher mit hohem Volumenstrom, aber niedrigem Druck, lohnt es sich oft, ein zweites Druckluftnetz mit niedrigem Druck und den entsprechenden Kompressoren zu installieren."]
["Une fois la distribution et l'utilisation de l'air comprimé bien spécifiées et optimisées, il s'agit de vérifer si les compresseurs sont correctement dimensionnés en puissance et en pression. \nPression: Un compresseur avec une pression de consigne effective bien plus basse que la pression nominale aura une efficacité réduite. Il est difficile de calculer le gain obtenu par un compresseur correctement dimensionné en pression. Cette information est à demander au fournisseur.\nAttention, lors d'un redimensionnement, les puissances maximales futures doivent être prises en compte (à discuter avec le personnel sur place).\nDébit nominal: Si le compresseur est surdimensionné en débit, l'efficacité sera prétéritée tant pour des compresseurs fonctionnant en charge/à vide, que pour des compresseur à vitesse variable. Les gains théoriques peuvent être calculés grâce aux données techniques de la puissance du compresseur en fonction du taux de charge. En dessous de 40-50 % de taux de charge, l'efficacité d'un compresseur à vitesse variable se détériore significativement (voir figure 1). Les méthodes de calcul sont décrites sous 4.2.  ","Une fois la distribution et l'utilisation de l'air comprimé bien spécifiées et optimisées, il s'agit de vérifer si les compresseurs sont correctement dimensionnés en puissance et en pression. \nPression: Un compresseur avec une pression de consigne effective bien plus basse que la pression nominale aura une efficacité réduite. Il est difficile de calculer le gain obtenu par un compresseur correctement dimensionné en pression. Cette information est à demander au fournisseur.\nAttention, lors d'un redimensionnement, les puissances maximales futures doivent être prises en compte (à discuter avec le personnel sur place).\nDébit nominal: Si le compresseur est surdimensionné en débit, l'efficacité sera prétéritée tant pour des compresseurs fonctionnant en charge/à vide, que pour des compresseur à vitesse variable. Les gains théoriques peuvent être calculés grâce aux données techniques de la puissance du compresseur en fonction du taux de charge. En dessous de 40-50 % de taux de charge, l'efficacité d'un compresseur à vitesse variable se détériore significativement (voir figure 1). Les méthodes de calcul sont décrites sous 4.2.  ","Nachdem die Verteilung und Nutzung der Druckluft festgelegt und optimiert wurde, ist zu prüfen, ob die Kompressoren hinsichtlich Leistung und Druck richtig dimensioniert sind. \nDruck: Ein Kompressor mit einem effektiven Ansprechdruck, der viel niedriger als der Nenndruck ist, hat einen reduzierten Wirkungsgrad. Es ist schwierig, die Verstärkung zu berechnen, die durch einen Kompressor mit korrekt dimensioniertem Druck erzielt wird. Diese Informationen sollten beim Lieferanten angefordert werden. \nVorsicht: Bei der Größenanpassung müssen zukünftige maximale Kapazitäten berücksichtigt werden (mit dem Personal vor Ort zu besprechen). \nNenndurchsatz: Wenn der Kompressor in Bezug auf den Durchsatz überdimensioniert ist, wird der Wirkungsgrad sowohl für Kompressoren, die unter Last/Nichtlast arbeiten, als auch für Kompressoren mit variabler Drehzahl vorbestimmt. Theoretische Gewinne können aus den technischen Daten der Verdichterleistung in Abhängigkeit vom Lastfaktor berechnet werden. Unterhalb eines Lastverhältnisses von 40-50% verschlechtert sich der Wirkungsgrad eines Kompressors mit variabler Drehzahl erheblich (siehe Abbildung 1). Die Berechnungsmethoden werden in Abschnitt 4.2 beschrieben. ","Nachdem die Verteilung und Nutzung der Druckluft festgelegt und optimiert wurde, ist zu prüfen, ob die Kompressoren hinsichtlich Leistung und Druck richtig dimensioniert sind. \nDruck: Ein Kompressor mit einem effektiven Ansprechdruck, der viel niedriger als der Nenndruck ist, hat einen reduzierten Wirkungsgrad. Es ist schwierig, die Einsparung zu berechnen, die durch einen Kompressor mit korrekt dimensioniertem Druck erzielt wird. Diese Informationen sollten beim Lieferanten angefordert werden. \nVorsicht: Bei der Größenanpassung müssen zukünftige maximale Kapazitäten berücksichtigt werden (mit dem Personal vor Ort zu besprechen). \nNenndurchsatz: Wenn der Kompressor in Bezug auf den Durchsatz überdimensioniert ist, wird der Wirkungsgrad sowohl für Kompressoren, die unter Last/Nichtlast arbeiten, als auch für Kompressoren mit variabler Drehzahl vorbestimmt. Theoretische Gewinne können aus den technischen Daten der Verdichterleistung in Abhängigkeit vom Lastfaktor berechnet werden. Unterhalb eines Lastverhältnisses von 40-50% verschlechtert sich der Wirkungsgrad eines Kompressors mit variabler Drehzahl erheblich (siehe Abbildung 1). Die Berechnungsmethoden werden in Abschnitt 4.2 beschrieben. "]
["Méthode de calcul","Méthode de calcul","Berechnungsmethode","Berechnungsmethode"]
["La puissance de compression est dépendante de la température d'aspiration. La diminution de la masse volumique de l'air avec l'augmentation de la température engendre une augmentation de la consommation spécifique.\nMéthode de calcul:\nL'augmentation moyenne de la consommation spécifique d'un compresseur en fonction de la température est de 0.34 %/°C.\n\nOptimisations: \n- Meilleure ventilation des locaux \n- Aspiration de l'air extérieur (généralement)\nUn ventilateur peut être utile (notamment si l'arrivé d'air frais passe par une longue conduite). La propreté de l'air aspiré ne doit pas être négligée.","La puissance de compression est dépendante de la température d'aspiration. La diminution de la masse volumique de l'air avec l'augmentation de la température engendre une augmentation de la consommation spécifique.\nMéthode de calcul:\nL'augmentation moyenne de la consommation spécifique d'un compresseur en fonction de la température est de 0.34 %/°C.\n\nOptimisations: \n- Meilleure ventilation des locaux \n- Aspiration de l'air extérieur (généralement)\nUn ventilateur peut être utile (notamment si l'arrivé d'air frais passe par une longue conduite). La propreté de l'air aspiré ne doit pas être négligée.","Die Verdichtungsleistung ist abhängig von der Ansaugtemperatur. Die Abnahme der Luftdichte mit steigender Temperatur führt zu einem Anstieg des spezifischen Verbrauchs. \nBerechnungsmethode:\nDer durchschnittliche Anstieg des spezifischen Verbrauchs eines Kompressors in Abhängigkeit von der Temperatur beträgt 0,34 %/°C.\n\nOptimierungen: \n- Bessere Raumbelüftung \n- Ansaugen von Außenluft (im Allgemeinen) \nEin Ventilator kann nützlich sein (insbesondere, wenn die Frischluftzufuhr durch einen langen Kanal erfolgt). Die Sauberkeit der Ansaugluft sollte nicht vernachlässigt werden.","Die Verdichtungsleistung ist abhängig von der Saugtemperatur. Die Abnahme der Luftdichte mit steigender Temperatur führt zu einem Anstieg des spezifischen Verbrauchs. \nBerechnungsmethode:\nDer durchschnittliche Anstieg des spezifischen Verbrauchs eines Kompressors in Abhängigkeit von der Temperatur beträgt 0,34 %/°C.\n\nOptimierungen: \n- Bessere Raumbelüftung \n- Ansaugen von Außenluft (meistens) \nEin Ventilator kann nützlich sein (insbesondere, wenn die Frischluftzufuhr durch einen langen Kanal erfolgt). Die Sauberkeit der Ansaugluft sollte nicht vernachlässigt werden."]
["On recommande de remplacer à posteriori tous les systèmes de séchage par une machine frigorifique si le point de rosé requis n'est pas trop élevé (bas?) (> 3°C).\nLes économies peuvent être calculées en s'informant sur les consommations des différents sécheurs.\nPour les sécheurs à adsorption les mesures d'optimisation suivantes peuvent être envisagées:\n- Réguler la régénération sur la base de la mesure du point de rosée.\n- Ne pas surdimensionner le sécheur (notamment lorsque la régénération est réalisée par un débit fixe dimensionné pour la capacité nominale).\n- Contrôler le bon fonctionnement des vannes. \n[Hiraux2014]","On recommande de remplacer à posteriori tous les systèmes de séchage par une machine frigorifique si le point de rosé requis n'est pas trop élevé (bas?) (> 3°C).\nLes économies peuvent être calculées en s'informant sur les consommations des différents sécheurs.\nPour les sécheurs à adsorption les mesures d'optimisation suivantes peuvent être envisagées:\n- Réguler la régénération sur la base de la mesure du point de rosée.\n- Ne pas surdimensionner le sécheur (notamment lorsque la régénération est réalisée par un débit fixe dimensionné pour la capacité nominale).\n- Contrôler le bon fonctionnement des vannes. \n[Hiraux2014]","Es wird empfohlen, alle Trocknungssysteme mit einer Kältemaschine nachzurüsten, wenn der erforderliche Taupunkt nicht zu hoch (niedrig?) ist (> 3°C). \nDie Einsparungen lassen sich berechnen, indem man sich über den Verbrauch der verschiedenen Trockner informiert. \nBei Adsorptionstrocknern können folgende Optimierungsmaßnahmen in Betracht gezogen werden: \n- Regenerationssteuerung auf der Grundlage der Taupunktmessung. \n- Der Trockner darf nicht überdimensioniert werden (insbesondere wenn die Regeneration mit einer festen, für die Nennkapazität bemessenen Durchflussmenge durchgeführt wird). \n- Überprüfen Sie die korrekte Funktion der Ventile. \nHiraux2014] [Hiraux2014] [Hiraux2014]","Es wird empfohlen, alle Trocknungssysteme mit einer Kältemaschine nachzurüsten, wenn der erforderliche Taupunkt nicht zu niedrig ist (> 3°C). \nDie Einsparungen lassen sich berechnen, indem man nach dem Verbrauch der verschiedenen Trockner fragt. \nBei Adsorptionstrocknern können folgende Optimierungsmaßnahmen in Betracht gezogen werden: \n- Regenerationssteuerung auf der Grundlage der Taupunktmessung. \n- Der Trockner darf nicht überdimensioniert werden (insbesondere wenn die Regeneration mit einer festen, für die Nennkapazität bemessenen Durchflussmenge durchgeführt wird). \n- Überprüfen Sie die korrekte Funktion der Ventile. \n[Hiraux2014]"]
["Références:","Références:","Referenzen:","Referenz:",1]
["[Hiraux2014] Ellipse, Air comprimé, Michel Hiraux, 2014","[Hiraux2014] Ellipse, Air comprimé, Michel Hiraux, 2014","[Hiraux2014] Ellipse, Air comprimé, Michel Hiraux, 2014","[Hiraux2014] Ellipse, Air comprimé, Michel Hiraux, 2014"]
["Mesurage Planair","Mesurage Planair","Planair-Messung","Messung : Planair"]
["[rat] Ratgeber Druckluft für den Praxiseinsatz, ein Handbuch füe de Instandhaltung. LandesEnergieVerein Steiermark, 2006","[rat] Ratgeber Druckluft für den Praxiseinsatz, ein Handbuch füe de Instandhaltung. LandesEnergieVerein Steiermark, 2006","[rat] Ratgeber Druckluft für den Praxiseinsatz, ein Handbuch füe de Instandhaltung. LandesEnergieVerein Steiermark, 2006","[rat] Ratgeber Druckluft für den Praxiseinsatz, ein Handbuch für die Instandhaltung. LandesEnergieVerein Steiermark, 2006"]
[{"$f":"IF($B$2=\"FR\",B713,C713)","v":"Les auteurs remercie Rolf Gloor pour la relecture et les nombreux conseils qui sont intégrés dans ce texte."},"Les auteurs remercie Rolf Gloor pour la relecture et les nombreux conseils qui sont intégrés dans ce texte.","Die Autoren danken Rolf Gloor für das Korrekturlesen und die vielen Tipps, die in diesen Text integriert sind.","Die Autoren danken Rolf Gloor für das Korrekturlesen und die vielen Tipps, die in diesen Text integriert sind."]
["Quel est le mode de régulation des compresseurs ?\nAfin de déterminer de manière précise le fonctionnement des compresseurs, des mesurages de la puissance électrique (relevés minutes) seront réalisées. \n\nLes différents modes de régulation possibles sont les suivants :\n\nPOUR COMPRESSEURS À PISTONS\n- déconnexion des cylindres : les compresseurs ouverts possédant un nombre élevé de cylindres offrent la possibilité d’une mise hors circuit ou déconnexion de cylindre pour une régulation par degrés de la puissance. La puissance frigorifique obtenue en charge partielle dépend du nombre de cylindres en service par rapport au nombre de cylindres déconnectés.\n\nPOUR COMPRESSEURS À VIS\n- par tiroir : le principe consiste à limiter la course de la vis (pour les compresseurs à vis), en déplacant un \"tiroir\", on modifie la section d'entrée du volume aspiré et donc on module le débit\n\nPOUR TOUT TYPE DE COMPRESSEUR\n- tout ou rien : régulation ancienne et basique qui consiste à la mise en marche ou à l'arrêt des compresseurs\n- en cascade : le principe consiste à découper la tâche par palier, la régulation s’effectue par la mise en parallèle successive des compresseurs (cascade)\n- par  variation de vitesse : la vitesse du compresseur est adaptée en fonction de la demande, modifiant son volume aspiré et donc sa puissance\nLa mise en place d'un système de variation de vitesse apparait comme la méthode la plus adaptée. \n\nL'économie sur la consommation par la mise en place de variateur de vitesse est estimée à :\n- 8% pour une régulation tout ou rien\n- 5% pour une régulation en cascade\n- 2% pour une régulation par tiroir \n- 2% pour une régulation par déconnexion des cylindres ","Quel est le mode de régulation des compresseurs ?\nAfin de déterminer de manière précise le fonctionnement des compresseurs, des mesurages de la puissance électrique (relevés minutes) seront réalisées. \n\nLes différents modes de régulation possibles sont les suivants :\n\nPOUR COMPRESSEURS À PISTONS\n- déconnexion des cylindres : les compresseurs ouverts possédant un nombre élevé de cylindres offrent la possibilité d’une mise hors circuit ou déconnexion de cylindre pour une régulation par degrés de la puissance. La puissance frigorifique obtenue en charge partielle dépend du nombre de cylindres en service par rapport au nombre de cylindres déconnectés.\n\nPOUR COMPRESSEURS À VIS\n- par tiroir : le principe consiste à limiter la course de la vis (pour les compresseurs à vis), en déplacant un \"tiroir\", on modifie la section d'entrée du volume aspiré et donc on module le débit\n\nPOUR TOUT TYPE DE COMPRESSEUR\n- tout ou rien : régulation ancienne et basique qui consiste à la mise en marche ou à l'arrêt des compresseurs\n- en cascade : le principe consiste à découper la tâche par palier, la régulation s’effectue par la mise en parallèle successive des compresseurs (cascade)\n- par  variation de vitesse : la vitesse du compresseur est adaptée en fonction de la demande, modifiant son volume aspiré et donc sa puissance\nLa mise en place d'un système de variation de vitesse apparait comme la méthode la plus adaptée. \n\nL'économie sur la consommation par la mise en place de variateur de vitesse est estimée à :\n- 8% pour une régulation tout ou rien\n- 5% pour une régulation en cascade\n- 2% pour une régulation par tiroir \n- 2% pour une régulation par déconnexion des cylindres ","Wie werden die Kompressoren geregelt? \nUm den Betrieb der Kompressoren genau zu bestimmen, werden elektrische Leistungsmessungen (Minutenmessungen) durchgeführt. \n\nDie verschiedenen möglichen Steuerungsmodi sind wie folgt:\n\nFÜR KOLBENKOMPRESSOREN \n- Zylinderabschaltung: Offene Kompressoren mit einer hohen Anzahl von Zylindern bieten die Möglichkeit der Zylinderabschaltung oder Zylindertrennung zur stufenweisen Leistungsregelung. Die bei Teillast erzielte Kälteleistung hängt von der Anzahl der in Betrieb befindlichen Zylinder im Vergleich zur Anzahl der abgekoppelten Zylinder ab.\n\nFÜR SCHRAUBENKOMPRESSOREN \n- mit Schieber: Das Prinzip besteht darin, den Hub der Schraube zu begrenzen (bei Schraubenkompressoren), durch die Bewegung eines \"Schiebers\" wird der Eintrittsquerschnitt des angesaugten Volumens verändert und somit der Durchsatz moduliert.\n\nFÜR ALLE KOMPRESSORTYPEN \n- alles oder nichts: alte und grundlegende Regelung, die darin besteht, die Kompressoren zu starten oder zu stoppen \n- in Kaskade: das Prinzip besteht in der Aufteilung der Aufgabe in Stufen, die Regelung erfolgt durch sukzessive Parallelisierung der Kompressoren (Kaskade) \n- durch Drehzahlvariation: die Drehzahl des Kompressors wird je nach Bedarf angepasst, wodurch sein Ansaugvolumen und damit seine Leistung verändert wird \nDie Installation eines Systems zur Drehzahlvariation scheint die am besten geeignete Methode zu sein. \n\nDie Verbrauchseinsparungen durch den Einbau eines drehzahlvariablen Antriebs werden geschätzt auf:\n- 8% bei einer Auf-Zu-Regelung, \n- 5% bei einer Kaskadenregelung,\n- 2% bei einer Schieberregelung,\n- 2% bei einer Regelung durch Abschaltung der Zylinder. ","Wie werden die Kompressoren geregelt? \nUm den Betrieb der Kompressoren genau zu bestimmen, werden elektrische Leistungsmessungen (Minutenmessungen) durchgeführt. \n\nDie verschiedenen Regelmodi sind wie folgt: \nfür Kolbenkompressoren \n- Zylinderabschaltung: offene Kompressoren mit einer hohen Anzahl von Zylindern bieten die Möglichkeit der Zylinderabschaltung oder Zylinderabschaltung zur stufenweisen Leistungsregelung. Die bei Teillast erzielte Kälteleistung hängt von der Anzahl der in Betrieb befindlichen Zylinder im Vergleich zur Anzahl der abgekoppelten Zylinder ab. \nfür Schraubenkompressoren \n- durch Schieber: Das Prinzip besteht darin, den Hub der Schraube (bei Schraubenkompressoren) zu begrenzen; durch die Bewegung eines \"Schiebers\" wird der Ansaugquerschnitt des angesaugten Volumens verändert und somit die Durchflussmenge moduliert.\nfür jeden Kompressortyp \n- ein/aus: alte und grundlegende Regelung, die darin besteht, die Kompressoren zu starten oder zu stoppen .\n- in Kaskade : das Prinzip besteht in der Aufteilung der Aufgabe in Stufen, die Regelung erfolgt durch die sukzessive Parallelschaltung der Verdichter (Kaskade).\n- durch Drehzahlvariation: die Drehzahl des Verdichters wird je nach Bedarf angepasst, wodurch sein Ansaugvolumen und damit seine Leistung verändert wird.\nDie Implementierung eines Systems zur Drehzahlvariation scheint die geeignetste Methode zu sein.\n\nDie Verbrauchseinsparungen durch den Einbau eines drehzahlvariablen Antriebs werden geschätzt auf:\n- 8% bei einer Auf-Zu-Regelung,\n- 5% bei einer Kaskadenregelung,\n- 2% bei einer Schieberregelung,\n- 2% bei einer Regelung durch Abschaltung der Zylinder. "]
["- Vérifier le bon dimensionnement de la pompe et ses paramètres de fonctionnement. A noter que si une régulation de la pompe est prévue sur le primaire, il sera impératif de réguler le circuit secondaire. Les réglages doivent être définis en corrélation avec les points de consigne.\n\n- Vérifier que le débit secondaire soit inférieur au débit primaire. Si cela n'est pas le cas, il existe probablement un phénomène de mélange entre l'aller et le retour, qui a pour conséquence une augmentation de la température de départ. Le débit du réseau secondaire doit être diminué.\n\n- Si le besoin en froid est variable, la mise en place de variateurs de vitesse sur les pompes est préconisée. De cette manière, les pompes sont modulées en fonction du besoin, ce qui diminue le débit du fluide et par conséquent la puissance électrique absorbée par les pompes.\n\n- Analyser les vannes au niveau des émetteurs de froid. Dans le cas de variation de vitesse, les vannes 3 voies devront être remplacées par des vannes 2 voies qui permettent d’adapter le débit en fonction de la demande.","- Vérifier le bon dimensionnement de la pompe et ses paramètres de fonctionnement. A noter que si une régulation de la pompe est prévue sur le primaire, il sera impératif de réguler le circuit secondaire. Les réglages doivent être définis en corrélation avec les points de consigne.\n\n- Vérifier que le débit secondaire soit inférieur au débit primaire. Si cela n'est pas le cas, il existe probablement un phénomène de mélange entre l'aller et le retour, qui a pour conséquence une augmentation de la température de départ. Le débit du réseau secondaire doit être diminué.\n\n- Si le besoin en froid est variable, la mise en place de variateurs de vitesse sur les pompes est préconisée. De cette manière, les pompes sont modulées en fonction du besoin, ce qui diminue le débit du fluide et par conséquent la puissance électrique absorbée par les pompes.\n\n- Analyser les vannes au niveau des émetteurs de froid. Dans le cas de variation de vitesse, les vannes 3 voies devront être remplacées par des vannes 2 voies qui permettent d’adapter le débit en fonction de la demande.","- Überprüfen Sie die korrekte Dimensionierung der Pumpe und ihre Betriebsparameter. Beachten Sie, dass, wenn die Pumpe auf der Primärseite geregelt werden soll, der Sekundärkreislauf unbedingt geregelt werden muss. Die Einstellungen müssen in Korrelation mit den Sollwerten definiert werden.\n\n- Prüfen Sie, ob die sekundäre Flussrate niedriger ist als die primäre Flussrate. Ist dies nicht der Fall, liegt wahrscheinlich ein Vermischungsphänomen zwischen Vor- und Rücklauf vor, das zu einer Erhöhung der Vorlauftemperatur führt. Die Durchflussrate des Sekundärsystems muss reduziert werden.\n\n- Wenn der Kühlbedarf variabel ist, wird die Installation von drehzahlvariablen Antrieben an den Pumpen empfohlen. Auf diese Weise werden die Pumpen bedarfsgerecht moduliert, was die Durchflussmenge der Flüssigkeit und damit die von den Pumpen aufgenommene elektrische Leistung reduziert.\n\n- Analysieren Sie die Ventile an den kalten Emittern. Bei Geschwindigkeitsänderungen sollten die 3-Wege-Ventile durch 2-Wege-Ventile ersetzt werden, die eine Anpassung der Durchflussmenge an den Bedarf ermöglichen."," - Überprüfen Sie die korrekte Dimensionierung der Pumpe und ihre Betriebsparameter. Beachten Sie, dass, wenn die Pumpe auf dem Primärnetz geregelt werden soll, der Sekundärkreislauf unbedingt geregelt werden muss. Die Einstellungen müssen in Korrelation mit den Sollwerten definiert werden.\n\n- Prüfen Sie, dass die sekundäre Flussrate niedriger ist als die primäre Flussrate. Ist dies nicht der Fall, liegt wahrscheinlich ein Vermischungsphänomen zwischen Vor- und Rücklauf vor, das zu einer Erhöhung der Vorlauftemperatur führt. Die Durchflussrate des Sekundärsystems muss reduziert werden.\n\n- Wenn der Kühlbedarf variabel ist, wird die Installation von drehzahlvariablen Antrieben an den Pumpen empfohlen. Auf diese Weise werden die Pumpen bedarfsgerecht moduliert, was die Durchflussmenge der Flüssigkeit und damit die von den Pumpen aufgenommene elektrische Leistung reduziert.\n\n- Analysieren Sie die Ventile an den kalten Emittern. Bei Drehzahlschwankungen sollten die 3-Wege-Ventile durch 2-Wege-Ventile ersetzt werden, die eine Anpassung der Durchflussmenge an den Bedarf ermöglichen."]
["Conduite des mesurages","Conduite des mesurages","Durchführen von Messungen","Durchführen von Messungen",1]
["Débit pompe","Débit pompe","Durchflussrate der Pumpe","Durchflussrate der Pumpe"]
["Débit ventilateur","Débit ventilateur","Lüftergeschwindigkeit","Durchflussrate des Ventilators"]
["Puissance électrique","Puissance électrique","Elektrische Leistung","Elektrische Leistung"]
["Calcul des économies","Calcul des économies","Berechnung der Einsparungen","Berechnung der Einsparungen"]
["Masse volumique","Masse volumique","Dichte","Dichte"]
["Chaleur spécifique","Chaleur spécifique","Spezifische Wärme","Spezifische Wärme"]
["Jour","Jour","Tag","Tag"]
["Date","Date","Datum","Datum"]
["Heure","Heure","Zeit","Uhrzeit"]
["Température aller (°C)","Température aller (°C)","Vorlauftemperatur (°C)","Vorlauftemperatur (°C)"]
["Température retour (°C)","Température retour (°C)","Rücklauftemperatur (°C)","Rücklauftemperatur (°C)"]
["Débit (m3/h)","Débit (m3/h)","Durchflussmenge (m3/h)","Durchflussmenge (m3/h)"]
["Puissance frigorifique (kWf)","Puissance frigorifique (kWf)","Kühlleistung (kWf)","Kühlleistung (kWf)"]
["Période","Période","Zeitraum","Zeitraum"]
["EER théorique","EER théorique","theoretische ERA","theoretisches EER"]
["SEPR théorique","SEPR théorique","theoretischer SEPR","theoretischer SEPR"]
["Besoin en froid","Besoin en froid","Kältebedarf","Bedarf an Kälte"]
["Consommation électrique","Consommation électrique","Leistungsaufnahme","Leistungsaufnahme"]
["Total","Total","Gesamt","Summe"]
["Heures","Heures","Stunden","Stunden"]
["Note : Les calculs présentés dans cette fiche se basent sur les données météorologiques de la ville de Neuchâtel. Pour les sites avec des températures plus basses, l'économie d'énergie sera plus importante, et inversement pour les sites avec des températures plus élevées. ","Note : Les calculs présentés dans cette fiche se basent sur les données météorologiques de la ville de Neuchâtel. Pour les sites avec des températures plus basses, l'économie d'énergie sera plus importante, et inversement pour les sites avec des températures plus élevées. ","Anmerkung: Die in diesem Blatt vorgestellten Berechnungen basieren auf meteorologischen Daten der Stadt Neuenburg. An Standorten mit niedrigeren Temperaturen werden die Energieeinsparungen größer sein, und umgekehrt an Standorten mit höheren Temperaturen. ","Anmerkung: Die in diesem Blatt vorgestellten Berechnungen basieren auf meteorologischen Daten der Stadt Neuenburg. An Standorten mit niedrigeren Temperaturen werden die Energieeinsparungen größer sein, und umgekehrt an Standorten mit höheren Temperaturen. "]
["oui","oui","ja","ja",1]
["non","non","nein","nein",1]
["Les calculs présentés dans cette fiche se basent sur l'hypothèse d'une température de sortie d'eau à 45°C sur la récupération de chaleur (température de condensation) , permettant de satisfaire les besoins en chauffage. \n\nSi l'exploitant nécessite de plus hautes températures pour le chauffage (par exemple 60°C) , deux solutions sont possibles :\n- la température de condensation ne doit pas être relevée, 15% de la puissance de condensation peut être récupéré au niveau de la désurchauffe à une température de 60°C\n- la température de condensation doit être relevée pour valoriser la chaleur évacuée. Il en résulte une consommation d'énergie supplémentaire de 2.5% par degré d'élévation de température. Dans ce cas la chaleur rejetée n'est pas gratuite, la commande devra être configurée de manière à augmenter la température de condensation uniquement pendant la durée d'utilisation de la chaleur rejetée. ","Les calculs présentés dans cette fiche se basent sur l'hypothèse d'une température de sortie d'eau à 45°C sur la récupération de chaleur (température de condensation) , permettant de satisfaire les besoins en chauffage. \n\nSi l'exploitant nécessite de plus hautes températures pour le chauffage (par exemple 60°C) , deux solutions sont possibles :\n- la température de condensation ne doit pas être relevée, 15% de la puissance de condensation peut être récupéré au niveau de la désurchauffe à une température de 60°C\n- la température de condensation doit être relevée pour valoriser la chaleur évacuée. Il en résulte une consommation d'énergie supplémentaire de 2.5% par degré d'élévation de température. Dans ce cas la chaleur rejetée n'est pas gratuite, la commande devra être configurée de manière à augmenter la température de condensation uniquement pendant la durée d'utilisation de la chaleur rejetée. ","Die in diesem Datenblatt vorgestellten Berechnungen basieren auf der Annahme einer Wasseraustrittstemperatur von 45°C bei Wärmerückgewinnung (Kondensationstemperatur), wodurch der Heizbedarf gedeckt werden kann. \n\nBenötigt der Betreiber höhere Temperaturen zum Heizen (z.B. 60°C), so sind zwei Lösungen möglich:\n- die Kondensationstemperatur muss nicht angehoben werden, 15% der Kondensationsleistung kann bei einer Temperatur von 60°C aus dem Enthitzer zurückgewonnen werden. \n- die Kondensationstemperatur muss erhöht werden, um die Abwärme zu nutzen. Daraus ergibt sich ein zusätzlicher Energieverbrauch von 2,5% pro Grad Temperaturerhöhung. In diesem Fall ist die Abwärme nicht kostenlos, die Steuerung sollte so konfiguriert werden, dass die Kondensationstemperatur nur während der Zeit erhöht wird, in der die Abwärme genutzt wird. ","Die in diesem Datenblatt vorgestellten Berechnungen basieren auf der Annahme einer Wasseraustrittstemperatur von 45°C bei Wärmerückgewinnung (Kondensationstemperatur), wodurch der Heizbedarf gedeckt werden kann. \n\nBenötigt der Betreiber höhere Temperaturen zum Heizen (z.B. 60°C), so sind zwei Lösungen möglich: \n- die Kondensationstemperatur muss nicht angehoben werden, 15% der Kondensationsleistung kann bei einer Temperatur von 60°C aus dem Enthitzer zurückgewonnen werden. \n- die Kondensationstemperatur muss erhöht werden, um die Abwärme zu nutzen. Daraus ergibt sich ein zusätzlicher Energieverbrauch von 2,5% pro Grad Temperaturerhöhung. In diesem Fall ist die Abwärme nicht kostenlos. Die Steuerung sollte so konfiguriert werden, dass die Kondensationstemperatur nur während der Zeit erhöht wird, in der die Abwärme genutzt wird. "]
["Système","Système","System","System"]
["Free cooling","Free cooling","Free cooling","Freecooling"]
["Récupération de chaleur","Récupération de chaleur","Wärmerückgewinnung","Wärmerückgewinnung"]
["1. Temps de retour brut (TRB)","1. Temps de retour brut (TRB)","1. Bruttorücklaufzeit (TBR)","1. Brutto-Rücklaufzeit (BRZ)",1]
["Temps nécessaire à rentabiliser financièrement la mesure d’optimisation énergétique en considérant que cette dernière supporte le 100% du coût de l’investissement. ","Temps nécessaire à rentabiliser financièrement la mesure d’optimisation énergétique en considérant que cette dernière supporte le 100% du coût de l’investissement. ","Zeit, die benötigt wird, um die Energieoptimierungsmaßnahme finanziell rentabel zu machen, wenn man bedenkt, dass letztere 100% der Investitionskosten trägt. ","Zeit, die benötigt wird, um die Energieoptimierungsmaßnahme finanziell rentabel zu machen, wenn man bedenkt, dass letztere 100% der Investitionskosten trägt. "]
["Le TRB est souvent utilisé dans des programmes de soutien (comme par exemple Prokilowatt) pour calculer le droit aux subventions. Il permet un calcul simple et rapide de la rentabilité du projet, mais ne tient pas compte de l’évolution de la valeur monétaire ni de la durée de vie du projet.","Le TRB est souvent utilisé dans des programmes de soutien (comme par exemple Prokilowatt) pour calculer le droit aux subventions. Il permet un calcul simple et rapide de la rentabilité du projet, mais ne tient pas compte de l’évolution de la valeur monétaire ni de la durée de vie du projet.","Der TBR wird häufig in Förderprogrammen (wie z.B. Prokilowatt) zur Berechnung von Zuschussansprüchen verwendet. Sie ermöglicht eine einfache und schnelle Berechnung der Rentabilität des Projekts, berücksichtigt jedoch keine Änderungen des Geldwerts oder der Lebensdauer des Projekts.","Die BRZ wird häufig in Förderprogrammen (wie z.B. Prokilowatt) zur Berechnung von Zuschussansprüchen verwendet. Sie ermöglicht eine einfache und schnelle Berechnung der Rentabilität des Projekts, berücksichtigt jedoch keine Änderungen des Geldwerts oder der Lebensdauer des Projekts."]
["2. Temps de retour net (TRN)","2. Temps de retour net (TRN)","2. Netto-Rücklaufzeit (TRN)","2. Netto-Rücklaufzeit (NRZ)",1]
["Temps nécessaire à rentabiliser financièrement la mesure d’optimisation énergétique en considérant qu’elle supporte uniquement la partie du coût de l’investissement liée à l’économie d’énergie. ","Temps nécessaire à rentabiliser financièrement la mesure d’optimisation énergétique en considérant qu’elle supporte uniquement la partie du coût de l’investissement liée à l’économie d’énergie. ","Die Zeit, die benötigt wird, um die Energieoptimierungsmaßnahme finanziell rentabel zu machen, indem man bedenkt, dass sie nur den Teil der Investitionskosten trägt, der sich auf die Energieeinsparung bezieht. ","Die Zeit, die benötigt wird, um die Energieoptimierungsmaßnahme finanziell rentabel zu machen, indem man bedenkt, dass sie nur den Teil der Investitionskosten trägt, der sich auf die Energieeinsparung bezieht. "]
["La part des coûts liée à l’énergie sert à évaluer quelle part des coûts de l'investissement a été dépensée pour économiser de l'énergie. Elle peut varier entre 0% si l'investissement est réalisé uniquement à des fins de remplacement et 100% si la totalité de l'investissement est destinée à l'amélioration énergétique. Elle se calcule comme suit:","La part des coûts liée à l’énergie sert à évaluer quelle part des coûts de l'investissement a été dépensée pour économiser de l'énergie. Elle peut varier entre 0% si l'investissement est réalisé uniquement à des fins de remplacement et 100% si la totalité de l'investissement est destinée à l'amélioration énergétique. Elle se calcule comme suit:","Der energiebezogene Kostenanteil wird verwendet, um zu beurteilen, wie viel der Investitionskosten für Energieeinsparungen ausgegeben wurden. Sie kann zwischen 0%, wenn die Investition nur für Ersatzzwecke getätigt wird, liegen  und 100%, wenn die gesamte Investition der Energieverbesserung dient. Sie wird wie folgt berechnet:","Der energiebezogene Kostenanteil wird verwendet, um zu beurteilen, wie viel der Investitionskosten für Energieeinsparungen ausgegeben wurden. Sie kann zwischen 0% liegen, wenn die Investition nur für Ersatzzwecke getätigt wird, und 100%, wenn die gesamte Investition der Energieverbesserung dient. Sie wird wie folgt berechnet:"]
["- Remplacement d'une installation ou équipement avec pour but principal l'amélioration de l'efficacité énergétique :","- Remplacement d'une installation ou équipement avec pour but principal l'amélioration de l'efficacité énergétique :","- Ersatz einer Einrichtung oder Ausrüstung mit dem primären Zweck der Verbesserung der Energieeffizienz :","- Ersatz einer Einrichtung oder Ausrüstung mit dem primären Zweck der Verbesserung der Energieeffizienz :"]
["- Nouvelle installation ou équipement avec l’amélioration énergétique comme but partiel :","- Nouvelle installation ou équipement avec l’amélioration énergétique comme but partiel :","- Neue Anlagen oder Geräte mit Energieverbesserung als Teilziel:","- Neue Anlagen oder Geräte mit Energieverbesserung als Teilziel:"]
["3. Valeur actualisée nette (VAN)","3. Valeur actualisée nette (VAN)","3. Netto-Gegenwartswert (NPV)","3. Netto-Gegenwartswert (NGW)",1]
["Sert à évaluer la création de valeur liée à un investissement initial après une certaine période de temps en tenant compte du taux d’actualisation.","Sert à évaluer la création de valeur liée à un investissement initial après une certaine période de temps en tenant compte du taux d’actualisation.","Wird verwendet, um die Wertschöpfung im Zusammenhang mit einer Erstinvestition nach einer bestimmten Zeitspanne unter Berücksichtigung des Diskontsatzes zu bewerten.","Wird verwendet, um die Wertschöpfung im Zusammenhang mit einer Erstinvestition nach einer bestimmten Zeitspanne unter Berücksichtigung des Diskontsatzes zu bewerten."]
["I0 est l’investissement réalisé au moment initial (t=0)","I0 est l’investissement réalisé au moment initial (t=0)","I0 ist die zum Anfangszeitpunkt getätigte Investition (t=0)","I0 ist die zum Anfangszeitpunkt getätigte Investition (t=0)"]
["Ft est le flux économique (recettes – dépenses) lié à la mesure d’optimisation pour la période t","Ft est le flux économique (recettes – dépenses) lié à la mesure d’optimisation pour la période t","Ft ist der wirtschaftliche Fluss (Einnahmen - Ausgaben) im Zusammenhang mit der Optimierungsmaßnahme für den Zeitraum t","Ft ist der wirtschaftliche Fluss (Einnahmen - Ausgaben) im Zusammenhang mit der Optimierungsmaßnahme für den Zeitraum t"]
["n est le nombre de périodes de temps (durée d’effet de la mesure d’optimisation)","n est le nombre de périodes de temps (durée d’effet de la mesure d’optimisation)","n ist die Anzahl der Zeiträume (Wirkungsdauer der Optimierungsmaßnahme)","n ist die Anzahl der Zeiträume (Wirkungsdauer der Optimierungsmaßnahme)"]
["k est le taux d’actualisation et correspond au taux de rentabilité souhaité par l’entreprise","k est le taux d’actualisation et correspond au taux de rentabilité souhaité par l’entreprise","k ist der Diskontsatz und entspricht der vom Unternehmen gewünschten Rendite","k ist der Diskontsatz und entspricht der vom Unternehmen gewünschten Rendite"]
["La VAN est calculée au moment de l’investissement initial. L’investissement est rentable lorsque la VAN est positive. Cet indicateur permet aussi de déterminer le projet qui permet de créer plus de valeur pour une même durée de vie du projet.","La VAN est calculée au moment de l’investissement initial. L’investissement est rentable lorsque la VAN est positive. Cet indicateur permet aussi de déterminer le projet qui permet de créer plus de valeur pour une même durée de vie du projet.","Der Nettogegenwartswert wird zum Zeitpunkt der Erstinvestition berechnet. Die Investition ist rentabel, wenn der Nettogegenwartswert positiv ist. Dieser Indikator wird auch verwendet, um zu bestimmen, welches Projekt während der gleichen Projektlaufzeit mehr Wert schafft.","Der Nettogegenwartswert wird zum Zeitpunkt der Erstinvestition berechnet. Die Investition ist rentabel, wenn der Nettogegenwartswert positiv ist. Dieser Indikator wird auch verwendet, um zu bestimmen, welches Projekt während der gleichen Projektlaufzeit mehr Wert schafft."]
["4. Taux de rentabilité interne (TRI)","4. Taux de rentabilité interne (TRI)","4. Interner Zinsfuss (IRR)","4. Interner Zinsfuß (IRR)",1]
["Taux d’actualisation qui annule la VAN, c’est-à-dire le seuil nécessaire pour que l’investissement soit rentable. ","Taux d’actualisation qui annule la VAN, c’est-à-dire le seuil nécessaire pour que l’investissement soit rentable. ","Diskontsatz, der den Kapitalwert, d.h. den für die Rentabilität der Investition erforderlichen Schwellenwert, aufhebt. ","Diskontsatz, der den Kapitalwert, d.h. den für die Rentabilität der Investition erforderlichen Schwellenwert, aufhebt. "]
["5. Taux d'enrichissement en capital (TEC)","5. Taux d'enrichissement en capital (TEC)","5. Kapitalanreicherungsrate (TEC)","5. Kapitalanreicherungsrate (CET)"]
["Indicateur du profit (valeur crée) par unité de capital investi. ","Indicateur du profit (valeur crée) par unité de capital investi. ","Indikator für den Gewinn (Wertschöpfung) pro Einheit des investierten Kapitals. ","Indikator für den Gewinn (Wertschöpfung) pro Einheit des investierten Kapitals. "]
["Le TEC permet de réaliser des analyses économiques préalables des projets d’investissement de façon fiable et rapide. Il est un indicateur très répandu dans le secteur des énergies.","Le TEC permet de réaliser des analyses économiques préalables des projets d’investissement de façon fiable et rapide. Il est un indicateur très répandu dans le secteur des énergies.","Der TEC ermöglicht es, vorherige wirtschaftliche Analysen von Investitionsprojekten zuverlässig und schnell durchzuführen. Er ist ein weit verbreiteter Indikator im Energiesektor.","Die Kapitalanreicherungsrate ermöglicht es, vorherige wirtschaftliche Analysen von Investitionsprojekten zuverlässig und schnell durchzuführen. Er ist ein weit verbreiteter Indikator im Energiesektor."]
["Plusieurs paramètres vont influencer la durée de vie effective d'une installation: le nombre d'heures de fonctionnement par an, la taille, les conditions d'exploitation (milieu agressif).\nPour un moteur et une pompe sans problème d'usure particulière, on peut qualifier \"d'âgé\" un équipement qui est dans la zone \"âgé\" de la figure de la fiche \"Plus de détail 1\", voir le lien dans la partie 3 ci-dessous. \n\nAttention, le fait de se trouver dans la zone \"âgé\" ne signifie pas que l'équipement a dépassé sa durée de vie \"normale\" mais que l'âge est un argument pour s'intéresser aux potentiels d'économie.\n\nAu niveau des gains possibles, des installations anciennes présentent souvent des potentiels plus importants. De plus, des investissements en vue de les optimiser sont plus faciles à justifier.","Plusieurs paramètres vont influencer la durée de vie effective d'une installation: le nombre d'heures de fonctionnement par an, la taille, les conditions d'exploitation (milieu agressif).\nPour un moteur et une pompe sans problème d'usure particulière, on peut qualifier \"d'âgé\" un équipement qui est dans la zone \"âgé\" de la figure de la fiche \"Plus de détail 1\", voir le lien dans la partie 3 ci-dessous. \n\nAttention, le fait de se trouver dans la zone \"âgé\" ne signifie pas que l'équipement a dépassé sa durée de vie \"normale\" mais que l'âge est un argument pour s'intéresser aux potentiels d'économie.\n\nAu niveau des gains possibles, des installations anciennes présentent souvent des potentiels plus importants. De plus, des investissements en vue de les optimiser sont plus faciles à justifier.","Mehrere Parameter beeinflussen die effektive Lebensdauer einer Anlage: die Anzahl der Betriebsstunden pro Jahr, die Größe, die Betriebsbedingungen (aggressive Umgebung). \nFür einen Motor und eine Pumpe ohne besonderes Verschleissproblem kann ein Gerät als \"alt\" qualifiziert werden, wenn es in der \"alten\" Zone der Abbildung des Blattes \"Mehr Detail 1\" liegt, siehe den Link in Teil 3 unten. \n\nBitte beachten Sie, dass in der \"alten\" Zone zu sein nicht bedeutet, dass das Gerät seine \"normale\" Lebensdauer überschritten hat, sondern dass das Alter ein Argument ist, sich für die möglichen Einsparungen zu interessieren.\n\nWas das Einsparpotenzial angeht, haben ältere Anlagen oft ein größeres Potenzial. Außerdem sind Investitionen zur Optimierung leichter zu rechtfertigen.","Mehrere Parameter beeinflussen die effektive Lebensdauer einer Anlage: die Anzahl der Betriebsstunden pro Jahr, die Größe, die Betriebsbedingungen (aggressive Umgebung).\nFür einen Motor und eine Pumpe ohne besonderes Verschleißproblem kann man ein Gerät als \"alt\" bezeichnen, das sich in der Zone \"alt\" der Abbildung im Blatt \"Weitere Details 1\" befindet, siehe den Link in Teil 3 unten. \nBitte beachten Sie, dass ein Gerät in der Zone \"alt\" seine \"normale\" Lebensdauer nicht unbedingt überschritten hat, aber sein Alter ist ein Argument dafür, sich für das Einsparpotenzial zu interessieren.\nWas das Einsparpotenzial angeht, haben ältere Anlagen oft ein größeres Potenzial. Außerdem sind Investitionen zur Optimierung leichter zu rechtfertigen."]
["Lorsque le système est complexe, il faut comprendre le comportement et la nature des consommateurs. Si les besoins des consommateurs varient de façon concomitante, les analyses et les optimisations sont plus simples.","Lorsque le système est complexe, il faut comprendre le comportement et la nature des consommateurs. Si les besoins des consommateurs varient de façon concomitante, les analyses et les optimisations sont plus simples.","Wenn das System komplex ist, besteht die Notwendigkeit, das Verhalten und die Natur der Verbraucher zu verstehen. Wenn die Bedürfnisse der Verbraucher gleichzeitig variieren, sind Analysen und Optimierungen einfacher.","Bitte beachten Sie, dass ein \"gealterter\" Zustand nicht bedeutet, dass das Gerät seine \"normale\" Lebensdauer überschritten hat, sondern dass das Alter ein Argument dafür ist, sich für das Einsparpotenzial zu interessieren."]
["Il s’agit d’éviter qu’une vision trop restreinte conduise à des mesures contre-productives à un niveau plus élevé. L’idée est également de déterminer le bon périmètre d’analyse.","Il s’agit d’éviter qu’une vision trop restreinte conduise à des mesures contre-productives à un niveau plus élevé. L’idée est également de déterminer le bon périmètre d’analyse.","Damit soll verhindert werden, dass eine zu enge Sichtweise zu kontraproduktiven Maßnahmen auf höherer Ebene führt. Es geht auch darum, den richtigen Umfang der Analyse zu bestimmen.","Was das Einsparpotenzial angeht, haben ältere Anlagen oft ein größeres Potenzial. Außerdem sind Investitionen zur Optimierung leichter zu rechtfertigen.\""]
["L’économie la plus simple et la moins onéreuse consiste à assurer le besoin réel et pas plus (donc pas forcément le besoin actuel). Par exemple, il arrive souvent que des modifications dans les besoins (à la baisse) n’aient jamais été intégrées. ","L’économie la plus simple et la moins onéreuse consiste à assurer le besoin réel et pas plus (donc pas forcément le besoin actuel). Par exemple, il arrive souvent que des modifications dans les besoins (à la baisse) n’aient jamais été intégrées. ","Die einfachste und billigste Einsparung besteht darin, den tatsächlichen Bedarf und nicht mehr (also nicht notwendigerweise den aktuellen Bedarf) sicherzustellen. So kommt es zum Beispiel häufig vor, dass (nach unten gerichtete) Veränderungen des Bedarfs nie integriert wurden. "]
["Une gestion non optimale des variations de débit est une source de forte surconsommation  L'information sur le caractère variable ou non du besoin est donc importante. ","Une gestion non optimale des variations de débit est une source de forte surconsommation  L'information sur le caractère variable ou non du besoin est donc importante. ","Ein nicht optimales Management von Flussschwankungen ist eine Quelle starken Überverbrauchs. Informationen darüber, ob der Bedarf variabel ist oder nicht, sind daher wichtig. "]
["La gestion actuelle des variations est un point clé. Si celle-ci est assurée par étranglement ou par by-pass, l’introduction d’un variateur apportera probablement des économies élevées.","La gestion actuelle des variations est un point clé. Si celle-ci est assurée par étranglement ou par by-pass, l’introduction d’un variateur apportera probablement des économies élevées.","Ein zentraler Punkt ist das derzeitige Variationsmanagement. Wenn dies durch Drosselung oder Bypass geschieht, dürfte die Einführung eines Antriebs hohe Einsparungen bringen.","Übersetzt mit www.DeepL.com/Translator (kostenlose Version)"]
["La connaissance du profil de débit sur une période représentative est fondamentale. Plus les périodes à petits débits sont longues, plus les économies associées à des mesures d’optimisation (introduction d’un CF) seront importantes.","La connaissance du profil de débit sur une période représentative est fondamentale. Plus les périodes à petits débits sont longues, plus les économies associées à des mesures d’optimisation (introduction d’un CF) seront importantes.","Die Kenntnis des Flussprofils über einen repräsentativen Zeitraum ist von grundlegender Bedeutung. Je länger die Zeiträume mit geringen Durchflussmengen sind, desto größer sind die mit Optimierungsmaßnahmen (Einführung einer FU) verbundenen Einsparungen.","Die Kenntnis des Flussprofils über einen repräsentativen Zeitraum ist von grundlegender Bedeutung. Je länger die Zeiträume mit geringen Durchflussmengen sind, desto größer sind die mit Optimierungsmaßnahmen (Einführung eines Frequenzumrichters) verbundenen Einsparungen.",null,null,null," η 𝑡𝑜𝑡.𝑖 =  η 𝐶𝐹.𝑖  ∗  η 𝑚𝑜𝑡.𝑖 ∗  η 𝑎𝑐𝑐.𝑖  ∗  η 𝑝𝑜𝑚𝑝𝑒.𝑖  "]
["La saison, la météo (Text), l’heure du jour, le jour de la semaine, la production, sont des exemples de paramètres qui peuvent influencer le besoin. Cette information permet notamment de déterminer la durée des mesurages.","La saison, la météo (Text), l’heure du jour, le jour de la semaine, la production, sont des exemples de paramètres qui peuvent influencer le besoin. Cette information permet notamment de déterminer la durée des mesurages.","Jahreszeit, Wetter (aussen T), Tageszeit, Wochentag, Produktion, sind Beispiele für Parameter, die den Bedarf beeinflussen können. Diese Informationen können zur Bestimmung der Dauer der Messungen verwendet werden.","Jahreszeit, Wetter (Text), Tageszeit, Wochentag, Produktion, sind Beispiele für Parameter, die den Bedarf beeinflussen können. Diese Informationen können zur Bestimmung der Dauer der Messungen verwendet werden.",null,null,null,"Δ 𝐸 𝑎  =  1 𝑛  (𝑃 𝑒𝑙, 𝑎𝑛𝑐.𝑖  −  𝑃 𝑒𝑙, 𝑛𝑜𝑢𝑣.𝑖 )  ∗ 𝑁ℎ 𝑖 "]
["Le différentiel entre ces deux pressions donne le Δp de fonctionenement de la pompe. Cette grandeur permet de calculer la puissance hydraulique. Il permet aussi de situer le point de fonctionnement actuel par rapport au point de fonctionnement nominal.","Le différentiel entre ces deux pressions donne le Δp de fonctionenement de la pompe. Cette grandeur permet de calculer la puissance hydraulique. Il permet aussi de situer le point de fonctionnement actuel par rapport au point de fonctionnement nominal.","Die Differenz zwischen diesen beiden Drücken ergibt den Betriebszustand der Pumpe Δp. Dieser Wert wird zur Berechnung der hydraulischen Leistung verwendet. Sie ermöglicht es auch, den aktuellen Betriebspunkt in Bezug auf den nominalen Betriebspunkt zu lokalisieren.","Die Differenz zwischen diesen beiden Drücken ergibt den Betriebszustand der Pumpe Δp. Dieser Wert wird zur Berechnung der hydraulischen Leistung verwendet. Sie ermöglicht es auch, den aktuellen Betriebspunkt in Bezug auf den nominalen Betriebspunkt zu lokalisieren.",null,null,null," 𝑃 𝑒𝑙,𝑎𝑛𝑐.𝑖 =  𝑃 ℎ𝑦𝑑𝑟,𝑎𝑛𝑐.𝑖 / η 𝑡𝑜𝑡,𝑎𝑛𝑐.𝑖 "]
["La puissance électrique active triphasée correspond à la puissance consommée par l'entraînement. Elle permet avec la puissance hydraulique de calculer le rendement global de l'entraînement.","La puissance électrique active triphasée correspond à la puissance consommée par l'entraînement. Elle permet avec la puissance hydraulique de calculer le rendement global de l'entraînement.","Die dreiphasige elektrische Wirkleistung ist die vom Antrieb aufgenommene Leistung. Zusammen mit der hydraulischen Leistung wird sie zur Berechnung des Gesamtwirkungsgrades des Antriebs verwendet.","Die dreiphasige elektrische Wirkleistung ist die vom Antrieb aufgenommene Leistung. Zusammen mit der hydraulischen Leistung wird sie zur Berechnung des Gesamtwirkungsgrades des Antriebs verwendet.",null,null,null," 𝑃 ℎ𝑦𝑑𝑟,𝑎𝑛𝑐.𝑖 = Δ𝑝𝑎𝑛𝑐.𝑖∗𝑄𝑎𝑛𝑐.𝑖"]
["On trouve encore souvent des installations dont le mauvais dimensionnement initial ou un changement dans le besoin nominal sont corrigés par un étranglement permanent. Une approche simple mais peu performante. On trouve aussi parfois des vannes qui servent à casser la pression entre une production et des consommateurs. La surconsommation est alors égale au rapport des pressions.","On trouve encore souvent des installations dont le mauvais dimensionnement initial ou un changement dans le besoin nominal sont corrigés par un étranglement permanent. Une approche simple mais peu performante. On trouve aussi parfois des vannes qui servent à casser la pression entre une production et des consommateurs. La surconsommation est alors égale au rapport des pressions.","Es gibt immer noch häufig Anlagen, bei denen die anfänglich falsche Dimensionierung oder eine Änderung der Nennanforderung durch eine dauerhafte Drosselung korrigiert wird. Ein einfacher, aber ineffizienter Ansatz. Manchmal finden wir auch Ventile, die dazu dienen, den Druck zwischen einer Produktion und den Verbrauchern zu reduzieren. Der Mehrverbrauch ist dann gleich dem Druckverhältnis.","Es gibt immer noch häufig Installationen, bei denen die anfängliche Fehldimensionierung oder eine Änderung des Nennbedarfs durch eine permanente Drosselung korrigiert wird. Ein einfacher, aber ineffizienter Ansatz. Manchmal findet man auch Ventile, die zur Druckunterbrechung zwischen einer Produktionsanlage und den Verbrauchern eingesetzt werden. Der Überverbrauch ist dann gleich dem Verhältnis der Drücke.",null,null,null," 𝑃 𝑒𝑙,𝑛𝑜𝑢𝑣.𝑖 =  𝑃 ℎ𝑦𝑑𝑟,𝑛𝑜𝑢𝑣.𝑖 / η 𝑡𝑜𝑡,𝑛𝑜𝑢𝑣.𝑖 "]
["Le dimensionnement, le réglage et les enclenchements et déclenchements des pompes d’une cascade sont souvent non optimaux. Il en découle des surconsommations.","Le dimensionnement, le réglage et les enclenchements et déclenchements des pompes d’une cascade sont souvent non optimaux. Il en découle des surconsommations.","Die Dimensionierung, Einstellung und das Ein- und Ausschalten der Pumpen in einer Kaskade sind oft nicht optimal. Dies führt zu übermäßigem Energieverbrauch.","Die Dimensionierung, Einstellung und das Ein- und Ausschalten der Pumpen in einer Kaskade sind oft nicht optimal. Dies führt zu übermäßigem Konsum.",null,null,null," 𝑃 ℎ𝑦𝑑𝑟,𝑛𝑜𝑢𝑣.𝑖 = Δ𝑝𝑛𝑜𝑢𝑣.𝑖∗𝑄𝑛𝑜𝑢𝑣.𝑖"]
["Un accouplement est rare dans le cas des pompes. Dans d’autres installations, il permet une flexibilité en termes de prestation (vitesse) et d'intégration des différents composants. \nIl s’agit d’un composant qui présente des pertes, particulièrement lorsqu’il est mal choisi ou mal entretenu (mauvaise tension).","Un accouplement est rare dans le cas des pompes. Dans d’autres installations, il permet une flexibilité en termes de prestation (vitesse) et d'intégration des différents composants. \nIl s’agit d’un composant qui présente des pertes, particulièrement lorsqu’il est mal choisi ou mal entretenu (mauvaise tension).","Bei Pumpen ist eine Kopplung selten. In anderen Anlagen ermöglicht sie Flexibilität in Bezug auf Dienstleistung (Drehzahl) und Integration verschiedener Komponenten. \nEine Kupplung ist ein verlustbehaftetes Bauteil, insbesondere wenn sie schlecht ausgewählt oder schlecht gewartet ist (schlechte Spannung).","Die Kopplung über Riemen ist bei Pumpen selten. In anderen Installationen ermöglicht es Flexibilität in Bezug auf Leistung (Geschwindigkeit) und Geometrie (Integration verschiedener Komponenten). \nEs ist eine Komponente, die Verluste aufweist, besonders wenn sie schlecht ausgewählt oder schlecht gewartet ist (schlechte Spannung).",null,null,null," η 𝑡𝑜𝑡.𝑖 =  η 𝐶𝐹.𝑖  ∗  η 𝑚𝑜𝑡.𝑖 ∗  η 𝑎𝑐𝑐.𝑖  ∗  η 𝑝𝑜𝑚𝑝𝑒.𝑖  "]
[{"$f":"IF($B$2=\"FR\",B777,C777)","v":"Des installations peuvent nécessiter un assainissement pour des raisons autres qu'énergétiques. On songe notamment à un âge au-delà de la durée de vie attendue, des besoins d'entretien trop importants, des problèmes de fiabilité récurrents, une modification des besoins, etc.\nCette situation est favorable à une analyse et une optimisation de l'équipement."},"Des installations peuvent nécessiter un assainissement pour des raisons autres qu'énergétiques. On songe notamment à un âge au-delà de la durée de vie attendue, des besoins d'entretien trop importants, des problèmes de fiabilité récurrents, une modification des besoins, etc.\nCette situation est favorable à une analyse et une optimisation de l'équipement.","Bei einigen Anlagen kann eine Sanierung aus anderen Gründen als Energie erforderlich sein. Dazu gehören ein Alter über die erwartete Lebensdauer hinaus, ein übermäßiger Wartungsbedarf, wiederkehrende Zuverlässigkeitsprobleme oder eine Änderung des Bedarfs.\nDiese Situation ist förderlich für die Analyse und Optimierung der Anlage","Einige Anlagen müssen möglicherweise aus anderen Gründen als der Energieversorgung saniert werden. Dazu gehören Alter über die erwartete Lebensdauer hinaus, übermäßiger Wartungsbedarf, wiederkehrende Zuverlässigkeitsprobleme, neue Anforderungen usw.\nDiese Situation ist förderlich für die Geräteanalyse und -optimierung.",null,null,null,"Δ 𝐸 𝑎  =  1 𝑛  (𝑃 𝑒𝑙, 𝑎𝑛𝑐.𝑖  −  𝑃 𝑒𝑙, 𝑛𝑜𝑢𝑣.𝑖 )  ∗ 𝑁ℎ 𝑖 "]
["Plusieurs paramètres vont influencer la durée de vie effective d'une installation: le nombre d'heures de fonctionnement par an, la taille, les conditions d'exploitation (milieu agressif).\nPour un moteur et un ventilateur sans problème d'usure particulière, on peut qualifier \"d'âgé\" un équipement qui est dans la zone \"âgé\" de la figure de la fiche \"Plus de détail 1\", voir le lien dans la partie 3 ci-dessous. \n\nAttention, le fait de se trouver dans la zone \"âgé\" ne signifie pas que l'équipement a dépassé sa durée de vie \"normale\" mais que l'âge est un argument pour s'interesser aux potentiels d'économie.\n\nAu niveau des gains possibles, des installations anciennes présentent souvent des potentiels plus importants. De plus, des investissements en vue de les optimiser sont plus faciles à justifier.","Plusieurs paramètres vont influencer la durée de vie effective d'une installation: le nombre d'heures de fonctionnement par an, la taille, les conditions d'exploitation (milieu agressif).\nPour un moteur et un ventilateur sans problème d'usure particulière, on peut qualifier \"d'âgé\" un équipement qui est dans la zone \"âgé\" de la figure de la fiche \"Plus de détail 1\", voir le lien dans la partie 3 ci-dessous. \n\nAttention, le fait de se trouver dans la zone \"âgé\" ne signifie pas que l'équipement a dépassé sa durée de vie \"normale\" mais que l'âge est un argument pour s'interesser aux potentiels d'économie.\n\nAu niveau des gains possibles, des installations anciennes présentent souvent des potentiels plus importants. De plus, des investissements en vue de les optimiser sont plus faciles à justifier.","Mehrere Parameter beeinflussen die effektive Lebensdauer einer Anlage: die Anzahl der Betriebsstunden pro Jahr, die Größe, die Betriebsbedingungen (aggressive Umgebung). \nFür einen Motor und eine Pumpe ohne besonderes Verschleissproblem kann ein Gerät als \"alt\" qualifiziert werden, wenn es in der \"alten\" Zone der Abbildung des Blattes \"Mehr Detail 1\" liegt, siehe den Link in Teil 3 unten. \n\nBitte beachten Sie, dass in der \"alten\" Zone zu sein nicht bedeutet, dass das Gerät seine \"normale\" Lebensdauer überschritten hat, sondern dass das Alter ein Argument ist, sich für die möglichen Einsparungen zu interessieren.\n\nWas das Einsparpotenzial angeht, haben ältere Anlagen oft ein größeres Potenzial. Außerdem sind Investitionen zur Optimierung leichter zu rechtfertigen.","Mehrere Parameter beeinflussen die effektive Lebensdauer einer Anlage: die Anzahl der Betriebsstunden pro Jahr, die Größe, die Betriebsbedingungen (aggressive Umgebung).\nFür einen Motor und einen Ventilator ohne besonderes Verschleißproblem kann man ein Gerät als \"alt\" bezeichnen, das sich in der Zone \"alt\" der Abbildung im Blatt \"Weitere Details 1\" befindet, siehe den Link in Teil 3 unten. \n\nBitte beachten Sie, dass ein Gerät in der Zone \"alt\" seine \"normale\" Lebensdauer nicht unbedingt überschritten hat, aber sein Alter ist ein Argument dafür, sich für das Einsparpotenzial zu interessieren.\n\nWas das Einsparpotenzial angeht, haben ältere Anlagen oft ein größeres Potenzial. Außerdem sind Investitionen zur Optimierung leichter zu rechtfertigen.",null,null,null," 𝑃 𝑒𝑙,𝑎𝑛𝑐.𝑖 =  𝑃 ℎ𝑦𝑑𝑟,𝑎𝑛𝑐.𝑖 / η 𝑡𝑜𝑡,𝑎𝑛𝑐.𝑖 "]
["Une gestion non optimale des variations de débit est une source de forte surconsommation. L'information sur le caractère variable ou non du besoin est donc importante.\nLa variation du besoin au cours du temps doit être suivie. Une exploitation horaire peut ainsi être parfois avantageuse (pas de fonctionnement sans besoin).","Une gestion non optimale des variations de débit est une source de forte surconsommation. L'information sur le caractère variable ou non du besoin est donc importante.\nLa variation du besoin au cours du temps doit être suivie. Une exploitation horaire peut ainsi être parfois avantageuse (pas de fonctionnement sans besoin).","Ein nicht optimales Management von Flussschwankungen ist eine Quelle hohen Mehrverbrauchs. Informationen darüber, ob der Bedarf variabel ist oder nicht, sind daher wichtig. \nDie Veränderung der Anforderung über die Zeit muss überwacht werden. Ein stündlicher Betrieb kann daher vorteilhaft sein (kein Betrieb ohne Bedarf).","Nicht optimales Management von Durchflussschwankungen ist eine Quelle für hohen Überverbrauch. Daher ist die Information wichtig, ob der Bedarf variabel ist oder nicht.\nDie Schwankung des Bedarfs über die Zeit muss überwacht werden. Ein stündlicher Betrieb kann also manchmal von Vorteil sein (kein Betrieb ohne Bedarf).",null,null,null," 𝑃 ℎ𝑦𝑑𝑟,𝑎𝑛𝑐.𝑖 = Δ𝑝𝑎𝑛𝑐.𝑖∗𝑄𝑎𝑛𝑐.𝑖"]
["La gestion actuelle des variations est un point clé. Si celle-ci est assurée par étranglement, l’introduction d’un variateur apportera probablement des économies sensibles.","La gestion actuelle des variations est un point clé. Si celle-ci est assurée par étranglement, l’introduction d’un variateur apportera probablement des économies sensibles.","Ein zentraler Punkt ist das derzeitige Variationsmanagement. Wenn dies durch Drosselung geschieht, dürfte die Einführung eines Variators erhebliche Einsparungen bringen.","Ein zentraler Punkt ist das derzeitige Variationsmanagement. Wenn dies durch Drosselung geschieht, dürfte die Einführung eines Variators erhebliche Einsparungen bringen.",null,null,null," 𝑃 𝑒𝑙,𝑛𝑜𝑢𝑣.𝑖 =  𝑃 ℎ𝑦𝑑𝑟,𝑛𝑜𝑢𝑣.𝑖 / η 𝑡𝑜𝑡,𝑛𝑜𝑢𝑣.𝑖 "]
["La connaissance du profil de débit sur une période représentative est fondamentale. Plus les périodes à débits réduit sont longues, plus les économies associées à des mesures d’optimisation (introduction d’un CF) seront importantes.","La connaissance du profil de débit sur une période représentative est fondamentale. Plus les périodes à débits réduit sont longues, plus les économies associées à des mesures d’optimisation (introduction d’un CF) seront importantes.","Die Kenntnis des Flussprofils über einen repräsentativen Zeitraum ist von grundlegender Bedeutung. Je länger die Zeiträume mit reduzierten Durchflussmengen sind, desto größer werden die mit Optimierungsmaßnahmen (Einführung einer FU) verbundenen Einsparungen sein.","Die Kenntnis des Flussprofils über einen repräsentativen Zeitraum ist von grundlegender Bedeutung. Je länger die Zeiträume mit geringen Durchflussmengen sind, desto größer sind die mit Optimierungsmaßnahmen (Einführung eines Frequenzumrichters) verbundenen Einsparungen.",null,null,null," 𝑃 ℎ𝑦𝑑𝑟,𝑛𝑜𝑢𝑣.𝑖 = Δ𝑝𝑛𝑜𝑢𝑣.𝑖∗𝑄𝑛𝑜𝑢𝑣.𝑖"]
["Le différentiel entre ces deux pressions donne le Δp de fonctionenement du ventilateur. Cette grandeur permet de calculer la puissance aéraulique. Il permet aussi de situer le point de fonctionnement actuel par rapport au point de fonctionnement nominal.","Le différentiel entre ces deux pressions donne le Δp de fonctionenement du ventilateur. Cette grandeur permet de calculer la puissance aéraulique. Il permet aussi de situer le point de fonctionnement actuel par rapport au point de fonctionnement nominal.","Die Differenz zwischen diesen beiden Drücken ergibt den Betriebsdruck des Ventilators Δp. Dieser Wert wird zur Berechnung der hydraulischen Leistung verwendet. Sie ermöglicht es auch, den aktuellen Betriebspunkt in Bezug auf den nominalen Betriebspunkt zu lokalisieren.","Die Differenz zwischen diesen beiden Drücken ergibt den Betrieb des Ventilators Δp. Dieser Wert wird zur Berechnung der Flugleistung verwendet. Sie ermöglicht es auch, den aktuellen Betriebspunkt in Bezug auf den nominalen Betriebspunkt zu lokalisieren.",null,null,null," η 𝑡𝑜𝑡.𝑖 =  η 𝐶𝐹.𝑖  ∗  η 𝑚𝑜𝑡.𝑖 ∗  η 𝑎𝑐𝑐.𝑖  ∗  η 𝑣𝑒𝑛𝑡.𝑖  "]
["On trouve encore souvent des installations dont le mauvais dimensionnement initial ou un changement dans le besoin nominal sont corrigés par un étranglement permanent. Une approche simple mais peu performante. \nLes débits dans les différentes branches d'un réseau sont souvent contrôlés par des VAV qui sont tous partiellement fermés alors que le ventilateur tourne à vitesse fixe.","On trouve encore souvent des installations dont le mauvais dimensionnement initial ou un changement dans le besoin nominal sont corrigés par un étranglement permanent. Une approche simple mais peu performante. \nLes débits dans les différentes branches d'un réseau sont souvent contrôlés par des VAV qui sont tous partiellement fermés alors que le ventilateur tourne à vitesse fixe.","Es gibt immer noch häufig Anlagen, bei denen die anfänglich falsche Dimensionierung oder eine Änderung der Nennanforderung durch eine dauerhafte Drosselung korrigiert wird. Ein einfacher, aber ineffizienter Ansatz. \nDie Luftströme in den verschiedenen Zweigen eines Netzes werden oft durch VVS Regelgerät gesteuert, die alle teilweise geschlossen sind, während der Ventilator mit einer festen Drehzahl läuft.","Es gibt immer noch häufig Installationen, bei denen die anfängliche Fehldimensionierung oder eine Änderung des Nennbedarfs durch eine permanente Drosselung korrigiert wird. Ein einfacher, aber ineffizienter Ansatz. \nDie Volumenströme in den verschiedenen Abzweigen eines Netzes werden oft durch VVS geregelt, die alle teilweise geschlossen sind und bei denen ein Ventilator mit fester Drehzahl läuft.",null,null,null,"Δ 𝐸 𝑎  =  1 𝑛  (𝑃 𝑒𝑙, 𝑎𝑛𝑐.𝑖  −  𝑃 𝑒𝑙, 𝑛𝑜𝑢𝑣.𝑖 )  ∗ 𝑁ℎ 𝑖 "]
["On trouve dans les réseaux de ventilation différents composants qui présentent une résistance au flux d'air et, de fait, génèrent des pertes de charge. Il arrive que ces composants soient inutiles, caduques ou mal entretenus.","On trouve dans les réseaux de ventilation différents composants qui présentent une résistance au flux d'air et, de fait, génèrent des pertes de charge. Il arrive que ces composants soient inutiles, caduques ou mal entretenus.","In Lüftungssystemen gibt es verschiedene Komponenten, die dem Luftstrom einen Widerstand entgegensetzen und dadurch Druckverluste erzeugen. Manchmal sind diese Komponenten nutzlos, veraltet oder schlecht gewartet.","In Lüftungssystemen gibt es verschiedene Komponenten, die dem Luftstrom einen Widerstand entgegensetzen und dadurch Druckverluste erzeugen. Manchmal sind diese Komponenten nutzlos, veraltet oder schlecht gewartet.",null,null,null," 𝑃 𝑒𝑙,𝑎𝑛𝑐.𝑖 =  𝑃 𝑎é𝑟,𝑎𝑛𝑐.𝑖 / η 𝑡𝑜𝑡,𝑎𝑛𝑐.𝑖 "]
["On a souvent recours à un accouplement par courroies car il permet une flexibilité en termes de prestation (vitesse) et de géométrie (intégration des différents composants). \nIl s’agit d’un composant qui présente des pertes, particulièrement lorsqu’il est mal choisi ou mal entretenu (mauvaise tension).","On a souvent recours à un accouplement par courroies car il permet une flexibilité en termes de prestation (vitesse) et de géométrie (intégration des différents composants). \nIl s’agit d’un composant qui présente des pertes, particulièrement lorsqu’il est mal choisi ou mal entretenu (mauvaise tension)."," Eine Riemenkupplung wird häufig verwendet, weil sie Flexibilität in Bezug auf  Diensleistung (Drehzahl) und Integration der verschiedenen Komponenten ermöglicht. \nEine Kupplung ist ein verlustbehaftetes Bauteil, insbesondere wenn sie schlecht ausgewählt oder schlecht gewartet ist (schlechte Spannung).","Eine Riemenkupplung wird häufig verwendet, weil sie Flexibilität in Bezug auf Leistung (Geschwindigkeit) und Geometrie (Integration der verschiedenen Komponenten) ermöglicht. \nEs handelt sich um eine Komponente, die Verluste aufweist, insbesondere wenn sie schlecht ausgewählt oder schlecht gewartet wird (schlechte Spannung).",null,null,null," 𝑃 𝑎é𝑟,𝑎𝑛𝑐.𝑖 = Δ𝑝𝑎𝑛𝑐.𝑖∗𝑄𝑎𝑛𝑐.𝑖"]
["gain théorique = (𝐥𝐧( 𝒑_𝒓𝒆𝒇,𝒊 −𝐥𝐧( 𝒑_𝒓𝒆𝒇,𝒏 )/(𝐥𝐧( 𝒑_𝒓𝒆𝒇,𝒊 )−𝐥𝐧( 𝒑_𝒂𝒔𝒑 ))\n\navec : pref,i= pression de refoulement absolue initiale, pref,n= nouvelle pression de refoulement absolue, pasp = pression absolue de l'aspiration","gain théorique = (𝐥𝐧( 𝒑_𝒓𝒆𝒇,𝒊 −𝐥𝐧( 𝒑_𝒓𝒆𝒇,𝒏 )/(𝐥𝐧( 𝒑_𝒓𝒆𝒇,𝒊 )−𝐥𝐧( 𝒑_𝒂𝒔𝒑 ))\n\navec : pref,i= pression de refoulement absolue initiale, pref,n= nouvelle pression de refoulement absolue, pasp = pression absolue de l'aspiration","theoretischer Gewinn = (𝐥𝐧( 𝒑_𝒓𝒆𝒇,𝒊 -𝐥𝐧( 𝒑_𝒓𝒆𝒇,𝒏 )/(𝐥𝐧( 𝒑_𝒓𝒆𝒇,𝒊 )-𝐥𝐧( 𝒑_𝒂𝒔𝒑 ) ))\n\nmit: pref,i= anfänglicher absoluter Förderdruck, pref,n= neuer absoluter Förderdruck, pasp = absoluter Ansaugdruck","theoretischer Gewinn = (𝐥𝐧( 𝒑 𝒓𝒆𝒇,𝒊 -𝐥𝐧( 𝒑 𝒓𝒆𝒇,𝒏 )/(𝐥𝐧( 𝒑 𝒓𝒆𝒇,𝒊 )-𝐥𝐧( 𝒑 𝒂𝒔𝒑 ) ))\n\nmit: pref,i= anfänglicher absoluter Förderdruck, pref,n= neuer absoluter Förderdruck, pasp = absoluter Saugdruck",null,null,null," 𝑃 𝑒𝑙,𝑛𝑜𝑢𝑣.𝑖 =  𝑃 𝑎é𝑟,𝑛𝑜𝑢𝑣.𝑖 / η 𝑡𝑜𝑡,𝑛𝑜𝑢𝑣.𝑖 "]
["Economie (%)=𝟏 −   𝑺𝑬𝑷𝑹 𝒓é𝒆𝒍   𝑺𝑬𝑷𝑹 𝒕𝒉é𝒐𝒓𝒊𝒒𝒖𝒆     \n","Economie (%)=𝟏 −   𝑺𝑬𝑷𝑹 𝒓é𝒆𝒍   𝑺𝑬𝑷𝑹 𝒕𝒉é𝒐𝒓𝒊𝒒𝒖𝒆     \n","Einsparung (%)=𝟏 -   𝑺𝑬𝑷𝑹 𝒓é𝒆𝒍 𝑺𝑬𝑷𝑹 𝒕𝒉é𝒐𝒓𝒊𝒒𝒖𝒆 ","Wirtschaft (%)=𝟏 -   𝑺𝑬𝑷𝑹 𝒓é𝒆𝒍 𝑺𝑬𝑷𝑹 𝒕𝒉é𝒐𝒓𝒊𝒒𝒖𝒆 ",null,null,null," 𝑃 𝑎é𝑟,𝑛𝑜𝑢𝑣.𝑖 = Δ𝑝𝑛𝑜𝑢𝑣.𝑖∗𝑄𝑛𝑜𝑢𝑣.𝑖"]
["Economie (%)=𝟏 −  𝑺𝑬𝑷𝑹 𝒓é𝒆𝒍 𝑺𝑬𝑷𝑹 𝒕𝒉é𝒐𝒓𝒊𝒒𝒖𝒆 𝒏𝒐𝒖𝒗𝒆𝒂𝒖 𝑮𝑭    \n","Economie (%)=𝟏 −  𝑺𝑬𝑷𝑹 𝒓é𝒆𝒍 𝑺𝑬𝑷𝑹 𝒕𝒉é𝒐𝒓𝒊𝒒𝒖𝒆 𝒏𝒐𝒖𝒗𝒆𝒂𝒖 𝑮𝑭    \n","Einsparung (%)=𝟏 - 𝑺𝑬𝑷𝑹 𝒓é𝒆𝒍 𝑺𝑬𝑷𝑹 𝒕𝒉é𝒐𝒓𝒊𝒒𝒖𝒆 𝒏𝒐𝒖𝒗𝒆𝒂𝒖 𝑮𝑭 ","Wirtschaft (%)=𝟏 - 𝑺𝑬𝑷𝑹 𝒓é𝒆𝒍 𝑺𝑬𝑷𝑹 𝒕𝒉é𝒐𝒓𝒊𝒒𝒖𝒆 𝒏𝒐𝒖𝒗𝒆𝒂𝒖 𝑮𝑭 "]
["Economie thermique par la mise en place de la récupération de chaleur ","Economie thermique par la mise en place de la récupération de chaleur ","Thermische Einsparungen durch die Implementierung von Wärmerückgewinnung ","Thermische Einsparungen durch die Implementierung von Wärmerückgewinnung ",null,null,null,"Plusieurs paramètres vont influencer la durée de vie effective d'une installation: le nombre d'heures de fonctionnement par an, la taille, les conditions d'exploitation (milieu agressif).\nPour un moteur et un ventilateur sans problème d'usure particulière"]
["Puissance absorbé par le compresseur [kW]","Puissance absorbé par le compresseur [kW]","Leistungsaufnahme Kompressor [kW]\n",null,null,null,null,"Lorsque le système est complexe, il faut comprendre le comportement et la nature des consommateurs. Si les besoins des consommateurs varient de façon concomitante, les analyses et les optimisations sont plus simples."]
["Puissance spécifique [kW/m3min]","Puissance spécifique [kW/m3min]","Spezifische Leistung  [kW/m3min]",null,null,null,null,"Il s’agit d’éviter qu’une vision trop restreinte conduise à des mesures contre-productives à un niveau plus élevé. L’idée est également de déterminer le bon périmètre d’analyse."]
["Economie variateur [%]","Economie variateur [%]","Einsparungen mit variabler Drehzahl [%]",null,null,null,null,"L’économie la plus simple et la moins onéreuse consiste à assurer le besoin réel et pas plus (donc pas forcément le besoin actuel). Par exemple, il arrive souvent que des modifications dans les besoins (à la baisse) n’aient jamais été intégrées. "]
["Taux de charge [.]","Taux de charge [.]","Lastverhältniss [.]",null,null,null,null,"Une gestion non optimale des variations de débit est une source de forte surconsommation. L'information sur le caractère variable ou non du besoin est donc importante.\nLa variation du besoin au cours du temps doit être suivie. Une exploitation horaire peu"]
["Nombre de minutes","Nombre de minutes","Anzahl Minuten [min]",null,null,null,null,"La gestion actuelle des variations est un point clé. Si celle-ci est assurée par étranglement, l’introduction d’un variateur apportera probablement des économies sensibles."]
["Débit [m3/min]","Débit [m3/min]","Durchfluss [m3/min]",null,null,null,null,"La connaissance du profil de débit sur une période représentative est fondamentale. Plus les périodes à débits réduit sont longues, plus les économies associées à des mesures d’optimisation (introduction d’un CF) seront importantes."]
[0,null,null,null,null,null,null,"La saison, la météo (Text), l’heure du jour, le jour de la semaine, la production, sont des exemples de paramètres qui peuvent influencer le besoin. Cette information permet notamment de déterminer la durée des mesurages."]
[0,null,null,null,null,null,null,"Le différentiel entre ces deux pressions donne le Δp de fonctionenement du ventilateur. Cette grandeur permet de calculer la puissance aéraulique. Il permet aussi de situer le point de fonctionnement actuel par rapport au point de fonctionnement nominal."]
[0,null,null,null,null,null,null,"La puissance électrique active triphasée correspond à la puissance consommée par l'entraînement. Elle permet avec la puissance hydraulique de calculer le rendement global de l'entraînement."]
[0,null,null,null,null,null,null,"On trouve encore souvent des installations dont le mauvais dimensionnement initial ou un changement dans le besoin nominal sont corrigés par un étranglement permanent. Une approche simple mais peu performante. \nLes débits dans les différentes branches d'u"]
[0,null,null,null,null,null,null,"On trouve dans les réseaux de ventilation différents composants qui présentent une résistance au flux d'air et, de fait, génèrent des pertes de charge. Il arrive que ces composants soient inutiles, caduques ou mal entretenus."]
[0,null,null,null,null,null,null,"On a souvent recours à un accouplement par courroies car il permet une flexibilité en termes de prestation (vitesse) et de géométrie (intégration des différents composants). \nIl s’agit d’un composant qui présente des pertes, particulièrement lorsqu’il est"]
[0,null,null,null,null,null,null,"Des installations peuvent nécessiter un assainissement pour des raisons autres qu'énergétiques. On songe notamment à un âge au-delà de la durée de vie attendue, des besoins d'entretien trop importants, des problèmes de fiabilité récurrents, une modificati"]
[0]
[0]
[0]
[]
[]
[]
[]
[]
[]
[]
[]
[]
[]
[]
[]
[]
[]
[]
[]
[]
[null,null,null,null,null,null,null,"gain théorique = (𝐥𝐧( 𝒑 𝒓𝒆𝒇,𝒊 −𝐥𝐧( 𝒑 𝒓𝒆𝒇,𝒏 )/(𝐥𝐧( 𝒑 𝒓𝒆𝒇,𝒊 )−𝐥𝐧( 𝒑 𝒂𝒔𝒑 ))\n\navec : pref,i= pression de refoulement absolue initiale, pref,n= nouvelle pression de refoulement absolue, pasp = pression absolue de l'aspiration"]
[]
[null,null,null,null,null,null,null,"Yannick Riesen:\nTrouver formule"]
[]
[]
[null,null,null,null,null,null,null,"EER= 𝛒× 𝑸 𝒗 × 𝑪 𝒑 ×∆𝑻  [𝒌𝑾]   𝑷 𝒆𝒍𝒆𝒄  [𝒌𝑾]     \n\navec :  masse volumique en [kg/m3], Qv débit volumique en [m3/s], Cp capacité thermique massique [kJ/kg.K], T différence de température [K]\n"]
[null,null,null,null,null,null,null,"Economie (%)=𝟏 −   𝑺𝑬𝑷𝑹 𝒓é𝒆𝒍   𝑺𝑬𝑷𝑹 𝒕𝒉é𝒐𝒓𝒊𝒒𝒖𝒆     \n"]
[null,null,null,null,null,null,null,"Economie (%)=𝟏 −  𝑺𝑬𝑷𝑹 𝒓é𝒆𝒍 𝑺𝑬𝑷𝑹 𝒕𝒉é𝒐𝒓𝒊𝒒𝒖𝒆 𝒏𝒐𝒖𝒗𝒆𝒂𝒖 𝑮𝑭    \n"]
[]
[null,null,null,null,null,null,null," 𝑷 𝒇𝒓𝒊𝒈𝒐 =𝛒× 𝑸 𝒗 × 𝑪 𝒑 ×∆𝑻  [𝒌𝑾]\n\navec :  masse volumique en [kg/m3], Qv débit volumique en [m3/s], Cp capacité thermique massique [kJ/kg.K], T différence de température [K]"]
[]
[]
[]
[]
[]
[]
[]
[]
[]
[]
[]
[]
[]
[]
[]
[]
[]
[]
[]
[]
[]
[]
[]
[]
[]
[null,null,null,null,null,null,null,"Clement Dugua:\nd'après hypothèse"]
[null,null,null,null,null,null,null,"Clement Dugua:\nd'après hypothèse"]
[null,null,null,null,null,null,null,"Clement Dugua:\nd'après hypothèse"]
[null,null,null,null,null,null,null,"Clement Dugua:\nd'après hypothèse"]
[null,null,null,null,null,null,null,"Clement Dugua:\nd'après hypothèse"]
[null,null,null,null,null,null,null,"Clement Dugua:\nd'après hypothèse"]
[null,null,null,null,null,null,null,"Clement Dugua:\nd'après hypothèse"]
[null,null,null,null,null,null,null,"Clement Dugua:\nd'après hypothèse"]
[null,null,null,null,null,null,null,"Clement Dugua:\nd'après hypothèse"]
[null,null,null,null,null,null,null,"Clement Dugua:\nd'après hypothèse"]
[null,null,null,null,null,null,null,"Clement Dugua:\nd'après hypothèse"]
[null,null,null,null,null,null,null,"Clement Dugua:\nd'après hypothèse"]
[null,null,null,null,null,null,null,"Clement Dugua:\nd'après facture"]
[null,null,null,null,null,null,null,"Clement Dugua:\nd'après facture"]
[null,null,null,null,null,null,null,"Clement Dugua:\nd'après facture"]
[null,null,null,null,null,null,null,"Clement Dugua:\nd'après facture"]
[null,null,null,null,null,null,null,"Clement Dugua:\nd'après facture"]
[null,null,null,null,null,null,null,"Clement Dugua:\nd'après facture"]
[null,null,null,null,null,null,null,"Clement Dugua:\nd'après facture"]
[null,null,null,null,null,null,null,"Clement Dugua:\nd'après facture"]
[null,null,null,null,null,null,null,"Clement Dugua:\nd'après facture"]
[null,null,null,null,null,null,null,"Clement Dugua:\nd'après facture"]
[null,null,null,null,null,null,null,"Clement Dugua:\nd'après facture"]
[null,null,null,null,null,null,null,"Clement Dugua:\nd'après facture"]
[null,null,null,null,null,null,null,"Clement Dugua:\nd'après mesurage ou hyptohèse"]
[null,null,null,null,null,null,null,"Clement Dugua:\nd'après mesurage ou hyptohèse"]
[null,null,null,null,null,null,null,"Clement Dugua:\nd'après mesurage ou hyptohèse"]
[null,null,null,null,null,null,null,"Clement Dugua:\nd'après mesurage ou hyptohèse"]
[null,null,null,null,null,null,null,"Clement Dugua:\nd'après mesurage ou hyptohèse"]
[null,null,null,null,null,null,null,"Clement Dugua:\nd'après mesurage ou hyptohèse"]
[null,null,null,null,null,null,null,"Clement Dugua:\nd'après mesurage ou hyptohèse"]
[null,null,null,null,null,null,null,"Clement Dugua:\nd'après mesurage ou hyptohèse"]
[null,null,null,null,null,null,null,"Clement Dugua:\nd'après mesurage ou hyptohèse"]
[null,null,null,null,null,null,null,"Clement Dugua:\nd'après mesurage ou hyptohèse"]
[null,null,null,null,null,null,null,"Clement Dugua:\nvaleur communiquée par le fournisseur pour la température représentative"]
[null,null,null,null,null,null,null,"Clement Dugua:\nvaleur communiquée par le fournisseur pour la température représentative"]
[null,null,null,null,null,null,null,"Clement Dugua:\nvaleur communiquée par le fournisseur pour la température représentative"]
[null,null,null,null,null,null,null,"Clement Dugua:\nvaleur communiquée par le fournisseur pour la température représentative"]
[null,null,null,null,null,null,null,"Clement Dugua:\nvaleur communiquée par le fournisseur pour la température représentative"]
[null,null,null,null,null,null,null,"Clement Dugua:\nvaleur communiquée par le fournisseur pour la température représentative"]
[null,null,null,null,null,null,null,"Clement Dugua:\nvaleur communiquée par le fournisseur pour la température représentative"]
[null,null,null,null,null,null,null,"Clement Dugua:\nvaleur communiquée par le fournisseur pour la température représentative"]
[null,null,null,null,null,null,null,"Clement Dugua:\nd'après hypothèse"]
[null,null,null,null,null,null,null,"Clement Dugua:\nd'après hypothèse"]
[null,null,null,null,null,null,null,"Clement Dugua:\nd'après hypothèse"]
[null,null,null,null,null,null,null,"Clement Dugua:\nd'après hypothèse"]
[]
[]
[]
[]
[]
[]
[]
[]
[]
[]
[]
[]
[]
[]
[]
[]
[]
[]
[]
[]
[]
[]
[null,null,null,null,null,null,null,"𝑇𝑅𝐵 [𝑎𝑛]= 𝑐𝑜û𝑡 𝑑𝑒  𝑙 ′ 𝑖𝑛𝑣𝑒𝑠𝑡𝑖𝑠𝑠𝑒𝑚𝑒𝑛𝑡 [𝐶𝐻𝐹] é𝑐𝑜𝑛𝑜𝑚𝑖𝑒 𝑎𝑛𝑢𝑒𝑙𝑙𝑒   𝐶𝐻𝐹 𝑎𝑛   "]
[null,null,null,null,null,null,null,"𝑇𝑅𝑁  𝑎𝑛 = 𝑐𝑜û𝑡 𝑑𝑒  𝑙 ′ 𝑖𝑛𝑣𝑒𝑠𝑡𝑖𝑠𝑠𝑒𝑚𝑒𝑛𝑡 [𝐶𝐻𝐹]∙𝑝𝑎𝑟𝑡 𝑑𝑒𝑠 𝑐𝑜û𝑡𝑠 𝑙𝑖é𝑒 à  𝑙 ′ é𝑛𝑒𝑟𝑔𝑖𝑒 −  é𝑐𝑜𝑛𝑜𝑚𝑖𝑒 𝑎𝑛𝑢𝑒𝑙𝑙𝑒   𝐶𝐻𝐹 𝑎𝑛   "]
[null,null,null,null,null,null,null,"𝑝𝑎𝑟𝑡 𝑑𝑒𝑠 𝑐𝑜û𝑡𝑠 𝑙𝑖é𝑒 à  𝑙 ′ é𝑛𝑒𝑟𝑔𝑖𝑒 − =1− â𝑔𝑒 𝑑𝑒  𝑙 ′ 𝑖𝑛𝑠𝑡𝑎𝑙𝑙𝑎𝑡𝑖𝑜𝑛  𝑎𝑛  𝑑𝑢𝑟é𝑒 𝑑𝑒 𝑣𝑖𝑒 𝑡𝑒𝑐ℎ𝑛𝑖𝑞𝑢𝑒 𝑑𝑒  𝑙 ′ 𝑖𝑛𝑠𝑡𝑎𝑙𝑙𝑎𝑡𝑖𝑜𝑛  𝑎𝑛  "]
[null,null,null,null,null,null,null,"𝑝𝑎𝑟𝑡 𝑑𝑒𝑠 𝑐𝑜û𝑡𝑠 𝑙𝑖é𝑒 à  𝑙 ′ é𝑛𝑒𝑟𝑔𝑖𝑒 − = 𝑐𝑜û𝑡 𝑑𝑒  𝑙 ′ 𝑖𝑛𝑣𝑒𝑠𝑡𝑖𝑠𝑠𝑒𝑚𝑒𝑛𝑡 é𝑛𝑒𝑟𝑔é𝑡𝑖𝑞𝑢𝑒 [𝐶𝐻𝐹] 𝑐𝑜û𝑡 𝑑𝑒  𝑙 ′ 𝑖𝑛𝑣𝑒𝑠𝑡𝑖𝑠𝑠𝑒𝑚𝑒𝑛𝑡 𝑡𝑜𝑡𝑎𝑙 [𝐶𝐻𝐹] "]
[null,null,null,null,null,null,null,"𝑇𝐸𝐶   𝐶𝐻𝐹 𝑐𝑟é𝑒 𝐶𝐻𝐹 𝑖𝑛𝑣𝑒𝑠𝑡𝑖  = 𝑉𝐴𝑁 [𝐶𝐻𝐹] 𝑖𝑛𝑣𝑒𝑠𝑡𝑖𝑠𝑠𝑒𝑚𝑒𝑛𝑡 𝑖𝑛𝑖𝑡𝑖𝑎𝑙 [𝐶𝐻𝐹] "]

{"sheet":"Trad","index":3,"n_rows":223,"n_cols":6,"rows_kept":223,"cut":false,"hidden":false,"merged":[]}
["Afficher","FR","DE-alt",null,"DE-überarbeitet durch WKP","Kommentare"]
[{"$f":"IF(Language=\"FR\",Trad!B2,Trad!E2)","v":"Menu"},"Menu","Menü",null,"Menü"]
[{"$f":"IF(Language=\"FR\",Trad!B3,Trad!E3)","v":"Menu"},"Menu","Menü",null,"Menü"]
[{"$f":"IF(Language=\"FR\",Trad!B4,Trad!E4)","v":"Introduction"},"Introduction","Einführung",null,"Einführung"]
[{"$f":"IF(Language=\"FR\",Trad!B5,Trad!E5)","v":"Pompe(s)"},"Pompe(s)","Pumpe(n)",null,"Pumpe(n)"]
[{"$f":"IF(Language=\"FR\",Trad!B6,Trad!E6)","v":"Ventilateur(s)"},"Ventilateur(s)","Ventilator(en)",null,"Ventilator(en)"]
[{"$f":"IF(Language=\"FR\",Trad!B7,Trad!E7)","v":"Air comprimé"},"Air comprimé","Druckluft",null,"Druckluft"]
[{"$f":"IF(Language=\"FR\",Trad!B8,Trad!E8)","v":"Groupe froid"},"Groupe froid","Kühlaggregat",null,"Kühlaggregat"]
[{"$f":"IF(Language=\"FR\",Trad!B9,Trad!E9)","v":"Résultats"},"Résultats","Ergebnisse",null,"Ergebnisse"]
[{"$f":"IF(Language=\"FR\",Trad!B10,Trad!E10)","v":"Aide"},"Aide","Hilfe",null,"Hilfe"]
[{"$f":"IF(Language=\"FR\",Trad!B11,Trad!E11)","v":"Conduite des mesurages"},"Conduite des mesurages","Durchführen von Messungen",null,"Durchführen von Messungen"]
[{"$f":"IF(Language=\"FR\",Trad!B12,Trad!E12)","v":"Internet"},"Internet","Internet",null,"Internet"]
[{"$f":"IF(Language=\"FR\",Trad!B13,Trad!E13)","v":"Local"},"Local","Lokale",null,"Lokal"]
[{"$f":"IF(Language=\"FR\",Trad!B14,Trad!E14)","v":"Cliquez sur les rectangles ci-dessous  (encadrés en bleu) pour accéder de façon directe aux différents modules de l'outil."},"Cliquez sur les rectangles ci-dessous  (encadrés en bleu) pour accéder de façon directe aux différents modules de l'outil.","Klicken Sie auf die untenstehenden Rechtecke (blau umrandet), um direkten Zugang zu den verschiedenen Modulen des Werkzeugs zu erhalten.",null,"Klicken Sie auf die untenstehenden Rechtecke (blau umrandet), um direkten Zugang zu den verschiedenen Modulen des Tools zu erhalten."]
[{"$f":"IF(Language=\"FR\",Trad!B15,Trad!E15)","v":"Support aux mesurages et calculs économiques"},"Support aux mesurages et calculs économiques","Unterstützung für Messungen und wirtschaftliche Berechnungen",null,"Unterstützung für Messungen und Wirtschaftlichkeitsberechnungen"]
[{"$f":"IF(Language=\"FR\",Trad!B16,Trad!E16)","v":"Aperçu des résultats de l'analyse détaillée"},"Aperçu des résultats de l'analyse détaillée","Überblick über die Ergebnisse der detaillierten Analyse",null,"Überblick über die Ergebnisse der Feinanalyse","überall deteilierten Analyse zu Feinanalyse geändert"]
[{"$f":"IF(Language=\"FR\",Trad!B17,Trad!E17)","v":"Introduction"},"Introduction","Einführung",null,"Einführung"]
[{"$f":"IF(Language=\"FR\",Trad!B18,Trad!E18)","v":"L'objectif d'une analyse de détail est de fournir à l'exploitant les informations sur les mesures d'optimisation adéquates, leurs coûts, le gain énergétique attendu et le temps de retour sur investissement."},"L'objectif d'une analyse de détail est de fournir à l'exploitant les informations sur les mesures d'optimisation adéquates, leurs coûts, le gain énergétique attendu et le temps de retour sur investissement.","Das Ziel einer detaillierten Analyse ist es, dem Betreiber Informationen über die geeigneten Optimierungsmaßnahmen, deren Kosten, den zu erwartenden Energiegewinn und die Amortisationszeit zu liefern.",null,"Das Ziel einer Feinnalyse ist es, dem Betreiber Informationen über die geeigneten Optimierungsmaßnahmen, deren Kosten, den zu erwartenden Energieeinsparungen und deren Wirtschaftlichkeit zu liefern."]
[{"$f":"IF(Language=\"FR\",Trad!B19,Trad!E19)","v":"Un niveau de connaissance élevé permet de cibler les optimisations les plus ambitieuses. Lorsque le système est peu instrumenté, les données nécessaires doivent être obtenues par des mesurages externes (expert). "},"Un niveau de connaissance élevé permet de cibler les optimisations les plus ambitieuses. Lorsque le système est peu instrumenté, les données nécessaires doivent être obtenues par des mesurages externes (expert). ","Ein hoher Wissensstand erlaubt es, die ehrgeizigsten Optimierungen anzustreben. Wenn das System schlecht instrumentiert ist, müssen die notwendigen Daten durch externe (Experten-)Messungen gewonnen werden. ",null,"Vertiefte Kenntnisse des Systems erlauben ambitionierte Optimierungen anzugehen. Wenn das System nur wenig instrumentiert ist, können die erforderliche Daten allenfalls durch temporäre Messungen erhoben werden (Beizug von Experten). "]
[{"$f":"IF(Language=\"FR\",Trad!B20,Trad!E20)","v":"Cette partie \"Analyse de détail\" de l'outil VELANI propose diverses  \"recettes\" qui guident le responsable en charge des analyses approfondies."},"Cette partie \"Analyse de détail\" de l'outil VELANI propose diverses  \"recettes\" qui guident le responsable en charge des analyses approfondies.","Dieser \"Feinanalyse\"-Teil des VELANI-Tools bietet verschiedene \"Rezepte\", die den mit der Feinanalyse beauftragten Manager anleiten.",null,"Dieser Teil \"Feinanalyse\" des VELANI-Tools schlägt eine Reihe von \"Rezepten\" vor. Diese leiten den mit der Optimierung Beauftragten durch den Analyseprozess.","Manager überall durch Moderator ersetzt"]
[{"$f":"IF(Language=\"FR\",Trad!B21,Trad!E21)","v":"Attention: Cette partie ne réalise donc pas de calculs ou d'analyses de façon automatique"},"Attention: Cette partie ne réalise donc pas de calculs ou d'analyses de façon automatique","Warnung: Dieser Teil führt nicht automatisch Berechnungen oder Analysen durch.",null,"Warnung: Dieser Teil führt nicht automatisch Berechnungen oder Analysen durch."]
[{"$f":"IF(Language=\"FR\",Trad!B22,Trad!E22)","v":"Module Analyses fines"},"Module Analyses fines","Modul Feinanalyse",null,"Modul Feinanalyse"]
[{"$f":"IF(Language=\"FR\",Trad!B23,Trad!E23)","v":"Cette fiche fait partie des \"recettes\" destinées à guider le responsable des analyses de détail. Elle porte sur les systèmes de pompage.\nLa première partie est constituée d'une liste de questions devant permettre à l'expert de mieux connaître l'équipement et son évolution prévue. La seconde partie précise les besoins de mesurages externes (à réaliser par l'expert). Elle comprend des liens avec les aides à la bonne conduite des mesurages. La troisième partie est un résumé de la situation et des conseils pour la conduite des mesurages.\nLa partie 4 porte sur les analyses. Elle soutient l'expert dans sa façon d'utiliser les résultats de mesurages et de la définition des options d'optimisation possibles et recommandables. Les parties 5 et 6 présentent les calculs des économies et de la rentabilité des mesures.\nDifférentes fiches de détails sont proposées afin d'éclairer le propos. Pour les mesurages, des procédures d'aide sont à disposition avec des conseils pratiques."},"Cette fiche fait partie des \"recettes\" destinées à guider le responsable des analyses de détail. Elle porte sur les systèmes de pompage.\nLa première partie est constituée d'une liste de questions devant permettre à l'expert de mieux connaître l'équipement et son évolution prévue. La seconde partie précise les besoins de mesurages externes (à réaliser par l'expert). Elle comprend des liens avec les aides à la bonne conduite des mesurages. La troisième partie est un résumé de la situation et des conseils pour la conduite des mesurages.\nLa partie 4 porte sur les analyses. Elle soutient l'expert dans sa façon d'utiliser les résultats de mesurages et de la définition des options d'optimisation possibles et recommandables. Les parties 5 et 6 présentent les calculs des économies et de la rentabilité des mesures.\nDifférentes fiches de détails sont proposées afin d'éclairer le propos. Pour les mesurages, des procédures d'aide sont à disposition avec des conseils pratiques.","Dieses Blatt ist Teil der \"Rezepte\", die den Verantwortlichen für detaillierte Analysen als Leitfaden dienen sollen. Sie befasst sich mit Pumpsystemen. \nDer erste Teil besteht aus einer Liste von Fragen, die es dem Experten ermöglichen sollen, die Ausrüstung und ihre geplante Entwicklung besser zu verstehen. Der zweite Teil spezifiziert den Bedarf an externen Messungen (die vom Experten durchzuführen sind). Sie enthält Links zu den Hilfsmitteln für die ordnungsgemäße Durchführung der Messungen. Der dritte Teil ist eine Zusammenfassung der Situation und Ratschläge für die Durchführung von Messungen. \nTeil 4 befasst sich mit Analysen. Es unterstützt den Experten bei der Verwendung der Messergebnisse und bei der Definition möglicher und empfehlenswerter Optimierungsmöglichkeiten. Die Teile 5 und 6 präsentieren die Berechnungen der Einsparungen und der Kostenwirksamkeit der Messungen. \nZur Klärung des Themas werden verschiedene Detailblätter vorgeschlagen. Für die Messungen stehen Hilfsverfahren mit praktischen Ratschlägen zur Verfügung.",null,"Leitfaden (\"Rezept\") für die Feinanalyse von Pumpensystemen. \nDer erste Teil besteht aus einer Liste von Fragen zum besseren Verständnis der Systemkomponenten und allenfalls geplanten Veränderungen. Der zweite Teil spezifiziert den Bedarf an externen Messungen (die vom Experten durchzuführen sind). Links führen zu  Hilfestellungen für die korrekte Durchführung der Messungen. Der dritte Teil ist eine Zusammenfassung der Analyse und enthält Ratschläge für die Durchführung von Messungen. \nTeil 4 unterstützt den Experten bei der Interpretation der Messergebnisse und bei der Definition möglicher und empfehlenswerter Optimierungsmöglichkeiten. Die Teile 5 und 6 präsentieren die Berechnungen der Einsparungen und der Kostenwirksamkeit der Messungen. \nZur Verdeutlichung des Themas werden verschiedene Detailblätter mitgeliefert. Für Messungen stehen Hilfsprozeduren mit praktischen Hinweisen zur Verfügung."]
[{"$f":"IF(Language=\"FR\",Trad!B24,Trad!E24)","v":"Cette fiche dédiée à l'analyse approfondie des ventilateurs est sensiblement la même que celles des pompes, hormis les particularité des ventilateurs."},"Cette fiche dédiée à l'analyse approfondie des ventilateurs est sensiblement la même que celles des pompes, hormis les particularité des ventilateurs.","Dieses Blatt, das der eingehenden Analyse von Ventilatoren gewidmet ist, ist mehr oder weniger das gleiche wie das für Pumpen, abgesehen von den Besonderheiten der Ventilatoren.",null,"Leitfaden für die Feinanalyse von Ventilatoren, gleich aufgebaut wie der Leitfaden für Pumpen (oben)"]
[{"$f":"IF(Language=\"FR\",Trad!B25,Trad!E25)","v":"Cette fiche fait partie des \"recettes\" destinées à guider le responsable dans les analyses de détail. Elle porte sur les systèmes de production d'air comprimé.\nElle est constituée d'une liste de points permettant à l'expert de caractériser l'équipement existant à analyser et de déterminer le besoin en mesurages externes (à réaliser par l'expert). Les façon de détermier la consommation du système d'air comprimé constitue le premier volet. Les meilleures approches pour optimiser la distribution, l'utilisation et la production sont décrites dans les partie 2 à 4. La dernière partie montre comment optimiser les auxiliaires."},"Cette fiche fait partie des \"recettes\" destinées à guider le responsable dans les analyses de détail. Elle porte sur les systèmes de production d'air comprimé.\nElle est constituée d'une liste de points permettant à l'expert de caractériser l'équipement existant à analyser et de déterminer le besoin en mesurages externes (à réaliser par l'expert). Les façon de détermier la consommation du système d'air comprimé constitue le premier volet. Les meilleures approches pour optimiser la distribution, l'utilisation et la production sont décrites dans les partie 2 à 4. La dernière partie montre comment optimiser les auxiliaires.","Dieses Blatt ist Teil der \"Rezepte\", die den Manager bei den detaillierten Analysen anleiten sollen. Sie befasst sich mit Drucklufterzeugungssystemen. \nSie besteht aus einer Liste von Punkten, die es dem Experten ermöglicht, die zu analysierende bestehende Ausrüstung zu charakterisieren und die Notwendigkeit von externen Messungen (die vom Experten durchzuführen sind) zu bestimmen. Die Möglichkeiten zur Bestimmung des Verbrauchs des Druckluftsystems ist der erste Teil. Die besten Ansätze zur Optimierung von Vertrieb, Nutzung und Produktion werden in den Teilen 2 bis 4 beschrieben. Im letzten Teil wird gezeigt, wie die Hilfskräfte optimiert werden können.",null,"Leitfaden für die Feinanalyse von Drucklufterzeugungssystemen. \nDieser erlaubt, die bestehenden Systemkomponenten zu charakterisieren und die Notwendigkeit von externen Messungen zu bestimmen. Im ersten Teil werden verschiedene Möglichkeiten zur Bestimmung desVerbrauchs aufgezeigt. Die besten Ansätze zur Optimierung von Vertrieb, Nutzung und Produktion werden in den Teilen 2 bis 4 beschrieben. Im letzten Teil wird gezeigt, wie die Hilsbetriebe optimiert werden können.","."]
[{"$f":"IF(Language=\"FR\",Trad!B26,Trad!E26)","v":"Cette fiche fait partie des \"recettes\" destinées à guider le responsable des analyses de détail. Elle porte sur les systèmes de production de froid.\nElle est constituée d'une liste de points permettant à l'expert de caractériser l'équipement à analyser et le besoin en mesurages externes (à réaliser par l'expert). Elle démarre en décrivant comment établir les besoins de froid et en déterminant les performances de l'installation actuelle. Les diverses optimisations de la production de froid sont présentées dans la partie 3. Les autres optimisations occupent les points 4 à 6.\nCette fiche soutient l'expert dans sa façon d'utiliser les résultats de mesurages et dans la définition des options d'optimisation possibles et recommandables. Elle présente notament les calculs des économies.\nDifférentes fiches de détails sont proposées afin d'éclairer le propos."},"Cette fiche fait partie des \"recettes\" destinées à guider le responsable des analyses de détail. Elle porte sur les systèmes de production de froid.\nElle est constituée d'une liste de points permettant à l'expert de caractériser l'équipement à analyser et le besoin en mesurages externes (à réaliser par l'expert). Elle démarre en décrivant comment établir les besoins de froid et en déterminant les performances de l'installation actuelle. Les diverses optimisations de la production de froid sont présentées dans la partie 3. Les autres optimisations occupent les points 4 à 6.\nCette fiche soutient l'expert dans sa façon d'utiliser les résultats de mesurages et dans la définition des options d'optimisation possibles et recommandables. Elle présente notament les calculs des économies.\nDifférentes fiches de détails sont proposées afin d'éclairer le propos.","Dieses Blatt ist Teil der \"Rezepte\", die den Verantwortlichen für detaillierte Analysen als Leitfaden dienen sollen. Es befasst sich mit Kälteproduktionssystemen. \nSie besteht aus einer Liste von Punkten, die es dem Experten ermöglicht, die zu analysierende Ausrüstung und die Notwendigkeit von externen Messungen (die vom Experten durchzuführen sind) zu charakterisieren. Zunächst wird beschrieben, wie der Kältebedarf ermittelt und die Leistungen der aktuellen Anlage bestimmt werden. Die verschiedenen Optimierungen der Kaltproduktion werden in Teil 3 vorgestellt. Die übrigen Optimierungen werden in den Punkten 4 bis 6 behandelt. \nDieses Blatt unterstützt den Experten bei der Verwendung der Messergebnisse und bei der Definition möglicher und empfohlener Optimierungsoptionen. Insbesondere werden die Berechnungen der Einsparungen vorgestellt. \nZur Klärung des Themas werden verschiedene Detailblätter vorgeschlagen.",null,"Leitfaden für die Feinananlyse von Kälteproduktionssystemen. \nEr besteht aus einer Liste von Punkten, mit welchen die Systemkomponenten charakterisiert und der Bedarf von externen Messungen erhoben werden kann. Zunächst wird beschrieben, wie der Kältebedarf ermittelt und die Effizienz der aktuellen Anlage bestimmt werden. Die verschiedenen Optimierungen der Kaltproduktion werden in Teil 3 vorgestellt. Die übrigen Optimierungen werden in den Punkten 4 bis 6 behandelt. \nDieses Blatt unterstützt den Experten auch bei der Interpretation der Messergebnisse und bei der Definition möglicher und empfohlener Optimierungsoptionen. Insbesondere werden die Berechnungen der Einsparungen vorgestellt. \nZur Vertiefung stehen verschiedene Detailblätter zur Verfügung.","."]
[{"$f":"IF(Language=\"FR\",Trad!B27,Trad!E27)","v":"Module Aides"},"Module Aides","Hilfe-Modul",null,"Hilfe-Modul"]
[{"$f":"IF(Language=\"FR\",Trad!B28,Trad!E28)","v":"Fiches \"Mesurages\""},"Fiches \"Mesurages\"","Blätter \"Messungen\"",null,"Blätter \"Messungen\""]
[{"$f":"IF(Language=\"FR\",Trad!B29,Trad!E29)","v":"Diverses fiches sont proposées de façon à préciser comment doivent être réalisés certains types de mesurages fréquents dans les analyses de détails. Il s'agit des mesurages de pression, de débit et de puissance électrique. Ces fiches ne prétendent pas à l'exhaustité mais offrent des informations pratiques et utiles."},"Diverses fiches sont proposées de façon à préciser comment doivent être réalisés certains types de mesurages fréquents dans les analyses de détails. Il s'agit des mesurages de pression, de débit et de puissance électrique. Ces fiches ne prétendent pas à l'exhaustité mais offrent des informations pratiques et utiles.","Es werden verschiedene Blätter vorgeschlagen, um festzulegen, wie bestimmte Arten von Messungen, die bei der Feinanalyse häufig vorkommen, durchgeführt werden sollen. Dabei handelt es sich um Messungen von Druck, Durchfluss und elektrischer Leistung. Diese Blätter erheben keinen Anspruch auf Vollständigkeit, aber bieten praktische und nützliche Informationen.",null,"Hilfestellung für die Messunge, welche bei Feinanalysen typischerweise zum Einsatz kommen, insbesonderen Druck, Durchfluss und elektrische Leistung. Diese Blätter erheben keinen Anspruch auf Vollständigkeit, aber bieten praktische und nützliche Informationen."]
[{"$f":"IF(Language=\"FR\",Trad!B30,Trad!E30)","v":"Fiche \"Calcul des économies d'énergie de froid\""},"Fiche \"Calcul des économies d'énergie de froid\"","Blatt \"Berechnung der Kälteenergieeinsparungen\"",null,"Blatt \"Berechnung der Kälteenergieeinsparungen\""]
[{"$f":"IF(Language=\"FR\",Trad!B31,Trad!E31)","v":"Cette fiche permet, sur la base de données usuellement relevées, d'estimer des potentiels d'économies de mesures types. L'utilisateur a ainsi la possibilité d'introduire les T aller et retour de sa distribution de froid et le débit associé en période estivale. L'outil détermine alors le besoin de froid (profil type sur la semaine la plus contraignante). Il détermine alors les performances du système actuel dans les 4 saisons et les compare à celles que l'on pourrait atteindre avec un système efficace (calcul du potentiel d'économies). Sur les mêmes bases, l'outil permet aussi de déterminer le potentiel associé à l'introduction d'un free cooling. Il compare ce potentiel avec celui que l'on pourrait atteindre avec une récupération de chaleur sur le condenseur."},"Cette fiche permet, sur la base de données usuellement relevées, d'estimer des potentiels d'économies de mesures types. L'utilisateur a ainsi la possibilité d'introduire les T aller et retour de sa distribution de froid et le débit associé en période estivale. L'outil détermine alors le besoin de froid (profil type sur la semaine la plus contraignante). Il détermine alors les performances du système actuel dans les 4 saisons et les compare à celles que l'on pourrait atteindre avec un système efficace (calcul du potentiel d'économies). Sur les mêmes bases, l'outil permet aussi de déterminer le potentiel associé à l'introduction d'un free cooling. Il compare ce potentiel avec celui que l'on pourrait atteindre avec une récupération de chaleur sur le condenseur.","Auf der Grundlage der üblicherweise erhobenen Daten ermöglicht dieses Blatt eine Abschätzung des Einsparpotenzials von Standardmaßnahmen. Der Anwender kann so den Temperatur-Vor- und Rücklauf seiner Kälteverteilung und die damit verbundene Durchflussmenge im Sommer eingeben. Das Tool bestimmt dann den Kältebedarf (typisches Profil für die restriktivste Woche). Anschließend werden die Leistungen des aktuellen Systems in den 4 Jahreszeiten ermittelt und mit denen verglichen, die mit einem effizienten System erreicht werden könnten (Berechnung des Einsparpotenzials). Auf der gleichen Grundlage ermöglicht das Instrument auch die Bestimmung des mit der Einführung des Freecoolings verbundenen Potenzials. Sie vergleicht dieses Potenzial mit dem, das mit Wärmerückgewinnung am Kondensator erreicht werden könnte.",null,"Auf der Grundlage der üblicherweise erhobenen Daten ermöglicht dieses Blatt eine Abschätzung des Einsparpotenzials von Standardmaßnahmen. Der Anwender kann die Vor- und Rücklauftemperatur seiner Kälteverteilung und die damit verbundene Durchflussmenge im Sommer eingeben. Das Tool bestimmt dann den Kältebedarf (typisches Profil für die Woche mit dem höchsten Bedarf). Anschließend werden die Leistungen des aktuellen Systems in den 4 Jahreszeiten ermittelt und mit denen verglichen, die mit einem effizienten System erreicht werden könnten (Berechnung des Einsparpotenzials). Auf der gleichen Grundlage ermöglicht das Tool auch die Bestimmung des Freecoolings Potenzials. Es vergleicht dieses Potenzial mit der Wärmerückgewinnung am Kondensator."]
[{"$f":"IF(Language=\"FR\",Trad!B32,Trad!E32)","v":"Fiche \"Calculs financiers\""},"Fiche \"Calculs financiers\"","Blatt \"Finanzielle Berechnungen\"",null,"Blatt \"Finanzielle Berechnungen\""]
[{"$f":"IF(Language=\"FR\",Trad!B33,Trad!E33)","v":"Il existe diverses formules de calcul des résultats financiers d'une opération comme la réalisation d'une optimisation énergétique. Cette fiche présente des formules simples comme le temps de retour brut mais aussi des formules intégrant des notions plus élaborées comme le taux d'enrichissement en capital. Le choix entre les formules dépendra de l'objectif du calcul financier. "},"Il existe diverses formules de calcul des résultats financiers d'une opération comme la réalisation d'une optimisation énergétique. Cette fiche présente des formules simples comme le temps de retour brut mais aussi des formules intégrant des notions plus élaborées comme le taux d'enrichissement en capital. Le choix entre les formules dépendra de l'objectif du calcul financier. ","Es gibt verschiedene Formeln zur Berechnung der finanziellen Ergebnisse einer Operation, wie z.B. der Durchführung einer Energieoptimierung. In diesem Merkblatt werden einfache Formeln wie die Bruttorückzahlungszeit vorgestellt, aber auch Formeln, die komplexere Begriffe wie die Kapitalanreicherungsrate enthalten. Die Wahl zwischen den Formeln hängt von der Zielsetzung der finanziellen Berechnung ab. ",null,"Es gibt verschiedene Ansätze zur Wirschaftlichkeitsberechnung. In diesem Merkblatt werden einfache Formeln wie der Brutto-Payback vorgestellt, aber auch differenziertere Methoden, wie der Nettobarwert. Der Ansatz wird entsprechend dem Ziel der Wirtschftlichkeitsberechnung gewählt."]
[{"$f":"IF(Language=\"FR\",Trad!B34,Trad!E34)","v":"Module Résultats finaux"},"Module Résultats finaux","Modul Endergebnisse",null,"Modul Endergebnisse"]
[{"$f":"IF(Language=\"FR\",Trad!B35,Trad!E35)","v":"Ce module résultats finaux ne provient pas de calculs effectués automatiquement par l'outil VELANI. Il s'agit en fait d'une mise en forme des résultats d'étude de l'expert. L'idée est d'offrir une synthèse finale et une mise en forme des données et résultats qui permettent une utilisation statistique. La synthèse des résultats sera utile à la direction pour décider d'un plan d'investissement. Les données statistiques enrichiront une base de données de l'OFEN permettant de mieux connaître le parc d'entraînements électriques de l'industrie suisse et les apports de divers types de mesures d'optimisations."},"Ce module résultats finaux ne provient pas de calculs effectués automatiquement par l'outil VELANI. Il s'agit en fait d'une mise en forme des résultats d'étude de l'expert. L'idée est d'offrir une synthèse finale et une mise en forme des données et résultats qui permettent une utilisation statistique. La synthèse des résultats sera utile à la direction pour décider d'un plan d'investissement. Les données statistiques enrichiront une base de données de l'OFEN permettant de mieux connaître le parc d'entraînements électriques de l'industrie suisse et les apports de divers types de mesures d'optimisations.","Dieses Endergebnis-Modul stammt nicht aus Berechnungen, die automatisch vom VELANI-Tool durchgeführt wurden. Es handelt sich in der Tat um eine Formatierung der Studienergebnisse des Experten. Die Idee besteht darin, eine abschließende Synthese und eine Formatierung der Daten und Ergebnisse anzubieten, die eine statistische Verwendung ermöglicht. Die Synthese der Ergebnisse wird dem Management bei der Entscheidung über einen Investitionsplan von Nutzen sein. Die statistischen Daten werden eine BFE-Datenbank bereichern, die ein besseres Verständnis der elektrischen Antriebssysteme der Schweizer Industrie und des Nutzens verschiedener Arten von Optimierungsmassnahmen ermöglicht.",null,"In diesem Modul können die Ergebnisse der Feinanalyse zusammengefasst werden. Die Resultate werden nicht automatisch in dieses Modul übernommen. Das Format erlaubt eine standardisierte Weitergabe an das BFE für statistische Auswertungen. Die kompakte Form kann bei der Kommunikation mit dem Management unterstützen."]
[{"$f":"IF(Language=\"FR\",Trad!B36,Trad!E36)","v":"Analyse Pompe"},"Analyse Pompe","Pumpen-Analyse",null,"Pumpen-Analyse"]
[{"$f":"IF(Language=\"FR\",Trad!B37,Trad!E37)","v":"Ce module FA dévolu aux pompes propose une démarche (voir l'arbre de décision sous le schéma) permettant une analyse approfondie du système existant (incluant des mesurages) et des propositions d'optimisation appropriées."},"Ce module FA dévolu aux pompes propose une démarche (voir l'arbre de décision sous le schéma) permettant une analyse approfondie du système existant (incluant des mesurages) et des propositions d'optimisation appropriées.","Dieses FA-Modul für Pumpen schlägt einen Ansatz vor (siehe den Entscheidungsbaum unterhalb des Diagramms), der eine gründliche Analyse des bestehenden Systems (einschließlich Messungen) und geeignete Optimierungsvorschläge ermöglicht.",null,"In diesem Feinanalyse-Modul für Pumpen wird ein Ansatz für die systematische Analyse des bestehenden Systems und dessen Optimierung vorgeschlagen (siehe auch den Link zum Entscheidungsbaum unterhalb des Diagramms)"]
[{"$f":"IF(Language=\"FR\",Trad!B38,Trad!E38)","v":"Les consommateurs ont-ils des besoins concomitants/synchrones ?"},"Les consommateurs ont-ils des besoins concomitants/synchrones ?","Haben Verbraucher gleichzeitige/synchrone Bedürfnisse?",null,"Haben Verbraucher gleichzeitigen/synchronen Bedarf?"]
[{"$f":"IF(Language=\"FR\",Trad!B39,Trad!E39)","v":"oui"},"oui","ja",null,"ja"]
[{"$f":"IF(Language=\"FR\",Trad!B40,Trad!E40)","v":"non"},"non","nein",null,"nein"]
[{"$f":"IF(Language=\"FR\",Trad!B41,Trad!E41)","v":"ne sais pas"},"ne sais pas","weiß nicht",null,"weiß nicht"]
[{"$f":"IF(Language=\"FR\",Trad!B42,Trad!E42)","v":"Des modifications des prestations de la pompe ont-elles une influence sur d’autres consommations ?"},"Des modifications des prestations de la pompe ont-elles une influence sur d’autres consommations ?","Haben Änderungen der Pumpenleistung einen Einfluss auf andere Verbräuche?",null,"Haben Änderungen der Pumpenleistung einen Einfluss auf andere Verbräuche?"]
[{"$f":"IF(Language=\"FR\",Trad!B43,Trad!E43)","v":"La prestation actuelle (offre) correspond-elle au besoin réel (débit-pression) de l’installation ?"},"La prestation actuelle (offre) correspond-elle au besoin réel (débit-pression) de l’installation ?","Entspricht die aktuelle Leistung (Angebot) dem tatsächlichen Bedarf (Durchfluss/Druck) der Anlage?",null,"Entspricht die aktuelle Leistung (Angebot) dem tatsächlichen Bedarf (Durchfluss/Druck) der Anlage?"]
[{"$f":"IF(Language=\"FR\",Trad!B44,Trad!E44)","v":"Le moteur est-il entraîné via un convertisseur de fréquence?"},"Le moteur est-il entraîné via un convertisseur de fréquence?","Wird der Motor über einen Frequenzumrichter angetrieben?",null,"Wird der Motor über einen Frequenzumrichter angetrieben?"]
[{"$f":"IF(Language=\"FR\",Trad!B45,Trad!E45)","v":"Le profil de débit effectif est-il disponible?"},"Le profil de débit effectif est-il disponible?","Ist das tatsächliche Flussprofil verfügbar?",null,"Ist das effektive Durchfluss-Profil (Verlauf) verfügbar?","kommt mehrmals vor"]
[{"$f":"IF(Language=\"FR\",Trad!B46,Trad!E46)","v":"Quel paramètre influence majoritairement le profil de débit?"},"Quel paramètre influence majoritairement le profil de débit?","Welcher Parameter hat den grössten Einfluss auf das Flussprofil?",null,"Welcher Parameter hat den grössten Einfluss auf das Durchfluss-Profil?"]
[{"$f":"IF(Language=\"FR\",Trad!B47,Trad!E47)","v":"Existe-t-il un relevé (enregistrement) des pressions à l'aspiration et au refoulement de la pompe?"},"Existe-t-il un relevé (enregistrement) des pressions à l'aspiration et au refoulement de la pompe?","Gibt es eine Ablesung (Aufzeichnung) der Saug- und Förderdrücke der Pumpe?",null,"Gibt es eine Aufzeichnung der Saug- und Förderdrücke der Pumpe?"]
[{"$f":"IF(Language=\"FR\",Trad!B48,Trad!E48)","v":"Existe-t-il un relevé (enregistrement) de la puissance électrique?"},"Existe-t-il un relevé (enregistrement) de la puissance électrique?","Gibt es eine Aufzeichnung der elektrischen Leistung?",null,"Gibt es eine Aufzeichnung der elektrischen Leistung?"]
[{"$f":"IF(Language=\"FR\",Trad!B49,Trad!E49)","v":"Le circuit hydraulique comprend-il des vannes en position partiellement fermée?"},"Le circuit hydraulique comprend-il des vannes en position partiellement fermée?","Hat das Hydrauliksystem Ventile in der teilweise geschlossenen Position?",null,"Gibt es im System Ventile in teilweise geschlossener Position?"]
[{"$f":"IF(Language=\"FR\",Trad!B50,Trad!E50)","v":"saison et Text"},"saison et Text","Jahreszeit und Text",null,"Jahreszeit und Text"]
[{"$f":"IF(Language=\"FR\",Trad!B51,Trad!E51)","v":"l'heure et le jour de la semaine"},"l'heure et le jour de la semaine","Uhrzeit und Wochentag",null,"Uhrzeit und Wochentag"]
[{"$f":"IF(Language=\"FR\",Trad!B52,Trad!E52)","v":"la production (type, nbre ou vol. de produit)"},"la production (type, nbre ou vol. de produit)","Produktion (Typ, Anzahl oder Menge des Produktes)",null,"Produktion (Typ, Anzahl oder Menge des Produktes)"]
[{"$f":"IF(Language=\"FR\",Trad!B53,Trad!E53)","v":"autre ou ne sais pas"},"autre ou ne sais pas","andere oder weiß nicht",null,"andere oder weiß nicht"]
[{"$f":"IF(Language=\"FR\",Trad!B54,Trad!E54)","v":"L'entraînement comprend-il un accouplement?"},"L'entraînement comprend-il un accouplement?","Enthält der Antrieb eine Kupplung?",null,"Enthält der Antrieb eine Kupplung?"]
[{"$f":"IF(Language=\"FR\",Trad!B55,Trad!E55)","v":"Les équipements sont anciens et le système a priori plutôt complexe."},"Les équipements sont anciens et le système a priori plutôt complexe.","Die Ausrüstung ist alt und das System a priori ziemlich komplex.",null,"Die Komponenten sind alt und das System ist eher komplex.","kommt mehrmals vor"]
[{"$f":"IF(Language=\"FR\",Trad!B56,Trad!E56)","v":"Les équipements sont anciens et le système a priori plutôt simple."},"Les équipements sont anciens et le système a priori plutôt simple.","Die Ausrüstung ist alt und das System a priori eher einfach.",null,"Die Komponenten sind alt und das System ist eher einfach."]
[{"$f":"IF(Language=\"FR\",Trad!B57,Trad!E57)","v":"Les équipements sont anciens et possiblement complexes"},"Les équipements sont anciens et possiblement complexes","Die Ausrüstung ist alt und möglicherweise komplex",null,"Die Komponenten sind alt und das System möglicherweise komplex"]
[{"$f":"IF(Language=\"FR\",Trad!B58,Trad!E58)","v":"Les équipements sont anciens et le système, a priori, complexe."},"Les équipements sont anciens et le système, a priori, complexe.","Die Ausrüstung ist alt und das System a priori komplex.",null,"Die Komponenten sind alt und das System ist komplex."]
[{"$f":"IF(Language=\"FR\",Trad!B59,Trad!E59)","v":"Les équipements sont anciens et le système, a priori, plutôt complexe."},"Les équipements sont anciens et le système, a priori, plutôt complexe.","Die Ausrüstung ist alt und das System a priori ziemlich komplex.",null,"Die Komponenten sind alt und das System ist eher komplex."]
[{"$f":"IF(Language=\"FR\",Trad!B60,Trad!E60)","v":"Les équipements sont anciens et le système, a priori, complexe."},"Les équipements sont anciens et le système, a priori, complexe.","Die Ausrüstung ist alt und das System a priori komplex.",null,"Die Komponenten sind alt und das System ist komplex."]
[{"$f":"IF(Language=\"FR\",Trad!B61,Trad!E61)","v":"Les équipements sont anciens et le système possiblement complexe."},"Les équipements sont anciens et le système possiblement complexe.","Die Ausrüstung ist alt und das System kann komplex sein.",null,"Die Komponenten sind alt und das System möglicherweise komplex"]
[{"$f":"IF(Language=\"FR\",Trad!B62,Trad!E62)","v":"Les équipements sont anciens et le système possiblement complexe."},"Les équipements sont anciens et le système possiblement complexe.","Die Ausrüstung ist alt und das System kann komplex sein.",null,"Die Komponenten sind alt und das System möglicherweise komplex"]
[{"$f":"IF(Language=\"FR\",Trad!B63,Trad!E63)","v":"Les équipements sont récents. Le système semble, a priori, complexe."},"Les équipements sont récents. Le système semble, a priori, complexe.","Die Ausrüstung ist neueren Datums. Das System scheint a priori komplex zu sein.",null,"Die Komponenten sind neueren Datums. Das System scheint komplex zu sein."]
[{"$f":"IF(Language=\"FR\",Trad!B64,Trad!E64)","v":"Les équipements sont récents. Le système semble, a priori, simple."},"Les équipements sont récents. Le système semble, a priori, simple.","Die Ausrüstung ist neueren Datums. Das System scheint a priori einfach zu sein.",null,"Die Komponenten sind neueren Datums. Das System scheint einfach zu sein."]
[{"$f":"IF(Language=\"FR\",Trad!B65,Trad!E65)","v":"Les équipements sont récents et le système possiblement complexe."},"Les équipements sont récents et le système possiblement complexe.","Die Ausrüstung ist neu und das System kann komplex sein.",null,"Die Komponenten sind neueren Datums und das System möglicherweise komplex."]
[{"$f":"IF(Language=\"FR\",Trad!B66,Trad!E66)","v":"Les équipements sont récents. Le système semble, a priori, complexe."},"Les équipements sont récents. Le système semble, a priori, complexe.","Die Ausrüstung ist neueren Datums. Das System scheint a priori komplex zu sein.",null,"Die Komponenten sind neueren Datums. Das System scheint komplex zu sein."]
[{"$f":"IF(Language=\"FR\",Trad!B67,Trad!E67)","v":"Les équipements sont récents. Le système semble, a priori, complexe."},"Les équipements sont récents. Le système semble, a priori, complexe.","Die Ausrüstung ist neueren Datums. Das System scheint a priori komplex zu sein.",null,"Die Komponenten sind neueren Datums. Das System scheint komplex zu sein."]
[{"$f":"IF(Language=\"FR\",Trad!B68,Trad!E68)","v":"Les équipements sont récents. Le système semble, a priori, complexe."},"Les équipements sont récents. Le système semble, a priori, complexe.","Die Ausrüstung ist neueren Datums. Das System scheint a priori komplex zu sein.",null,"Die Komponenten sind neueren Datums. Das System scheint komplex zu sein."]
[{"$f":"IF(Language=\"FR\",Trad!B69,Trad!E69)","v":"Les équipements sont récents et le système possiblement complexe."},"Les équipements sont récents et le système possiblement complexe.","Die Ausrüstung ist neu und das System kann komplex sein.",null,"Die Komponenten sind neu und das System möglicherweise komplex."]
[{"$f":"IF(Language=\"FR\",Trad!B70,Trad!E70)","v":"Les équipements sont récents et le système possiblement complexe."},"Les équipements sont récents et le système possiblement complexe.","Die Ausrüstung ist neu und das System kann komplex sein.",null,"Die Komponenten sind neu und das System möglicherweise komplex."]
[{"$f":"IF(Language=\"FR\",Trad!B71,Trad!E71)","v":"Il est intéressant de connaître l'âge des équipements. Leur remplacement est en général plus facile à financer et les gains potentiellement plus élevés qu'avec des équipements récents. Le système semble, a priori, complexe."},"Il est intéressant de connaître l'âge des équipements. Leur remplacement est en général plus facile à financer et les gains potentiellement plus élevés qu'avec des équipements récents. Le système semble, a priori, complexe.","Es ist interessant, das Alter der Ausrüstung zu kennen. Ihr Ersatz ist im Allgemeinen leichter zu finanzieren, und die potenziellen Gewinne sind höher als bei neueren Geräten. Das System scheint a priori komplex zu sein.",null,"Das Alter der Komponenten ist ein wichtiger Faktor. Ältere Geräte sind im Allgemeinen leichter zu finanzieren und das Einsparpotenzial ist höher bei neueren Geräten. Das System scheint komplex zu sein."]
[{"$f":"IF(Language=\"FR\",Trad!B72,Trad!E72)","v":"Il est intéressant de connaître l'âge des équipements. Leur remplacement est en général plus facile à financer et les gains potentiellement plus élevés qu'avec des équipements récents. Le système semble, a priori, simple."},"Il est intéressant de connaître l'âge des équipements. Leur remplacement est en général plus facile à financer et les gains potentiellement plus élevés qu'avec des équipements récents. Le système semble, a priori, simple.","Es ist interessant, das Alter der Ausrüstung zu kennen. Ihr Ersatz ist im Allgemeinen leichter zu finanzieren, und die potenziellen Gewinne sind höher als bei neueren Geräten. Das System scheint a priori einfach zu sein.",null,"Das Alter der Komponenten ist ein wichtiger Faktor. Ältere Geräte sind im Allgemeinen leichter zu finanzieren und das Einsparpotenzial ist höher bei neueren Geräten. Das System scheint einfach zu sein."]
[{"$f":"IF(Language=\"FR\",Trad!B73,Trad!E73)","v":"Il est intéressant de connaître l'âge des équipements. Leur remplacement est en général plus facile à financer et les gains potentiellement plus élevés qu'avec des équipements récents. Le système semble, a priori, complexe."},"Il est intéressant de connaître l'âge des équipements. Leur remplacement est en général plus facile à financer et les gains potentiellement plus élevés qu'avec des équipements récents. Le système semble, a priori, complexe.","Es ist interessant, das Alter der Ausrüstung zu kennen. Ihr Ersatz ist im Allgemeinen leichter zu finanzieren, und die potenziellen Gewinne sind höher als bei neueren Geräten. Das System scheint a priori komplex zu sein.",null,"Das Alter der Komponenten ist ein wichtiger Faktor. Ältere Geräte sind im Allgemeinen leichter zu finanzieren und das Einsparpotenzial ist höher bei neueren Geräten. Das System scheint komplex zu sein."]
[{"$f":"IF(Language=\"FR\",Trad!B74,Trad!E74)","v":"Il est intéressant de connaître l'âge des équipements. Leur remplacement est en général plus facile à financer et les gains potentiellement plus élevés qu'avec des équipements récents. Le système semble, a priori, complexe."},"Il est intéressant de connaître l'âge des équipements. Leur remplacement est en général plus facile à financer et les gains potentiellement plus élevés qu'avec des équipements récents. Le système semble, a priori, complexe.","Es ist interessant, das Alter der Ausrüstung zu kennen. Ihr Ersatz ist im Allgemeinen leichter zu finanzieren, und die potenziellen Gewinne sind höher als bei neueren Geräten. Das System scheint a priori komplex zu sein.",null,"Das Alter der Komponenten ist ein wichtiger Faktor. Ältere Geräte sind im Allgemeinen leichter zu finanzieren und das Einsparpotenzial ist höher bei neueren Geräten. Das System scheint komplex zu sein."]
[{"$f":"IF(Language=\"FR\",Trad!B75,Trad!E75)","v":"Il est intéressant de connaître l'âge des équipements. Leur remplacement est en général plus facile à financer et les gains potentiellement plus élevés qu'avec des équipements récents. Le système semble, a priori, complexe."},"Il est intéressant de connaître l'âge des équipements. Leur remplacement est en général plus facile à financer et les gains potentiellement plus élevés qu'avec des équipements récents. Le système semble, a priori, complexe.","Es ist interessant, das Alter der Ausrüstung zu kennen. Ihr Ersatz ist im Allgemeinen leichter zu finanzieren, und die potenziellen Gewinne sind höher als bei neueren Geräten. Das System scheint a priori komplex zu sein.",null,"Das Alter der Komponenten ist ein wichtiger Faktor. Ältere Geräte sind im Allgemeinen leichter zu finanzieren und das Einsparpotenzial ist höher bei neueren Geräten. Das System scheint komplex zu sein."]
[{"$f":"IF(Language=\"FR\",Trad!B76,Trad!E76)","v":"Il est intéressant de connaître l'âge des équipements. Leur remplacement est en général plus facile à financer et les gains potentiellement plus élevés qu'avec des équipements récents. Le système semble, a priori, complexe."},"Il est intéressant de connaître l'âge des équipements. Leur remplacement est en général plus facile à financer et les gains potentiellement plus élevés qu'avec des équipements récents. Le système semble, a priori, complexe.","Es ist interessant, das Alter der Ausrüstung zu kennen. Ihr Ersatz ist im Allgemeinen leichter zu finanzieren, und die potenziellen Gewinne sind höher als bei neueren Geräten. Das System scheint a priori komplex zu sein.",null,"Das Alter der Komponenten ist ein wichtiger Faktor. Ältere Geräte sind im Allgemeinen leichter zu finanzieren und das Einsparpotenzial ist höher bei neueren Geräten. Das System scheint komplex zu sein."]
[{"$f":"IF(Language=\"FR\",Trad!B77,Trad!E77)","v":"Il est intéressant de connaître l'âge des équipements. Leur remplacement est en général plus facile à financer et les gains potentiellement plus élevés qu'avec des équipements récents. Le système est possiblement complexe."},"Il est intéressant de connaître l'âge des équipements. Leur remplacement est en général plus facile à financer et les gains potentiellement plus élevés qu'avec des équipements récents. Le système est possiblement complexe.","Es ist interessant, das Alter der Ausrüstung zu kennen. Ihr Ersatz ist im Allgemeinen leichter zu finanzieren, und die potenziellen Gewinne sind höher als bei neueren Geräten. Das System kann komplex sein.",null,"Das Alter der Komponenten ist ein wichtiger Faktor. Ältere Geräte sind im Allgemeinen leichter zu finanzieren und das Einsparpotenzial ist höher bei neueren Geräten. Das System ist möglicherweise komplex."]
[{"$f":"IF(Language=\"FR\",Trad!B78,Trad!E78)","v":"Il est intéressant de connaître l'âge des équipements. Leur remplacement est en général plus facile à financer et les gains potentiellement plus élevés qu'avec des équipements récents. Le système est possiblement complexe."},"Il est intéressant de connaître l'âge des équipements. Leur remplacement est en général plus facile à financer et les gains potentiellement plus élevés qu'avec des équipements récents. Le système est possiblement complexe.","Es ist interessant, das Alter der Ausrüstung zu kennen. Ihr Ersatz ist im Allgemeinen leichter zu finanzieren, und die potenziellen Gewinne sind höher als bei neueren Geräten. Das System kann komplex sein.",null,"Das Alter der Komponenten ist ein wichtiger Faktor. Ältere Geräte sind im Allgemeinen leichter zu finanzieren und das Einsparpotenzial ist höher bei neueren Geräten. Das System kann ist möglicherweise komplex."]
[{"$f":"IF(Language=\"FR\",Trad!B79,Trad!E79)","v":"Le débit max. fourni correspond a priori au besoin et il est mesuré par l'exploitant. De plus, les vartiations sont assurées par un variateur. La situation est favorable et il n'y a à priori pas d'investigations supplémentaires à réaliser."},"Le débit max. fourni correspond a priori au besoin et il est mesuré par l'exploitant. De plus, les vartiations sont assurées par un variateur. La situation est favorable et il n'y a à priori pas d'investigations supplémentaires à réaliser.","Die maximale gelieferte Durchflussmenge ist a priori nach Bedarf und wird vom Bediener gemessen. Zusätzlich wird für die Steuerung ein drehzahlvariabler Antrieb verwendet. Die Situation ist günstig, und es sind keine weiteren Untersuchungen erforderlich.",null,"Die maximale gelieferte Durchflussmenge entspricht a priori dem Bedarf und wird im Betrieb gemessen. Es ist ein drehzahlvariabler Antrieb im Einsatz. Die Situation ist günstig, und es sind keine weiteren Untersuchungen erforderlich."]
[{"$f":"IF(Language=\"FR\",Trad!B80,Trad!E80)","v":"Le débit max. fourni correspond a priori au besoin, mais il n'est pas mesuré. Un mesurage permettrait de mieux connaître le débit réel."},"Le débit max. fourni correspond a priori au besoin, mais il n'est pas mesuré. Un mesurage permettrait de mieux connaître le débit réel.","Die maximale Durchflussmenge wird a priori nach Bedarf geliefert, wird aber nicht gemessen. Eine Messung würde eine bessere Kenntnis der tatsächlichen Flussrate ermöglichen.","pas connu ?","Die maximale Durchflussmenge entspricht a priori dem Bedarf, wird aber nicht gemessen. Eine Messung würde eine bessere Kenntnis der tatsächlichen Durchflüsse ermöglichen."]
[{"$f":"IF(Language=\"FR\",Trad!B81,Trad!E81)","v":"Le débit variable n'est probablement  pas contrôlé de la manière la plus efficace.  Considérez le débit relevé par les appareils du site pour valider le recours à un variateur de vitesse."},"Le débit variable n'est probablement  pas contrôlé de la manière la plus efficace.  Considérez le débit relevé par les appareils du site pour valider le recours à un variateur de vitesse.","Der variable Fluss wird wahrscheinlich nicht auf die effizienteste Weise kontrolliert. Betrachten Sie die von der Anlage vor Ort aufgezeichnete Durchflussmenge, um die Verwendung eines drehzahlvariablen Antriebs zu validieren.",null,"Die Durchflussregelung kann wahrscheinlich optimiert werden. Nutzen Sie die existierenden Durchflussmessungen, um die Option eines drehzahlvariablen Antriebs zu validieren.","kommt mehrmals vor"]
[{"$f":"IF(Language=\"FR\",Trad!B82,Trad!E82)","v":"Le débit variable n'est probablement  pas contrôlé de la manière la plus efficace.  Un mesurage du débit est recommandé."},"Le débit variable n'est probablement  pas contrôlé de la manière la plus efficace.  Un mesurage du débit est recommandé.","Der variable Fluss wird wahrscheinlich nicht auf die effizienteste Weise kontrolliert. Eine Durchflussmessung wird empfohlen.",null,"Die Durchflussregelung kann wahrscheinlich optimiert werden. Eine Durchflussmessung wird empfohlen."]
[{"$f":"IF(Language=\"FR\",Trad!B83,Trad!E83)","v":"Le besoin est a priori bien maîtrisé et enregistré. On a par contre un CF sans débit variable. Un démarreur serait plus judicieux. "},"Le besoin est a priori bien maîtrisé et enregistré. On a par contre un CF sans débit variable. Un démarreur serait plus judicieux. ","Der Bedarf wird a priori gut kontrolliert und erfasst. Auf der anderen Seite gibt es einen Frequenzumrichter ohne variablen Fluss. Ein Starter wäre umsichtiger. ",null,"Der Bedarf wird a priori gut kontrolliert und erfasst. Es ist aber ein Frequenzumrichter im Einsatz, obwohl kein Bedarf für einen variablen Durchfluss besteht. Ein Starter an Stelle des FU wäre allenfalls effizienter. "]
[{"$f":"IF(Language=\"FR\",Trad!B84,Trad!E84)","v":"Le besoin est a priori bien maîtrisé mais pas enregistré. Un mesurage permettrait de valider le débit réel. On a un CF sans débit variable. Un démarreur serait plus judicieux. "},"Le besoin est a priori bien maîtrisé mais pas enregistré. Un mesurage permettrait de valider le débit réel. On a un CF sans débit variable. Un démarreur serait plus judicieux. ","Der Bedarf wird a priori gut kontrolliert, aber nicht erfasst. Eine Messung würde es ermöglichen, den tatsächlichen Fluss zu validieren. Es gibt einen Frequenzumrichter  ohne variablen Fluss. Ein Starter wäre umsichtiger. ",null,"Der Bedarf wird a priori gut kontrolliert, aber nicht erfasst. Eine Messung würde es ermöglichen, den effektiven Durchfluss zu validieren. Es gibt einen Frequenzumrichter ohne variablen Durchfluss. Ein Starter wäre vorzuziehen. "]
[{"$f":"IF(Language=\"FR\",Trad!B85,Trad!E85)","v":"Le besoin est a priori relevé et bien maîtrisé."},"Le besoin est a priori relevé et bien maîtrisé.","Der Bedarf wird a priori aufgezeichnet und gut kontrolliert.",null,"Der Bedarf wird aufgezeichnet und gut kontrolliert."]
[{"$f":"IF(Language=\"FR\",Trad!B86,Trad!E86)","v":"Le débit max. fourni correspond a priori au besoin. Il n'est cependant pas relevé. Le mesurage du débit permettrait de la valider."},"Le débit max. fourni correspond a priori au besoin. Il n'est cependant pas relevé. Le mesurage du débit permettrait de la valider.","Die maximale gelieferte Durchflussmenge entspricht a priori dem Bedarf. Sie wird jedoch nicht aufgezeichnet. Die Durchflussmessung würde eine Validierung ermöglichen.",null,"Die maximale gelieferte Durchflussmenge entspricht a priori dem Bedarf. Sie wird jedoch nicht aufgezeichnet. Eine Durchflussmessung würde eine Validierung ermöglichen."]
[{"$f":"IF(Language=\"FR\",Trad!B87,Trad!E87)","v":"On ne sait pas si le variateur est vraiment utile et réglé, considérez les relevés de débit du débitmètre du site."},"On ne sait pas si le variateur est vraiment utile et réglé, considérez les relevés de débit du débitmètre du site.","Es ist nicht bekannt, ob der Frequenzumrichter wirklich nützlich und eingestellt ist. Betrachten Sie die Standortdurchflussmesser-Ablesungen.",null,"Es ist nicht bekannt, ob der Frequenzumrichter wirklich sinnvoll eingesetzt und korrekt eingestellt ist. Berücksichtigen Sie die Durchflussungsmessungen vor Ort.","kommt mehrmals vor"]
[{"$f":"IF(Language=\"FR\",Trad!B88,Trad!E88)","v":"On ne sait pas si le variateur est vraiment utile et réglé, recherchez des informations et, si besoin, procédez à des mesurages de débit."},"On ne sait pas si le variateur est vraiment utile et réglé, recherchez des informations et, si besoin, procédez à des mesurages de débit.","Es ist nicht bekannt, ob der Frequenzumrichter wirklich nützlich und eingerichtet ist. Suchen Sie nach Informationen und führen Sie, falls erforderlich, Durchflussmessungen durch.",null,"Es ist nicht bekannt, ob der Frequenzumrichter wirklich sinnvoll eingesetzt und korrekt eingestellt ist. Suchen Sie nach Informationen und führen Sie, falls erforderlich, Durchflussmessungen durch."]
[{"$f":"IF(Language=\"FR\",Trad!B89,Trad!E89)","v":"Les variations de débit sont mal connues et possiblement mal maîtrisées, considérez les relevés de débit du site."},"Les variations de débit sont mal connues et possiblement mal maîtrisées, considérez les relevés de débit du site.","Flussratenschwankungen sind schlecht bekannt und möglicherweise schlecht kontrolliert. Berücksichtigen Sie die Durchflussungsmessungen vor Ort.",null,"Die Durchflussraten und -schwankungen sind nicht bekannt und möglicherweise ist die Durchflussregelung nicht optimal. Berücksichtigen Sie die Durchflussungsmessungen vor Ort.","kaum bekannt?"]
[{"$f":"IF(Language=\"FR\",Trad!B90,Trad!E90)","v":"Les variations de débit sont mal connues et possiblement mal maîtrisées, procédez à des mesurages de débit."},"Les variations de débit sont mal connues et possiblement mal maîtrisées, procédez à des mesurages de débit.","Flussratenschwankungen sind nicht gut bekannt und möglicherweise nicht gut kontrolliert. Führen Sie Flussratenmessungen durch.",null,"Die Durchflussraten und -schwankungen sind nicht bekannt und möglicherweise ist die Durchflussregelung nicht optimal. Führen Sie Durchflussmessungen durch.","kommt mehrmals vor"]
[{"$f":"IF(Language=\"FR\",Trad!B91,Trad!E91)","v":"On ne sait pas si le débit correspond au besoin ou s'il trop grand, recherchez des informations sur le besoin réel et comparez-les avec les valeurs relevées par l'exploitant."},"On ne sait pas si le débit correspond au besoin ou s'il trop grand, recherchez des informations sur le besoin réel et comparez-les avec les valeurs relevées par l'exploitant.","Es ist nicht bekannt, ob die Durchflussmenge ausreichend oder zu hoch ist. Ermitteln Sie den tatsächlichen Bedarf und vergleichen Sie ihn mit den vom Bediener aufgezeichneten Werten.",null,"Es ist nicht bekannt, ob die Durchflussmenge korrekt eingestellt oder zu hoch ist. Ermitteln Sie den tatsächlichen Bedarf und vergleichen Sie ihn mit den Messwerten."]
[{"$f":"IF(Language=\"FR\",Trad!B92,Trad!E92)","v":"On ne sait pas si le débit correspond au besoin ou s'il trop grand, recherchez des informations sur le besoin réel et procédez à des mesurages de débit."},"On ne sait pas si le débit correspond au besoin ou s'il trop grand, recherchez des informations sur le besoin réel et procédez à des mesurages de débit.","Es ist nicht bekannt, ob die Flussrate ausreichend oder zu hoch ist. Finden Sie heraus, was der tatsächliche Bedarf ist und messen Sie die Flussrate.",null,"Es ist nicht bekannt, ob die Durchflussmenge korrekt eingestellt oder zu hoch ist. Ermitteln Sie den tatsächlichen Bedarf und führen Sie Durchflussmessungen durch.","Flissrate, Durchflussmenge, was soll verwendet werden? Kommt an mehreren orten unterschiedlich vor"]
[{"$f":"IF(Language=\"FR\",Trad!B93,Trad!E93)","v":"On ne sait pas si le débit correspond juste ou s'il est trop grand, recherchez des informations sur le besoin. Par ailleurs les  variations ne sont probablement pas bien maîtrisées, considérez les relevés de débit du site."},"On ne sait pas si le débit correspond juste ou s'il est trop grand, recherchez des informations sur le besoin. Par ailleurs les  variations ne sont probablement pas bien maîtrisées, considérez les relevés de débit du site.","Es ist nicht bekannt, ob die Durchflussmenge ausreichend oder zu hoch ist. Suchen Sie nach Informationen über den Bedarf. Außerdem sind die Schwankungen wahrscheinlich nicht gut kontrolliert. Berücksichtigen Sie die Durchflussungsmessungen vor Ort.",null,"Es ist nicht bekannt, ob die Durchflussmenge korrekt eingestellt oder zu hoch ist. Ermitteln Sie den tatsächlichen Bedarf. Außerdem sind die Schwankungen wahrscheinlich nicht gut kontrolliert. Berücksichtigen Sie die Durchflussungsmessungen vor Ort."]
[{"$f":"IF(Language=\"FR\",Trad!B94,Trad!E94)","v":"On ne sait pas si le débit correspond au besoin ou s'il trop grand, recherchez des informations sur le besoin. Par ailleurs, les  variations ne sont probablement pas bien maîtrisées. Un mesurage du débit est recommandé."},"On ne sait pas si le débit correspond au besoin ou s'il trop grand, recherchez des informations sur le besoin. Par ailleurs, les  variations ne sont probablement pas bien maîtrisées. Un mesurage du débit est recommandé.","Es ist nicht bekannt, ob die Durchflussmenge ausreichend oder zu hoch ist. Suchen Sie nach Informationen über den Bedarf. Außerdem sind die Abweichungen wahrscheinlich nicht gut kontrolliert. Eine Durchflussmessung wird empfohlen.",null,"Es ist nicht bekannt, ob die Durchflussmenge korrekt eingestellt oder zu hoch ist. Ermitteln Sie den tatsächlichen Bedarf. Außerdem sind die Abweichungen wahrscheinlich nicht gut kontrolliert. Eine Durchflussmessung wird empfohlen."]
[{"$f":"IF(Language=\"FR\",Trad!B95,Trad!E95)","v":"On ne sait pas si le débit correspond au besoin ou s'il trop grand, recherchez des informations sur le besoin. Il n'y a pas de variations mais un CF. Un démarreur serait plus avisé."},"On ne sait pas si le débit correspond au besoin ou s'il trop grand, recherchez des informations sur le besoin. Il n'y a pas de variations mais un CF. Un démarreur serait plus avisé.","Es ist nicht bekannt, ob die Durchflussmenge ausreichend oder zu hoch ist. Suchen Sie nach Informationen über den Bedarf. Es gibt keine Schwankungen, aber einen Frequenzumrichter. Ein Starter wäre klüger.",null,"Es ist nicht bekannt, ob die Durchflussmenge korrekt eingestellt oder zu hoch ist. Ermitteln Sie den tatsächlichen Bedarf. Es ist ein Frequenzumrichter im Einsatz, obwohl der Durchfluss konstant ist. Ein Starter wäre vorzuziehen.","."]
[{"$f":"IF(Language=\"FR\",Trad!B96,Trad!E96)","v":"On ne sait pas si le débit correspond juste au besoin ou s'il trop grand, recherchez des informations sur le besoin. Il n'y a pas de variations mais un CF. Un démarreur serait plus avisé."},"On ne sait pas si le débit correspond juste au besoin ou s'il trop grand, recherchez des informations sur le besoin. Il n'y a pas de variations mais un CF. Un démarreur serait plus avisé.","Es ist nicht bekannt, ob die Flussrate für den Bedarf genau richtig ist oder ob sie zu hoch ist. Es gibt keine Variationen, sondern einen Frequenzumrichter. Ein Starter wäre klüger.",null,"Es ist nicht bekannt, ob die Durchflussmenge korrekt eingestellt oder zu hoch ist. Ermitteln Sie den tatsächlichen Bedarf. Es ist ein Frequenzumrichter im Einsatz, obwohl der Durchfluss konstant ist. Ein Starter wäre vorzuziehen.","Schwankungen oder Variatiionen verwenden?"]
[{"$f":"IF(Language=\"FR\",Trad!B97,Trad!E97)","v":"On ne sait pas si le débit correspond au besoin ou s'il trop grand, recherchez des informations sur le besoin réel et comparez-les aux valeurs relevées."},"On ne sait pas si le débit correspond au besoin ou s'il trop grand, recherchez des informations sur le besoin réel et comparez-les aux valeurs relevées.","Es ist nicht bekannt, ob die Durchflussmenge ausreichend oder zu hoch ist. Suchen Sie nach Informationen über den tatsächlichen Bedarf und vergleichen Sie diese mit den aufgezeichneten Werten.",null,"Es ist nicht bekannt, ob die Durchflussmenge korrekt eingestellt oder zu hoch ist. Suchen Sie nach Informationen über den tatsächlichen Bedarf und vergleichen Sie diesen mit den aufgezeichneten Werten."]
[{"$f":"IF(Language=\"FR\",Trad!B98,Trad!E98)","v":"On ne sait pas si le débit correspond au besoin ou s'il trop grand, recherchez des informations sur le besoin et comparez-les aux valeurs relevées."},"On ne sait pas si le débit correspond au besoin ou s'il trop grand, recherchez des informations sur le besoin et comparez-les aux valeurs relevées.","Es ist nicht bekannt, ob die Durchflussmenge ausreichend oder zu hoch ist. Suchen Sie nach Informationen über den tatsächlichen Bedarf und vergleichen Sie diese mit den aufgezeichneten Werten.",null,"Es ist nicht bekannt, ob die Durchflussmenge korrekt eingestellt oder zu hoch ist. Suchen Sie nach Informationen über den tatsächlichen Bedarf und vergleichen Sie diese mit den aufgezeichneten Werten."]
[{"$f":"IF(Language=\"FR\",Trad!B99,Trad!E99)","v":"A priori, on ne sait ni si le débit correspond au besoin ni s'il est variable, recherchez des informations sur le besoin. Considérez le relevé de débit du site."},"A priori, on ne sait ni si le débit correspond au besoin ni s'il est variable, recherchez des informations sur le besoin. Considérez le relevé de débit du site.","Es ist nicht bekannt, ob die Durchflussmenge dem Bedarf entspricht, und auch nicht, ob sie variabel ist. Suchen Sie nach Informationen über den Bedarf. Berücksichtigen Sie die Durchflussungsmessungen vor Ort.",null,"Es ist nicht bekannt, ob die Durchflussmenge dem Bedarf entspricht, und auch nicht, ob sie variabel ist. Suchen Sie nach Informationen über den Bedarf. Berücksichtigen Sie die Durchflussungsmessungen vor Ort."]
[{"$f":"IF(Language=\"FR\",Trad!B100,Trad!E100)","v":"A priori, on ne sait ni si le débit correspond au besoin ni s'il est variable, recherchez des informations sur le besoin. Un mesurage du débit est recommandé."},"A priori, on ne sait ni si le débit correspond au besoin ni s'il est variable, recherchez des informations sur le besoin. Un mesurage du débit est recommandé.","Es ist nicht bekannt, ob die Durchflussmenge dem Bedarf entspricht, und auch nicht, ob sie variabel ist. Suchen Sie nach Informationen über den Bedarf. Eine Durchflussmessung wird empfohlen.",null,"Es ist nicht bekannt, ob die Durchflussmenge korrekt eingestellt ist und auch nicht, ob sie variabel ist. Suchen Sie nach Informationen über den Bedarf. Eine Durchflussmessung wird empfohlen."]
[{"$f":"IF(Language=\"FR\",Trad!B101,Trad!E101)","v":"A priori, on ne sait ni si le débit correspond au besoin ni s'il est variable, recherchez des informations sur le besoin. Considérez le relevé de débit du site pour déterminer si le dimensionnement est correct et si un variateur de vitesse ferait sens."},"A priori, on ne sait ni si le débit correspond au besoin ni s'il est variable, recherchez des informations sur le besoin. Considérez le relevé de débit du site pour déterminer si le dimensionnement est correct et si un variateur de vitesse ferait sens.","Es ist nicht bekannt, ob die Durchflussmenge dem Bedarf entspricht, und auch nicht, ob sie variabel ist. Suchen Sie nach Informationen über den Bedarf. Betrachten Sie die Durchflussmessung vor Ort, um festzustellen, ob die Dimensionierung korrekt ist und ob ein drehzahlvariabler Antrieb Sinn machen würde.",null,"Es ist nicht bekannt, ob die Durchflussmenge korrekt eingestellt ist und auch nicht, ob sie variabel ist. Suchen Sie nach Informationen über den Bedarf. Konsultieren Sie die Durchflussmessung vor Ort, um die Dimensionierung zu verifizieren und um herauszufinden, ob der Einsatz eines drehzahlvariablen Antriebs sinnvoll wäre."]
[{"$f":"IF(Language=\"FR\",Trad!B102,Trad!E102)","v":"A priori, on ne sait ni si le débit correspond au besoin ni s'il est variable, recherchez des informations sur le besoin. Procédez à un mesurage du débit pour déterminer si le dimensionnement est correct et si un variateur de vitesse ferait sens."},"A priori, on ne sait ni si le débit correspond au besoin ni s'il est variable, recherchez des informations sur le besoin. Procédez à un mesurage du débit pour déterminer si le dimensionnement est correct et si un variateur de vitesse ferait sens.","Es ist nicht bekannt, ob die Durchflussmenge dem Bedarf entspricht, und auch nicht, ob sie variabel ist. Suchen Sie nach Informationen über den Bedarf. Messen Sie die Durchflussrate, um festzustellen, ob die Dimensionierung korrekt ist und ob ein drehzahlvariabler Antrieb sinnvoll wäre.",null,"Es ist nicht bekannt, ob die Durchflussmenge korrekt eingestellt ist und auch nicht, ob sie variabel ist. Suchen Sie nach Informationen über den Bedarf. Messen Sie den Durchfluss, um die Dimensionierung zu verifizieren und um herauszufinden, ob der Einsatz eines drehzahlvariablen Antriebs sinnvoll wäre."]
[{"$f":"IF(Language=\"FR\",Trad!B103,Trad!E103)","v":"Recherchez des informations sur le besoin réel et comparez-les avec les valeurs relevées par l'exploitant."},"Recherchez des informations sur le besoin réel et comparez-les avec les valeurs relevées par l'exploitant.","Suchen Sie nach Informationen über den tatsächlichen Bedarf und vergleichen Sie diese mit den vom Betreiber aufgezeichneten Werten.",null,"Suchen Sie nach Informationen über den tatsächlichen Bedarf und vergleichen Sie diesen mit den Messwerten."]
[{"$f":"IF(Language=\"FR\",Trad!B104,Trad!E104)","v":"Recherchez des informations sur le besoin réel. Procédez à des mesurages de débit et comparez les valeurs."},"Recherchez des informations sur le besoin réel. Procédez à des mesurages de débit et comparez les valeurs.","Suchen Sie nach Informationen über den tatsächlichen Bedarf. Nehmen Sie Durchflussmessungen vor und vergleichen Sie die Werte.",null,"Suchen Sie nach Informationen über den tatsächlichen Bedarf. Nehmen Sie Durchflussmessungen vor und vergleichen Sie die Werte."]
[{"$f":"IF(Language=\"FR\",Trad!B105,Trad!E105)","v":"Recherchez des informations sur le besoin réel.  De plus, les  variations de débit ne sont probablement pas efficacement maîtrisées. Considérez le relevé de débit du site pour déterminer si le dimensionnement est correct et si un variateur de vitesse ferait sens."},"Recherchez des informations sur le besoin réel.  De plus, les  variations de débit ne sont probablement pas efficacement maîtrisées. Considérez le relevé de débit du site pour déterminer si le dimensionnement est correct et si un variateur de vitesse ferait sens.","Suchen Sie nach Informationen über den tatsächlichen Bedarf. Darüber hinaus werden Flussschwankungen wahrscheinlich nicht wirksam kontrolliert. Betrachten Sie die Durchflussmessung vor Ort, um festzustellen, ob die Dimensionierung korrekt ist und ob ein drehzahlvariabler Antrieb Sinn machen würde.",null,"Suchen Sie nach Informationen über den tatsächlichen Bedarf. Variable Durchflüsse werden wahrscheinlich nicht effizient geregelt. Berücksichtigen Sie die Durchflussmessung vor Ort, um die Dimensionierung zu verifizieren und um herauszufinden, ob der Einsatz eines drehzahlvariablen Antriebs sinnvoll wäre."]
[{"$f":"IF(Language=\"FR\",Trad!B106,Trad!E106)","v":"Recherchez des informations sur le besoin réel.  De plus, les  variations ne sont probablement pas efficacement maîtrisées. Un mesurage du débit est recommandé pour déterminer si le dimensionnement est correct et si un variateur de vitesse ferait sens."},"Recherchez des informations sur le besoin réel.  De plus, les  variations ne sont probablement pas efficacement maîtrisées. Un mesurage du débit est recommandé pour déterminer si le dimensionnement est correct et si un variateur de vitesse ferait sens.","Suchen Sie nach Informationen über den tatsächlichen Bedarf. Auch Variationen werden wahrscheinlich nicht wirksam kontrolliert. Eine Durchflussmessung wird empfohlen, um festzustellen, ob die Dimensionierung korrekt ist und ob ein drehzahlvariabler Antrieb sinnvoll wäre.",null,"Suchen Sie nach Informationen über den tatsächlichen Bedarf. Variable Durchflüsse werden wahrscheinlich nicht effizient geregelt. Eine Durchflussmessung wird empfohlen, um festzustellen, ob die Dimensionierung korrekt ist und ob ein drehzahlvariabler Antrieb sinnvoll wäre."]
[{"$f":"IF(Language=\"FR\",Trad!B107,Trad!E107)","v":"Recherchez des informations sur le besoin réel et comparez-les avec les valeurs relevées par l'exploitant. Par ailleurs, il n'y a pas de variations mais un CF. Un démarreur serait énergétiquement plus efficace."},"Recherchez des informations sur le besoin réel et comparez-les avec les valeurs relevées par l'exploitant. Par ailleurs, il n'y a pas de variations mais un CF. Un démarreur serait énergétiquement plus efficace.","Suchen Sie nach Informationen über den tatsächlichen Bedarf und vergleichen Sie diese mit den vom Betreiber aufgezeichneten Werten. Darüber hinaus gibt es einen Frequenzumrichter ohne variablen Fluss. Ein Starter wäre energieeffizienter.",null,"Suchen Sie nach Informationen über den tatsächlichen Bedarf und vergleichen Sie diese mit den Messwerten. Es ist ein Frequenzumrichter im Einsatz, obwohl der Durchfluss konstant ist. Ein Starter wäre energieeffizienter."]
[{"$f":"IF(Language=\"FR\",Trad!B108,Trad!E108)","v":"Recherchez des informations sur le besoin réel, procédez à des mesurages de débit et comparez les valeurs. Par ailleurs, s'il se confirme qu'il n'y a pas de variations mais un CF. Un démarreur serait plus avisé."},"Recherchez des informations sur le besoin réel, procédez à des mesurages de débit et comparez les valeurs. Par ailleurs, s'il se confirme qu'il n'y a pas de variations mais un CF. Un démarreur serait plus avisé.","Suchen Sie nach Informationen über den tatsächlichen Bedarf, führen Sie Durchflussmessungen durch und vergleichen Sie die Werte. Wenn andererseits bestätigt wird, dass es einen Frequenzumrichter ohne Abweichungen gibt, wäre ein Starter energieeffizienter.",null,"Suchen Sie nach Informationen über den tatsächlichen Bedarf, führen Sie Durchflussmessungen durch und vergleichen Sie die Werte. Falls sich zeigt, dass der Durchfluss konstant ist und ein Frequenzumrichter im Einsatz ist, wäre ein Starter dem FU vorzuziehen.","?"]
[{"$f":"IF(Language=\"FR\",Trad!B109,Trad!E109)","v":"Recherchez des informations sur le besoin réel et comparez-les avec les valeurs relevées par l'exploitant."},"Recherchez des informations sur le besoin réel et comparez-les avec les valeurs relevées par l'exploitant.","Suchen Sie nach Informationen über den tatsächlichen Bedarf und vergleichen Sie diese mit den vom Betreiber aufgezeichneten Werten.",null,"Suchen Sie nach Informationen über den tatsächlichen Bedarf und vergleichen Sie diese mit den Messwerten."]
[{"$f":"IF(Language=\"FR\",Trad!B110,Trad!E110)","v":"Recherchez des informations sur le besoin réel, procédez à des mesurages de débit et comparez les valeurs afin de valider le dimensionnement."},"Recherchez des informations sur le besoin réel, procédez à des mesurages de débit et comparez les valeurs afin de valider le dimensionnement.","Finden Sie Informationen über den tatsächlichen Bedarf, führen Sie Durchflussmessungen durch und vergleichen Sie die Werte, um die Dimensionierung zu validieren.",null,"Finden Sie Informationen über den tatsächlichen Bedarf, führen Sie Durchflussmessungen durch und vergleichen Sie die Werte, um die Dimensionierung zu validieren."]
[{"$f":"IF(Language=\"FR\",Trad!B111,Trad!E111)","v":"Recherchez des informations sur le besoin réel. De plus, les éventuelles variations sont inconnues. Utilisez les valeurs relevées par l'exploitant et déterminez s'il y a lieu de corriger le dimensionnement et si un variateur  de vitesse ferait sens."},"Recherchez des informations sur le besoin réel. De plus, les éventuelles variations sont inconnues. Utilisez les valeurs relevées par l'exploitant et déterminez s'il y a lieu de corriger le dimensionnement et si un variateur  de vitesse ferait sens.","Suchen Sie nach Informationen über den tatsächlichen Bedarf. Darüber hinaus sind mögliche Schwankungen unbekannt. Verwenden Sie die vom Bediener aufgezeichneten Werte, um festzustellen, ob die Dimensionierung korrigiert werden muss und ob ein Frequenzumrichter sinnvoll wäre.",null,"Suchen Sie nach Informationen über den tatsächlichen Bedarf und darüber, ob der Durchfluss variabel ist. Verwenden Sie die zur Verfügung stehenden Messwerte, um festzustellen, ob die Dimensionierung korrigiert werden muss und ob ein Frequenzumrichter sinnvoll wäre."]
[{"$f":"IF(Language=\"FR\",Trad!B112,Trad!E112)","v":"Recherchez des informations sur le besoin réel. De plus, les éventuelles variations sont inconnues. Un mesurage du débit est recommandé. Comparez ensuite les valeurs afin de corriger le dimensionnement et de déterminer si un variateur de vitesse ferait sens."},"Recherchez des informations sur le besoin réel. De plus, les éventuelles variations sont inconnues. Un mesurage du débit est recommandé. Comparez ensuite les valeurs afin de corriger le dimensionnement et de déterminer si un variateur de vitesse ferait sens.","Suchen Sie nach Informationen über den tatsächlichen Bedarf. Darüber hinaus sind mögliche Schwangungen unbekannt. Eine Durchflussmessung wird empfohlen. Dann vergleichen Sie die Werte, um die Dimensionierung zu korrigieren und festzustellen, ob ein drehzahlvariabler Antrieb sinnvoll wäre.",null,"Suchen Sie nach Informationen über den tatsächlichen Bedarf und darüber, ob der Durchfluss variabel ist. Eine Durchflussmessung wird empfohlen. Vergleichen Sie die Messwerte, um die Dimensionierung zu korrigieren und festzustellen, ob ein drehzahlvariabler Antrieb sinnvoll wäre.","drehzahlvariabler Antrieb oder Frequenzumrichter verwenden? Kommt öfters verschieden vor"]
[{"$f":"IF(Language=\"FR\",Trad!B113,Trad!E113)","v":"Recherchez des informations sur le besoin réel. De plus, les éventuelles variations sont inconnues. Utilisez les valeurs relevées par l'exploitant et déterminer s'il y a lieu de corriger le dimensionnement et si un variateur  de vitesse ferait sens"},"Recherchez des informations sur le besoin réel. De plus, les éventuelles variations sont inconnues. Utilisez les valeurs relevées par l'exploitant et déterminer s'il y a lieu de corriger le dimensionnement et si un variateur  de vitesse ferait sens","Suchen Sie nach Informationen über den tatsächlichen Bedarf. Darüber hinaus sind mögliche Schwankungen unbekannt. Verwenden Sie die vom Bediener aufgezeichneten Werte, um festzustellen, ob die Dimensionierung korrigiert werden muss und ob ein Frequenzumrichter sinnvoll wäre.",null,"Suchen Sie nach Informationen über den tatsächlichen Bedarf und darüber, ob der Durchfluss variabel ist. Verwenden Sie die zur Verfügung stehenden Messwerte, um festzustellen, ob die Dimensionierung korrigiert werden muss und ob ein Frequenzumrichter sinnvoll wäre."]
[{"$f":"IF(Language=\"FR\",Trad!B114,Trad!E114)","v":"Recherchez des informations sur le besoin réel. De plus, les éventuelles variations sont inconnues. Un mesurage du débit est recommandé afin de déterminer s'il y a lieu de corriger le dimensionnement et si un variateur  de vitesse ferait sens."},"Recherchez des informations sur le besoin réel. De plus, les éventuelles variations sont inconnues. Un mesurage du débit est recommandé afin de déterminer s'il y a lieu de corriger le dimensionnement et si un variateur  de vitesse ferait sens.","Suchen Sie nach Informationen über den tatsächlichen Bedarf. Darüber hinaus sind mögliche Schwankungen unbekannt. Eine Durchflussmessung wird empfohlen, um festzustellen, ob die Dimensionierung korrigiert werden muss und ob ein drehzahlvariabler Antrieb sinnvoll wäre.",null,"Suchen Sie nach Informationen über den tatsächlichen Bedarf und darüber, ob der Durchfluss variabel ist. Eine Durchflussmessung wird empfohlen, um festzustellen, ob die Dimensionierung korrigiert werden muss und ob ein drehzahlvariabler Antrieb sinnvoll wäre."]
[{"$f":"IF(Language=\"FR\",Trad!B115,Trad!E115)","v":"La durée et la période des mesurages doivent intégrer l'éventuel caractère saisonnier. Il est parfois bienvenu de réaliser plusieurs campagnes notamment une en été et une en hiver."},"La durée et la période des mesurages doivent intégrer l'éventuel caractère saisonnier. Il est parfois bienvenu de réaliser plusieurs campagnes notamment une en été et une en hiver.","Die Dauer und der Zeitraum der Messungen sollten die mögliche Saisonabhängigkeit berücksichtigen. Manchmal ist es ratsam, mehrere Messungen durchzuführen, insbesondere eine im Sommer und eine im Winter.",null,"Die Dauer und der Zeitraum der Messungen sollten eine allfällige Saisonabhängigkeit berücksichtigen. Manchmal ist es ratsam, mehrere Messungen durchzuführen, insbesondere eine im Sommer und eine im Winter."]
[{"$f":"IF(Language=\"FR\",Trad!B116,Trad!E116)","v":"Une durée de mesurage de l'ordre d'une semaine convient bien dans ce cas."},"Une durée de mesurage de l'ordre d'une semaine convient bien dans ce cas.","Eine Messzeit von etwa einer Woche ist in diesem Fall geeignet.",null,"Eine Messzeit von etwa einer Woche ist in diesem Fall geeignet."]
[{"$f":"IF(Language=\"FR\",Trad!B117,Trad!E117)","v":"Les mesurages doivent être menés sur une période représentative de la production annuelle."},"Les mesurages doivent être menés sur une période représentative de la production annuelle.","Die Messungen müssen über einen für die Jahresproduktion repräsentativen Zeitraum durchgeführt werden.",null,"Die Messungen müssen über einen für die Jahresproduktion repräsentativen Zeitraum durchgeführt werden."]
[{"$f":"IF(Language=\"FR\",Trad!B118,Trad!E118)","v":"Il s'agit de parvenir à déterminer quelle période et quelle durée de mesurage conviennent afin de couvrir l'évolution annuelle des besoins."},"Il s'agit de parvenir à déterminer quelle période et quelle durée de mesurage conviennent afin de couvrir l'évolution annuelle des besoins.","Ziel ist es, zu bestimmen, welcher Zeitraum und welche Dauer der Messung angemessen ist, um die jährliche Bedarfsveränderung abzudecken.",null,"Ziel ist es, zu bestimmen, welcher Zeitraum und welche Dauer der Messung angemessen ist, um die jährliche Bedarfsveränderung abzudecken."]
[{"$f":"IF(Language=\"FR\",Trad!B119,Trad!E119)","v":"Les valeurs de pression sont disponibles. Utilisez-les avec les valeurs de débit pour calculer la puissance hydraulique. Utilisez les valeurs de puissance électrique disponibles pour calculer les rendements."},"Les valeurs de pression sont disponibles. Utilisez-les avec les valeurs de débit pour calculer la puissance hydraulique. Utilisez les valeurs de puissance électrique disponibles pour calculer les rendements.","Druckwerte sind verfügbar. Verwenden Sie diese zusammen mit den Durchflusswerten zur Berechnung der hydraulischen Leistung. Verwenden Sie die verfügbaren elektrischen Leistungswerte zur Berechnung der Effizienz.",null,"Druckwerte sind verfügbar. Verwenden Sie diese zusammen mit den Durchflusswerten zur Berechnung der hydraulischen Leistung. Verwenden Sie die verfügbaren elektrischen Leistungswerte zur Berechnung des Wirkungsgrades.","Effizienz oder Wirkungrad verwenden? Kommt öfters vor"]
[{"$f":"IF(Language=\"FR\",Trad!B120,Trad!E120)","v":"Les valeurs de pression sont disponibles. Utilisez-les avec les valeurs de débit pour calculer la puissance hydraulique .Procédéez aux mesurages de la puissance électrique et calculez les rendements."},"Les valeurs de pression sont disponibles. Utilisez-les avec les valeurs de débit pour calculer la puissance hydraulique .Procédéez aux mesurages de la puissance électrique et calculez les rendements.","Druckwerte sind verfügbar. Verwenden Sie diese zusammen mit den Durchflusswerten zur Berechnung der hydraulischen Leistung. Messen Sie die elektrische Leistung und berechnen Sie den Wirkungsgrad.",null,"Druckwerte sind verfügbar. Verwenden Sie diese zusammen mit den Durchflusswerten zur Berechnung der hydraulischen Leistung. Messen Sie die elektrische Leistung und berechnen Sie den Wirkungsgrad."]
[{"$f":"IF(Language=\"FR\",Trad!B121,Trad!E121)","v":"Les valeurs de pression ne sont pas relevées. Si l'on veut calculer le rendement de l'entraînement, il faut mesurer les pressions à l'aspiration et au refoulement de la pompe puis calculer la puissance hydraulique. Avec les valeurs de puissance électrique relevées par l'exploitant, on peut ensuite calculer les performances de l'entraînement. "},"Les valeurs de pression ne sont pas relevées. Si l'on veut calculer le rendement de l'entraînement, il faut mesurer les pressions à l'aspiration et au refoulement de la pompe puis calculer la puissance hydraulique. Avec les valeurs de puissance électrique relevées par l'exploitant, on peut ensuite calculer les performances de l'entraînement. ","Die Druckwerte werden nicht aufgezeichnet. Um den Wirkungsgrad des Antriebs zu berechnen, messen Sie den Saug- und Förderdruck der Pumpe und berechnen Sie die hydraulische Leistung. Mit den vom Bediener erfassten elektrischen Leistungswerten kann dann die Antriebsleistung berechnet werden. ",null,"Die Druckwerte werden nicht aufgezeichnet. Um den Wirkungsgrad des Antriebs zu berechnen, messen Sie den Saug- und Förderdruck der Pumpe und berechnen Sie die hydraulische Leistung. Mit den vor Ort verfügbaren elektrischen Leistungswerten kann dann die Antriebsleistung berechnet werden. "]
[{"$f":"IF(Language=\"FR\",Trad!B122,Trad!E122)","v":"Les valeurs de pression et de puissance électrique ne sont pas relevées. Procédez au mesurage de ces grandeurs de façon à pouvoir calculer les performances de l'entraînement.  "},"Les valeurs de pression et de puissance électrique ne sont pas relevées. Procédez au mesurage de ces grandeurs de façon à pouvoir calculer les performances de l'entraînement.  ","Die Werte für Druck und elektrische Leistung werden nicht aufgezeichnet. Messen Sie diese Werte, damit die Leistung des Antriebs berechnet werden kann. ",null,"Die Werte für Druck und elektrische Leistung werden nicht aufgezeichnet. Messen Sie diese Werte, damit die Leistung des Antriebs berechnet werden kann. "]
[{"$f":"IF(Language=\"FR\",Trad!B123,Trad!E123)","v":"Durant des mesurages de débit, on s'efforcera d'ouvrir la vanne semi-fermée de façon à connaître le débit à vanne ouverte. Si ce n'est pas possible, on travaillera avec la caractéristique de la vanne. On procédera aux analyses permettant de savoir quel type d'optimisation est adapté (selon les explications de détail)."},"Durant des mesurages de débit, on s'efforcera d'ouvrir la vanne semi-fermée de façon à connaître le débit à vanne ouverte. Si ce n'est pas possible, on travaillera avec la caractéristique de la vanne. On procédera aux analyses permettant de savoir quel type d'optimisation est adapté (selon les explications de détail).","Bei Durchflussmessungen sollte versucht werden, das halbgeschlossene Ventil zu öffnen, so dass die Durchflussrate bei geöffnetem Ventil bekannt ist. Falls dies nicht möglich ist, arbeiten Sie mit der Ventilcharakteristik. Es werden Analysen durchgeführt, um herauszufinden, welche Art der Optimierung geeignet ist (wie im Detail erläutert).",null,"Bei Durchflussmessungen sollte versucht werden, das halbgeschlossene Ventil zu öffnen, so dass die Durchflussrate bei geöffnetem Ventil bekannt ist. Falls dies nicht möglich ist, kann auf die Ventilcharakteristik zurückgegriffen werden. Mit einer Detailanalyse kann eruiert werdne, welche Optimierung angebracht ist. (siehe Detail)."]
[{"$f":"IF(Language=\"FR\",Trad!B124,Trad!E124)","v":"Lorsque l'on a affaire à des pompes en cascade, il faut pouvoir interpréter les valeurs de puissance él. et de débit en identifiant les séquences d'enclenchement/déclenchement."},"Lorsque l'on a affaire à des pompes en cascade, il faut pouvoir interpréter les valeurs de puissance él. et de débit en identifiant les séquences d'enclenchement/déclenchement.","Wenn es sich um Kaskadenpumpen handelt, muss es möglich sein, die elektrischen Leistungs- und Durchflusswerte zu interpretieren, indem die Ein- und Ausschaltsequenzen identifiziert werden.",null,"Wenn es sich um Kaskadenpumpen handelt, kann durch Interpretation der Ein- und Ausschaltsequenzen auf die elektrischen Leistungs- und Durchflusswerte geschlossen werden."]
[{"$f":"IF(Language=\"FR\",Trad!B125,Trad!E125)","v":"On cherche à éviter les accouplements qui sont source de frais et d'inefficience énergétique. Dans le cadre d'un assainissement, évaluez la possibilité de travailler avec un entraînement direct."},"On cherche à éviter les accouplements qui sont source de frais et d'inefficience énergétique. Dans le cadre d'un assainissement, évaluez la possibilité de travailler avec un entraînement direct.","Kopplungen, die eine Quelle von Kosten und Energieineffizienz sind, sind zu vermeiden. Beurteilen Sie im Zusammenhang mit einer Sanierung die Möglichkeit, mit einem Direktantrieb zu arbeiten.",null,"Indirekte Antriebe über Riemen oder Getriebe sind ineffizient und sind zu vermeiden. Ziehen Sie bei einer Sanierung den Ersatz mit einem Direktantrieb in Betracht.","."]
[{"$f":"IF(Language=\"FR\",Trad!B126,Trad!E126)","v":"Le besoin d'assainissement facilite la démarche d'analyse et d'optimisation."},"Le besoin d'assainissement facilite la démarche d'analyse et d'optimisation.","Die Notwendigkeit von Sanierungsmaßnahmen erleichtert den Analyse- und Optimierungsprozess.",null,"Falls bereits Sanierungsmassnahmen anstehen, ist es leichter, einen Analyse- und Optimierungsprozess anzustossen."]
[{"$f":"IF(Language=\"FR\",Trad!B127,Trad!E127)","v":"5. Traitement des données de mesurage, analyses et propositions"},"5. Traitement des données de mesurage, analyses et propositions","5. Verarbeitung von Messdaten, Analysen und Vorschlägen",null,"5. Verarbeitung von Messdaten, Analysen und Vorschlägen"]
[{"$f":"IF(Language=\"FR\",Trad!B128,Trad!E128)","v":"Les réponses aux questions ainsi que les valeurs enregistrées des grandeurs suggérées dans la synthèse ci-dessus permettent de procéder aux analyses de détail.\nCes dernières, développées ci-dessous, se basent donc sur la disponibilité des valeurs de débits, de Δp et de Pel sur une période de temps représentative des besoins annuels."},"Les réponses aux questions ainsi que les valeurs enregistrées des grandeurs suggérées dans la synthèse ci-dessus permettent de procéder aux analyses de détail.\nCes dernières, développées ci-dessous, se basent donc sur la disponibilité des valeurs de débits, de Δp et de Pel sur une période de temps représentative des besoins annuels.","Die Antworten auf die Fragen sowie die aufgezeichneten Werte der in der obigen Synthese vorgeschlagenen Mengen erlauben es, detaillierte Analysen durchzuführen. \nLetztere, die im Folgenden entwickelt werden, basieren daher auf der Verfügbarkeit von Durchflusswerten von Δp und Pel über einen Zeitraum, der für den Jahresbedarf repräsentativ ist.","formule","Mit den oben erhobenen Informationen, kann die Feinanalyse angegangen werden. \nDiese setzen die Verfügbarkeit von Durchflusswerten, Δp und Pel voraus. Diese sollten über Zeitraum zur Verfügung stehen, der für den Jahresbedarf repräsentativ ist."]
[{"$f":"IF(Language=\"FR\",Trad!B129,Trad!E129)","v":"L'évolution des grandeurs au cours du temps permet d'apprécier les plages de variations et la célérité des variations. Pour des pompes, on en tire notamment:\n- la valeur de la puissance hydraulique fournie, calculée à partir des valeurs de débit et de Δp (aux bornes de la pompe), puis celle du rendement global, calculée à partir de la puissance hydraulique et de la puissance électrique.\n- les valeurs extrêmes, dont le débit maximum qui permet de juger de la qualité du dimensionnement.\nIl est aussi possible de traiter ces données pour disposer, par exemple, du profil de besoin (débit), sous forme de classes. Ce débit classé permet ensuite de sélectionner au mieux les mesures d'optimisation et de déterminer les gains par classe et total. "},"L'évolution des grandeurs au cours du temps permet d'apprécier les plages de variations et la célérité des variations. Pour des pompes, on en tire notamment:\n- la valeur de la puissance hydraulique fournie, calculée à partir des valeurs de débit et de Δp (aux bornes de la pompe), puis celle du rendement global, calculée à partir de la puissance hydraulique et de la puissance électrique.\n- les valeurs extrêmes, dont le débit maximum qui permet de juger de la qualité du dimensionnement.\nIl est aussi possible de traiter ces données pour disposer, par exemple, du profil de besoin (débit), sous forme de classes. Ce débit classé permet ensuite de sélectionner au mieux les mesures d'optimisation et de déterminer les gains par classe et total. ","Die Entwicklung der Mengen im Laufe der Zeit ermöglicht es, die Schwankungsbreiten und die Geschwindigkeit der Variationen einzuschätzen. Für Pumpen kann insbesondere Folgendes ermittelt werden: \n- der Wert der gelieferten hydraulischen Leistung, berechnet aus den Werten der Fördermenge und von Δp (an den Pumpenterminals), dann der Wert des Gesamtwirkungsgrades, berechnet aus der hydraulischen Leistung und der elektrischen Leistung. \n- die Extremwerte, einschließlich der maximalen Durchflussmenge, die es ermöglicht, die Qualität der Dimensionierung zu beurteilen. \nEs ist auch möglich, diese Daten zu verarbeiten, um z.B. das Anforderungsprofil (Flussrate) in Form von Klassen zu erhalten. Diese klassifizierte Flussrate wird dann zur Auswahl der bestmöglichen Optimierungsmaßnahmen und zur Bestimmung der Gewinne pro Klasse und insgesamt verwendet. ",null,"Der zeitliche Verlauf der Daten ermöglicht es, die Schwankungsbreiten und die Geschwindigkeit der Variationen einzuschätzen. Für Pumpen kann insbesondere Folgendes ermittelt werden: \n- Die hydraulische Leistung, berechnet aus der Fördermenge und Δp (an den Pumpenflanschen), \n- Der Wert des Gesamtwirkungsgrades, berechnet aus der hydraulischen- und der elektrischen Leistung. \n- Die Extremwerte, insbesondere die maximale Durchflussmenge, welche für die Dimensionierung wichtig ist. \nDie Daten können auch weiterverarbeitet werden, um z.B. das Anforderungsprofil (Durchflussrate) in Form von Klassen zu erhalten. Diese klassifizierte Durchflussrate wird dann zur Auswahl der bestmöglichen Optimierungsmaßnahmen und zur Bestimmung der Einsparungen pro Klasse und insgesamt verwendet. ","."]
[{"$f":"IF(Language=\"FR\",Trad!B130,Trad!E130)","v":"Le dimensionnement est-il correct ou nécessite-t-il d'être optimisé?"},"Le dimensionnement est-il correct ou nécessite-t-il d'être optimisé?","Ist die Dimensionierung richtig oder muss sie optimiert werden?",null,"Ist die Dimensionierung richtig oder muss sie optimiert werden?"]
[{"$f":"IF(Language=\"FR\",Trad!B131,Trad!E131)","v":"La qualité du dimensionnement s'évalue en premier lieu sur la base du rapport entre le débit max. relevé (et nécessaire) et le débit nominal (rendement max.). Plusieurs situations sont possibles:\n1) Lorsque ce rapport est inférieur à 1, la pompe est surdimensionnée. Plus ce rapport est petit, plus le rendement sera réduit et plus le potentiel d'optimisation important.\n2) Lorsque ce rapport est proche de 1, le dimensionnement est correct (ce qui ne garantit pas que la situation soit énergétiquement idéale, d'autres inefficiences peuvent exister).\n3) Lorsque ce rapport est supérieur à 1, la pompe est sousdimensionnée. Plus ce rapport est grand, plus le rendement sera mauvais et les risques de problèmes élevés (cavitation par exemple)"},"La qualité du dimensionnement s'évalue en premier lieu sur la base du rapport entre le débit max. relevé (et nécessaire) et le débit nominal (rendement max.). Plusieurs situations sont possibles:\n1) Lorsque ce rapport est inférieur à 1, la pompe est surdimensionnée. Plus ce rapport est petit, plus le rendement sera réduit et plus le potentiel d'optimisation important.\n2) Lorsque ce rapport est proche de 1, le dimensionnement est correct (ce qui ne garantit pas que la situation soit énergétiquement idéale, d'autres inefficiences peuvent exister).\n3) Lorsque ce rapport est supérieur à 1, la pompe est sousdimensionnée. Plus ce rapport est grand, plus le rendement sera mauvais et les risques de problèmes élevés (cavitation par exemple)","Die Qualität der Dimensionierung wird in erster Linie anhand des Verhältnisses zwischen dem gemessenen (und geforderten) maximalen Durchfluss und dem Nenndurchfluss (max. Wirkungsgrad) beurteilt. Mehrere Situationen sind möglich:\n1) Wenn dieses Verhältnis kleiner als 1 ist, ist die Pumpe überdimensioniert. Je kleiner das Verhältnis, desto geringer der Wirkungsgrad und desto größer das Optimierungspotenzial. \n2) Wenn dieses Verhältnis nahe bei 1 liegt, ist die Dimensionierung korrekt (dies garantiert nicht, dass die Situation energetisch ideal ist, es können andere Ineffizienzen vorliegen). \n3) Wenn dieses Verhältnis größer als 1 ist, ist die Pumpe unterdimensioniert. Je höher dieses Verhältnis ist, desto schlechter ist der Wirkungsgrad und desto höher das Risiko von Problemen (z.B. Kavitation).",null,"Die Qualität der Dimensionierung wird in erster Linie anhand des Verhältnisses zwischen dem gemessenen (und geforderten) maximalen Durchfluss und dem Nenndurchfluss (max. Wirkungsgrad) beurteilt. Mehrere Situationen sind möglich:\n1) Wenn dieses Verhältnis kleiner als 1 ist, ist die Pumpe überdimensioniert. Je kleiner das Verhältnis, desto geringer der Wirkungsgrad und desto größer das Optimierungspotenzial. \n2) Wenn dieses Verhältnis nahe bei 1 liegt, ist die Dimensionierung korrekt (dies garantiert nicht, dass die Situation energetisch ideal ist, es können andere Ineffizienzen vorliegen). \n3) Wenn dieses Verhältnis größer als 1 ist, ist die Pumpe unterdimensioniert. Je höher dieses Verhältnis ist, desto schlechter ist der Wirkungsgrad und desto höher das Risiko von Problemen (z.B. Kavitation)."]
[{"$f":"IF(Language=\"FR\",Trad!B132,Trad!E132)","v":"En cas de redimensionnement sans variations de charge/débit, les économies proviennent donc de l'augmentation du rendement, de la baisse de la puissance hydraulique ou des deux.\nL'investissement consistera alors en une nouvelle pompe et, normalement, un nouveau moteur ou alors en l'ajout d'un variateur et, normalement, un nouveau moteur"},"En cas de redimensionnement sans variations de charge/débit, les économies proviennent donc de l'augmentation du rendement, de la baisse de la puissance hydraulique ou des deux.\nL'investissement consistera alors en une nouvelle pompe et, normalement, un nouveau moteur ou alors en l'ajout d'un variateur et, normalement, un nouveau moteur","Im Falle einer Größenänderung ohne Last-/Durchflussschwankungen ergeben sich die Einsparungen daher aus einem höheren Wirkungsgrad, einer geringeren hydraulischen Leistung oder beidem. \nDie Investition besteht dann aus einer neuen Pumpe und in der Regel aus einem neuen Motor oder aus der Hinzufügung eines drehzahlvariablen Antriebs und in der Regel aus einem neuen Motor.",null,"Im Falle einer Größenänderung ohne Last-/Durchflussschwankungen ergeben sich die Einsparungen daher aus einem höheren Wirkungsgrad, einer geringeren hydraulischen Leistung oder beidem. \nDie Investition besteht dann aus einer neuen Pumpe und in der Regel aus einem neuen Motor oder aus der Hinzufügung eines drehzahlvariablen Antriebs und in der Regel aus einem neuen Motor."]
[{"$f":"IF(Language=\"FR\",Trad!B133,Trad!E133)","v":"Les variations de charge/débit sont-elles bien gérées?"},"Les variations de charge/débit sont-elles bien gérées?","Werden Last-/Fluss-Schwankungen gut bewältigt?",null,"Werden Last-/Fluss-Schwankungen gut bewältigt?"]
[{"$f":"IF(Language=\"FR\",Trad!B134,Trad!E134)","v":"Il existe de multiples façons de gérer un besoin fluctuant. On citera notamment, côté pompe, l'étranglement (vanne), le by-pass, la variation de vitesse et, côté consommateurs, des vannes à deux ou trois voies. Ces dernières maintiennent un débit sans besoin (parfois pour conserver une branche en température). Ces solutions ne sont pas équivalentes en termes énergétiques.\n1) Lorsqu'il n'y a qu'un consommateur ou que, multiples, ils ont un comportement synchrone (donc proche de celui d'un seul consommateur), le profil de débit classé permet de suggérer des optimisations ad hoc basées sur l'introduction d'un variateur (voir utilisation des débits classés). Les optimisations résident dans le redimensionnement, le recours à des cascades et la variation de vitesse.\n2) Lorsque les pompes alimentent des consommateurs aux besoins indépendants les uns des autres dans des réseaux de branches parallèles, la situation est plus compliquée. Des solutions simples comme le réglage de la pression au refoulement de la pompe sont insuffisantes et peuvent parfois poser des problèmes sur certaines branches. Il est alors nécessaire de conserver des vannes, par exemple pour assurer l'équilibrage et les besoins réels. Les analyses doivent alors être menées de cas en cas et des solutions sur mesure proposées. Des approches basées sur des régulateurs de pression dynamique et des capteurs de pression déportés offrent d'excellents résultats énergétiques mais sont relativement complexes.\nLe choix du réglage en vitesse de même que les gains atteignables dépendent aussi de paramètres comme le type de circuit hydraulique. Typiquement, lorsqu'une hauteur statique importante ou une forte contrepression sont à vaincre, l'apport d'un convertisseur peut être limité en termes de gain. "},"Il existe de multiples façons de gérer un besoin fluctuant. On citera notamment, côté pompe, l'étranglement (vanne), le by-pass, la variation de vitesse et, côté consommateurs, des vannes à deux ou trois voies. Ces dernières maintiennent un débit sans besoin (parfois pour conserver une branche en température). Ces solutions ne sont pas équivalentes en termes énergétiques.\n1) Lorsqu'il n'y a qu'un consommateur ou que, multiples, ils ont un comportement synchrone (donc proche de celui d'un seul consommateur), le profil de débit classé permet de suggérer des optimisations ad hoc basées sur l'introduction d'un variateur (voir utilisation des débits classés). Les optimisations résident dans le redimensionnement, le recours à des cascades et la variation de vitesse.\n2) Lorsque les pompes alimentent des consommateurs aux besoins indépendants les uns des autres dans des réseaux de branches parallèles, la situation est plus compliquée. Des solutions simples comme le réglage de la pression au refoulement de la pompe sont insuffisantes et peuvent parfois poser des problèmes sur certaines branches. Il est alors nécessaire de conserver des vannes, par exemple pour assurer l'équilibrage et les besoins réels. Les analyses doivent alors être menées de cas en cas et des solutions sur mesure proposées. Des approches basées sur des régulateurs de pression dynamique et des capteurs de pression déportés offrent d'excellents résultats énergétiques mais sont relativement complexes.\nLe choix du réglage en vitesse de même que les gains atteignables dépendent aussi de paramètres comme le type de circuit hydraulique. Typiquement, lorsqu'une hauteur statique importante ou une forte contrepression sont à vaincre, l'apport d'un convertisseur peut être limité en termes de gain. ","Es gibt viele Möglichkeiten, mit einem schwankenden Bedarf umzugehen. Dazu gehören auf der Pumpenseite Drosselung (Ventil), Bypass, Drehzahländerung und auf der Verbraucherseite Zwei- oder Dreiwegeventile. Letztere halten eine Flussrate ohne Notwendigkeit aufrecht (manchmal, um einen Zweig warm zu halten). Diese Lösungen sind in energetischer Hinsicht nicht gleichwertig. \n1) Wenn es nur einen Verbraucher gibt oder wenn es mehrere Verbraucher mit synchronem Verhalten gibt (daher nahe an dem eines einzelnen Verbrauchers), ermöglicht das klassifizierte Strömungsprofil Ad-hoc-Optimierungen auf der Basis der Einführung eines drehzahlvariablen Antriebs vorzuschlagen (siehe Verwendung von klassifizierten Strömen). Die Optimierungen liegen in der Größenanpassung, dem Einsatz von Kaskaden und der Geschwindigkeitsvariation. \n2) Wenn Pumpen in parallelen Filialnetzen Verbraucher mit unabhängigen Anforderungen versorgen, ist die Situation komplizierter. Einfache Lösungen wie die Anpassung des Pumpenauslassdrucks sind unzureichend und können manchmal Probleme auf einigen Zweigen verursachen. Es ist dann notwendig, Ventile aufzubewahren, z.B. um den Ausgleich und den tatsächlichen Bedarf sicherzustellen. Dann müssen von Fall zu Fall Analysen durchgeführt und massgeschneiderte Lösungen vorgeschlagen werden. Ansätze, die auf dynamischen Druckreglern und ferngesteuerten Drucksensoren basieren, bieten hervorragende Energieergebnisse, sind aber relativ komplex. \nDie Wahl der Drehzahlregelung sowie die erzielbaren Gewinne hängen auch von Parametern wie der Art des Hydrauliksystems ab. Wenn eine hohe statische Förderhöhe oder ein hoher Gegendruck überwunden werden muss, kann der Beitrag eines Umrichters typischerweise in Bezug auf die Verstärkung begrenzt werden. ",null,"Es gibt viele Möglichkeiten, mit einem schwankenden Bedarf umzugehen. Dazu gehören auf der Pumpenseite Drosselung (Ventil), Bypass, Drehzahländerung und auf der Verbraucherseite Zwei- oder Dreiwegeventile. Letztere halten einen Durchfluss ohne Bedarf aufrecht (manchmal, um einen Zweig warm zu halten). Diese Lösungen sind in energetischer Hinsicht nicht gleichwertig. \n1) Bei nur einem Verbraucher (oder mehreren Verbrauchern mit synchronem Verhalten), ermöglicht das klassifizierte Strömungsprofil Optimierungen durch einen drehzahlvariablen Antrieb (siehe Verwendung von klassifizierten Strömen). Die Optimierungen liegen in der Größenanpassung, dem Einsatz von Kaskaden und der Geschwindigkeitsvariation. \n2) Wenn Pumpen in parallelen Zweigen Verbraucher mit unabhängigen Bedarfsprofilen versorgen, ist die Situation komplizierter. Einfache Lösungen wie die Anpassung des Pumpenauslassdrucks sind unzureichend und können manchmal Probleme auf einzelnen Zweigen verursachen. Es ist dann notwendig, Ventile beizubehalten, z.B. für den Durchfluss-Abgleich zwischen den parallelen Zweigen. In diesen Fällen müssen die Analysen fallspezifisch durchgeführt und massgeschneiderte Lösungen vorgeschlagen werden. Ansätze, die auf dynamischen Druckreglern und remote-Drucksensoren basieren, erreichen sehr gute Efizienzgewinne, sind aber relativ komplex. \nOb eine Drehzahlregelung sinnvoll ist und welche Einsparungen damit erzielt werden können hängt auch von Parametern des hydraulischen Systems ab. Wenn eine hohe statische Förderhöhe oder ein hoher Gegendruck überwunden werden muss ist der Effizienzgewinn durch einen Umrichter eventuell nicht sehr gross.","."]
[{"$f":"IF(Language=\"FR\",Trad!B135,Trad!E135)","v":"6. Mesures d'optimisation et calcul des économies"},"6. Mesures d'optimisation et calcul des économies","6. Optimierungsmaßnahmen und Berechnung der Einsparungen",null,"6. Optimierungsmaßnahmen und Berechnung der Einsparungen"]
[{"$f":"IF(Language=\"FR\",Trad!B136,Trad!E136)","v":"Dans la cas d'une pompe ou d'un groupe de pompes, les économies peuvent avoir pour origines:\n- un débit plus important que nécessaire (aux consommateurs)\n- une exploitation non optimisée en termes d'horaire (un mode réduit ou un arrêt possible dans certaines plages horaires)\n- un travail à un niveau de pression trop élevé (le système assurerait sa prestation avec une pression plus faible ou une vanne semi-fermée casse la pression en permanence)\n- le système est ancien, mal dimensionné et les variations de besoin sont gérées de façon non optimale "},"Dans la cas d'une pompe ou d'un groupe de pompes, les économies peuvent avoir pour origines:\n- un débit plus important que nécessaire (aux consommateurs)\n- une exploitation non optimisée en termes d'horaire (un mode réduit ou un arrêt possible dans certaines plages horaires)\n- un travail à un niveau de pression trop élevé (le système assurerait sa prestation avec une pression plus faible ou une vanne semi-fermée casse la pression en permanence)\n- le système est ancien, mal dimensionné et les variations de besoin sont gérées de façon non optimale ","Im Falle einer Pumpe oder einer Gruppe von Pumpen können die Einsparungen zurückzuführen sein auf: \n- eine höhere Fördermenge als erforderlich (zu den Verbrauchern) \n- einen nicht optimierten Betrieb in Bezug auf den Zeitplan (reduzierter Betrieb oder mögliche Abschaltung in bestimmten Zeitschlitzen) \n- das Arbeiten mit einem zu hohen Druckniveau (das System würde seinen Dienst mit einem niedrigeren Druck versehen oder ein halbgeschlossenes Ventil unterbricht den Druck dauerhaft) \n- das System ist alt, schlecht dimensioniert und Schwankungen der Anforderungen werden nicht optimal bewältigt. ",null,"Im Fall einer Pumpe oder einer Pumpengruppe sind die Einsparungen meist bei folgenden nicht-optimalen Zuständen erzielt werden: \n- eine höhere Fördermenge als erforderlich (zu den Verbrauchern) \n- unnötig hohe Betriebszeiten (reduzierter Betrieb oder mögliche Abschaltung in bestimmten Perioden) \n- das Arbeiten mit einem zu hohen Druckniveau (das System würde auch mit einem niedrigeren Druck funktionieren oder ein halbgeschlossenes Ventil reduziert den Druck permanent) \n- das System ist alt, schlecht dimensioniert und Schwankungen der Anforderungen werden nicht optimal geregelt. ","?"]
[{"$f":"IF(Language=\"FR\",Trad!B137,Trad!E137)","v":"Le calcul des économies d'une pompe à débit variable passe par le calcul des rendements dans les différentes plages de débit. Ainsi, pour chaque classe de débit, on détermine les rendement anciens et nouveaux pour les composants de l'entraînement. Le rendement total de chaque classe i s'exprime par le produit des rendements des composants constituant l'entraînement:"},"Le calcul des économies d'une pompe à débit variable passe par le calcul des rendements dans les différentes plages de débit. Ainsi, pour chaque classe de débit, on détermine les rendement anciens et nouveaux pour les composants de l'entraînement. Le rendement total de chaque classe i s'exprime par le produit des rendements des composants constituant l'entraînement:","Zur Berechnung der Einsparungen einer Verstellpumpe ist es notwendig, die Wirkungsgrade in den verschiedenen Förderstrombereichen zu berechnen. So werden für jede Strömungsklasse die alten und neuen Wirkungsgrade für die Antriebskomponenten ermittelt. Der Gesamtwirkungsgrad jeder Klasse i wird als Produkt der Wirkungsgrade der Antriebskomponenten ausgedrückt:",null,"Zur Berechnung der Einsparungen einer Pumpe mit variablem Durchfluss müssen die Wirkungsgrade in den verschiedenen Durchflussbereichen berechnet werden. So werden für jeden Durchflussbereich die alten und neuen Wirkungsgrade für die Antriebskomponenten ermittelt. Der Gesamtwirkungsgrad jeder Klasse i wird als Produkt der Wirkungsgrade der Antriebskomponenten ausgedrückt:"]
[{"$f":"IF(Language=\"FR\",Trad!B138,Trad!E138)","v":"avec les rendement des différents composants: ηCF rendement du convertisseur, ηmot rendement du moteur, ηacc rendement de l'accouplement, ηpompe rendement de la pompe, tous ces composants ne sont pas forcément présents"},"avec les rendement des différents composants: ηCF rendement du convertisseur, ηmot rendement du moteur, ηacc rendement de l'accouplement, ηpompe rendement de la pompe, tous ces composants ne sont pas forcément présents","mit den Wirkungsgraden der einzelnen Komponenten: ηCF Wirkungsgrad des Umrichters, ηmot Wirkungsgrad des Motors, ηacc Wirkungsgrad der Kupplung, ηpompe Wirkungsgrad der Pumpe, nicht unbedingt alle diese Komponenten sind vorhanden",null,"mit den Wirkungsgraden der einzelnen Komponenten: ηCF Wirkungsgrad des Umrichters, ηmot Wirkungsgrad des Motors, ηacc Wirkungsgrad des Antriebs (Riemen o.ä.), ηpompe Wirkungsgrad der Pumpe. Nicht unbedingt alle diese Komponenten sind vorhanden."]
[{"$f":"IF(Language=\"FR\",Trad!B139,Trad!E139)","v":"Economies annuelles associées à l'optimisation d'une pompe à débit variable:"},"Economies annuelles associées à l'optimisation d'une pompe à débit variable:","Jährliche Einsparungen in Verbindung mit der Optimierung einer Pumpe mit variablem Durchfluss:",null,"Jährliche Einsparungen durch die Optimierung einer Pumpe mit variablem Durchfluss:"]
[{"$f":"IF(Language=\"FR\",Trad!B140,Trad!E140)","v":"Le rendement d'une pompe en fonction de la vitesse n'est pas toujours estimé correctement."},"Le rendement d'une pompe en fonction de la vitesse n'est pas toujours estimé correctement.","Der Wirkungsgrad einer Pumpe abhängig von der Drehzahl wird nicht immer richtig eingeschätzt.",null,"Der Wirkungsgrad einer Pumpe abhängig von der Drehzahl wird nicht immer richtig eingeschätzt."]
[{"$f":"IF(Language=\"FR\",Trad!B141,Trad!E141)","v":0}]
[{"$f":"IF(Language=\"FR\",Trad!B142,Trad!E142)","v":0}]
[{"$f":"IF(Language=\"FR\",Trad!B143,Trad!E143)","v":0}]
[{"$f":"IF(Language=\"FR\",Trad!B144,Trad!E144)","v":0}]
[{"$f":"IF(Language=\"FR\",Trad!B145,Trad!E145)","v":0}]
[{"$f":"IF(Language=\"FR\",Trad!B146,Trad!E146)","v":"Puissance électrique"},"Puissance électrique","Elektrische Leistung",null,"Elektrische Leistung"]
[{"$f":"IF(Language=\"FR\",Trad!B147,Trad!E147)","v":"Pression"},"Pression","Druck",null,"Druck"]
[{"$f":"IF(Language=\"FR\",Trad!B148,Trad!E148)","v":"Calcul des économies d'énergie de froid"},"Calcul des économies d'énergie de froid","Berechnung der Kühlenergieeinsparungen",null,"Berechnung der Kühlenergieeinsparungen"]
[{"$f":"IF(Language=\"FR\",Trad!B149,Trad!E149)","v":"Calcul financier"},"Calcul financier","Finanzielle Berechnung",null,"Finanzielle Berechnung"]
[{"$f":"IF(Language=\"FR\",Trad!B150,Trad!E150)","v":"En rouge, les parties sur lesquelles portent les analyses et les optimisations."},"En rouge, les parties sur lesquelles portent les analyses et les optimisations.","In rot die zu analysierenden und zu optimierenden Teile.",null,"In rot die zu analysierenden und zu optimierenden Elemente."]
[{"$f":"IF(Language=\"FR\",Trad!B151,Trad!E151)","v":"Utilisateurs"},"Utilisateurs","Benutzer",null,"Benutzer"]
[{"$f":"IF(Language=\"FR\",Trad!B152,Trad!E152)","v":"Système"},"Système","System",null,"System"]
[{"$f":"IF(Language=\"FR\",Trad!B153,Trad!E153)","v":"Monobloc, extraction fumée, refroidissement procédé, etc."},"Monobloc, extraction fumée, refroidissement procédé, etc.","Monoblock, Rauchabsaugung, Prozesskühlung, etc.",null,"Monoblock, Rauchabsaugung, Prozesskühlung, etc."]
[{"$f":"IF(Language=\"FR\",Trad!B154,Trad!E154)","v":"Extraction"},"Extraction","Extraktion",null,"Extraktion"]
[{"$f":"IF(Language=\"FR\",Trad!B155,Trad!E155)","v":"- Remplacement du compresseur\n- Réglage des plages de fonctionnement\n- Ajustement de la pression de consigne\n- Optimisation de la température de l’air aspiré\n- Récupération de la chaleur\n- Gestion centralisée"},"- Remplacement du compresseur\n- Réglage des plages de fonctionnement\n- Ajustement de la pression de consigne\n- Optimisation de la température de l’air aspiré\n- Récupération de la chaleur\n- Gestion centralisée","- Kompressoraustausch\n- Anpassung der Betriebsbereiche\n- Einstellung des Ansprechdruckes\n- Optimierung der Ansauglufttemperatur\n- Wärmerückgewinnung\n- Zentrales Management",null,"- Kompressoraustausch\n- Anpassung der Betriebsbereiche\n- Einstellung des Solldrucks\n- Optimierung der Ansaug-Lufttemperatur\n- Wärmerückgewinnung\n- Zentrale Steuerung"]
[{"$f":"IF(Language=\"FR\",Trad!B156,Trad!E156)","v":"- Vérification des pertes de charges\n- Vérification du circuit frigorifique\n- Installation d’un sécheur avec la technologie dernière génération"},"- Vérification des pertes de charges\n- Vérification du circuit frigorifique\n- Installation d’un sécheur avec la technologie dernière génération","- Überprüfung des Druckabfalls \n- Überprüfung des Kältekreislaufs \n- Installation eines Trockners mit neuester Technologie",null,"- Überprüfung des Druckabfalls \n- Überprüfung des Kältekreises\n- Installation eines Trockners der neusten Generation"]
[{"$f":"IF(Language=\"FR\",Trad!B157,Trad!E157)","v":"Détection des fuites"},"Détection des fuites","Leckage-Erkennung",null,"Leckage-Erkennung"]
[{"$f":"IF(Language=\"FR\",Trad!B158,Trad!E158)","v":"Installation et réglage de vannes manuelles ou automatiques"},"Installation et réglage de vannes manuelles ou automatiques","Installation und Einstellung von manuellen oder automatischen Ventilen",null,"Installation und Einstellung von manuellen oder automatischen Ventilen"]
[{"$f":"IF(Language=\"FR\",Trad!B159,Trad!E159)","v":"Vérification du bon fonctionnement des purgeurs"},"Vérification du bon fonctionnement des purgeurs","Überprüfung der ordnungsgemäßen Funktion der Fallen",null,"Überprüfung der ordnungsgemäßen Funktion der Kondensatableiter","?"]
[{"$f":"IF(Language=\"FR\",Trad!B160,Trad!E160)","v":"Choix des composants pneumatiques de moindre consommation"},"Choix des composants pneumatiques de moindre consommation","Auswahl verbrauchsarmer pneumatischer Komponenten",null,"Altes Anschlusszubehör durch verlustarmes ersetzen"]
[{"$f":"IF(Language=\"FR\",Trad!B161,Trad!E161)","v":"- Dimensionnement des capacités de stockage\n- Positionnement des stocks"},"- Dimensionnement des capacités de stockage\n- Positionnement des stocks","- Größenbestimmung der Lagerkapazität\n- Lagerpositionierung",null,"- Dimensionierung der Druckluftbehälter\n- Aufstellungsort der Druckluftbehälter","Speicherkapazität?"]
[{"$f":"IF(Language=\"FR\",Trad!B162,Trad!E162)","v":"compresseur"},"compresseur","Verdichter",null,"Kompressor"]
[{"$f":"IF(Language=\"FR\",Trad!B163,Trad!E163)","v":"sécheur"},"sécheur","Trockner",null,"Trockner"]
[{"$f":"IF(Language=\"FR\",Trad!B164,Trad!E164)","v":"stock"},"stock","Lager",null,"Behälter","Speicher?"]
[{"$f":"IF(Language=\"FR\",Trad!B165,Trad!E165)","v":"machines"},"machines","Maschinen",null,"Maschinen"]
[{"$f":"IF(Language=\"FR\",Trad!B166,Trad!E166)","v":"récolte"},"récolte","Ernte",null,"Sammler","Sammler?"]
[{"$f":"IF(Language=\"FR\",Trad!B167,Trad!E167)","v":"condensats"},"condensats","Kondensat",null,"Kondensat"]
[{"$f":"IF(Language=\"FR\",Trad!B168,Trad!E168)","v":"Distribution de froid"},"Distribution de froid","Kalte Verteilung",null,"Kälteverteilung","Kälteverteilung"]
[{"$f":"IF(Language=\"FR\",Trad!B169,Trad!E169)","v":"Production de froid"},"Production de froid","Kalte Produktion",null,"Kälteproduktion","Kälteproduktion"]
[{"$f":"IF(Language=\"FR\",Trad!B170,Trad!E170)","v":"Évacuation de chaleur"},"Évacuation de chaleur","Evakuierung von Wärme",null,"Rückkühlung","?"]
[{"$f":"IF(Language=\"FR\",Trad!B171,Trad!E171)","v":"Contrôle du calorifugeage"},"Contrôle du calorifugeage","Kontrolle der Isolierung",null,"Kontrolle der Dämmung"]
[{"$f":"IF(Language=\"FR\",Trad!B172,Trad!E172)","v":"Utilisation du free-cooling"},"Utilisation du free-cooling","Verwendung von Free-Cooling",null,"Verwendung von Free-Cooling"]
[{"$f":"IF(Language=\"FR\",Trad!B173,Trad!E173)","v":"Ajustement de la température d'évaporation"},"Ajustement de la température d'évaporation","Einstellung der Verdampfungstemperatur",null,"Einstellung der Verdampfungstemperatur"]
[{"$f":"IF(Language=\"FR\",Trad!B174,Trad!E174)","v":"Utilisation de la technologie dernière génération"},"Utilisation de la technologie dernière génération","Einsatz neuester Technologie",null,"Einsatz neuester Technologie"]
[{"$f":"IF(Language=\"FR\",Trad!B175,Trad!E175)","v":"- Mise en place d'une HP flottante \nou \n- Mise en place d'un système de récupération de chaleur"},"- Mise en place d'une HP flottante \nou \n- Mise en place d'un système de récupération de chaleur","- Installation einer schwimmenden HP \noder \n- Installation eines Wärmerückgewinnungssystems",null,"- Regelung mit variablem Verflüssigerdruck\noder \n- Installation eines Wärmerückgewinnungssystems","?"]
[{"$f":"IF(Language=\"FR\",Trad!B176,Trad!E176)","v":"- Remplacement par un compresseur plus performant\n- Optimisation du mode de régulation"},"- Remplacement par un compresseur plus performant\n- Optimisation du mode de régulation","- Ersatz durch einen effizienteren Kompressor \n- Optimierung des Regelmodus",null,"- Ersatz durch einen effizienteren Kompressor \n- Optimierung der Regelung"]
[{"$f":"IF(Language=\"FR\",Trad!B177,Trad!E177)","v":"- Installation d'un stockage de froid correctement dimensioné\n- Vérification du bon fonctionnement au niveau des flux"},"- Installation d'un stockage de froid correctement dimensioné\n- Vérification du bon fonctionnement au niveau des flux","- Installation eines richtig dimensionierten Kühlhauses \n- Kontrolle der korrekten Funktion der Ströme",null,"- Installation eines richtig dimensionierten Kältespeichers \n- Kontrolle der korrekten Ladung/Entladung","?"]
[{"$f":"IF(Language=\"FR\",Trad!B178,Trad!E178)","v":"Régulation du débit du fluide frigoporteur"},"Régulation du débit du fluide frigoporteur","Regulierung der Kältemittel-Durchflussmenge",null,"Regulierung der Kältemittel-Durchflussmenge"]
[{"$f":"IF(Language=\"FR\",Trad!B179,Trad!E179)","v":"circuit"},"circuit","Schaltung",null,"Kreis","Kreislauf?"]
[{"$f":"IF(Language=\"FR\",Trad!B180,Trad!E180)","v":"primaire"},"primaire","primär",null,"Primär"]
[{"$f":"IF(Language=\"FR\",Trad!B181,Trad!E181)","v":"secondaire"},"secondaire","sekundär",null,"Sekundär"]
[{"$f":"IF(Language=\"FR\",Trad!B182,Trad!E182)","v":"évaporateur"},"évaporateur","Verdampfer",null,"Verdampfer"]
[{"$f":"IF(Language=\"FR\",Trad!B183,Trad!E183)","v":"condenseur"},"condenseur","Verflüssiger",null,"Verflüssiger","Kondensator"]
[{"$f":"IF(Language=\"FR\",Trad!B184,Trad!E184)","v":"détendeur"},"détendeur","Reduzierstück",null,"Expansionsventil","."]
[{"$f":"IF(Language=\"FR\",Trad!B185,Trad!E185)","v":"Informations_FA"},"Informations_FA","Informationen_FA",null,"Informations_FA_DE"]
[{"$f":"IF(Language=\"FR\",Trad!B186,Trad!E186)","v":"https://doc.velani-tool.ch/Informations_FA"},"https://doc.velani-tool.ch/Informations_FA","https://doc.velani-tool.ch/Informations_FA",null,"https://doc.velani-tool.ch/Informations_FA_DE"]
[{"$f":"IF(Language=\"FR\",Trad!B187,Trad!E187)","v":"S:\\3. Mandats\\14010\\3. Etude\\Module output"},"S:\\3. Mandats\\14010\\3. Etude\\Module output","S:\\3. Mandats\\14010\\3. Etude\\Module output",null,"S:\\3. Mandats\\14010\\3. Etude\\Module output"]
[{"$f":"IF(Language=\"FR\",Trad!B188,Trad!E188)","v":"Plus de détails - 1"},"Plus de détails - 1","Weitere Informationen - 1",null,"Weitere Informationen - 1"]
[{"$f":"IF(Language=\"FR\",Trad!B189,Trad!E189)","v":"Plus de détails - 2"},"Plus de détails - 2","Weitere Informationen - 2",null,"Weitere Informationen - 2"]
[{"$f":"IF(Language=\"FR\",Trad!B190,Trad!E190)","v":"Plus de détails - 3"},"Plus de détails - 3","Weitere Informationen - 3",null,"Weitere Informationen - 3"]
[{"$f":"IF(Language=\"FR\",Trad!B191,Trad!E191)","v":"Plus de détails - 4"},"Plus de détails - 4","Weitere Informationen - 4",null,"Weitere Informationen - 4"]
[{"$f":"IF(Language=\"FR\",Trad!B192,Trad!E192)","v":"Plus de détails - 5"},"Plus de détails - 5","Weitere Informationen - 5",null,"Weitere Informationen - 5"]
[{"$f":"IF(Language=\"FR\",Trad!B193,Trad!E193)","v":"Utilisation des débits classés"},"Utilisation des débits classés","Verwendung klassifizierter Ströme",null,"Verwendung klassifizierter Volumenströme","."]
[{"$f":"IF(Language=\"FR\",Trad!B194,Trad!E194)","v":"Correction d'un mauvais dimensionnement"},"Correction d'un mauvais dimensionnement","Korrektur einer falschen Dimensionierung",null,"Korrektur einer falschen Dimensionierung"]
[{"$f":"IF(Language=\"FR\",Trad!B195,Trad!E195)","v":"Implémentation d'un convertisseur de fréquence"},"Implémentation d'un convertisseur de fréquence","Implementierung eines Frequenzumrichters",null,"Implementierung eines Frequenzumrichters"]
[{"$f":"IF(Language=\"FR\",Trad!B196,Trad!E196)","v":"Performance et optimisation d'un accouplement"},"Performance et optimisation d'un accouplement","Leistung und Optimierung einer Kupplung",null,"Wirkungsgrad und Optimierung eines indirekten Antriebs","."]
[{"$f":"IF(Language=\"FR\",Trad!B197,Trad!E197)","v":"Optimisations d'une pompe"},"Optimisations d'une pompe","Pumpen-Optimierungen",null,"Pumpen-Optimierungen"]
[{"$f":"IF(Language=\"FR\",Trad!B198,Trad!E198)","v":"Exemple de l'optimisation d'une pompe redimensionnée et équipée d'un convertisseur"},"Exemple de l'optimisation d'une pompe redimensionnée et équipée d'un convertisseur","Beispiel für die Optimierung einer Pumpe mit geänderter Größe, die mit einem Frequenzumrichter ausgestattet ist",null,"Beispiel für die Optimierung einer Pumpe: Redimensionierung und Ausstattung mit einem Frequenzumrichter","redimensionierten"]
[{"$f":"IF(Language=\"FR\",Trad!B199,Trad!E199)","v":"Rendement des pompes en fonction de la courbe de perte de charge et de la vitesse"},"Rendement des pompes en fonction de la courbe de perte de charge et de la vitesse","Pumpeneffizienz als Funktion der Druckabfallkurve und Geschwindigkeit",null,"Pumpeneffizienz als Funktion von Druckdifferenz und Pumpendrehzahl"]
[{"$f":"IF(Language=\"FR\",Trad!B200,Trad!E200)","v":"Nhi, nombre d'heures de fonctionnement dans la classe de rendement i\nn, nombre de classes de débit\nPel, anc.i est la puissance élect. avant optimisation pour la classe de débit i\nPel, nouv.i est la puissance élect. après optimisation pour la classe de débit i"},"Nhi, nombre d'heures de fonctionnement dans la classe de rendement i\nn, nombre de classes de débit\nPel, anc.i est la puissance élect. avant optimisation pour la classe de débit i\nPel, nouv.i est la puissance élect. après optimisation pour la classe de débit i",null,null,"Nhi, Anzahl der Betriebsstunden in der Effizienzklasse i\nn, Anzahl der Strömungsklassen\nPel, anc.i ist die elektrische Leistung vor der Optimierung für die Strömungsklasse i\nPel, neu i ist die elektrische Leistung nach der Optimierung für die Strömungsklasse i"]
[{"$f":"IF(Language=\"FR\",Trad!B201,Trad!E201)","v":"Phydr,anc.i est la puissance hydraulique (avant optimisation) pour la classe de débit i\nƞtot,anc.i est le rendement total avant pour la classe de débit i\nΔpanc.i est le différentiel de pression avant pour la classe de débit i [Pa]\nQanc.i est le débit moyen avant de la classe i [m3/s]\nPhydr,nouv.i est la puissance hydraulique (après optimisation) pour la classe de débit i\nƞtot,nouv.i est le rendement total après pour la classe de débit i\nΔpnouv.i est le différentiel de pression après pour la classe de débit i [Pa]\nQnouv.i est le débit moyen après de la classe i [m3/s]"},"Phydr,anc.i est la puissance hydraulique (avant optimisation) pour la classe de débit i\nƞtot,anc.i est le rendement total avant pour la classe de débit i\nΔpanc.i est le différentiel de pression avant pour la classe de débit i [Pa]\nQanc.i est le débit moyen avant de la classe i [m3/s]\nPhydr,nouv.i est la puissance hydraulique (après optimisation) pour la classe de débit i\nƞtot,nouv.i est le rendement total après pour la classe de débit i\nΔpnouv.i est le différentiel de pression après pour la classe de débit i [Pa]\nQnouv.i est le débit moyen après de la classe i [m3/s]",null,null,"Phydr,anc.i ist die hydraulische Leistung (vor der Optimierung) für die Strömungsklasse i\nƞtot,anc.i ist der Gesamtvorwärtswirkungsgrad für die Strömungsklasse i\nΔpanc.i ist die Druckdifferenz (vor Optimierung) für die Strömungsklasse i [Pa]\nQanc.i ist der durchschnittliche Fluss (vor Optimierung) für die Strömungsklasse i [m3/s]\nPhydr,nouv.i ist die hydraulische Leistung (nach Optimierung) für die Strömungsklasse i\nƞtot, neu.i ist der Gesamtwirkungsgrad (nach Optimierung) für die Strömungsklasse i\nΔpnouv.i ist die Druckdifferenz nach für die Strömungsklasse i [Pa]\nQneu.i ist die mittlere Strömung nach für die Strömungsklasse i [m3/s]."]
[{"$f":"IF(Language=\"FR\",Trad!B202,Trad!E202)","v":"Sachant que les débits de chaque classe avant et après sont inchangés, donc que Qanc.i = Qnouv.i"},"Sachant que les débits de chaque classe avant et après sont inchangés, donc que Qanc.i = Qnouv.i",null,null,"zu wissen, dass die Flüsse jeder Klasse davor und danach unverändert sind, so dass Qanc.i = Qnouv.i"]
[{"$f":"IF(Language=\"FR\",Trad!B203,Trad!E203)","v":"Arbre de décision"},"Arbre de décision"]
[{"$f":"IF(Language=\"FR\",Trad!B204,Trad!E204)","v":"L'évolution des grandeurs au cours du temps permet d'apprécier les plages de variations et la célérité des variations. Pour des pompes, on en tire notamment:\n- la valeur de la puissance hydraulique fournie, calculée à partir des valeurs de débit et de Δp (aux bornes du ventilateur), puis celle du rendement global, calculée à partir de la puissance hydraulique et de la puissance électrique.\n- les valeurs extrêmes, dont le débit maximum qui permet de juger de la qualité du dimensionnement.\nIl est aussi possible de traiter ces données pour disposer, par exemple, du profil de besoin (débit), sous forme de classes. Ce débit classé permet ensuite de sélectionner au mieux les mesures d'optimisation et de déterminer les gains par classe et total. "},"L'évolution des grandeurs au cours du temps permet d'apprécier les plages de variations et la célérité des variations. Pour des pompes, on en tire notamment:\n- la valeur de la puissance hydraulique fournie, calculée à partir des valeurs de débit et de Δp (aux bornes du ventilateur), puis celle du rendement global, calculée à partir de la puissance hydraulique et de la puissance électrique.\n- les valeurs extrêmes, dont le débit maximum qui permet de juger de la qualité du dimensionnement.\nIl est aussi possible de traiter ces données pour disposer, par exemple, du profil de besoin (débit), sous forme de classes. Ce débit classé permet ensuite de sélectionner au mieux les mesures d'optimisation et de déterminer les gains par classe et total. ","Die Entwicklung der Mengen im Laufe der Zeit ermöglicht es, die Schwankungsbreiten und die Geschwindigkeit der Variationen einzuschätzen. Für Pumpen kann insbesondere Folgendes ermittelt werden: \n- der Wert der gelieferten hydraulischen Leistung, berechnet aus den Werten der Fördermenge und von Δp (an den Pumpenterminals), dann der Wert des Gesamtwirkungsgrades, berechnet aus der hydraulischen Leistung und der elektrischen Leistung. \n- die Extremwerte, einschließlich der maximalen Durchflussmenge, die es ermöglicht, die Qualität der Dimensionierung zu beurteilen. \nEs ist auch möglich, diese Daten zu verarbeiten, um z.B. das Anforderungsprofil (Flussrate) in Form von Klassen zu erhalten. Diese klassifizierte Flussrate wird dann zur Auswahl der bestmöglichen Optimierungsmaßnahmen und zur Bestimmung der Gewinne pro Klasse und insgesamt verwendet. ",null,"Der zeitliche Verlauf der Daten ermöglicht es, die Schwankungsbreiten und die Geschwindigkeit der Variationen einzuschätzen. Für Pumpen kann insbesondere Folgendes ermittelt werden: \n- Die hydraulische Leistung, berechnet aus der Fördermenge und Δp (an den Ventilatorenflanschen), \n- Der Wert des Gesamtwirkungsgrades, berechnet aus der hydraulischen- und der elektrischen Leistung. \n- Die Extremwerte, insbesondere die maximale Durchflussmenge, welche für die Dimensionierung wichtig ist. \nDie Daten können auch weiterverarbeitet werden, um z.B. das Anforderungsprofil (Durchflussrate) in Form von Klassen zu erhalten. Diese klassifizierte Durchflussrate wird dann zur Auswahl der bestmöglichen Optimierungsmaßnahmen und zur Bestimmung der Einsparungen pro Klasse und insgesamt verwendet. ","JMN : vérifier traduction de \"aux bornes du ventilateur\""]
[{"$f":"IF(Language=\"FR\",Trad!B205,Trad!E205)","v":"La qualité du dimensionnement s'évalue en premier lieu sur la base du rapport entre le débit max. relevé (et nécessaire) et le débit nominal (rendement max.). Plusieurs situations sont possibles:\n1) Lorsque ce rapport est inférieur à 1, le ventilateur est surdimensionné. Plus ce rapport est petit, plus le rendement sera réduit et plus le potentiel d'optimisation important.\n2) Lorsque ce rapport est proche de 1, le dimensionnement est correct (ce qui ne garantit pas que la situation soit énergétiquement idéale, d'autres inefficiences peuvent exister).\n3) Lorsque ce rapport est supérieur à 1, le ventilateur est sousdimensionné. Plus ce rapport est grand, plus le rendement sera mauvais et les risques de problèmes élevés (cavitation par exemple)"},"La qualité du dimensionnement s'évalue en premier lieu sur la base du rapport entre le débit max. relevé (et nécessaire) et le débit nominal (rendement max.). Plusieurs situations sont possibles:\n1) Lorsque ce rapport est inférieur à 1, le ventilateur est surdimensionné. Plus ce rapport est petit, plus le rendement sera réduit et plus le potentiel d'optimisation important.\n2) Lorsque ce rapport est proche de 1, le dimensionnement est correct (ce qui ne garantit pas que la situation soit énergétiquement idéale, d'autres inefficiences peuvent exister).\n3) Lorsque ce rapport est supérieur à 1, le ventilateur est sousdimensionné. Plus ce rapport est grand, plus le rendement sera mauvais et les risques de problèmes élevés (cavitation par exemple)","Die Qualität der Dimensionierung wird in erster Linie anhand des Verhältnisses zwischen dem gemessenen (und geforderten) maximalen Durchfluss und dem Nenndurchfluss (max. Wirkungsgrad) beurteilt. Mehrere Situationen sind möglich:\n1) Wenn dieses Verhältnis kleiner als 1 ist, ist die Pumpe überdimensioniert. Je kleiner das Verhältnis, desto geringer der Wirkungsgrad und desto größer das Optimierungspotenzial. \n2) Wenn dieses Verhältnis nahe bei 1 liegt, ist die Dimensionierung korrekt (dies garantiert nicht, dass die Situation energetisch ideal ist, es können andere Ineffizienzen vorliegen). \n3) Wenn dieses Verhältnis größer als 1 ist, ist die Pumpe unterdimensioniert. Je höher dieses Verhältnis ist, desto schlechter ist der Wirkungsgrad und desto höher das Risiko von Problemen (z.B. Kavitation).",null,"Die Qualität der Dimensionierung wird in erster Linie anhand des Verhältnisses zwischen dem gemessenen (und geforderten) maximalen Durchfluss und dem Nenndurchfluss (max. Wirkungsgrad) beurteilt. Mehrere Situationen sind möglich:\n1) Wenn dieses Verhältnis kleiner als 1 ist, ist der Ventilator überdimensioniert. Je kleiner das Verhältnis, desto geringer der Wirkungsgrad und desto größer das Optimierungspotenzial. \n2) Wenn dieses Verhältnis nahe bei 1 liegt, ist die Dimensionierung korrekt (dies garantiert nicht, dass die Situation energetisch ideal ist, es können andere Ineffizienzen vorliegen). \n3) Wenn dieses Verhältnis größer als 1 ist, ist der Ventilator unterdimensioniert. Je höher dieses Verhältnis ist, desto schlechter ist der Wirkungsgrad und desto höher das Risiko von Problemen (z.B. Kavitation)."]
[{"$f":"IF(Language=\"FR\",Trad!B206,Trad!E206)","v":"Il existe de multiples façons de gérer un besoin fluctuant. On citera notamment, côté ventilateur, l'étranglement (clapet) et la variation de vitesse et, côté consommateurs, des VAV. Ces solutions ne sont pas équivalentes en termes énergétiques.\n1) Lorsqu'il n'y a qu'un consommateur ou que, multiples, ils ont un comportement synchrone (donc proche de celui d'un seul consommateur), le profil de débit classé permet de suggérer des optimisations ad hoc basées sur l'introduction d'un variateur (voir utilisation des débits classés). Les optimisations résident dans le redimensionnement et la variation de vitesse.\n2) Lorsque le ventilateur alimente des consommateurs aux besoins indépendants les uns des autres dans des réseaux de branches parallèles, la situation est plus compliquée. Des solutions simples comme le réglage de la pression au refoulement du ventilateur sont insuffisantes et peuvent parfois poser des problèmes sur certaines branches. Il est alors nécessaire de conserver des clapets par exemple pour assurer l'équilibrage et les besoins réels. Les analyses doivent alors être menées de cas en cas et des solutions sur mesure proposées. Des approches basées sur des capteurs de pression déportés peuvent offrir de bons résultats énergétiques."},"Il existe de multiples façons de gérer un besoin fluctuant. On citera notamment, côté ventilateur, l'étranglement (clapet) et la variation de vitesse et, côté consommateurs, des VAV. Ces solutions ne sont pas équivalentes en termes énergétiques.\n1) Lorsqu'il n'y a qu'un consommateur ou que, multiples, ils ont un comportement synchrone (donc proche de celui d'un seul consommateur), le profil de débit classé permet de suggérer des optimisations ad hoc basées sur l'introduction d'un variateur (voir utilisation des débits classés). Les optimisations résident dans le redimensionnement et la variation de vitesse.\n2) Lorsque le ventilateur alimente des consommateurs aux besoins indépendants les uns des autres dans des réseaux de branches parallèles, la situation est plus compliquée. Des solutions simples comme le réglage de la pression au refoulement du ventilateur sont insuffisantes et peuvent parfois poser des problèmes sur certaines branches. Il est alors nécessaire de conserver des clapets par exemple pour assurer l'équilibrage et les besoins réels. Les analyses doivent alors être menées de cas en cas et des solutions sur mesure proposées. Des approches basées sur des capteurs de pression déportés peuvent offrir de bons résultats énergétiques.","Es gibt viele Möglichkeiten, mit einem schwankenden Bedarf umzugehen. Dazu gehören auf der Pumpenseite Drosselung (Ventil), Bypass, Drehzahländerung und auf der Verbraucherseite Zwei- oder Dreiwegeventile. Letztere halten eine Flussrate ohne Notwendigkeit aufrecht (manchmal, um einen Zweig warm zu halten). Diese Lösungen sind in energetischer Hinsicht nicht gleichwertig. \n1) Wenn es nur einen Verbraucher gibt oder wenn es mehrere Verbraucher mit synchronem Verhalten gibt (daher nahe an dem eines einzelnen Verbrauchers), ermöglicht das klassifizierte Strömungsprofil Ad-hoc-Optimierungen auf der Basis der Einführung eines drehzahlvariablen Antriebs vorzuschlagen (siehe Verwendung von klassifizierten Strömen). Die Optimierungen liegen in der Größenanpassung, dem Einsatz von Kaskaden und der Geschwindigkeitsvariation. \n2) Wenn Pumpen in parallelen Filialnetzen Verbraucher mit unabhängigen Anforderungen versorgen, ist die Situation komplizierter. Einfache Lösungen wie die Anpassung des Pumpenauslassdrucks sind unzureichend und können manchmal Probleme auf einigen Zweigen verursachen. Es ist dann notwendig, Ventile aufzubewahren, z.B. um den Ausgleich und den tatsächlichen Bedarf sicherzustellen. Dann müssen von Fall zu Fall Analysen durchgeführt und massgeschneiderte Lösungen vorgeschlagen werden. Ansätze, die auf dynamischen Druckreglern und ferngesteuerten Drucksensoren basieren, bieten hervorragende Energieergebnisse, sind aber relativ komplex. \nDie Wahl der Drehzahlregelung sowie die erzielbaren Gewinne hängen auch von Parametern wie der Art des Hydrauliksystems ab. Wenn eine hohe statische Förderhöhe oder ein hoher Gegendruck überwunden werden muss, kann der Beitrag eines Umrichters typischerweise in Bezug auf die Verstärkung begrenzt werden. ",null,"Es gibt viele Möglichkeiten, mit einem schwankenden Bedarf umzugehen. Dazu gehören auf der Ventilatorseite die Drosselung (Klappe) und die variable Drehzahlregelung und auf der Verbraucherseite die VVS-Regelgeräte. Diese Lösungen sind in energetischer Hinsicht nicht gleichwertig. \n1) Wenn es nur einen Verbraucher gibt oder wenn es mehrere Verbraucher mit synchronem Verhalten gibt (daher nahe an dem eines einzelnen Verbrauchers), ermöglicht das klassifizierte Durchflussprofil, Ad-hoc-Optimierungen vorzuschlagen, die auf der Einführung eines drehzahlvariablen Antriebs basieren (siehe Verwendung von klassifizierten Durchflussmengen). Die Optimierungen liegen in der Größen- und Geschwindigkeitsänderung. \n2) Wenn der Ventilator die Verbraucher in parallelen Filialnetzen mit unabhängigem Bedarf versorgt, ist die Situation komplizierter. Einfache Lösungen wie die Anpassung des Ventilatorauslassdrucks sind nicht ausreichend und können in einigen Branchen manchmal Probleme verursachen. Dann ist es notwendig, Dämpfer zu behalten, um beispielsweise die Ausgewogenheit und den tatsächlichen Bedarf sicherzustellen. Dann müssen von Fall zu Fall Analysen durchgeführt und massgeschneiderte Lösungen vorgeschlagen werden. Ansätze, die auf ferngesteuerten Drucksensoren basieren, können gute energetische Ergebnisse liefern."]
[{"$f":"IF(Language=\"FR\",Trad!B207,Trad!E207)","v":"avec les rendement des différents composants: ηCF rendement du convertisseur, ηmot rendement du moteur, ηacc rendement de l'accouplement, ηvent rendement du ventilateur, tous ces composants ne sont pas forcément présents"},"avec les rendement des différents composants: ηCF rendement du convertisseur, ηmot rendement du moteur, ηacc rendement de l'accouplement, ηvent rendement du ventilateur, tous ces composants ne sont pas forcément présents",null,null,"mit den Wirkungsgraden der verschiedenen Komponenten: ηCF-FU-Wirkungsgrad, ηmot-Motor-Wirkungsgrad, ηacc-Kupplungs-Wirkungsgrad, ηvent-Lüfter-Wirkungsgrad, wobei nicht unbedingt alle diese Komponenten vorhanden sind."]
[{"$f":"IF(Language=\"FR\",Trad!B208,Trad!E208)","v":"Economies annuelles associées à l'optimisation d'un ventilateur à débit variable:"},"Economies annuelles associées à l'optimisation d'un ventilateur à débit variable:",null,null,"Jährliche Einsparungen in Verbindung mit der Optimierung eines Ventilators mit variablem Volumenstrom:"]
[{"$f":"IF(Language=\"FR\",Trad!B209,Trad!E209)","v":"Nhi, nombre d'heures de fonctionnement dans la classe de rendement i\nn, nombre de classes de débit\nPel, anc.i est la puissance élect. avant optimisation pour la classe de débit i\nPel, nouv.i est la puissance élect. après optimisation pour la classe de débit i"},"Nhi, nombre d'heures de fonctionnement dans la classe de rendement i\nn, nombre de classes de débit\nPel, anc.i est la puissance élect. avant optimisation pour la classe de débit i\nPel, nouv.i est la puissance élect. après optimisation pour la classe de débit i",null,null,"Nhi, Anzahl der Betriebsstunden in der Effizienzklasse i\nn, Anzahl der Strömungsklassen\nPel, anc.i ist die elektrische Leistung vor der Optimierung für die Strömungsklasse i\nPel, nouv.i ist die elektrische Leistung nach der Optimierung für die Strömungsklasse i"]
[{"$f":"IF(Language=\"FR\",Trad!B210,Trad!E210)","v":"Paér,anc.i est la puissance aéraulique (avant optimisation) pour la classe de débit i\nƞtot,anc.i est le rendement total avant pour la classe de débit i\nΔpanc.i est le différentiel de pression avant pour la classe de débit i [Pa]\nQanc.i est le débit moyen avant de la classe i [m3/s]\nPaér,nouv.i est la puissance aéraulique (après optimisation) pour la classe de débit i\nƞtot,nouv.i est le rendement total après pour la classe de débit i\nΔpnouv.i est le différentiel de pression après pour la classe de débit i [Pa]\nQnouv.i est le débit moyen après de la classe i [m3/s]"},"Paér,anc.i est la puissance aéraulique (avant optimisation) pour la classe de débit i\nƞtot,anc.i est le rendement total avant pour la classe de débit i\nΔpanc.i est le différentiel de pression avant pour la classe de débit i [Pa]\nQanc.i est le débit moyen avant de la classe i [m3/s]\nPaér,nouv.i est la puissance aéraulique (après optimisation) pour la classe de débit i\nƞtot,nouv.i est le rendement total après pour la classe de débit i\nΔpnouv.i est le différentiel de pression après pour la classe de débit i [Pa]\nQnouv.i est le débit moyen après de la classe i [m3/s]",null,null,"Paér,anc.i ist dieLuftleistung (vor der Optimierung) für die Strömungsklasse i\nƞtot,anc.i ist der Gesamtvorwärtswirkungsgrad für die Strömungsklasse i\nΔpanc.i ist die Druckdifferenz (vor Optimierung) für die Strömungsklasse i [Pa]\nQanc.i ist der durchschnittliche Fluss (vor Optimierung) für die Strömungsklasse i [m3/s]\nPhydr,nouv.i ist die Luftleistung (nach Optimierung) für die Strömungsklasse i\nƞtot, neu.i ist der Gesamtwirkungsgrad (nach Optimierung) für die Strömungsklasse i\nΔpnouv.i ist die Druckdifferenz nach für die Strömungsklasse i [Pa]\nQneu.i ist die mittlere Strömung nach für die Strömungsklasse i [m3/s]."]
[{"$f":"IF(Language=\"FR\",Trad!B211,Trad!E211)","v":"Le rendement d'un entraînement électrique comprenant un ventilateur est souvent péjoré par un accouplement peu efficace."},"Le rendement d'un entraînement électrique comprenant un ventilateur est souvent péjoré par un accouplement peu efficace.",null,null,"Der Wirkungsgrad eines Elektroantriebs einschließlich eines Ventilators wird häufig durch eine schlecht funktionierende Kupplung beeinträchtigt."]
[{"$f":"IF(Language=\"FR\",Trad!B212,Trad!E212)","v":"𝑷_𝒇𝒓𝒊𝒈𝒐=𝛒×𝑸_𝒗×𝑪_𝒑×∆𝑻  [𝒌𝑾]\n\navec : 𝛒 masse volumique en [kg/m3], Qv débit volumique en [m3/s], Cp capacité thermique massique [kJ/kg.K], ∆T différence de température [K]"},"𝑷_𝒇𝒓𝒊𝒈𝒐=𝛒×𝑸_𝒗×𝑪_𝒑×∆𝑻  [𝒌𝑾]\n\navec : 𝛒 masse volumique en [kg/m3], Qv débit volumique en [m3/s], Cp capacité thermique massique [kJ/kg.K], ∆T différence de température [K]",null,null,"𝑷_𝒇𝒓𝒊𝒈𝒐=𝛒×𝑸_𝒗×𝑪_𝒑×∆𝑻  [𝒌𝑾]\n\navec : 𝛒 Dichte in [kg/m3], Qv Volumenstrom in [m3/s], Cp Wärmekapazität nach Masse in [kJ/kg.K], ∆T Temperaturdifferenz in [K]"]
[{"$f":"IF(Language=\"FR\",Trad!B213,Trad!E213)","v":"Economie (%) =1 - (SEPR réel)/(SEPR théorique nouveau GF)    "},"Economie (%) =1 - (SEPR réel)/(SEPR théorique nouveau GF)    ",null,null,"Einsparung (%) =1 - (SEPR real)/(SEPR theoretisch neue Einheit)"]
[{"$f":"IF(Language=\"FR\",Trad!B214,Trad!E214)","v":"Aérorefroidisseur"},"Aérorefroidisseur",null,null,"Luftkühler"]
[{"$f":"IF(Language=\"FR\",Trad!B215,Trad!E215)","v":"𝑝𝑎𝑟𝑡 𝑑𝑒𝑠 𝑐𝑜û𝑡𝑠 𝑙𝑖é𝑒 à 𝑙′é𝑛𝑒𝑟𝑔𝑖𝑒 [−] = 1−(â𝑔𝑒 𝑑𝑒 𝑙′𝑖𝑛𝑠𝑡𝑎𝑙𝑙𝑎𝑡𝑖𝑜𝑛 [𝑎𝑛])/(𝑑𝑢𝑟é𝑒 𝑑𝑒 𝑣𝑖𝑒 𝑡𝑒𝑐ℎ𝑛𝑖𝑞𝑢𝑒 𝑑𝑒 𝑙′𝑖𝑛𝑠𝑡𝑎𝑙𝑙𝑎𝑡𝑖𝑜𝑛 [𝑎𝑛] )"},"𝑝𝑎𝑟𝑡 𝑑𝑒𝑠 𝑐𝑜û𝑡𝑠 𝑙𝑖é𝑒 à 𝑙′é𝑛𝑒𝑟𝑔𝑖𝑒 [−] = 1−(â𝑔𝑒 𝑑𝑒 𝑙′𝑖𝑛𝑠𝑡𝑎𝑙𝑙𝑎𝑡𝑖𝑜𝑛 [𝑎𝑛])/(𝑑𝑢𝑟é𝑒 𝑑𝑒 𝑣𝑖𝑒 𝑡𝑒𝑐ℎ𝑛𝑖𝑞𝑢𝑒 𝑑𝑒 𝑙′𝑖𝑛𝑠𝑡𝑎𝑙𝑙𝑎𝑡𝑖𝑜𝑛 [𝑎𝑛] )"]
[{"$f":"IF(Language=\"FR\",Trad!B216,Trad!E216)","v":"𝑝𝑎𝑟𝑡 𝑑𝑒𝑠 𝑐𝑜û𝑡𝑠 𝑙𝑖é𝑒 à 𝑙′é𝑛𝑒𝑟𝑔𝑖𝑒 [−] = (𝑐𝑜û𝑡 𝑑𝑒 𝑙′𝑖𝑛𝑣𝑒𝑠𝑡𝑖𝑠𝑠𝑒𝑚𝑒𝑛𝑡 é𝑛𝑒𝑟𝑔é𝑡𝑖𝑞𝑢𝑒 [𝐶𝐻𝐹])/(𝑐𝑜û𝑡 𝑑𝑒 𝑙′𝑖𝑛𝑣𝑒𝑠𝑡𝑖𝑠𝑠𝑒𝑚𝑒𝑛𝑡 𝑡𝑜𝑡𝑎𝑙 [𝐶𝐻𝐹])"},"𝑝𝑎𝑟𝑡 𝑑𝑒𝑠 𝑐𝑜û𝑡𝑠 𝑙𝑖é𝑒 à 𝑙′é𝑛𝑒𝑟𝑔𝑖𝑒 [−] = (𝑐𝑜û𝑡 𝑑𝑒 𝑙′𝑖𝑛𝑣𝑒𝑠𝑡𝑖𝑠𝑠𝑒𝑚𝑒𝑛𝑡 é𝑛𝑒𝑟𝑔é𝑡𝑖𝑞𝑢𝑒 [𝐶𝐻𝐹])/(𝑐𝑜û𝑡 𝑑𝑒 𝑙′𝑖𝑛𝑣𝑒𝑠𝑡𝑖𝑠𝑠𝑒𝑚𝑒𝑛𝑡 𝑡𝑜𝑡𝑎𝑙 [𝐶𝐻𝐹])"]
[{"$f":"IF(Language=\"FR\",Trad!B217,Trad!E217)","v":"Cliquez sur le + à gauche pour des détails supplémentaires"},"Cliquez sur le + à gauche pour des détails supplémentaires",null,null,"Klicken Sie auf das + auf der linken Seite für weitere Details"]
[{"$f":"IF(Language=\"FR\",Trad!B218,Trad!E218)","v":"Les valeurs de pression sont disponibles. Utilisez-les avec les valeurs de débit pour calculer la puissance aéraulique. Utilisez les valeurs de puissance électrique disponibles pour calculer les rendements."},"Les valeurs de pression sont disponibles. Utilisez-les avec les valeurs de débit pour calculer la puissance aéraulique. Utilisez les valeurs de puissance électrique disponibles pour calculer les rendements."]
[{"$f":"IF(Language=\"FR\",Trad!B219,Trad!E219)","v":"Les valeurs de pression sont disponibles. Utilisez-les avec les valeurs de débit pour calculer la puissance aéraulique. Procédez au mesurage de la puissance électrique et calculez les rendements."},"Les valeurs de pression sont disponibles. Utilisez-les avec les valeurs de débit pour calculer la puissance aéraulique. Procédez au mesurage de la puissance électrique et calculez les rendements."]
[{"$f":"IF(Language=\"FR\",Trad!B220,Trad!E220)","v":"Les valeurs de pression ne sont pas relevées. Si l'on veut calculer le rendement de l'entraînement, il faut mesurer les pressions à l'aspiration et au refoulement du ventilateur puis calculer la puissance aéraulique. Avec les valeurs de puissance électrique relevées par l'exploitant, on peut ensuite calculer les performances de l'entraînement. "},"Les valeurs de pression ne sont pas relevées. Si l'on veut calculer le rendement de l'entraînement, il faut mesurer les pressions à l'aspiration et au refoulement du ventilateur puis calculer la puissance aéraulique. Avec les valeurs de puissance électrique relevées par l'exploitant, on peut ensuite calculer les performances de l'entraînement. "]
[{"$f":"IF(Language=\"FR\",Trad!B221,Trad!E221)","v":"Durant des mesurages de débit, on s'efforcera d'ouvrir les clapets semi-fermés de façon à connaître le débit à clapet ouvert. Si ce n'est pas possible, on travaillera avec la caractéristique du clapet. On procédera aux analyses permettant de savoir quel type d'optimisation est adapté (selon les explications de détail)."},"Durant des mesurages de débit, on s'efforcera d'ouvrir les clapets semi-fermés de façon à connaître le débit à clapet ouvert. Si ce n'est pas possible, on travaillera avec la caractéristique du clapet. On procédera aux analyses permettant de savoir quel type d'optimisation est adapté (selon les explications de détail)."]
[{"$f":"IF(Language=\"FR\",Trad!B222,Trad!E222)","v":"On trouve différents composants comme des amortisseurs de bruits, des batteries et des filtres qui génèrent des pertes de charge parfois importantes.  Suite à l'évolution du système, ces dispositifs ne sont parfois plus nécessaires. Leur démontage permet de réduire les pertes de charge. Pour les filtres, c'est le manque de maintenance qui peut s'avérer source de pertes de charge inutiles. "},"On trouve différents composants comme des amortisseurs de bruits, des batteries et des filtres qui génèrent des pertes de charge parfois importantes.  Suite à l'évolution du système, ces dispositifs ne sont parfois plus nécessaires. Leur démontage permet de réduire les pertes de charge. Pour les filtres, c'est le manque de maintenance qui peut s'avérer source de pertes de charge inutiles. "]
[{"$f":"IF(Language=\"FR\",Trad!B223,Trad!E223)","v":0}]

{"sheet":"Analyse Pompe","index":4,"n_rows":128,"n_cols":68,"rows_kept":128,"cut":false,"hidden":false,"merged":[[67,2,67,14],[71,2,71,14],[56,2,56,14],[62,2,62,14],[66,2,66,14],[22,2,22,14],[28,2,28,14],[32,2,32,14],[36,2,36,14],[40,2,40,14],[39,2,39,14],[61,2,61,14],[23,2,23,14],[29,2,29,14],[33,2,33,14],[37,2,37,14],[41,2,41,14],[45,2,45,14],[49,2,49,14],[53,2,53,14],[57,2,57,14],[63,2,63,14],[1,17,1,18],[1,19,1,20],[1,28,1,29],[3,1,3,2],[3,3,3,4],[3,7,3,8],[3,9,3,10],[3,11,3,12],[3,5,3,6],[1,11,1,12],[2,9,2,10],[1,1,1,2],[1,3,1,4],[1,5,1,6],[1,7,1,8],[1,9,1,10],[1,13,1,14],[1,15,1,16],[6,2,6,3],[6,4,6,20],[7,2,7,3],[7,4,7,20],[8,1,8,6],[8,8,8,20],[13,2,13,14],[13,17,13,20],[17,2,17,14],[17,17,17,20],[21,2,21,14],[21,17,21,20],[14,2,14,14],[18,2,18,14],[27,2,27,14],[27,17,27,20],[31,2,31,14],[31,17,31,20],[35,2,35,14],[35,17,35,20],[19,2,19,14],[39,17,39,20],[43,2,43,14],[43,17,43,20],[47,2,47,14],[47,17,47,20],[44,2,44,14],[51,2,51,14],[51,17,51,20],[55,2,55,14],[55,17,55,20],[48,2,48,14],[52,2,52,14],[109,1,109,20],[110,1,110,6],[61,17,61,20],[79,1,79,9],[79,12,79,20],[65,2,65,14],[65,17,65,20],[69,2,69,14],[69,17,69,20],[73,1,73,20],[75,1,75,9],[75,10,75,15],[76,1,76,9],[77,1,77,9],[77,12,77,20],[78,1,78,9],[78,12,78,20],[70,2,70,14],[80,1,80,9],[80,12,80,20],[81,1,81,9],[81,12,81,20],[82,1,82,9],[82,12,82,20],[126,1,126,20],[127,1,127,20],[113,1,113,20],[114,1,114,20],[125,1,125,20],[115,8,117,21],[118,8,121,21],[123,1,123,21],[111,1,111,20],[86,1,86,20],[89,1,89,20],[90,1,90,6],[97,1,97,20],[98,1,98,9],[98,10,98,20],[99,1,99,20],[104,1,104,20],[105,1,105,6]]}
[]
[null,{"$f":"HYPERLINK(NomFichier&Listes!C49&\"'!A1\",Trad!A3)","v":"Menu"},null,{"$f":"HYPERLINK(NomFichier&Listes!C50&\"'!A1\",Trad!A4)","v":"Introduction"},null,{"$f":"HYPERLINK(NomFichier&Listes!C56&\"'!A1\",Trad!A10)","v":"Aide"},null,null,null,{"$f":"HYPERLINK(NomFichier&Listes!C51&\"'!A1\",Trad!A5)","v":"Pompe(s)"},null,{"$f":"HYPERLINK(NomFichier&Listes!C52&\"'!A1\",Trad!A6)","v":"Ventilateur(s)"},null,{"$f":"HYPERLINK(NomFichier&Listes!C53&\"'!A1\",Trad!A7)","v":"Air comprimé"},null,{"$f":"HYPERLINK(NomFichier&Listes!C54&\"'!A1\",Trad!A8)","v":"Groupe froid"},null,null,null,{"$f":"HYPERLINK(Listes!A36&\"/14010 Canevas Résultats analyses V3a.xlsm\",Trad!A9)","v":"Résultats"}]
[]
[null,{"$f":"Traduction!$A$63","v":"1. Questions liminaires"},null,{"$f":"Traduction!$A$491","v":"2. Besoins en mesurages"},null,{"$f":"Traduction!$A$79","v":"3. Questions additionnelles"},null,{"$f":"Traduction!$A$493","v":"4. Synthèse"},null,{"$f":"Traduction!$A$494","v":"5. Données de mesurage"},null,{"$f":"Traduction!$A$495","v":"6. Calcul des économies"}]
[]
[null,{"$f":"Traduction!$A$61","v":"Analyse fine Pompes"}]
[null,null,{"$f":"Traduction!$A$497","v":"But:"},null,{"$f":"Trad!A37","v":"Ce module FA dévolu aux pompes propose une démarche (voir l'arbre de décision sous le schéma) permettant une analyse approfondie du système existant (incluant des mesurages) et des propositions d'optimisation appropriées."}]
[]
[null,{"$f":"HYPERLINK(Listes!A36&\"/FA_pompe_arborescence.htm\",Trad!A203)","v":"Arbre de décision"}]
[]
[null,{"$f":"Traduction!$A$63","v":"1. Questions liminaires"}]
[]
[null,{"$f":"Traduction!$A$64","v":"Question No"},1]
[null,null,{"$f":"Traduction!$A$65","v":"Les équipements sont-ils âgés?"}]
[null,null,{"$f":"Traduction!A764","v":"Plusieurs paramètres vont influencer la durée de vie effective d'une installation: le nombre d'heures de fonctionnement par an, la taille, les conditions d'exploitation (milieu agressif).\nPour un moteur et une pompe sans problème d'usure particulière, on peut qualifier \"d'âgé\" un équipement qui est dans la zone \"âgé\" de la figure de la fiche \"Plus de détail 1\", voir le lien dans la partie 3 ci-dessous. \n\nAttention, le fait de se trouver dans la zone \"âgé\" ne signifie pas que l'équipement a dépassé sa durée de vie \"normale\" mais que l'âge est un argument pour s'intéresser aux potentiels d'économie.\n\nAu niveau des gains possibles, des installations anciennes présentent souvent des potentiels plus importants. De plus, des investissements en vue de les optimiser sont plus faciles à justifier."}]
[null,null,{"$f":"Trad!A217","v":"Cliquez sur le + à gauche pour des détails supplémentaires"}]
[null,{"$f":"Traduction!$A$64","v":"Question No"},2]
[null,null,{"$f":"Trad!A38","v":"Les consommateurs ont-ils des besoins concomitants/synchrones ?"}]
[null,null,{"$f":"Traduction!A765","v":"Lorsque le système est complexe, il faut comprendre le comportement et la nature des consommateurs. Si les besoins des consommateurs varient de façon concomitante, les analyses et les optimisations sont plus simples."}]
[null,null,{"$f":"Trad!A217","v":"Cliquez sur le + à gauche pour des détails supplémentaires"}]
[null,{"$f":"Traduction!$A$64","v":"Question No"},3]
[null,null,{"$f":"Trad!A42","v":"Des modifications des prestations de la pompe ont-elles une influence sur d’autres consommations ?"}]
[null,null,{"$f":"Traduction!A766","v":"Il s’agit d’éviter qu’une vision trop restreinte conduise à des mesures contre-productives à un niveau plus élevé. L’idée est également de déterminer le bon périmètre d’analyse."}]
[null,null,{"$f":"Trad!A217","v":"Cliquez sur le + à gauche pour des détails supplémentaires"}]
[null,{"$f":"Traduction!$A$68","v":"2. Questions liées aux besoins en mesurages"}]
[]
[null,{"$f":"Traduction!$A$64","v":"Question No"},4]
[null,null,{"$f":"Trad!A43","v":"La prestation actuelle (offre) correspond-elle au besoin réel (débit-pression) de l’installation ?"}]
[null,null,{"$f":"Traduction!A767","v":"L’économie la plus simple et la moins onéreuse consiste à assurer le besoin réel et pas plus (donc pas forcément le besoin actuel). Par exemple, il arrive souvent que des modifications dans les besoins (à la baisse) n’aient jamais été intégrées. "}]
[null,null,{"$f":"Trad!A217","v":"Cliquez sur le + à gauche pour des détails supplémentaires"}]
[null,{"$f":"Traduction!$A$64","v":"Question No"},5]
[null,null,{"$f":"Traduction!$A$70","v":"Le besoin (débit) est-il variable?"}]
[null,null,{"$f":"Traduction!A768","v":"Une gestion non optimale des variations de débit est une source de forte surconsommation  L'information sur le caractère variable ou non du besoin est donc importante. "}]
[null,null,{"$f":"Trad!A217","v":"Cliquez sur le + à gauche pour des détails supplémentaires"}]
[null,{"$f":"Traduction!$A$64","v":"Question No"},6]
[null,null,{"$f":"Trad!A44","v":"Le moteur est-il entraîné via un convertisseur de fréquence?"}]
[null,null,{"$f":"Traduction!A769","v":"La gestion actuelle des variations est un point clé. Si celle-ci est assurée par étranglement ou par by-pass, l’introduction d’un variateur apportera probablement des économies élevées."}]
[null,null,{"$f":"Trad!A217","v":"Cliquez sur le + à gauche pour des détails supplémentaires"}]
[null,{"$f":"Traduction!$A$64","v":"Question No"},7]
[null,null,{"$f":"Trad!A45","v":"Le profil de débit effectif est-il disponible?"}]
[null,null,{"$f":"Traduction!A770","v":"La connaissance du profil de débit sur une période représentative est fondamentale. Plus les périodes à petits débits sont longues, plus les économies associées à des mesures d’optimisation (introduction d’un CF) seront importantes."}]
[null,null,{"$f":"Trad!A217","v":"Cliquez sur le + à gauche pour des détails supplémentaires"}]
[null,{"$f":"Traduction!$A$64","v":"Question No"},8]
[null,null,{"$f":"Trad!A46","v":"Quel paramètre influence majoritairement le profil de débit?"}]
[null,null,{"$f":"Traduction!A771","v":"La saison, la météo (Text), l’heure du jour, le jour de la semaine, la production, sont des exemples de paramètres qui peuvent influencer le besoin. Cette information permet notamment de déterminer la durée des mesurages."}]
[null,null,{"$f":"Trad!A217","v":"Cliquez sur le + à gauche pour des détails supplémentaires"}]
[null,{"$f":"Traduction!$A$64","v":"Question No"},9]
[null,null,{"$f":"Trad!A47","v":"Existe-t-il un relevé (enregistrement) des pressions à l'aspiration et au refoulement de la pompe?"}]
[null,null,{"$f":"Traduction!A772","v":"Le différentiel entre ces deux pressions donne le Δp de fonctionenement de la pompe. Cette grandeur permet de calculer la puissance hydraulique. Il permet aussi de situer le point de fonctionnement actuel par rapport au point de fonctionnement nominal."}]
[null,null,{"$f":"Trad!A217","v":"Cliquez sur le + à gauche pour des détails supplémentaires"}]
[null,{"$f":"Traduction!$A$64","v":"Question No"},10]
[null,null,{"$f":"Trad!A48","v":"Existe-t-il un relevé (enregistrement) de la puissance électrique?"}]
[null,null,{"$f":"Traduction!A773","v":"La puissance électrique active triphasée correspond à la puissance consommée par l'entraînement. Elle permet avec la puissance hydraulique de calculer le rendement global de l'entraînement."}]
[null,null,{"$f":"Trad!A217","v":"Cliquez sur le + à gauche pour des détails supplémentaires"}]
[null,{"$f":"Traduction!$A$64","v":"Question No"},11]
[null,null,{"$f":"Trad!A49","v":"Le circuit hydraulique comprend-il des vannes en position partiellement fermée?"}]
[null,null,{"$f":"Traduction!A774","v":"On trouve encore souvent des installations dont le mauvais dimensionnement initial ou un changement dans le besoin nominal sont corrigés par un étranglement permanent. Une approche simple mais peu performante. On trouve aussi parfois des vannes qui servent à casser la pression entre une production et des consommateurs. La surconsommation est alors égale au rapport des pressions."}]
[null,null,{"$f":"Trad!A217","v":"Cliquez sur le + à gauche pour des détails supplémentaires"}]
[null,{"$f":"Traduction!$A$79","v":"3. Questions additionnelles"}]
[null,null,null,null,null,null,null,null,null,null,null,null,null,null,null,null,null,null,null,null,null,null,null,null,null,null,{"$f":"CONCATENATE(Y60,Z60)","v":""}]
[null,{"$f":"Traduction!$A$64","v":"Question No"},12]
[null,null,{"$f":"Traduction!$A$80","v":"La pompe fait-elle partie d'une cascade?"}]
[null,null,{"$f":"Traduction!A775","v":"Le dimensionnement, le réglage et les enclenchements et déclenchements des pompes d’une cascade sont souvent non optimaux. Il en découle des surconsommations."}]
[null,null,{"$f":"Trad!A217","v":"Cliquez sur le + à gauche pour des détails supplémentaires"}]
[null,{"$f":"Traduction!$A$64","v":"Question No"},13]
[null,null,{"$f":"Trad!A54","v":"L'entraînement comprend-il un accouplement?"}]
[null,null,{"$f":"Traduction!A776","v":"Un accouplement est rare dans le cas des pompes. Dans d’autres installations, il permet une flexibilité en termes de prestation (vitesse) et d'intégration des différents composants. \nIl s’agit d’un composant qui présente des pertes, particulièrement lorsqu’il est mal choisi ou mal entretenu (mauvaise tension)."}]
[null,null,{"$f":"Trad!A217","v":"Cliquez sur le + à gauche pour des détails supplémentaires"}]
[null,{"$f":"Traduction!$A$64","v":"Question No"},14]
[null,null,{"$f":"Traduction!$A$82","v":"Existe-t-il un besoin d'assainissement?"}]
[null,null,{"$f":"Traduction!A777","v":"Des installations peuvent nécessiter un assainissement pour des raisons autres qu'énergétiques. On songe notamment à un âge au-delà de la durée de vie attendue, des besoins d'entretien trop importants, des problèmes de fiabilité récurrents, une modification des besoins, etc.\nCette situation est favorable à une analyse et une optimisation de l'équipement."}]
[null,null,{"$f":"Trad!A217","v":"Cliquez sur le + à gauche pour des détails supplémentaires"}]
[null,{"$f":"Traduction!$A$83","v":"4. Synthèse des questions et mesurages"}]
[null,{"$f":"Traduction!$A$84","v":"Des réponses à vos questions, il est possible de mieux comprendre le système et de mettre en exergue les mesurages nécessaires:"}]
[]
[null,{"$f":"IFERROR(VLOOKUP(V77,AC77:AD100,2,0),\"\")","v":""},null,null,null,null,null,null,null,null,null,null,null,null,null,null,null,null,null,null,null,null,null,null,null,"agé",{"$f":"Traduction!$A$85","v":"synchrone"},{"$f":"Traduction!$A$86","v":"influence"},null,null,null,null,{"$f":"Traduction!$A$87","v":"besoin réel"},{"$f":"Traduction!$A$88","v":"variable"},"CF",{"$f":"Traduction!$A$89","v":"débit dispo"},null,null,null,null,null,null,null,null,null,null,null,null,null,null,{"$f":"Traduction!$A$91","v":"pression"},{"$f":"Traduction!$A$92","v":"puissance"},null,null,null,null,{"$f":"Traduction!$A$93","v":"vanne semi"},null,null,null,{"$f":"Traduction!$A$94","v":"Cascade"},null,null,{"$f":"Traduction!$A$103","v":"Accouplement"},null,null,{"$f":"Traduction!$A$95","v":"Assainissement"}]
[null,{"$f":"HYPERLINK(Listes!A36&\"/FA_pompe_détail_1_age.htm\",Trad!A188)","v":"Plus de détails - 1"},null,null,null,null,null,null,null,null,null,null,null,null,null,null,null,null,null,null,null,{"$f":"CONCATENATE(R14,R18,R22)","v":""},null,null,null,{"$f":"Trad!A39","v":"oui"},{"$f":"Trad!A39","v":"oui"},{"$f":"Trad!A39","v":"oui"},{"$f":"CONCATENATE(Z77,AA77,AB77)","v":"ouiouioui"},{"$f":"Trad!A55","v":"Les équipements sont anciens et le système a priori plutôt complexe."},null,null,{"$f":"Trad!A39","v":"oui"},{"$f":"Trad!A39","v":"oui"},{"$f":"Trad!A39","v":"oui"},{"$f":"Trad!A39","v":"oui"},{"$f":"CONCATENATE(AG77,AH77,AI77,AJ77)","v":"ouiouiouioui"},{"$f":"Trad!A79","v":"Le débit max. fourni correspond a priori au besoin et il est mesuré par l'exploitant. De plus, les vartiations sont assurées par un variateur. La situation est favorable et il n'y a à priori pas d'investigations supplémentaires à réaliser."},null,null,null,null,{"$f":"Trad!A40","v":"non"},{"$f":"Trad!A50","v":"saison et Text"},{"$f":"CONCATENATE(AQ77,AR77)","v":"nonsaison et Text"},{"$f":"Trad!A115","v":"La durée et la période des mesurages doivent intégrer l'éventuel caractère saisonnier. Il est parfois bienvenu de réaliser plusieurs campagnes notamment une en été et une en hiver."},null,null,null,null,{"$f":"Trad!A39","v":"oui"},{"$f":"Trad!A39","v":"oui"},{"$f":"CONCATENATE(AY77,AZ77)","v":"ouioui"},{"$f":"Trad!A119","v":"Les valeurs de pression sont disponibles. Utilisez-les avec les valeurs de débit pour calculer la puissance hydraulique. Utilisez les valeurs de puissance électrique disponibles pour calculer les rendements."},null,null,{"$f":"Trad!A39","v":"oui"},{"$f":"Trad!A123","v":"Durant des mesurages de débit, on s'efforcera d'ouvrir la vanne semi-fermée de façon à connaître le débit à vanne ouverte. Si ce n'est pas possible, on travaillera avec la caractéristique de la vanne. On procédera aux analyses permettant de savoir quel type d'optimisation est adapté (selon les explications de détail)."},null,null,{"$f":"Trad!A39","v":"oui"},{"$f":"Trad!A124","v":"Lorsque l'on a affaire à des pompes en cascade, il faut pouvoir interpréter les valeurs de puissance él. et de débit en identifiant les séquences d'enclenchement/déclenchement."},null,{"$f":"Trad!A39","v":"oui"},{"$f":"Trad!A125","v":"On cherche à éviter les accouplements qui sont source de frais et d'inefficience énergétique. Dans le cadre d'un assainissement, évaluez la possibilité de travailler avec un entraînement direct."},null,{"$f":"Trad!A39","v":"oui"},{"$f":"Trad!A126","v":"Le besoin d'assainissement facilite la démarche d'analyse et d'optimisation."}]
[null,{"$f":"IFERROR(VLOOKUP(V78,AK77:AL116,2,0),\"\")","v":""},null,null,null,null,null,null,null,null,null,null,{"$f":"IFERROR(VLOOKUP(V82,BE77:BF78,2,0),\"\")","v":""},null,null,null,null,null,null,null,null,{"$f":"CONCATENATE(R28,R32,R36,R40)","v":""},null,null,null,{"$f":"Trad!A39","v":"oui"},{"$f":"Trad!A39","v":"oui"},{"$f":"Trad!A40","v":"non"},"ouiouinon",{"$f":"Trad!A56","v":"Les équipements sont anciens et le système a priori plutôt simple."},null,null,{"$f":"Trad!A39","v":"oui"},{"$f":"Trad!A39","v":"oui"},{"$f":"Trad!A39","v":"oui"},{"$f":"Trad!A40","v":"non"},{"$f":"CONCATENATE(AG78,AH78,AI78,AJ78)","v":"ouiouiouinon"},{"$f":"Trad!A80","v":"Le débit max. fourni correspond a priori au besoin, mais il n'est pas mesuré. Un mesurage permettrait de mieux connaître le débit réel."},null,null,null,null,{"$f":"Trad!A40","v":"non"},{"$f":"Trad!A51","v":"l'heure et le jour de la semaine"},{"$f":"CONCATENATE(AQ78,AR78)","v":"nonl'heure et le jour de la semaine"},{"$f":"Trad!A116","v":"Une durée de mesurage de l'ordre d'une semaine convient bien dans ce cas."},null,null,null,null,{"$f":"Trad!A39","v":"oui"},{"$f":"Trad!A40","v":"non"},{"$f":"CONCATENATE(AY78,AZ78)","v":"ouinon"},{"$f":"Trad!A120","v":"Les valeurs de pression sont disponibles. Utilisez-les avec les valeurs de débit pour calculer la puissance hydraulique .Procédéez aux mesurages de la puissance électrique et calculez les rendements."},null,null,{"$f":"Trad!A40","v":"non"},"-",null,null,{"$f":"Trad!A40","v":"non"},"-",null,{"$f":"Trad!A40","v":"non"},"-",null,{"$f":"Trad!A40","v":"non"},"-"]
[null,{"$f":"IFERROR(VLOOKUP(V79,AS77:AT80,2,0),\"\")","v":""},null,null,null,null,null,null,null,null,null,null,{"$f":"HYPERLINK(Listes!A36&\"/FA_pompe_détail_4_vanne_fermée.htm\",Trad!A191)","v":"Plus de détails - 4"},null,null,null,null,null,null,null,null,{"$f":"CONCATENATE(R40,R44)","v":""},null,null,null,{"$f":"Trad!A39","v":"oui"},{"$f":"Trad!A39","v":"oui"},{"$f":"Trad!A41","v":"ne sais pas"},"ouiouine sais pas",{"$f":"Trad!A57","v":"Les équipements sont anciens et possiblement complexes"},null,null,{"$f":"Trad!A39","v":"oui"},{"$f":"Trad!A39","v":"oui"},{"$f":"Trad!A40","v":"non"},{"$f":"Trad!A39","v":"oui"},"ouiouinonoui",{"$f":"Trad!A81","v":"Le débit variable n'est probablement  pas contrôlé de la manière la plus efficace.  Considérez le débit relevé par les appareils du site pour valider le recours à un variateur de vitesse."},null,null,null,null,{"$f":"Trad!A40","v":"non"},{"$f":"Trad!A52","v":"la production (type, nbre ou vol. de produit)"},"nonla production (type, nbre ou vol. de produit)",{"$f":"Trad!A117","v":"Les mesurages doivent être menés sur une période représentative de la production annuelle."},null,null,null,null,{"$f":"Trad!A40","v":"non"},{"$f":"Trad!A39","v":"oui"},"nonoui",{"$f":"Trad!A121","v":"Les valeurs de pression ne sont pas relevées. Si l'on veut calculer le rendement de l'entraînement, il faut mesurer les pressions à l'aspiration et au refoulement de la pompe puis calculer la puissance hydraulique. Avec les valeurs de puissance électrique relevées par l'exploitant, on peut ensuite calculer les performances de l'entraînement. "}]
[null,{"$f":"HYPERLINK(Listes!A36&\"/FA_pompe_détail_2_débit.htm\",Trad!A189)","v":"Plus de détails - 2"},null,null,null,null,null,null,null,null,null,null,null,null,null,null,null,null,null,null,null,null,null,null,null,{"$f":"Trad!A39","v":"oui"},{"$f":"Trad!A40","v":"non"},{"$f":"Trad!A39","v":"oui"},"ouinonoui",{"$f":"Trad!A58","v":"Les équipements sont anciens et le système, a priori, complexe."},null,null,null,null,null,null,null,null,null,null,null,null,{"$f":"Trad!A40","v":"non"},{"$f":"Trad!A53","v":"autre ou ne sais pas"},"nonautre ou ne sais pas",{"$f":"Trad!A118","v":"Il s'agit de parvenir à déterminer quelle période et quelle durée de mesurage conviennent afin de couvrir l'évolution annuelle des besoins."}]
[null,{"$f":"IFERROR(VLOOKUP(V81,BA77:BB81,2,0),\"\")","v":""},null,null,null,null,null,null,null,null,null,null,{"$f":"IFERROR(VLOOKUP(V83,BI77:BJ78,2,0),\"\")","v":""},null,null,null,null,null,null,null,null,{"$f":"CONCATENATE(R48,R52)","v":""},null,null,null,{"$f":"Trad!A39","v":"oui"},{"$f":"Trad!A40","v":"non"},{"$f":"Trad!A40","v":"non"},"ouinonnon",{"$f":"Trad!A59","v":"Les équipements sont anciens et le système, a priori, plutôt complexe."},null,null,{"$f":"Trad!A39","v":"oui"},{"$f":"Trad!A39","v":"oui"},{"$f":"Trad!A40","v":"non"},{"$f":"Trad!A40","v":"non"},{"$f":"CONCATENATE(AG81,AH81,AI81,AJ81)","v":"ouiouinonnon"},{"$f":"Trad!A82","v":"Le débit variable n'est probablement  pas contrôlé de la manière la plus efficace.  Un mesurage du débit est recommandé."},null,null,null,null,null,null,null,null,null,null,null,null,{"$f":"Trad!A40","v":"non"},{"$f":"Trad!A40","v":"non"},"nonnon",{"$f":"Trad!A122","v":"Les valeurs de pression et de puissance électrique ne sont pas relevées. Procédez au mesurage de ces grandeurs de façon à pouvoir calculer les performances de l'entraînement.  "}]
[null,null,null,null,null,null,null,null,null,null,null,null,{"$f":"HYPERLINK(Listes!A36&\"/FA_pompe_détail_5_cascade.htm\",Trad!A192)","v":"Plus de détails - 5"},null,null,null,null,null,null,null,null,{"$f":"R56","v":0},null,null,null,{"$f":"Trad!A39","v":"oui"},{"$f":"Trad!A40","v":"non"},{"$f":"Trad!A41","v":"ne sais pas"},"ouinonne sais pas",{"$f":"Trad!A60","v":"Les équipements sont anciens et le système, a priori, complexe."},null,null,{"$f":"Trad!A39","v":"oui"},{"$f":"Trad!A40","v":"non"},{"$f":"Trad!A39","v":"oui"},{"$f":"Trad!A39","v":"oui"},{"$f":"CONCATENATE(AG82,AH82,AI82,AJ82)","v":"ouinonouioui"},{"$f":"Trad!A83","v":"Le besoin est a priori bien maîtrisé et enregistré. On a par contre un CF sans débit variable. Un démarreur serait plus judicieux. "}]
[null,{"$f":"IFERROR(VLOOKUP(V84,BL77:BM78,2,0),\"\")","v":""},null,null,null,null,null,null,null,null,null,null,{"$f":"IFERROR(VLOOKUP(V85,BO77:BP78,2,0),\"\")","v":""},null,null,null,null,null,null,null,null,{"$f":"R62","v":0},null,null,null,{"$f":"Trad!A39","v":"oui"},{"$f":"Trad!A41","v":"ne sais pas"},{"$f":"Trad!A40","v":"non"},"ouine sais pasnon",{"$f":"Trad!A61","v":"Les équipements sont anciens et le système possiblement complexe."},null,null,{"$f":"Trad!A39","v":"oui"},{"$f":"Trad!A40","v":"non"},{"$f":"Trad!A39","v":"oui"},{"$f":"Trad!A40","v":"non"},"ouinonouinon",{"$f":"Trad!A84","v":"Le besoin est a priori bien maîtrisé mais pas enregistré. Un mesurage permettrait de valider le débit réel. On a un CF sans débit variable. Un démarreur serait plus judicieux. "}]
[null,null,null,null,null,null,null,null,null,null,null,null,null,null,null,null,null,null,null,null,null,{"$f":"R66","v":0},null,null,null,{"$f":"Trad!A39","v":"oui"},{"$f":"Trad!A41","v":"ne sais pas"},{"$f":"Trad!A41","v":"ne sais pas"},{"$f":"CONCATENATE(Z84,AA84,AB84)","v":"ouine sais pasne sais pas"},{"$f":"Trad!A62","v":"Les équipements sont anciens et le système possiblement complexe."},null,null,{"$f":"Trad!A39","v":"oui"},{"$f":"Trad!A40","v":"non"},{"$f":"Trad!A40","v":"non"},{"$f":"Trad!A39","v":"oui"},"ouinonnonoui",{"$f":"Trad!A85","v":"Le besoin est a priori relevé et bien maîtrisé."}]
[null,{"$f":"Trad!A127","v":"5. Traitement des données de mesurage, analyses et propositions"},null,null,null,null,null,null,null,null,null,null,null,null,null,null,null,null,null,null,null,{"$f":"R70","v":0},null,null,null,{"$f":"Trad!A40","v":"non"},{"$f":"Trad!A39","v":"oui"},{"$f":"Trad!A39","v":"oui"},{"$f":"CONCATENATE(Z85,AA85,AB85)","v":"nonouioui"},{"$f":"Trad!A63","v":"Les équipements sont récents. Le système semble, a priori, complexe."},null,null,{"$f":"Trad!A39","v":"oui"},{"$f":"Trad!A40","v":"non"},{"$f":"Trad!A40","v":"non"},{"$f":"Trad!A40","v":"non"},"ouinonnonnon",{"$f":"Trad!A86","v":"Le débit max. fourni correspond a priori au besoin. Il n'est cependant pas relevé. Le mesurage du débit permettrait de la valider."}]
[null,{"$f":"Traduction!$A$116","v":"Bases des analyses de détail"},null,null,null,null,null,null,null,null,null,null,null,null,null,null,null,null,null,null,null,null,null,null,null,{"$f":"Trad!A40","v":"non"},{"$f":"Trad!A39","v":"oui"},{"$f":"Trad!A40","v":"non"},"nonouinon",{"$f":"Trad!A64","v":"Les équipements sont récents. Le système semble, a priori, simple."},null,null,{"$f":"Trad!A39","v":"oui"},{"$f":"Trad!A41","v":"ne sais pas"},{"$f":"Trad!A39","v":"oui"},{"$f":"Trad!A39","v":"oui"},"ouine sais pasouioui",{"$f":"Trad!A87","v":"On ne sait pas si le variateur est vraiment utile et réglé, considérez les relevés de débit du débitmètre du site."}]
[null,{"$f":"Trad!A128","v":"Les réponses aux questions ainsi que les valeurs enregistrées des grandeurs suggérées dans la synthèse ci-dessus permettent de procéder aux analyses de détail.\nCes dernières, développées ci-dessous, se basent donc sur la disponibilité des valeurs de débits, de Δp et de Pel sur une période de temps représentative des besoins annuels."},null,null,null,null,null,null,null,null,null,null,null,null,null,null,null,null,null,null,null,null,null,null,null,{"$f":"Trad!A40","v":"non"},{"$f":"Trad!A39","v":"oui"},{"$f":"Trad!A41","v":"ne sais pas"},"nonouine sais pas",{"$f":"Trad!A65","v":"Les équipements sont récents et le système possiblement complexe."},null,null,{"$f":"Trad!A39","v":"oui"},{"$f":"Trad!A41","v":"ne sais pas"},{"$f":"Trad!A39","v":"oui"},{"$f":"Trad!A40","v":"non"},"ouine sais pasouinon",{"$f":"Trad!A88","v":"On ne sait pas si le variateur est vraiment utile et réglé, recherchez des informations et, si besoin, procédez à des mesurages de débit."}]
[null,null,null,null,null,null,null,null,null,null,null,null,null,null,null,null,null,null,null,null,null,null,null,null,null,{"$f":"Trad!A40","v":"non"},{"$f":"Trad!A40","v":"non"},{"$f":"Trad!A39","v":"oui"},"nonnonoui",{"$f":"Trad!A66","v":"Les équipements sont récents. Le système semble, a priori, complexe."},null,null,{"$f":"Trad!A39","v":"oui"},{"$f":"Trad!A41","v":"ne sais pas"},{"$f":"Trad!A40","v":"non"},{"$f":"Trad!A39","v":"oui"},"ouine sais pasnonoui",{"$f":"Trad!A89","v":"Les variations de débit sont mal connues et possiblement mal maîtrisées, considérez les relevés de débit du site."}]
[null,{"$f":"Traduction!$A$118","v":"Traitement des données de mesurage"},null,null,null,null,null,null,null,null,null,null,null,null,null,null,null,null,null,null,null,null,null,null,null,{"$f":"Trad!A40","v":"non"},{"$f":"Trad!A40","v":"non"},{"$f":"Trad!A40","v":"non"},"nonnonnon",{"$f":"Trad!A67","v":"Les équipements sont récents. Le système semble, a priori, complexe."},null,null,{"$f":"Trad!A39","v":"oui"},{"$f":"Trad!A41","v":"ne sais pas"},{"$f":"Trad!A40","v":"non"},{"$f":"Trad!A40","v":"non"},"ouine sais pasnonnon",{"$f":"Trad!A90","v":"Les variations de débit sont mal connues et possiblement mal maîtrisées, procédez à des mesurages de débit."}]
[null,{"$f":"Trad!A129","v":"L'évolution des grandeurs au cours du temps permet d'apprécier les plages de variations et la célérité des variations. Pour des pompes, on en tire notamment:\n- la valeur de la puissance hydraulique fournie, calculée à partir des valeurs de débit et de Δp (aux bornes de la pompe), puis celle du rendement global, calculée à partir de la puissance hydraulique et de la puissance électrique.\n- les valeurs extrêmes, dont le débit maximum qui permet de juger de la qualité du dimensionnement.\nIl est aussi possible de traiter ces données pour disposer, par exemple, du profil de besoin (débit), sous forme de classes. Ce débit classé permet ensuite de sélectionner au mieux les mesures d'optimisation et de déterminer les gains par classe et total. "},null,null,null,null,null,null,null,null,null,null,null,null,null,null,null,null,null,null,null,null,null,null,null,{"$f":"Trad!A40","v":"non"},{"$f":"Trad!A40","v":"non"},{"$f":"Trad!A41","v":"ne sais pas"},"nonnonne sais pas",{"$f":"Trad!A68","v":"Les équipements sont récents. Le système semble, a priori, complexe."},null,null,{"$f":"Trad!A41","v":"ne sais pas"},{"$f":"Trad!A39","v":"oui"},{"$f":"Trad!A39","v":"oui"},{"$f":"Trad!A39","v":"oui"},"ne sais pasouiouioui",{"$f":"Trad!A91","v":"On ne sait pas si le débit correspond au besoin ou s'il trop grand, recherchez des informations sur le besoin réel et comparez-les avec les valeurs relevées par l'exploitant."}]
[null,{"$f":"HYPERLINK(Listes!A36&\"/FA_pompe_débits_classés.htm\",Trad!A193)","v":"Utilisation des débits classés"},null,null,null,null,null,null,null,null,null,null,null,null,null,null,null,null,null,null,null,null,null,null,null,{"$f":"Trad!A40","v":"non"},{"$f":"Trad!A41","v":"ne sais pas"},{"$f":"Trad!A40","v":"non"},"nonne sais pasnon",{"$f":"Trad!A69","v":"Les équipements sont récents et le système possiblement complexe."},null,null,{"$f":"Trad!A41","v":"ne sais pas"},{"$f":"Trad!A39","v":"oui"},{"$f":"Trad!A39","v":"oui"},{"$f":"Trad!A40","v":"non"},"ne sais pasouiouinon",{"$f":"Trad!A92","v":"On ne sait pas si le débit correspond au besoin ou s'il trop grand, recherchez des informations sur le besoin réel et procédez à des mesurages de débit."}]
[null,null,null,null,null,null,null,null,null,null,null,null,null,null,null,null,null,null,null,null,null,null,null,null,null,{"$f":"Trad!A40","v":"non"},{"$f":"Trad!A41","v":"ne sais pas"},{"$f":"Trad!A41","v":"ne sais pas"},"nonne sais pasne sais pas",{"$f":"Trad!A70","v":"Les équipements sont récents et le système possiblement complexe."},null,null,{"$f":"Trad!A41","v":"ne sais pas"},{"$f":"Trad!A39","v":"oui"},{"$f":"Trad!A40","v":"non"},{"$f":"Trad!A39","v":"oui"},"ne sais pasouinonoui",{"$f":"Trad!A93","v":"On ne sait pas si le débit correspond juste ou s'il est trop grand, recherchez des informations sur le besoin. Par ailleurs les  variations ne sont probablement pas bien maîtrisées, considérez les relevés de débit du site."}]
[null,{"$f":"Traduction!$A$120","v":"Analyse de détail"},null,null,null,null,null,null,null,null,null,null,null,null,null,null,null,null,null,null,null,null,null,null,null,{"$f":"Trad!A41","v":"ne sais pas"},{"$f":"Trad!A39","v":"oui"},{"$f":"Trad!A39","v":"oui"},"ne sais pasouioui",{"$f":"Trad!A71","v":"Il est intéressant de connaître l'âge des équipements. Leur remplacement est en général plus facile à financer et les gains potentiellement plus élevés qu'avec des équipements récents. Le système semble, a priori, complexe."},null,null,{"$f":"Trad!A41","v":"ne sais pas"},{"$f":"Trad!A39","v":"oui"},{"$f":"Trad!A40","v":"non"},{"$f":"Trad!A40","v":"non"},"ne sais pasouinonnon",{"$f":"Trad!A94","v":"On ne sait pas si le débit correspond au besoin ou s'il trop grand, recherchez des informations sur le besoin. Par ailleurs, les  variations ne sont probablement pas bien maîtrisées. Un mesurage du débit est recommandé."}]
[null,null,null,null,null,null,null,null,null,null,null,null,null,null,null,null,null,null,null,null,null,null,null,null,null,{"$f":"Trad!A41","v":"ne sais pas"},{"$f":"Trad!A39","v":"oui"},{"$f":"Trad!A40","v":"non"},"ne sais pasouinon",{"$f":"Trad!A72","v":"Il est intéressant de connaître l'âge des équipements. Leur remplacement est en général plus facile à financer et les gains potentiellement plus élevés qu'avec des équipements récents. Le système semble, a priori, simple."},null,null,{"$f":"Trad!A41","v":"ne sais pas"},{"$f":"Trad!A40","v":"non"},{"$f":"Trad!A39","v":"oui"},{"$f":"Trad!A39","v":"oui"},"ne sais pasnonouioui",{"$f":"Trad!A95","v":"On ne sait pas si le débit correspond au besoin ou s'il trop grand, recherchez des informations sur le besoin. Il n'y a pas de variations mais un CF. Un démarreur serait plus avisé."}]
[null,{"$f":"Traduction!$A$64","v":"Question No"},15,null,null,null,null,null,null,null,null,null,null,null,null,null,null,null,null,null,null,null,null,null,null,{"$f":"Trad!A41","v":"ne sais pas"},{"$f":"Trad!A39","v":"oui"},{"$f":"Trad!A41","v":"ne sais pas"},"ne sais pasouine sais pas",{"$f":"Trad!A73","v":"Il est intéressant de connaître l'âge des équipements. Leur remplacement est en général plus facile à financer et les gains potentiellement plus élevés qu'avec des équipements récents. Le système semble, a priori, complexe."},null,null,{"$f":"Trad!A41","v":"ne sais pas"},{"$f":"Trad!A40","v":"non"},{"$f":"Trad!A39","v":"oui"},{"$f":"Trad!A40","v":"non"},"ne sais pasnonouinon",{"$f":"Trad!A96","v":"On ne sait pas si le débit correspond juste au besoin ou s'il trop grand, recherchez des informations sur le besoin. Il n'y a pas de variations mais un CF. Un démarreur serait plus avisé."}]
[null,null,{"$f":"Trad!A130","v":"Le dimensionnement est-il correct ou nécessite-t-il d'être optimisé?"},null,null,null,null,null,null,null,null,null,null,null,null,null,null,null,null,null,null,null,null,null,null,{"$f":"Trad!A41","v":"ne sais pas"},{"$f":"Trad!A40","v":"non"},{"$f":"Trad!A39","v":"oui"},"ne sais pasnonoui",{"$f":"Trad!A74","v":"Il est intéressant de connaître l'âge des équipements. Leur remplacement est en général plus facile à financer et les gains potentiellement plus élevés qu'avec des équipements récents. Le système semble, a priori, complexe."},null,null,{"$f":"Trad!A41","v":"ne sais pas"},{"$f":"Trad!A40","v":"non"},{"$f":"Trad!A40","v":"non"},{"$f":"Trad!A39","v":"oui"},"ne sais pasnonnonoui",{"$f":"Trad!A97","v":"On ne sait pas si le débit correspond au besoin ou s'il trop grand, recherchez des informations sur le besoin réel et comparez-les aux valeurs relevées."}]
[null,null,null,null,null,null,null,null,null,null,null,null,null,null,null,null,null,null,null,null,null,null,null,null,null,{"$f":"Trad!A41","v":"ne sais pas"},{"$f":"Trad!A40","v":"non"},{"$f":"Trad!A40","v":"non"},"ne sais pasnonnon",{"$f":"Trad!A75","v":"Il est intéressant de connaître l'âge des équipements. Leur remplacement est en général plus facile à financer et les gains potentiellement plus élevés qu'avec des équipements récents. Le système semble, a priori, complexe."},null,null,{"$f":"Trad!A41","v":"ne sais pas"},{"$f":"Trad!A40","v":"non"},{"$f":"Trad!A40","v":"non"},{"$f":"Trad!A40","v":"non"},"ne sais pasnonnonnon",{"$f":"Trad!A98","v":"On ne sait pas si le débit correspond au besoin ou s'il trop grand, recherchez des informations sur le besoin et comparez-les aux valeurs relevées."}]
[null,{"$f":"Trad!A131","v":"La qualité du dimensionnement s'évalue en premier lieu sur la base du rapport entre le débit max. relevé (et nécessaire) et le débit nominal (rendement max.). Plusieurs situations sont possibles:\n1) Lorsque ce rapport est inférieur à 1, la pompe est surdimensionnée. Plus ce rapport est petit, plus le rendement sera réduit et plus le potentiel d'optimisation important.\n2) Lorsque ce rapport est proche de 1, le dimensionnement est correct (ce qui ne garantit pas que la situation soit énergétiquement idéale, d'autres inefficiences peuvent exister).\n3) Lorsque ce rapport est supérieur à 1, la pompe est sousdimensionnée. Plus ce rapport est grand, plus le rendement sera mauvais et les risques de problèmes élevés (cavitation par exemple)"},null,null,null,null,null,null,null,null,null,null,null,null,null,null,null,null,null,null,null,null,null,null,null,{"$f":"Trad!A41","v":"ne sais pas"},{"$f":"Trad!A40","v":"non"},{"$f":"Trad!A41","v":"ne sais pas"},"ne sais pasnonne sais pas",{"$f":"Trad!A76","v":"Il est intéressant de connaître l'âge des équipements. Leur remplacement est en général plus facile à financer et les gains potentiellement plus élevés qu'avec des équipements récents. Le système semble, a priori, complexe."},null,null,{"$f":"Trad!A41","v":"ne sais pas"},{"$f":"Trad!A41","v":"ne sais pas"},{"$f":"Trad!A39","v":"oui"},{"$f":"Trad!A39","v":"oui"},"ne sais pasne sais pasouioui",{"$f":"Trad!A99","v":"A priori, on ne sait ni si le débit correspond au besoin ni s'il est variable, recherchez des informations sur le besoin. Considérez le relevé de débit du site."}]
[null,{"$f":"HYPERLINK(Listes!A36&\"/FA_pompe_mauvais_dimensionnement.htm\",Trad!A194)","v":"Correction d'un mauvais dimensionnement"},null,null,null,null,null,null,null,null,null,null,null,null,null,null,null,null,null,null,null,null,null,null,null,{"$f":"Trad!A41","v":"ne sais pas"},{"$f":"Trad!A41","v":"ne sais pas"},{"$f":"Trad!A40","v":"non"},"ne sais pasne sais pasnon",{"$f":"Trad!A77","v":"Il est intéressant de connaître l'âge des équipements. Leur remplacement est en général plus facile à financer et les gains potentiellement plus élevés qu'avec des équipements récents. Le système est possiblement complexe."},null,null,{"$f":"Trad!A41","v":"ne sais pas"},{"$f":"Trad!A41","v":"ne sais pas"},{"$f":"Trad!A39","v":"oui"},{"$f":"Trad!A40","v":"non"},"ne sais pasne sais pasouinon",{"$f":"Trad!A100","v":"A priori, on ne sait ni si le débit correspond au besoin ni s'il est variable, recherchez des informations sur le besoin. Un mesurage du débit est recommandé."}]
[null,{"$f":"Trad!A132","v":"En cas de redimensionnement sans variations de charge/débit, les économies proviennent donc de l'augmentation du rendement, de la baisse de la puissance hydraulique ou des deux.\nL'investissement consistera alors en une nouvelle pompe et, normalement, un nouveau moteur ou alors en l'ajout d'un variateur et, normalement, un nouveau moteur"},null,null,null,null,null,null,null,null,null,null,null,null,null,null,null,null,null,null,null,null,null,null,null,{"$f":"Trad!A41","v":"ne sais pas"},{"$f":"Trad!A41","v":"ne sais pas"},{"$f":"Trad!A41","v":"ne sais pas"},"ne sais pasne sais pasne sais pas",{"$f":"Trad!A78","v":"Il est intéressant de connaître l'âge des équipements. Leur remplacement est en général plus facile à financer et les gains potentiellement plus élevés qu'avec des équipements récents. Le système est possiblement complexe."},null,null,{"$f":"Trad!A41","v":"ne sais pas"},{"$f":"Trad!A41","v":"ne sais pas"},{"$f":"Trad!A40","v":"non"},{"$f":"Trad!A39","v":"oui"},"ne sais pasne sais pasnonoui",{"$f":"Trad!A101","v":"A priori, on ne sait ni si le débit correspond au besoin ni s'il est variable, recherchez des informations sur le besoin. Considérez le relevé de débit du site pour déterminer si le dimensionnement est correct et si un variateur de vitesse ferait sens."}]
[null,null,null,null,null,null,null,null,null,null,null,null,null,null,null,null,null,null,null,null,null,null,null,null,null,null,null,null,null,null,null,null,{"$f":"Trad!A41","v":"ne sais pas"},{"$f":"Trad!A41","v":"ne sais pas"},{"$f":"Trad!A40","v":"non"},{"$f":"Trad!A40","v":"non"},"ne sais pasne sais pasnonnon",{"$f":"Trad!A102","v":"A priori, on ne sait ni si le débit correspond au besoin ni s'il est variable, recherchez des informations sur le besoin. Procédez à un mesurage du débit pour déterminer si le dimensionnement est correct et si un variateur de vitesse ferait sens."}]
[null,{"$f":"Traduction!$A$64","v":"Question No"},16,null,null,null,null,null,null,null,null,null,null,null,null,null,null,null,null,null,null,null,null,null,null,null,null,null,null,null,null,null,{"$f":"Trad!A40","v":"non"},{"$f":"Trad!A39","v":"oui"},{"$f":"Trad!A39","v":"oui"},{"$f":"Trad!A39","v":"oui"},"nonouiouioui",{"$f":"Trad!A103","v":"Recherchez des informations sur le besoin réel et comparez-les avec les valeurs relevées par l'exploitant."}]
[null,null,{"$f":"Trad!A133","v":"Les variations de charge/débit sont-elles bien gérées?"},null,null,null,null,null,null,null,null,null,null,null,null,null,null,null,null,null,null,null,null,null,null,null,null,null,null,null,null,null,{"$f":"Trad!A40","v":"non"},{"$f":"Trad!A39","v":"oui"},{"$f":"Trad!A39","v":"oui"},{"$f":"Trad!A40","v":"non"},"nonouiouinon",{"$f":"Trad!A104","v":"Recherchez des informations sur le besoin réel. Procédez à des mesurages de débit et comparez les valeurs."}]
[null,null,null,null,null,null,null,null,null,null,null,null,null,null,null,null,null,null,null,null,null,null,null,null,null,null,null,null,null,null,null,null,{"$f":"Trad!A40","v":"non"},{"$f":"Trad!A39","v":"oui"},{"$f":"Trad!A40","v":"non"},{"$f":"Trad!A39","v":"oui"},"nonouinonoui",{"$f":"Trad!A105","v":"Recherchez des informations sur le besoin réel.  De plus, les  variations de débit ne sont probablement pas efficacement maîtrisées. Considérez le relevé de débit du site pour déterminer si le dimensionnement est correct et si un variateur de vitesse ferait sens."}]
[null,{"$f":"Trad!A134","v":"Il existe de multiples façons de gérer un besoin fluctuant. On citera notamment, côté pompe, l'étranglement (vanne), le by-pass, la variation de vitesse et, côté consommateurs, des vannes à deux ou trois voies. Ces dernières maintiennent un débit sans besoin (parfois pour conserver une branche en température). Ces solutions ne sont pas équivalentes en termes énergétiques.\n1) Lorsqu'il n'y a qu'un consommateur ou que, multiples, ils ont un comportement synchrone (donc proche de celui d'un seul consommateur), le profil de débit classé permet de suggérer des optimisations ad hoc basées sur l'introduction d'un variateur (voir utilisation des débits classés). Les optimisations résident dans le redimensionnement, le recours à des cascades et la variation de vitesse.\n2) Lorsque les pompes alimentent des consommateurs aux besoins indépendants les uns des autres dans des réseaux de branches parallèles, la situation est plus compliquée. Des solutions simples comme le réglage de la pression au refoulement de la pompe sont insuffisantes et peuvent parfois poser des problèmes sur certaines branches. Il est alors nécessaire de conserver des vannes, par exemple pour assurer l'équilibrage et les besoins réels. Les analyses doivent alors être menées de cas en cas et des solutions sur mesure proposées. Des approches basées sur des régulateurs de pression dynamique et des capteurs de pression déportés offrent d'excellents résultats énergétiques mais sont relativement complexes.\nLe choix du réglage en vitesse de même que les gains atteignables dépendent aussi de paramètres comme le type de circuit hydraulique. Typiquement, lorsqu'une hauteur statique importante ou une forte contrepression sont à vaincre, l'apport d'un convertisseur peut être limité en termes de gain. "},null,null,null,null,null,null,null,null,null,null,null,null,null,null,null,null,null,null,null,null,null,null,null,null,null,null,null,null,null,null,{"$f":"Trad!A40","v":"non"},{"$f":"Trad!A39","v":"oui"},{"$f":"Trad!A40","v":"non"},{"$f":"Trad!A40","v":"non"},"nonouinonnon",{"$f":"Trad!A106","v":"Recherchez des informations sur le besoin réel.  De plus, les  variations ne sont probablement pas efficacement maîtrisées. Un mesurage du débit est recommandé pour déterminer si le dimensionnement est correct et si un variateur de vitesse ferait sens."}]
[null,{"$f":"HYPERLINK(Listes!A36&\"/FA_pompe_CF.htm\",Trad!A195)","v":"Implémentation d'un convertisseur de fréquence"},null,null,null,null,null,null,null,null,null,null,null,null,null,null,null,null,null,null,null,null,null,null,null,null,null,null,null,null,null,null,{"$f":"Trad!A40","v":"non"},{"$f":"Trad!A40","v":"non"},{"$f":"Trad!A39","v":"oui"},{"$f":"Trad!A39","v":"oui"},"nonnonouioui",{"$f":"Trad!A107","v":"Recherchez des informations sur le besoin réel et comparez-les avec les valeurs relevées par l'exploitant. Par ailleurs, il n'y a pas de variations mais un CF. Un démarreur serait énergétiquement plus efficace."}]
[null,null,null,null,null,null,null,null,null,null,null,null,null,null,null,null,null,null,null,null,null,null,null,null,null,null,null,null,null,null,null,null,{"$f":"Trad!A40","v":"non"},{"$f":"Trad!A40","v":"non"},{"$f":"Trad!A39","v":"oui"},{"$f":"Trad!A40","v":"non"},"nonnonouinon",{"$f":"Trad!A108","v":"Recherchez des informations sur le besoin réel, procédez à des mesurages de débit et comparez les valeurs. Par ailleurs, s'il se confirme qu'il n'y a pas de variations mais un CF. Un démarreur serait plus avisé."}]
[null,{"$f":"Trad!A135","v":"6. Mesures d'optimisation et calcul des économies"},null,null,null,null,null,null,null,null,null,null,null,null,null,null,null,null,null,null,null,null,null,null,null,null,null,null,null,null,null,null,{"$f":"Trad!A40","v":"non"},{"$f":"Trad!A40","v":"non"},{"$f":"Trad!A40","v":"non"},{"$f":"Trad!A39","v":"oui"},"nonnonnonoui",{"$f":"Trad!A109","v":"Recherchez des informations sur le besoin réel et comparez-les avec les valeurs relevées par l'exploitant."}]
[null,null,null,null,null,null,null,null,null,null,null,null,null,null,null,null,null,null,null,null,null,null,null,null,null,null,null,null,null,null,null,null,{"$f":"Trad!A40","v":"non"},{"$f":"Trad!A40","v":"non"},{"$f":"Trad!A40","v":"non"},{"$f":"Trad!A40","v":"non"},"nonnonnonnon",{"$f":"Trad!A110","v":"Recherchez des informations sur le besoin réel, procédez à des mesurages de débit et comparez les valeurs afin de valider le dimensionnement."}]
[null,{"$f":"Trad!A136","v":"Dans la cas d'une pompe ou d'un groupe de pompes, les économies peuvent avoir pour origines:\n- un débit plus important que nécessaire (aux consommateurs)\n- une exploitation non optimisée en termes d'horaire (un mode réduit ou un arrêt possible dans certaines plages horaires)\n- un travail à un niveau de pression trop élevé (le système assurerait sa prestation avec une pression plus faible ou une vanne semi-fermée casse la pression en permanence)\n- le système est ancien, mal dimensionné et les variations de besoin sont gérées de façon non optimale "},null,null,null,null,null,null,null,null,null,null,null,null,null,null,null,null,null,null,null,null,null,null,null,null,null,null,null,null,null,null,{"$f":"Trad!A40","v":"non"},{"$f":"Trad!A41","v":"ne sais pas"},{"$f":"Trad!A39","v":"oui"},{"$f":"Trad!A39","v":"oui"},"nonne sais pasouioui",{"$f":"Trad!A111","v":"Recherchez des informations sur le besoin réel. De plus, les éventuelles variations sont inconnues. Utilisez les valeurs relevées par l'exploitant et déterminez s'il y a lieu de corriger le dimensionnement et si un variateur  de vitesse ferait sens."}]
[null,{"$f":"HYPERLINK(Listes!A36&\"/FA_pompe_optimisations.htm\",Trad!A197)","v":"Optimisations d'une pompe"},null,null,null,null,null,null,null,null,null,null,null,null,null,null,null,null,null,null,null,null,null,null,null,null,null,null,null,null,null,null,{"$f":"Trad!A40","v":"non"},{"$f":"Trad!A41","v":"ne sais pas"},{"$f":"Trad!A39","v":"oui"},{"$f":"Trad!A40","v":"non"},"nonne sais pasouinon",{"$f":"Trad!A112","v":"Recherchez des informations sur le besoin réel. De plus, les éventuelles variations sont inconnues. Un mesurage du débit est recommandé. Comparez ensuite les valeurs afin de corriger le dimensionnement et de déterminer si un variateur de vitesse ferait sens."}]
[null,{"$f":"Trad!A137","v":"Le calcul des économies d'une pompe à débit variable passe par le calcul des rendements dans les différentes plages de débit. Ainsi, pour chaque classe de débit, on détermine les rendement anciens et nouveaux pour les composants de l'entraînement. Le rendement total de chaque classe i s'exprime par le produit des rendements des composants constituant l'entraînement:"},null,null,null,null,null,null,null,null,null,null,null,null,null,null,null,null,null,null,null,null,null,null,null,null,null,null,null,null,null,null,{"$f":"Trad!A40","v":"non"},{"$f":"Trad!A41","v":"ne sais pas"},{"$f":"Trad!A40","v":"non"},{"$f":"Trad!A39","v":"oui"},"nonne sais pasnonoui",{"$f":"Trad!A113","v":"Recherchez des informations sur le besoin réel. De plus, les éventuelles variations sont inconnues. Utilisez les valeurs relevées par l'exploitant et déterminer s'il y a lieu de corriger le dimensionnement et si un variateur  de vitesse ferait sens"}]
[null,null,null,null,null,null,null,null,null,null,null,null,null,null,null,null,null,null,null,null,null,null,null,null,null,null,null,null,null,null,null,null,{"$f":"Trad!A40","v":"non"},{"$f":"Trad!A41","v":"ne sais pas"},{"$f":"Trad!A40","v":"non"},{"$f":"Trad!A40","v":"non"},"nonne sais pasnonnon",{"$f":"Trad!A114","v":"Recherchez des informations sur le besoin réel. De plus, les éventuelles variations sont inconnues. Un mesurage du débit est recommandé afin de déterminer s'il y a lieu de corriger le dimensionnement et si un variateur  de vitesse ferait sens."}]
[null,{"$f":"Trad!A138","v":"avec les rendement des différents composants: ηCF rendement du convertisseur, ηmot rendement du moteur, ηacc rendement de l'accouplement, ηpompe rendement de la pompe, tous ces composants ne sont pas forcément présents"}]
[null,{"$f":"Trad!A139","v":"Economies annuelles associées à l'optimisation d'une pompe à débit variable:"}]
[null,null,null,null,null,null,null,null,{"$f":"Trad!A200","v":"Nhi, nombre d'heures de fonctionnement dans la classe de rendement i\nn, nombre de classes de débit\nPel, anc.i est la puissance élect. avant optimisation pour la classe de débit i\nPel, nouv.i est la puissance élect. après optimisation pour la classe de débit i"}]
[]
[]
[null,null,null,null,null,null,null,null,{"$f":"Trad!A201","v":"Phydr,anc.i est la puissance hydraulique (avant optimisation) pour la classe de débit i\nƞtot,anc.i est le rendement total avant pour la classe de débit i\nΔpanc.i est le différentiel de pression avant pour la classe de débit i [Pa]\nQanc.i est le débit moyen avant de la classe i [m3/s]\nPhydr,nouv.i est la puissance hydraulique (après optimisation) pour la classe de débit i\nƞtot,nouv.i est le rendement total après pour la classe de débit i\nΔpnouv.i est le différentiel de pression après pour la classe de débit i [Pa]\nQnouv.i est le débit moyen après de la classe i [m3/s]"}]
[]
[]
[]
[]
[null,{"$f":"Trad!A202","v":"Sachant que les débits de chaque classe avant et après sont inchangés, donc que Qanc.i = Qnouv.i"}]
[]
[null,{"$f":"HYPERLINK(Listes!A36&\"/FA_pompe_exemple.htm\",Trad!A198)","v":"Exemple de l'optimisation d'une pompe redimensionnée et équipée d'un convertisseur"}]
[null,{"$f":"Trad!A140","v":"Le rendement d'une pompe en fonction de la vitesse n'est pas toujours estimé correctement."}]
[null,{"$f":"HYPERLINK(Listes!A36&\"/FA_pompe_vitesse.htm\",Trad!A199)","v":"Rendement des pompes en fonction de la courbe de perte de charge et de la vitesse"}]

{"sheet":"Analyse Ventilateur","index":5,"n_rows":128,"n_cols":69,"rows_kept":128,"cut":false,"hidden":false,"merged":[[71,2,71,14],[1,13,1,14],[1,15,1,16],[1,17,1,18],[1,19,1,20],[3,1,3,2],[3,3,3,4],[3,5,3,6],[3,7,3,8],[3,9,3,10],[3,11,3,12],[3,13,3,14],[3,15,3,16],[3,17,3,18],[3,19,3,20],[1,11,1,12],[2,9,2,10],[1,1,1,2],[1,3,1,4],[1,5,1,6],[1,7,1,8],[1,9,1,10],[21,17,21,20],[27,2,27,14],[27,17,27,20],[31,2,31,14],[31,17,31,20],[6,4,6,20],[13,2,13,14],[13,17,13,20],[17,2,17,14],[17,17,17,20],[7,2,7,3],[7,4,7,20],[8,1,8,6],[6,2,6,3],[14,2,14,14],[15,2,15,14],[19,2,19,14],[23,2,23,14],[29,2,29,14],[47,17,47,20],[51,2,51,14],[51,17,51,20],[57,2,57,14],[57,17,57,20],[35,2,35,14],[35,17,35,20],[39,2,39,14],[39,17,39,20],[43,2,43,14],[43,17,43,20],[40,2,40,14],[37,2,37,14],[41,2,41,14],[45,2,45,14],[49,2,49,14],[53,2,53,14],[109,1,109,20],[110,1,110,6],[80,1,80,9],[80,12,80,20],[81,1,81,9],[81,12,81,20],[82,1,82,9],[82,12,82,20],[61,2,61,14],[61,17,61,20],[79,1,79,9],[79,12,79,20],[65,2,65,14],[65,17,65,20],[69,2,69,14],[69,17,69,20],[73,1,73,20],[75,1,75,9],[75,10,75,15],[76,1,76,9],[77,1,77,9],[77,12,77,20],[78,1,78,9],[78,12,78,20],[86,1,86,20],[89,1,89,20],[90,1,90,6],[97,1,97,20],[98,1,98,9],[98,10,98,20],[99,1,99,20],[104,1,104,20],[105,1,105,6],[126,1,126,20],[127,1,127,20],[113,1,113,20],[114,1,114,20],[115,8,117,20],[118,8,121,20],[123,1,123,20],[125,1,125,20],[111,1,111,20],[70,2,70,14],[66,2,66,14],[44,2,44,14],[48,2,48,14],[52,2,52,14],[58,2,58,14],[62,2,62,14],[18,2,18,14],[22,2,22,14],[28,2,28,14],[32,2,32,14],[36,2,36,14],[47,2,47,14],[21,2,21,14],[33,2,33,14],[59,2,59,14],[63,2,63,14],[67,2,67,14]]}
[]
[null,{"$f":"HYPERLINK(NomFichier&Listes!C49&\"'!A1\",Trad!A3)","v":"Menu"},null,{"$f":"HYPERLINK(NomFichier&Listes!C50&\"'!A1\",Trad!A4)","v":"Introduction"},null,{"$f":"HYPERLINK(NomFichier&Listes!C56&\"'!A1\",Trad!A10)","v":"Aide"},null,null,null,{"$f":"HYPERLINK(NomFichier&Listes!C51&\"'!A1\",Trad!A5)","v":"Pompe(s)"},null,{"$f":"HYPERLINK(NomFichier&Listes!C52&\"'!A1\",Trad!A6)","v":"Ventilateur(s)"},null,{"$f":"HYPERLINK(NomFichier&Listes!C53&\"'!A1\",Trad!A7)","v":"Air comprimé"},null,{"$f":"HYPERLINK(NomFichier&Listes!C54&\"'!A1\",Trad!A8)","v":"Groupe froid"},null,null,null,{"$f":"HYPERLINK(Listes!A36&\"/14010 Canevas Résultats analyses V3a.xlsm\",Trad!A9)","v":"Résultats"}]
[]
[null,{"$f":"Traduction!$A$63","v":"1. Questions liminaires"},null,{"$f":"Traduction!$A$491","v":"2. Besoins en mesurages"},null,{"$f":"Traduction!$A$79","v":"3. Questions additionnelles"},null,{"$f":"Traduction!$A$493","v":"4. Synthèse"},null,{"$f":"Traduction!$A$494","v":"5. Données de mesurage"},null,{"$f":"Traduction!$A$495","v":"6. Calcul des économies"}]
[]
[null,{"$f":"Traduction!$A$179","v":"Analyse fine Ventilateurs"}]
[null,null,{"$f":"[1]Traduction!$A$125","v":"But:"},null,{"$f":"Traduction!$A$180","v":"Ce module FA dévolu aux ventilateurs propose une démarche (voir l'arbre de décision sous le schéma) permettant une analyse approfondie du système existant (incluant des mesurages) et des propositions d'optimisation appropriées."}]
[]
[null,{"$f":"HYPERLINK(Listes!A36&\"/FA_ventilo_arborescence.htm\",Trad!A203)","v":"Arbre de décision"}]
[]
[null,{"$f":"Traduction!$A$63","v":"1. Questions liminaires"}]
[]
[null,{"$f":"Traduction!$A$64","v":"Question No"},1]
[null,null,{"$f":"Traduction!$A$65","v":"Les équipements sont-ils âgés?"}]
[null,null,{"$f":"Traduction!A778","v":"Plusieurs paramètres vont influencer la durée de vie effective d'une installation: le nombre d'heures de fonctionnement par an, la taille, les conditions d'exploitation (milieu agressif).\nPour un moteur et un ventilateur sans problème d'usure particulière, on peut qualifier \"d'âgé\" un équipement qui est dans la zone \"âgé\" de la figure de la fiche \"Plus de détail 1\", voir le lien dans la partie 3 ci-dessous. \n\nAttention, le fait de se trouver dans la zone \"âgé\" ne signifie pas que l'équipement a dépassé sa durée de vie \"normale\" mais que l'âge est un argument pour s'interesser aux potentiels d'économie.\n\nAu niveau des gains possibles, des installations anciennes présentent souvent des potentiels plus importants. De plus, des investissements en vue de les optimiser sont plus faciles à justifier."}]
[null,null,{"$f":"Trad!A217","v":"Cliquez sur le + à gauche pour des détails supplémentaires"}]
[null,{"$f":"Traduction!$A$64","v":"Question No"},2]
[null,null,{"$f":"Traduction!$A$66","v":"Les consommateurs ont-ils des besoins concomitants/synchrones ?"}]
[null,null,{"$f":"Traduction!A765","v":"Lorsque le système est complexe, il faut comprendre le comportement et la nature des consommateurs. Si les besoins des consommateurs varient de façon concomitante, les analyses et les optimisations sont plus simples."}]
[null,null,{"$f":"Trad!A217","v":"Cliquez sur le + à gauche pour des détails supplémentaires"}]
[null,{"$f":"Traduction!$A$64","v":"Question No"},3]
[null,null,{"$f":"Traduction!$A$181","v":"Des modifications des prestations du ventilateur ont-elles une influence sur d’autres consommations ?"}]
[null,null,{"$f":"Traduction!A766","v":"Il s’agit d’éviter qu’une vision trop restreinte conduise à des mesures contre-productives à un niveau plus élevé. L’idée est également de déterminer le bon périmètre d’analyse."}]
[null,null,{"$f":"Trad!A217","v":"Cliquez sur le + à gauche pour des détails supplémentaires"}]
[null,{"$f":"Traduction!$A$68","v":"2. Questions liées aux besoins en mesurages"}]
[]
[null,{"$f":"Traduction!$A$64","v":"Question No"},4]
[null,null,{"$f":"Traduction!$A$69","v":"La prestation actuelle (offre) correspond-elle au besoin réel (débit-pression) de l’installation ?"}]
[null,null,{"$f":"Traduction!A767","v":"L’économie la plus simple et la moins onéreuse consiste à assurer le besoin réel et pas plus (donc pas forcément le besoin actuel). Par exemple, il arrive souvent que des modifications dans les besoins (à la baisse) n’aient jamais été intégrées. "}]
[null,null,{"$f":"Trad!A217","v":"Cliquez sur le + à gauche pour des détails supplémentaires"}]
[null,{"$f":"Traduction!$A$64","v":"Question No"},5]
[null,null,{"$f":"Traduction!$A$70","v":"Le besoin (débit) est-il variable?"}]
[null,null,{"$f":"Traduction!A779","v":"Une gestion non optimale des variations de débit est une source de forte surconsommation. L'information sur le caractère variable ou non du besoin est donc importante.\nLa variation du besoin au cours du temps doit être suivie. Une exploitation horaire peut ainsi être parfois avantageuse (pas de fonctionnement sans besoin)."}]
[null,null,{"$f":"Trad!A217","v":"Cliquez sur le + à gauche pour des détails supplémentaires"}]
[null,{"$f":"Traduction!$A$64","v":"Question No"},6]
[null,null,{"$f":"Traduction!$A$72","v":"Le moteur est-il entraîné via un convertisseur de fréquence?"}]
[null,null,{"$f":"Traduction!A780","v":"La gestion actuelle des variations est un point clé. Si celle-ci est assurée par étranglement, l’introduction d’un variateur apportera probablement des économies sensibles."}]
[null,null,{"$f":"Trad!A217","v":"Cliquez sur le + à gauche pour des détails supplémentaires"}]
[null,{"$f":"Traduction!$A$64","v":"Question No"},7]
[null,null,{"$f":"Traduction!$A$73","v":"Le profil de débit effectif est-il disponible?"}]
[null,null,{"$f":"Traduction!A770","v":"La connaissance du profil de débit sur une période représentative est fondamentale. Plus les périodes à petits débits sont longues, plus les économies associées à des mesures d’optimisation (introduction d’un CF) seront importantes."}]
[null,null,{"$f":"Trad!A217","v":"Cliquez sur le + à gauche pour des détails supplémentaires"}]
[null,{"$f":"Traduction!$A$64","v":"Question No"},8]
[null,null,{"$f":"Traduction!$A$74","v":"Quel paramètre influence majoritairement le profil de débit?"}]
[null,null,{"$f":"Traduction!A771","v":"La saison, la météo (Text), l’heure du jour, le jour de la semaine, la production, sont des exemples de paramètres qui peuvent influencer le besoin. Cette information permet notamment de déterminer la durée des mesurages."}]
[null,null,{"$f":"Trad!A217","v":"Cliquez sur le + à gauche pour des détails supplémentaires"}]
[null,{"$f":"Traduction!$A$64","v":"Question No"},9]
[null,null,{"$f":"Traduction!$A$182","v":"Existe-t-il un relevé (enregistrement) des pressions à l'aspiration et au refoulement du ventilateur?"}]
[null,null,{"$f":"Traduction!A782","v":"Le différentiel entre ces deux pressions donne le Δp de fonctionenement du ventilateur. Cette grandeur permet de calculer la puissance aéraulique. Il permet aussi de situer le point de fonctionnement actuel par rapport au point de fonctionnement nominal."}]
[null,null,{"$f":"Trad!A217","v":"Cliquez sur le + à gauche pour des détails supplémentaires"}]
[null,{"$f":"Traduction!$A$64","v":"Question No"},10]
[null,null,{"$f":"Trad!$A$48","v":"Existe-t-il un relevé (enregistrement) de la puissance électrique?"}]
[null,null,{"$f":"Traduction!A773","v":"La puissance électrique active triphasée correspond à la puissance consommée par l'entraînement. Elle permet avec la puissance hydraulique de calculer le rendement global de l'entraînement."}]
[null,null,{"$f":"Trad!A217","v":"Cliquez sur le + à gauche pour des détails supplémentaires"}]
[null,{"$f":"Traduction!$A$79","v":"3. Questions additionnelles"}]
[]
[null,{"$f":"Traduction!$A$64","v":"Question No"},11]
[null,null,{"$f":"Traduction!$A$183","v":"Le circuit aéraulique comprend-il des clapets ou des VAV systématiquement en position partiellement fermée?"}]
[null,null,{"$f":"Traduction!A783","v":"On trouve encore souvent des installations dont le mauvais dimensionnement initial ou un changement dans le besoin nominal sont corrigés par un étranglement permanent. Une approche simple mais peu performante. \nLes débits dans les différentes branches d'un réseau sont souvent contrôlés par des VAV qui sont tous partiellement fermés alors que le ventilateur tourne à vitesse fixe."}]
[null,null,{"$f":"Trad!A217","v":"Cliquez sur le + à gauche pour des détails supplémentaires"},null,null,null,null,null,null,null,null,null,null,null,null,null,null,null,null,null,null,null,null,null,null,null,null,""]
[null,{"$f":"Traduction!$A$64","v":"Question No"},12]
[null,null,{"$f":"Traduction!$A$184","v":"Le système comprend-il des composants induisant des pertes de charge qui pourraient être réduites?"}]
[null,null,{"$f":"Traduction!A784","v":"On trouve dans les réseaux de ventilation différents composants qui présentent une résistance au flux d'air et, de fait, génèrent des pertes de charge. Il arrive que ces composants soient inutiles, caduques ou mal entretenus."}]
[null,null,{"$f":"Trad!A217","v":"Cliquez sur le + à gauche pour des détails supplémentaires"}]
[null,{"$f":"Traduction!$A$64","v":"Question No"},13]
[null,null,{"$f":"Traduction!$A$81","v":"L'entraînement comprend-il un accouplement?"}]
[null,null,{"$f":"Traduction!A785","v":"On a souvent recours à un accouplement par courroies car il permet une flexibilité en termes de prestation (vitesse) et de géométrie (intégration des différents composants). \nIl s’agit d’un composant qui présente des pertes, particulièrement lorsqu’il est mal choisi ou mal entretenu (mauvaise tension)."}]
[null,null,{"$f":"Trad!A217","v":"Cliquez sur le + à gauche pour des détails supplémentaires"}]
[null,{"$f":"Traduction!$A$64","v":"Question No"},14]
[null,null,{"$f":"Traduction!$A$82","v":"Existe-t-il un besoin d'assainissement?"}]
[null,null,{"$f":"Traduction!A777","v":"Des installations peuvent nécessiter un assainissement pour des raisons autres qu'énergétiques. On songe notamment à un âge au-delà de la durée de vie attendue, des besoins d'entretien trop importants, des problèmes de fiabilité récurrents, une modification des besoins, etc.\nCette situation est favorable à une analyse et une optimisation de l'équipement."}]
[null,null,{"$f":"Trad!A217","v":"Cliquez sur le + à gauche pour des détails supplémentaires"}]
[null,{"$f":"Traduction!$A$83","v":"4. Synthèse des questions et mesurages"}]
[null,{"$f":"Traduction!$A$84","v":"Des réponses à vos questions, il est possible de mieux comprendre le système et de mettre en exergue les mesurages nécessaires:"}]
[]
[null,{"$f":"IFERROR(VLOOKUP(V77,AD77:AE100,2,0),\"\")","v":""},null,null,null,null,null,null,null,null,null,null,null,null,null,null,null,null,null,null,null,null,null,null,null,null,"agé",{"$f":"Traduction!$A$85","v":"synchrone"},{"$f":"Traduction!$A$86","v":"influence"},null,null,null,null,{"$f":"Traduction!$A$87","v":"besoin réel"},{"$f":"Traduction!$A$88","v":"variable"},"CF",{"$f":"Traduction!$A$89","v":"débit dispo"},null,null,null,null,null,null,null,null,null,null,null,null,null,null,{"$f":"Traduction!$A$91","v":"pression"},{"$f":"Traduction!$A$92","v":"puissance"},null,null,null,null,{"$f":"Traduction!$A$93","v":"vanne semi"},null,null,null,{"$f":"Traduction!$A$185","v":"Composants pertes de charge"},null,null,{"$f":"Traduction!$A$103","v":"Accouplement"},null,null,{"$f":"Traduction!$A$95","v":"Assainissement"}]
[null,{"$f":"HYPERLINK(Listes!A36&\"/FA_ventilo_détail_1_age.htm\",Trad!A188)","v":"Plus de détails - 1"},null,null,null,null,null,null,null,null,null,null,null,null,null,null,null,null,null,null,null,{"$f":"CONCATENATE(R14,R18,R22)","v":""},null,null,null,null,{"$f":"Traduction!$A$738","v":"oui"},{"$f":"Traduction!$A$738","v":"oui"},{"$f":"Traduction!$A$738","v":"oui"},{"$f":"CONCATENATE(AA77,AB77,AC77)","v":"ouiouioui"},{"$f":"Trad!A55","v":"Les équipements sont anciens et le système a priori plutôt complexe."},null,null,{"$f":"Traduction!$A$738","v":"oui"},{"$f":"Trad!A39","v":"oui"},{"$f":"Traduction!$A$738","v":"oui"},{"$f":"Traduction!$A$738","v":"oui"},{"$f":"CONCATENATE(AH77,AI77,AJ77,AK77)","v":"ouiouiouioui"},{"$f":"Trad!A79","v":"Le débit max. fourni correspond a priori au besoin et il est mesuré par l'exploitant. De plus, les vartiations sont assurées par un variateur. La situation est favorable et il n'y a à priori pas d'investigations supplémentaires à réaliser."},null,null,null,null,{"$f":"Traduction!$A$739","v":"non"},{"$f":"Traduction!$A$96","v":"Saison et Texte"},{"$f":"_xlfn.CONCAT(AR77:AS77)","v":{"$error":"#NAME?"}},{"$f":"Trad!A115","v":"La durée et la période des mesurages doivent intégrer l'éventuel caractère saisonnier. Il est parfois bienvenu de réaliser plusieurs campagnes notamment une en été et une en hiver."},null,null,null,null,{"$f":"Traduction!$A$738","v":"oui"},{"$f":"Traduction!$A$738","v":"oui"},{"$f":"Traduction!$A$543","v":"ouioui"},{"$f":"Trad!A218","v":"Les valeurs de pression sont disponibles. Utilisez-les avec les valeurs de débit pour calculer la puissance aéraulique. Utilisez les valeurs de puissance électrique disponibles pour calculer les rendements."},null,null,{"$f":"Traduction!$A$738","v":"oui"},{"$f":"Trad!A221","v":"Durant des mesurages de débit, on s'efforcera d'ouvrir les clapets semi-fermés de façon à connaître le débit à clapet ouvert. Si ce n'est pas possible, on travaillera avec la caractéristique du clapet. On procédera aux analyses permettant de savoir quel type d'optimisation est adapté (selon les explications de détail)."},null,null,{"$f":"Traduction!$A$738","v":"oui"},{"$f":"Trad!A222","v":"On trouve différents composants comme des amortisseurs de bruits, des batteries et des filtres qui génèrent des pertes de charge parfois importantes.  Suite à l'évolution du système, ces dispositifs ne sont parfois plus nécessaires. Leur démontage permet de réduire les pertes de charge. Pour les filtres, c'est le manque de maintenance qui peut s'avérer source de pertes de charge inutiles. "},null,{"$f":"Traduction!$A$738","v":"oui"},{"$f":"Trad!A125","v":"On cherche à éviter les accouplements qui sont source de frais et d'inefficience énergétique. Dans le cadre d'un assainissement, évaluez la possibilité de travailler avec un entraînement direct."},null,{"$f":"Traduction!$A$738","v":"oui"},{"$f":"Trad!A126","v":"Le besoin d'assainissement facilite la démarche d'analyse et d'optimisation."}]
[null,{"$f":"IFERROR(VLOOKUP(V78,AL77:AM116,2,0),\"\")","v":0},null,null,null,null,null,null,null,null,null,null,{"$f":"IFERROR(VLOOKUP(V82,BF77:BG78,2,0),\"\")","v":""},null,null,null,null,null,null,null,null,{"$f":"CONCATENATE(R28,R32,R36,R40)","v":""},null,null,null,null,{"$f":"Traduction!$A$738","v":"oui"},{"$f":"Traduction!$A$738","v":"oui"},{"$f":"Traduction!$A$739","v":"non"},{"$f":"CONCATENATE(AA78,AB78,AC78)","v":"ouiouinon"},{"$f":"Trad!A56","v":"Les équipements sont anciens et le système a priori plutôt simple."},null,null,{"$f":"Traduction!$A$738","v":"oui"},{"$f":"Trad!A39","v":"oui"},{"$f":"Traduction!$A$738","v":"oui"},{"$f":"Traduction!$A$739","v":"non"},{"$f":"CONCATENATE(AH78,AI78,AJ78,AK78)","v":"ouiouiouinon"},{"$f":"Trad!A80","v":"Le débit max. fourni correspond a priori au besoin, mais il n'est pas mesuré. Un mesurage permettrait de mieux connaître le débit réel."},null,null,null,null,{"$f":"Traduction!$A$739","v":"non"},{"$f":"Traduction!$A$97","v":"l'heure et le jour de la semaine"},{"$f":"_xlfn.CONCAT(AR78:AS78)","v":{"$error":"#NAME?"}},{"$f":"Trad!A116","v":"Une durée de mesurage de l'ordre d'une semaine convient bien dans ce cas."},null,null,null,null,{"$f":"Traduction!$A$738","v":"oui"},{"$f":"Traduction!$A$739","v":"non"},{"$f":"Traduction!$A$545","v":"ouinon"},{"$f":"Trad!A219","v":"Les valeurs de pression sont disponibles. Utilisez-les avec les valeurs de débit pour calculer la puissance aéraulique. Procédez au mesurage de la puissance électrique et calculez les rendements."},null,null,{"$f":"Traduction!$A$739","v":"non"},"-",null,null,{"$f":"Traduction!$A$739","v":"non"},"-",null,{"$f":"Traduction!$A$739","v":"non"},null,null,{"$f":"Traduction!$A$739","v":"non"},"-"]
[null,{"$f":"IFERROR(VLOOKUP(V79,AT77:AU84,2,0),\"\")","v":""},null,null,null,null,null,null,null,null,null,null,{"$f":"HYPERLINK(Listes!A36&\"/FA_ventilo_détail_4_clapet_fermé.htm\",Trad!A191)","v":"Plus de détails - 4"},null,null,null,null,null,null,null,null,{"$f":"CONCATENATE(R40,R44)","v":""},null,null,null,null,{"$f":"Traduction!$A$738","v":"oui"},{"$f":"Traduction!$A$738","v":"oui"},{"$f":"Traduction!$A$71","v":"ne sais pas"},"ouiouine sais pas",{"$f":"Trad!A57","v":"Les équipements sont anciens et possiblement complexes"},null,null,{"$f":"Traduction!$A$738","v":"oui"},{"$f":"Trad!A39","v":"oui"},{"$f":"Traduction!$A$90","v":"Non "},{"$f":"Traduction!$A$738","v":"oui"},"ouiouiNon oui",{"$f":"Trad!A81","v":"Le débit variable n'est probablement  pas contrôlé de la manière la plus efficace.  Considérez le débit relevé par les appareils du site pour valider le recours à un variateur de vitesse."},null,null,null,null,{"$f":"Traduction!$A$739","v":"non"},{"$f":"Trad!A52","v":"la production (type, nbre ou vol. de produit)"},{"$f":"_xlfn.CONCAT(AR79:AS79)","v":{"$error":"#NAME?"}},{"$f":"Trad!A117","v":"Les mesurages doivent être menés sur une période représentative de la production annuelle."},null,null,null,null,{"$f":"Traduction!$A$739","v":"non"},{"$f":"Traduction!$A$738","v":"oui"},{"$f":"Traduction!$A$547","v":"nonoui"},{"$f":"Trad!A220","v":"Les valeurs de pression ne sont pas relevées. Si l'on veut calculer le rendement de l'entraînement, il faut mesurer les pressions à l'aspiration et au refoulement du ventilateur puis calculer la puissance aéraulique. Avec les valeurs de puissance électrique relevées par l'exploitant, on peut ensuite calculer les performances de l'entraînement. "}]
[null,{"$f":"HYPERLINK(Listes!A36&\"/FA_ventilo_détail_2_débit.htm\",Trad!A189)","v":"Plus de détails - 2"},null,null,null,null,null,null,null,null,null,null,null,null,null,null,null,null,null,null,null,null,null,null,null,null,{"$f":"Traduction!$A$738","v":"oui"},{"$f":"Traduction!$A$739","v":"non"},{"$f":"Traduction!$A$738","v":"oui"},"ouinonoui",{"$f":"Trad!A58","v":"Les équipements sont anciens et le système, a priori, complexe."},null,null,null,null,null,null,"",null,null,null,null,null,{"$f":"Traduction!$A$739","v":"non"},{"$f":"Traduction!$A$75","v":"autre ou ne sais pas"},{"$error":"#NAME?"},{"$f":"Trad!A118","v":"Il s'agit de parvenir à déterminer quelle période et quelle durée de mesurage conviennent afin de couvrir l'évolution annuelle des besoins."}]
[null,{"$f":"IFERROR(VLOOKUP(V81,BB77:BC81,2,0),\"\")","v":""},null,null,null,null,null,null,null,null,null,null,{"$f":"IFERROR(VLOOKUP(V83,BJ77:BK78,2,0),\"\")","v":""},null,null,null,null,null,null,null,null,{"$f":"CONCATENATE(R48,R52)","v":""},null,null,null,null,{"$f":"Traduction!$A$738","v":"oui"},{"$f":"Traduction!$A$739","v":"non"},{"$f":"Traduction!$A$739","v":"non"},"ouinonnon",{"$f":"Trad!A59","v":"Les équipements sont anciens et le système, a priori, plutôt complexe."},null,null,{"$f":"Traduction!$A$738","v":"oui"},{"$f":"Traduction!$A$738","v":"oui"},{"$f":"Traduction!$A$739","v":"non"},{"$f":"Traduction!$A$739","v":"non"},"ouiouinonnon",{"$f":"Trad!A82","v":"Le débit variable n'est probablement  pas contrôlé de la manière la plus efficace.  Un mesurage du débit est recommandé."},null,null,null,null,{"$f":"Traduction!$A$738","v":"oui"},{"$f":"Traduction!$A$96","v":"Saison et Texte"},{"$error":"#NAME?"},"-",null,null,null,null,{"$f":"Traduction!$A$739","v":"non"},{"$f":"Traduction!$A$739","v":"non"},{"$f":"Traduction!$A$619","v":"NonNon"},{"$f":"Trad!A122","v":"Les valeurs de pression et de puissance électrique ne sont pas relevées. Procédez au mesurage de ces grandeurs de façon à pouvoir calculer les performances de l'entraînement.  "}]
[null,{"$f":"HYPERLINK(Listes!A36&\"/FA_ventilo_détail_3_relevés_p_et_P.htm\",Trad!A190)","v":"Plus de détails - 3"},null,null,null,null,null,null,null,null,null,null,{"$f":"HYPERLINK(Listes!A36&\"/FA_ventilo_détail_5_pertes de charges évitables.htm\",Trad!A192)","v":"Plus de détails - 5"},null,null,null,null,null,null,null,null,{"$f":"R58","v":0},null,null,null,null,{"$f":"Traduction!$A$738","v":"oui"},{"$f":"Traduction!$A$739","v":"non"},{"$f":"Traduction!$A$71","v":"ne sais pas"},"ouinonne sais pas",{"$f":"Trad!A60","v":"Les équipements sont anciens et le système, a priori, complexe."},null,null,{"$f":"Traduction!$A$738","v":"oui"},{"$f":"Traduction!$A$739","v":"non"},{"$f":"Traduction!$A$738","v":"oui"},{"$f":"Traduction!$A$738","v":"oui"},"ouinonouioui",{"$f":"Trad!A83","v":"Le besoin est a priori bien maîtrisé et enregistré. On a par contre un CF sans débit variable. Un démarreur serait plus judicieux. "},null,null,null,null,{"$f":"Traduction!$A$738","v":"oui"},{"$f":"Traduction!$A$97","v":"l'heure et le jour de la semaine"},{"$error":"#NAME?"},"-"]
[null,{"$f":"IFERROR(VLOOKUP(V84,BM77:BN78,2,0),\"\")","v":""},null,null,null,null,null,null,null,null,null,null,{"$f":"IFERROR(VLOOKUP(V85,BP77:BQ78,2,0),\"\")","v":""},null,null,null,null,null,null,null,null,{"$f":"R62","v":0},null,null,null,null,{"$f":"Traduction!$A$738","v":"oui"},{"$f":"Traduction!$A$71","v":"ne sais pas"},{"$f":"Traduction!$A$739","v":"non"},"ouine sais pasnon",{"$f":"Trad!A61","v":"Les équipements sont anciens et le système possiblement complexe."},null,null,{"$f":"Traduction!$A$738","v":"oui"},{"$f":"Traduction!$A$739","v":"non"},{"$f":"Traduction!$A$738","v":"oui"},{"$f":"Traduction!$A$739","v":"non"},"ouinonouinon",{"$f":"Trad!A84","v":"Le besoin est a priori bien maîtrisé mais pas enregistré. Un mesurage permettrait de valider le débit réel. On a un CF sans débit variable. Un démarreur serait plus judicieux. "},null,null,null,null,{"$f":"Traduction!$A$738","v":"oui"},{"$f":"Trad!A52","v":"la production (type, nbre ou vol. de produit)"},{"$error":"#NAME?"},"-"]
[null,null,null,null,null,null,null,null,null,null,null,null,null,null,null,null,null,null,null,null,null,{"$f":"R66","v":0},null,null,null,null,{"$f":"Traduction!$A$738","v":"oui"},{"$f":"Traduction!$A$71","v":"ne sais pas"},{"$f":"Traduction!$A$71","v":"ne sais pas"},"ouine sais pasne sais pas",{"$f":"Trad!A62","v":"Les équipements sont anciens et le système possiblement complexe."},null,null,{"$f":"Traduction!$A$738","v":"oui"},{"$f":"Traduction!$A$739","v":"non"},{"$f":"Traduction!$A$739","v":"non"},{"$f":"Traduction!$A$738","v":"oui"},"ouinonnonoui",{"$f":"Trad!A85","v":"Le besoin est a priori relevé et bien maîtrisé."},null,null,null,null,{"$f":"Traduction!$A$738","v":"oui"},{"$f":"Traduction!$A$75","v":"autre ou ne sais pas"},{"$error":"#NAME?"},"-"]
[null,{"$f":"Traduction!$A$115","v":"5. Traitement des données de mesurage, analyses et propositions"},null,null,null,null,null,null,null,null,null,null,null,null,null,null,null,null,null,null,null,{"$f":"R70","v":0},null,null,null,null,{"$f":"Traduction!$A$739","v":"non"},{"$f":"Traduction!$A$738","v":"oui"},{"$f":"Traduction!$A$738","v":"oui"},"nonouioui",{"$f":"Trad!A63","v":"Les équipements sont récents. Le système semble, a priori, complexe."},null,null,{"$f":"Traduction!$A$738","v":"oui"},{"$f":"Traduction!$A$739","v":"non"},{"$f":"Traduction!$A$739","v":"non"},{"$f":"Traduction!$A$739","v":"non"},"ouinonnonnon",{"$f":"Trad!A86","v":"Le débit max. fourni correspond a priori au besoin. Il n'est cependant pas relevé. Le mesurage du débit permettrait de la valider."}]
[null,{"$f":"Traduction!$A$116","v":"Bases des analyses de détail"},null,null,null,null,null,null,null,null,null,null,null,null,null,null,null,null,null,null,null,null,null,null,null,null,{"$f":"Traduction!$A$739","v":"non"},{"$f":"Traduction!$A$738","v":"oui"},{"$f":"Traduction!$A$739","v":"non"},"nonouinon",{"$f":"Trad!A64","v":"Les équipements sont récents. Le système semble, a priori, simple."},null,null,{"$f":"Traduction!$A$738","v":"oui"},{"$f":"Traduction!$A$71","v":"ne sais pas"},{"$f":"Traduction!$A$738","v":"oui"},{"$f":"Traduction!$A$738","v":"oui"},"ouine sais pasouioui",{"$f":"Trad!A87","v":"On ne sait pas si le variateur est vraiment utile et réglé, considérez les relevés de débit du débitmètre du site."}]
[null,{"$f":"Trad!A128","v":"Les réponses aux questions ainsi que les valeurs enregistrées des grandeurs suggérées dans la synthèse ci-dessus permettent de procéder aux analyses de détail.\nCes dernières, développées ci-dessous, se basent donc sur la disponibilité des valeurs de débits, de Δp et de Pel sur une période de temps représentative des besoins annuels."},null,null,null,null,null,null,null,null,null,null,null,null,null,null,null,null,null,null,null,null,null,null,null,null,{"$f":"Traduction!$A$739","v":"non"},{"$f":"Traduction!$A$738","v":"oui"},{"$f":"Traduction!$A$71","v":"ne sais pas"},"nonouine sais pas",{"$f":"Trad!A65","v":"Les équipements sont récents et le système possiblement complexe."},null,null,{"$f":"Traduction!$A$738","v":"oui"},{"$f":"Traduction!$A$71","v":"ne sais pas"},{"$f":"Traduction!$A$738","v":"oui"},{"$f":"Traduction!$A$739","v":"non"},"ouine sais pasouinon",{"$f":"Trad!A88","v":"On ne sait pas si le variateur est vraiment utile et réglé, recherchez des informations et, si besoin, procédez à des mesurages de débit."}]
[null,null,null,null,null,null,null,null,null,null,null,null,null,null,null,null,null,null,null,null,null,null,null,null,null,null,{"$f":"Traduction!$A$739","v":"non"},{"$f":"Traduction!$A$739","v":"non"},{"$f":"Traduction!$A$738","v":"oui"},"nonnonoui",{"$f":"Trad!A66","v":"Les équipements sont récents. Le système semble, a priori, complexe."},null,null,{"$f":"Traduction!$A$738","v":"oui"},{"$f":"Traduction!$A$71","v":"ne sais pas"},{"$f":"Traduction!$A$739","v":"non"},{"$f":"Traduction!$A$738","v":"oui"},"ouine sais pasnonoui",{"$f":"Trad!A89","v":"Les variations de débit sont mal connues et possiblement mal maîtrisées, considérez les relevés de débit du site."}]
[null,{"$f":"Traduction!$A$118","v":"Traitement des données de mesurage"},null,null,null,null,null,null,null,null,null,null,null,null,null,null,null,null,null,null,null,null,null,null,null,null,{"$f":"Traduction!$A$739","v":"non"},{"$f":"Traduction!$A$739","v":"non"},{"$f":"Traduction!$A$739","v":"non"},"nonnonnon",{"$f":"Trad!A67","v":"Les équipements sont récents. Le système semble, a priori, complexe."},null,null,{"$f":"Traduction!$A$738","v":"oui"},{"$f":"Traduction!$A$71","v":"ne sais pas"},{"$f":"Traduction!$A$739","v":"non"},{"$f":"Traduction!$A$739","v":"non"},"ouine sais pasnonnon",{"$f":"Trad!A90","v":"Les variations de débit sont mal connues et possiblement mal maîtrisées, procédez à des mesurages de débit."}]
[null,{"$f":"Trad!A204","v":"L'évolution des grandeurs au cours du temps permet d'apprécier les plages de variations et la célérité des variations. Pour des pompes, on en tire notamment:\n- la valeur de la puissance hydraulique fournie, calculée à partir des valeurs de débit et de Δp (aux bornes du ventilateur), puis celle du rendement global, calculée à partir de la puissance hydraulique et de la puissance électrique.\n- les valeurs extrêmes, dont le débit maximum qui permet de juger de la qualité du dimensionnement.\nIl est aussi possible de traiter ces données pour disposer, par exemple, du profil de besoin (débit), sous forme de classes. Ce débit classé permet ensuite de sélectionner au mieux les mesures d'optimisation et de déterminer les gains par classe et total. "},null,null,null,null,null,null,null,null,null,null,null,null,null,null,null,null,null,null,null,null,null,null,null,null,{"$f":"Traduction!$A$739","v":"non"},{"$f":"Traduction!$A$739","v":"non"},{"$f":"Traduction!$A$71","v":"ne sais pas"},"nonnonne sais pas",{"$f":"Trad!A68","v":"Les équipements sont récents. Le système semble, a priori, complexe."},null,null,{"$f":"Traduction!$A$71","v":"ne sais pas"},{"$f":"Traduction!$A$738","v":"oui"},{"$f":"Traduction!$A$738","v":"oui"},{"$f":"Traduction!$A$738","v":"oui"},"ne sais pasouiouioui",{"$f":"Trad!A91","v":"On ne sait pas si le débit correspond au besoin ou s'il trop grand, recherchez des informations sur le besoin réel et comparez-les avec les valeurs relevées par l'exploitant."}]
[null,{"$f":"HYPERLINK(Listes!A36&\"/FA_pompe_débits_classés.htm\",Trad!A193)","v":"Utilisation des débits classés"},null,null,null,null,null,null,null,null,null,null,null,null,null,null,null,null,null,null,null,null,null,null,null,null,{"$f":"Traduction!$A$739","v":"non"},{"$f":"Traduction!$A$71","v":"ne sais pas"},{"$f":"Traduction!$A$739","v":"non"},"nonne sais pasnon",{"$f":"Trad!A69","v":"Les équipements sont récents et le système possiblement complexe."},null,null,{"$f":"Traduction!$A$71","v":"ne sais pas"},{"$f":"Traduction!$A$738","v":"oui"},{"$f":"Traduction!$A$738","v":"oui"},{"$f":"Traduction!$A$739","v":"non"},"ne sais pasouiouinon",{"$f":"Trad!A92","v":"On ne sait pas si le débit correspond au besoin ou s'il trop grand, recherchez des informations sur le besoin réel et procédez à des mesurages de débit."}]
[null,null,null,null,null,null,null,null,null,null,null,null,null,null,null,null,null,null,null,null,null,null,null,null,null,null,{"$f":"Traduction!$A$739","v":"non"},{"$f":"Traduction!$A$71","v":"ne sais pas"},{"$f":"Traduction!$A$71","v":"ne sais pas"},"nonne sais pasne sais pas",{"$f":"Trad!A70","v":"Les équipements sont récents et le système possiblement complexe."},null,null,{"$f":"Traduction!$A$71","v":"ne sais pas"},{"$f":"Traduction!$A$738","v":"oui"},{"$f":"Traduction!$A$739","v":"non"},{"$f":"Traduction!$A$738","v":"oui"},"ne sais pasouinonoui",{"$f":"Trad!A93","v":"On ne sait pas si le débit correspond juste ou s'il est trop grand, recherchez des informations sur le besoin. Par ailleurs les  variations ne sont probablement pas bien maîtrisées, considérez les relevés de débit du site."}]
[null,{"$f":"Traduction!$A$120","v":"Analyse de détail"},null,null,null,null,null,null,null,null,null,null,null,null,null,null,null,null,null,null,null,null,null,null,null,null,{"$f":"Traduction!$A$71","v":"ne sais pas"},{"$f":"Traduction!$A$738","v":"oui"},{"$f":"Traduction!$A$738","v":"oui"},"ne sais pasouioui",{"$f":"Trad!A71","v":"Il est intéressant de connaître l'âge des équipements. Leur remplacement est en général plus facile à financer et les gains potentiellement plus élevés qu'avec des équipements récents. Le système semble, a priori, complexe."},null,null,{"$f":"Traduction!$A$71","v":"ne sais pas"},{"$f":"Traduction!$A$738","v":"oui"},{"$f":"Traduction!$A$739","v":"non"},{"$f":"Traduction!$A$739","v":"non"},"ne sais pasouinonnon",{"$f":"Trad!A94","v":"On ne sait pas si le débit correspond au besoin ou s'il trop grand, recherchez des informations sur le besoin. Par ailleurs, les  variations ne sont probablement pas bien maîtrisées. Un mesurage du débit est recommandé."}]
[null,null,null,null,null,null,null,null,null,null,null,null,null,null,null,null,null,null,null,null,null,null,null,null,null,null,{"$f":"Traduction!$A$71","v":"ne sais pas"},{"$f":"Traduction!$A$738","v":"oui"},{"$f":"Traduction!$A$739","v":"non"},"ne sais pasouinon",{"$f":"Trad!A72","v":"Il est intéressant de connaître l'âge des équipements. Leur remplacement est en général plus facile à financer et les gains potentiellement plus élevés qu'avec des équipements récents. Le système semble, a priori, simple."},null,null,{"$f":"Traduction!$A$71","v":"ne sais pas"},{"$f":"Traduction!$A$739","v":"non"},{"$f":"Traduction!$A$738","v":"oui"},{"$f":"Traduction!$A$738","v":"oui"},"ne sais pasnonouioui",{"$f":"Trad!A95","v":"On ne sait pas si le débit correspond au besoin ou s'il trop grand, recherchez des informations sur le besoin. Il n'y a pas de variations mais un CF. Un démarreur serait plus avisé."}]
[null,{"$f":"Traduction!$A$64","v":"Question No"},15,null,null,null,null,null,null,null,null,null,null,null,null,null,null,null,null,null,null,null,null,null,null,null,{"$f":"Traduction!$A$71","v":"ne sais pas"},{"$f":"Traduction!$A$738","v":"oui"},{"$f":"Traduction!$A$71","v":"ne sais pas"},"ne sais pasouine sais pas",{"$f":"Trad!A73","v":"Il est intéressant de connaître l'âge des équipements. Leur remplacement est en général plus facile à financer et les gains potentiellement plus élevés qu'avec des équipements récents. Le système semble, a priori, complexe."},null,null,{"$f":"Traduction!$A$71","v":"ne sais pas"},{"$f":"Traduction!$A$739","v":"non"},{"$f":"Traduction!$A$738","v":"oui"},{"$f":"Traduction!$A$739","v":"non"},"ne sais pasnonouinon",{"$f":"Trad!A96","v":"On ne sait pas si le débit correspond juste au besoin ou s'il trop grand, recherchez des informations sur le besoin. Il n'y a pas de variations mais un CF. Un démarreur serait plus avisé."}]
[null,null,{"$f":"Traduction!$A$121","v":"Le dimensionnement est-il correct ou nécessite-t-il d'être optimisé?"},null,null,null,null,null,null,null,null,null,null,null,null,null,null,null,null,null,null,null,null,null,null,null,{"$f":"Traduction!$A$71","v":"ne sais pas"},{"$f":"Traduction!$A$739","v":"non"},{"$f":"Traduction!$A$738","v":"oui"},"ne sais pasnonoui",{"$f":"Trad!A74","v":"Il est intéressant de connaître l'âge des équipements. Leur remplacement est en général plus facile à financer et les gains potentiellement plus élevés qu'avec des équipements récents. Le système semble, a priori, complexe."},null,null,{"$f":"Traduction!$A$71","v":"ne sais pas"},{"$f":"Traduction!$A$739","v":"non"},{"$f":"Traduction!$A$739","v":"non"},{"$f":"Traduction!$A$738","v":"oui"},"ne sais pasnonnonoui",{"$f":"Trad!A97","v":"On ne sait pas si le débit correspond au besoin ou s'il trop grand, recherchez des informations sur le besoin réel et comparez-les aux valeurs relevées."}]
[null,null,null,null,null,null,null,null,null,null,null,null,null,null,null,null,null,null,null,null,null,null,null,null,null,null,{"$f":"Traduction!$A$71","v":"ne sais pas"},{"$f":"Traduction!$A$739","v":"non"},{"$f":"Traduction!$A$739","v":"non"},"ne sais pasnonnon",{"$f":"Trad!A75","v":"Il est intéressant de connaître l'âge des équipements. Leur remplacement est en général plus facile à financer et les gains potentiellement plus élevés qu'avec des équipements récents. Le système semble, a priori, complexe."},null,null,{"$f":"Traduction!$A$71","v":"ne sais pas"},{"$f":"Traduction!$A$739","v":"non"},{"$f":"Traduction!$A$739","v":"non"},{"$f":"Traduction!$A$739","v":"non"},"ne sais pasnonnonnon",{"$f":"Trad!A98","v":"On ne sait pas si le débit correspond au besoin ou s'il trop grand, recherchez des informations sur le besoin et comparez-les aux valeurs relevées."}]
[null,{"$f":"Trad!A205","v":"La qualité du dimensionnement s'évalue en premier lieu sur la base du rapport entre le débit max. relevé (et nécessaire) et le débit nominal (rendement max.). Plusieurs situations sont possibles:\n1) Lorsque ce rapport est inférieur à 1, le ventilateur est surdimensionné. Plus ce rapport est petit, plus le rendement sera réduit et plus le potentiel d'optimisation important.\n2) Lorsque ce rapport est proche de 1, le dimensionnement est correct (ce qui ne garantit pas que la situation soit énergétiquement idéale, d'autres inefficiences peuvent exister).\n3) Lorsque ce rapport est supérieur à 1, le ventilateur est sousdimensionné. Plus ce rapport est grand, plus le rendement sera mauvais et les risques de problèmes élevés (cavitation par exemple)"},null,null,null,null,null,null,null,null,null,null,null,null,null,null,null,null,null,null,null,null,null,null,null,null,{"$f":"Traduction!$A$71","v":"ne sais pas"},{"$f":"Traduction!$A$739","v":"non"},{"$f":"Traduction!$A$71","v":"ne sais pas"},"ne sais pasnonne sais pas",{"$f":"Trad!A76","v":"Il est intéressant de connaître l'âge des équipements. Leur remplacement est en général plus facile à financer et les gains potentiellement plus élevés qu'avec des équipements récents. Le système semble, a priori, complexe."},null,null,{"$f":"Traduction!$A$71","v":"ne sais pas"},{"$f":"Traduction!$A$71","v":"ne sais pas"},{"$f":"Traduction!$A$738","v":"oui"},{"$f":"Traduction!$A$738","v":"oui"},"ne sais pasne sais pasouioui",{"$f":"Trad!A99","v":"A priori, on ne sait ni si le débit correspond au besoin ni s'il est variable, recherchez des informations sur le besoin. Considérez le relevé de débit du site."}]
[null,{"$f":"HYPERLINK(Listes!A36&\"/FA_ventilo_détail_4_clapet_fermé.htm\",Trad!A194)","v":"Correction d'un mauvais dimensionnement"},null,null,null,null,null,null,null,null,null,null,null,null,null,null,null,null,null,null,null,null,null,null,null,null,{"$f":"Traduction!$A$71","v":"ne sais pas"},{"$f":"Traduction!$A$71","v":"ne sais pas"},{"$f":"Traduction!$A$739","v":"non"},"ne sais pasne sais pasnon",{"$f":"Trad!A77","v":"Il est intéressant de connaître l'âge des équipements. Leur remplacement est en général plus facile à financer et les gains potentiellement plus élevés qu'avec des équipements récents. Le système est possiblement complexe."},null,null,{"$f":"Traduction!$A$71","v":"ne sais pas"},{"$f":"Traduction!$A$71","v":"ne sais pas"},{"$f":"Traduction!$A$738","v":"oui"},{"$f":"Traduction!$A$739","v":"non"},"ne sais pasne sais pasouinon",{"$f":"Trad!A100","v":"A priori, on ne sait ni si le débit correspond au besoin ni s'il est variable, recherchez des informations sur le besoin. Un mesurage du débit est recommandé."}]
[null,{"$f":"Traduction!$A$123","v":"En cas de redimensionnement sans variations de charge/débit, les économies proviennent donc de l'augmentation du rendement, de la baisse de la puissance hydraulique ou des deux.\nL'investissement consistera alors en une nouvelle pompe et, normalement, un nouveau moteur ou alors en l'ajout d'un variateur et, normalement, un nouveau moteur"},null,null,null,null,null,null,null,null,null,null,null,null,null,null,null,null,null,null,null,null,null,null,null,null,{"$f":"Traduction!$A$71","v":"ne sais pas"},{"$f":"Traduction!$A$71","v":"ne sais pas"},{"$f":"Traduction!$A$71","v":"ne sais pas"},"ne sais pasne sais pasne sais pas",{"$f":"Trad!A78","v":"Il est intéressant de connaître l'âge des équipements. Leur remplacement est en général plus facile à financer et les gains potentiellement plus élevés qu'avec des équipements récents. Le système est possiblement complexe."},null,null,{"$f":"Traduction!$A$71","v":"ne sais pas"},{"$f":"Traduction!$A$71","v":"ne sais pas"},{"$f":"Traduction!$A$739","v":"non"},{"$f":"Traduction!$A$738","v":"oui"},"ne sais pasne sais pasnonoui",{"$f":"Trad!A101","v":"A priori, on ne sait ni si le débit correspond au besoin ni s'il est variable, recherchez des informations sur le besoin. Considérez le relevé de débit du site pour déterminer si le dimensionnement est correct et si un variateur de vitesse ferait sens."}]
[null,null,null,null,null,null,null,null,null,null,null,null,null,null,null,null,null,null,null,null,null,null,null,null,null,null,null,null,null,null,null,null,null,{"$f":"Traduction!$A$71","v":"ne sais pas"},{"$f":"Traduction!$A$71","v":"ne sais pas"},{"$f":"Traduction!$A$739","v":"non"},{"$f":"Traduction!$A$739","v":"non"},"ne sais pasne sais pasnonnon",{"$f":"Trad!A102","v":"A priori, on ne sait ni si le débit correspond au besoin ni s'il est variable, recherchez des informations sur le besoin. Procédez à un mesurage du débit pour déterminer si le dimensionnement est correct et si un variateur de vitesse ferait sens."}]
[null,{"$f":"Traduction!$A$64","v":"Question No"},16,null,null,null,null,null,null,null,null,null,null,null,null,null,null,null,null,null,null,null,null,null,null,null,null,null,null,null,null,null,null,{"$f":"Traduction!$A$739","v":"non"},{"$f":"Traduction!$A$738","v":"oui"},{"$f":"Traduction!$A$738","v":"oui"},{"$f":"Traduction!$A$738","v":"oui"},"nonouiouioui",{"$f":"Trad!A103","v":"Recherchez des informations sur le besoin réel et comparez-les avec les valeurs relevées par l'exploitant."}]
[null,null,{"$f":"Trad!A133","v":"Les variations de charge/débit sont-elles bien gérées?"},null,null,null,null,null,null,null,null,null,null,null,null,null,null,null,null,null,null,null,null,null,null,null,null,null,null,null,null,null,null,{"$f":"Traduction!$A$739","v":"non"},{"$f":"Traduction!$A$738","v":"oui"},{"$f":"Traduction!$A$738","v":"oui"},{"$f":"Traduction!$A$739","v":"non"},"nonouiouinon",{"$f":"Trad!A104","v":"Recherchez des informations sur le besoin réel. Procédez à des mesurages de débit et comparez les valeurs."}]
[null,null,null,null,null,null,null,null,null,null,null,null,null,null,null,null,null,null,null,null,null,null,null,null,null,null,null,null,null,null,null,null,null,{"$f":"Traduction!$A$739","v":"non"},{"$f":"Traduction!$A$738","v":"oui"},{"$f":"Traduction!$A$739","v":"non"},{"$f":"Traduction!$A$738","v":"oui"},"nonouinonoui",{"$f":"Trad!A105","v":"Recherchez des informations sur le besoin réel.  De plus, les  variations de débit ne sont probablement pas efficacement maîtrisées. Considérez le relevé de débit du site pour déterminer si le dimensionnement est correct et si un variateur de vitesse ferait sens."}]
[null,{"$f":"Trad!A206","v":"Il existe de multiples façons de gérer un besoin fluctuant. On citera notamment, côté ventilateur, l'étranglement (clapet) et la variation de vitesse et, côté consommateurs, des VAV. Ces solutions ne sont pas équivalentes en termes énergétiques.\n1) Lorsqu'il n'y a qu'un consommateur ou que, multiples, ils ont un comportement synchrone (donc proche de celui d'un seul consommateur), le profil de débit classé permet de suggérer des optimisations ad hoc basées sur l'introduction d'un variateur (voir utilisation des débits classés). Les optimisations résident dans le redimensionnement et la variation de vitesse.\n2) Lorsque le ventilateur alimente des consommateurs aux besoins indépendants les uns des autres dans des réseaux de branches parallèles, la situation est plus compliquée. Des solutions simples comme le réglage de la pression au refoulement du ventilateur sont insuffisantes et peuvent parfois poser des problèmes sur certaines branches. Il est alors nécessaire de conserver des clapets par exemple pour assurer l'équilibrage et les besoins réels. Les analyses doivent alors être menées de cas en cas et des solutions sur mesure proposées. Des approches basées sur des capteurs de pression déportés peuvent offrir de bons résultats énergétiques."},null,null,null,null,null,null,null,null,null,null,null,null,null,null,null,null,null,null,null,null,null,null,null,null,null,null,null,null,null,null,null,{"$f":"Traduction!$A$739","v":"non"},{"$f":"Traduction!$A$738","v":"oui"},{"$f":"Traduction!$A$739","v":"non"},{"$f":"Traduction!$A$739","v":"non"},"nonouinonnon",{"$f":"Trad!A106","v":"Recherchez des informations sur le besoin réel.  De plus, les  variations ne sont probablement pas efficacement maîtrisées. Un mesurage du débit est recommandé pour déterminer si le dimensionnement est correct et si un variateur de vitesse ferait sens."}]
[null,{"$f":"HYPERLINK(Listes!A36&\"/FA_ventilo_CF.htm\",Trad!A195)","v":"Implémentation d'un convertisseur de fréquence"},null,null,null,null,null,null,null,null,null,null,null,null,null,null,null,null,null,null,null,null,null,null,null,null,null,null,null,null,null,null,null,{"$f":"Traduction!$A$739","v":"non"},{"$f":"Traduction!$A$739","v":"non"},{"$f":"Traduction!$A$738","v":"oui"},{"$f":"Traduction!$A$738","v":"oui"},"nonnonouioui",{"$f":"Trad!A107","v":"Recherchez des informations sur le besoin réel et comparez-les avec les valeurs relevées par l'exploitant. Par ailleurs, il n'y a pas de variations mais un CF. Un démarreur serait énergétiquement plus efficace."}]
[null,null,null,null,null,null,null,null,null,null,null,null,null,null,null,null,null,null,null,null,null,null,null,null,null,null,null,null,null,null,null,null,null,{"$f":"Traduction!$A$739","v":"non"},{"$f":"Traduction!$A$739","v":"non"},{"$f":"Traduction!$A$738","v":"oui"},{"$f":"Traduction!$A$739","v":"non"},"nonnonouinon",{"$f":"Trad!A108","v":"Recherchez des informations sur le besoin réel, procédez à des mesurages de débit et comparez les valeurs. Par ailleurs, s'il se confirme qu'il n'y a pas de variations mais un CF. Un démarreur serait plus avisé."}]
[null,{"$f":"Traduction!$A$138","v":"6. Mesures d'optimisation et calcul des économies"},null,null,null,null,null,null,null,null,null,null,null,null,null,null,null,null,null,null,null,null,null,null,null,null,null,null,null,null,null,null,null,{"$f":"Traduction!$A$739","v":"non"},{"$f":"Traduction!$A$739","v":"non"},{"$f":"Traduction!$A$739","v":"non"},{"$f":"Traduction!$A$738","v":"oui"},"nonnonnonoui",{"$f":"Trad!A109","v":"Recherchez des informations sur le besoin réel et comparez-les avec les valeurs relevées par l'exploitant."}]
[null,null,null,null,null,null,null,null,null,null,null,null,null,null,null,null,null,null,null,null,null,null,null,null,null,null,null,null,null,null,null,null,null,{"$f":"Traduction!$A$739","v":"non"},{"$f":"Traduction!$A$739","v":"non"},{"$f":"Traduction!$A$739","v":"non"},{"$f":"Traduction!$A$739","v":"non"},"nonnonnonnon",{"$f":"Trad!A110","v":"Recherchez des informations sur le besoin réel, procédez à des mesurages de débit et comparez les valeurs afin de valider le dimensionnement."}]
[null,{"$f":"Traduction!$A$196","v":"Dans la cas d'un ventilateur, les inefficiences peuvent avoir pour origines:\n- un débit plus important que nécessaire (aux consommateurs)\n- une exploitation non optimisée en termes d'horaire (un mode réduit ou un arrêt possible dans certaines plages horaires)\n- un travail à un niveau de pression trop élevé (typ. lorsqu'un clapet semi-fermée casse la pression en permanence)\n- un système ancien, mal dimensionné avec des variations des besoins gérées de façon non optimale "},null,null,null,null,null,null,null,null,null,null,null,null,null,null,null,null,null,null,null,null,null,null,null,null,null,null,null,null,null,null,null,{"$f":"Traduction!$A$739","v":"non"},{"$f":"Traduction!$A$71","v":"ne sais pas"},{"$f":"Traduction!$A$738","v":"oui"},{"$f":"Traduction!$A$738","v":"oui"},"nonne sais pasouioui",{"$f":"Trad!A111","v":"Recherchez des informations sur le besoin réel. De plus, les éventuelles variations sont inconnues. Utilisez les valeurs relevées par l'exploitant et déterminez s'il y a lieu de corriger le dimensionnement et si un variateur  de vitesse ferait sens."}]
[null,null,null,null,null,null,null,null,null,null,null,null,null,null,null,null,null,null,null,null,null,null,null,null,null,null,null,null,null,null,null,null,null,{"$f":"Traduction!$A$739","v":"non"},{"$f":"Traduction!$A$71","v":"ne sais pas"},{"$f":"Traduction!$A$738","v":"oui"},{"$f":"Traduction!$A$739","v":"non"},"nonne sais pasouinon",{"$f":"Trad!A112","v":"Recherchez des informations sur le besoin réel. De plus, les éventuelles variations sont inconnues. Un mesurage du débit est recommandé. Comparez ensuite les valeurs afin de corriger le dimensionnement et de déterminer si un variateur de vitesse ferait sens."}]
[null,{"$f":"Traduction!$A$197","v":"Le calcul des économies d'un ventilateur à débit variable passe par le calcul des rendements dans les différentes plages de débit. Ainsi, pour chaque classe de débit, on détermine les rendement anciens et nouveaux pour les composants de l'entraînement. Le rendement total de chaque classe i s'exprime par le produit des rendements des composants constituant l'entraînement:"},null,null,null,null,null,null,null,null,null,null,null,null,null,null,null,null,null,null,null,null,null,null,null,null,null,null,null,null,null,null,null,{"$f":"Traduction!$A$739","v":"non"},{"$f":"Traduction!$A$71","v":"ne sais pas"},{"$f":"Traduction!$A$739","v":"non"},{"$f":"Traduction!$A$738","v":"oui"},"nonne sais pasnonoui",{"$f":"Trad!A113","v":"Recherchez des informations sur le besoin réel. De plus, les éventuelles variations sont inconnues. Utilisez les valeurs relevées par l'exploitant et déterminer s'il y a lieu de corriger le dimensionnement et si un variateur  de vitesse ferait sens"}]
[null,null,null,null,null,null,null,null,null,null,null,null,null,null,null,null,null,null,null,null,null,null,null,null,null,null,null,null,null,null,null,null,null,{"$f":"Traduction!$A$739","v":"non"},{"$f":"Traduction!$A$71","v":"ne sais pas"},{"$f":"Traduction!$A$739","v":"non"},{"$f":"Traduction!$A$739","v":"non"},"nonne sais pasnonnon",{"$f":"Trad!A114","v":"Recherchez des informations sur le besoin réel. De plus, les éventuelles variations sont inconnues. Un mesurage du débit est recommandé afin de déterminer s'il y a lieu de corriger le dimensionnement et si un variateur  de vitesse ferait sens."}]
[null,{"$f":"Trad!A207","v":"avec les rendement des différents composants: ηCF rendement du convertisseur, ηmot rendement du moteur, ηacc rendement de l'accouplement, ηvent rendement du ventilateur, tous ces composants ne sont pas forcément présents"}]
[null,{"$f":"Trad!A208","v":"Economies annuelles associées à l'optimisation d'un ventilateur à débit variable:"}]
[null,null,null,null,null,null,null,null,{"$f":"Trad!A209","v":"Nhi, nombre d'heures de fonctionnement dans la classe de rendement i\nn, nombre de classes de débit\nPel, anc.i est la puissance élect. avant optimisation pour la classe de débit i\nPel, nouv.i est la puissance élect. après optimisation pour la classe de débit i"}]
[]
[]
[null,null,null,null,null,null,null,null,{"$f":"Trad!A210","v":"Paér,anc.i est la puissance aéraulique (avant optimisation) pour la classe de débit i\nƞtot,anc.i est le rendement total avant pour la classe de débit i\nΔpanc.i est le différentiel de pression avant pour la classe de débit i [Pa]\nQanc.i est le débit moyen avant de la classe i [m3/s]\nPaér,nouv.i est la puissance aéraulique (après optimisation) pour la classe de débit i\nƞtot,nouv.i est le rendement total après pour la classe de débit i\nΔpnouv.i est le différentiel de pression après pour la classe de débit i [Pa]\nQnouv.i est le débit moyen après de la classe i [m3/s]"}]
[]
[]
[]
[]
[null,{"$f":"Trad!A202","v":"Sachant que les débits de chaque classe avant et après sont inchangés, donc que Qanc.i = Qnouv.i"}]
[]
[]
[null,{"$f":"Trad!A211","v":"Le rendement d'un entraînement électrique comprenant un ventilateur est souvent péjoré par un accouplement peu efficace."}]
[null,{"$f":"HYPERLINK(Listes!A36&\"/FA_ventilo_accouplement.htm\",Trad!A196)","v":"Performance et optimisation d'un accouplement"}]

{"sheet":"Analyse Air compr","index":6,"n_rows":94,"n_cols":31,"rows_kept":94,"cut":false,"hidden":false,"merged":[[1,19,1,20],[1,1,1,2],[1,3,1,4],[1,5,1,6],[11,1,11,4],[11,5,11,17],[1,7,1,8],[1,11,1,12],[1,17,1,18],[3,1,3,2],[2,13,2,14],[3,15,3,16],[3,17,3,18],[1,13,1,14],[1,15,1,16],[1,9,1,10],[65,1,65,20],[67,1,67,20],[69,1,69,20],[64,1,64,20],[61,1,61,20],[62,1,62,20],[63,1,63,20],[85,1,85,20],[86,1,86,20],[71,1,71,20],[73,1,73,20],[74,1,74,20],[76,1,76,20],[79,1,79,20],[88,1,88,7],[16,1,16,20],[19,1,19,20],[22,1,22,20],[25,1,25,20],[30,1,30,20],[33,1,33,20],[35,1,35,20],[57,1,57,20],[51,1,51,20],[46,1,46,20],[39,1,39,20],[42,1,42,20],[52,1,52,20],[59,1,59,20],[84,1,84,20],[3,3,3,4],[3,5,3,6],[3,7,3,8],[3,9,3,10],[54,1,54,20],[49,1,49,7],[6,3,6,20],[7,2,7,3],[12,1,12,4],[12,5,12,17]]}
[null,1]
[null,{"$f":"HYPERLINK(NomFichier&Listes!C49&\"'!A1\",Trad!A3)","v":"Menu"},null,{"$f":"HYPERLINK(NomFichier&Listes!C50&\"'!A1\",Trad!A4)","v":"Introduction"},null,{"$f":"HYPERLINK(NomFichier&Listes!C56&\"'!A1\",Trad!A10)","v":"Aide"},null,null,null,{"$f":"HYPERLINK(NomFichier&Listes!C51&\"'!A1\",Trad!A5)","v":"Pompe(s)"},null,{"$f":"HYPERLINK(NomFichier&Listes!C52&\"'!A1\",Trad!A6)","v":"Ventilateur(s)"},null,{"$f":"HYPERLINK(NomFichier&Listes!C53&\"'!A1\",Trad!A7)","v":"Air comprimé"},null,{"$f":"HYPERLINK(NomFichier&Listes!C54&\"'!A1\",Trad!A8)","v":"Groupe froid"},null,null,null,{"$f":"HYPERLINK(Listes!A36&\"/14010 Canevas Résultats analyses V3a.xlsm\",Trad!A9)","v":"Résultats"}]
[]
[null,{"$f":"Traduction!$A$695","v":"1. Analyse"},null,{"$f":"Traduction!$A$696","v":"2. Optimisat. distribution"},null,{"$f":"Traduction!$A$698","v":"3. Optimisat. utilisation"},null,{"$f":"Traduction!$A$699","v":"4. Optimisati. production"},null,{"$f":"Traduction!$A$701","v":"5. Optimisat. auxiliaires"}]
[]
[null,{"$f":"Traduction!$A$202","v":"Analyse fine Air comprimé"},null,null,null,null,null,null,null,null,null,null,null,null,null,null,null,null,null,null,null,null,null,null,null,null,null,null,null,null,{"$f":"Traduction!$A$701","v":"5. Optimisat. auxiliaires"}]
[null,{"$f":"Traduction!$A$497","v":"But:"},null,{"$f":"Traduction!$A$203","v":"Ce module FA (analyse de détail) dévolu aux installations d'air comprimé propose une démarche permettant une analyse approfondie du système existant (incluant des mesurages) et des propositions d'optimisation appropriées."}]
[]
[]
[null,{"$f":"Traduction!$A$204","v":"Definitions"}]
[]
[null,{"$f":"Traduction!$A$205","v":"Pression nominale :"},null,null,null,{"$f":"Traduction!$A$206","v":"Différence de pression entre la pression ambiante et la pression du réseau d'air comprimé"}]
[null,{"$f":"Traduction!$A$207","v":"Débit d'air:"},null,null,null,{"$f":"Traduction!$A$208","v":"Le volume d'air aspiré à pression ambiante."}]
[]
[null,{"$f":"Traduction!$A$209","v":"1. Analyse de la consommation actuelle "}]
[]
[null,{"$f":"Traduction!$A$210","v":"Afin de quantifier les économies d'énergie, il s'agit en premier lieu de connaître la consommation actuelle. Plusieurs méthodes, de précision croissante, sont possibles:"}]
[]
[null,{"$f":"Traduction!$A$211","v":"1.1 Estimation à partir des taux de charge"}]
[null,{"$f":"Traduction!A212","v":"Système d'air comprimé à vitesse variable:\nLa plupart des compresseurs à vitesse variable permettent d'extraire, via l'affichage, les pourcentages du temps de fonctionnement correspondant aux différents taux de charge. Grâce à ces pourcentages, aux nombres d'heures de fonctionnement et aux puissances absorbées correspondantes (ces puissances à différents taux de charge sont à demander au constructeur ou à déterminer selon les fiches techniques CAGI américaines), la consommation annuelle totale peut-être déterminée. \nAttention : même si les estimations sont plus précises que dans le GA (analyse préliminaire), ce sont encore des valeurs estimées, basées sur des valeurs indicatives valables dans les conditions standards.\n\nSystème d'air comprimé à vitesse fixe : \nLa plupart des compresseurs d'air ont des compteurs d'heures de fonctionnement et d'heures en charge. La différence est le temps de marche à vide. Si les heures de fonctionnement ne sont pas relevées régulièrement, un nombre d'heures et une date peuvent parfois être trouvés dans le carnet d'entretien ou l'autocollant d'entretien. Si ces informations ne sont pas disponibles, il est possible d'estimer les heures de fonctionnement annuelles grâce à l'année d'installation ou de construction du compresseur.  La consommation peut être estimée en multipliant les heures de fonctionnement en charge par la puissance absorbé en charge plus les heures de fonctionnement en marche à vide fois la puissance absorbée dans ce mode. Les puissances absorbées sont parfois disponibles sur les fiches techniques. Sinon, on approximera la puissance absorbée en charge à 100% de la puissance nominale et en marche à vide à 25%.\n\nSi aucune de ces informations n'est disponible, la consommation annuelle peut être très grossièrement estimée en multipliant la puissance nominale par 2000 heures de fonctionnement."}]
[]
[null,{"$f":"Traduction!$A$213","v":"1.2. Mesurage ponctuel"}]
[null,{"$f":"Traduction!$A$214","v":"La consommation électrique du système est mesurée grâce à un wattmètre pendant une période significative (exemple : 1 semaine). Une estimation annuelle est alors obtenue par extrapolation. Cette mesure est à combiner avec les analyses décrites plus bas. La procédure d'aide aux mesurages électriques peut être consultée pour cette variante. Attention, dans le cadre de mesurages avec un ampèremetre (mesure du courant seul sans la tension) le cos phi doit être pris en compte (surtout pour les compresseurs à vitesse fixe). Des ordres de grandeurs typiques sont 0.86 en puissance nominale et 0.44 en marche à vide."}]
[]
[null,{"$f":"Traduction!$A$215","v":"1.3. Compteurs"}]
[null,{"$f":"Traduction!$A$216","v":"Dans certains cas, un compteur électrique permet de connaître la consommation annuelle réelle. "}]
[]
[null,{"$f":"Traduction!$A$217","v":"2. Optimisation de la distribution"}]
[]
[null,{"$f":"Traduction!$A$218","v":"2.1 Réduction des fuites "}]
[null,{"$f":"Traduction!$A$219","v":"Les fuites d'air dans le réseau d'air comprimé représentent un gaspillage direct (énergétique et financier). Le taux de fuites peut être déterminé d'après: [ref. OFEN]. Un réseau en bon état à un taux de fuite d'environ 10 %. Une fois le taux de fuite déterminé, la différence entre le taux calculé et ce 10 % donne le potentiel d'économie (première approximation). Avec la consommation actuelle déterminée précédement, une économie en kWh peut être estimée. \nLes grosses fuites peuvent être détectées à l'oreille dans des locaux avec peu de bruit. Pour détecter les fuites plus modestes ou dans des locaux bruyants, un détecteur de fuite à ultrasons est nécessaire. Ces appareils sont efficaces et permettent une detection systématique. Ces équipements peuvent être loués.\nUne fois les fuites repérées, elle doivent être colmatées.\n\nSouvent, les fuites dans les machines se trouvent au niveau des raccords, vannes et applications de l'air comprimé.\n\n"}]
[]
[null,{"$f":"Traduction!$A$220","v":"2.2 Abaissement de la pression"}]
[null,{"$f":"Traduction!A703","v":"Le réduction de la pression permet des économies d'énergie significatives sans coûts. Si l'on considère que la compression se rapproche de la compression isotherme, le gain théorique peut être calculé avec la formule suivante :"}]
[]
[null,{"$f":"Traduction!A704","v":"Une réduction de pression de 1 bar permet une réduction de la consommation électrique d'environ 7 %. \nLe gain réel est supérieur grâce à la réduction des fuites liée à la réduction du niveau de pression et des coûts de maintenance réduits dus à la baisse des heures de fonctionnement. En générale, une pression au-dessus de 7 bar peut-être considérée comme élevée.\nLe niveau de pression peut-être réduit par petits paliers successifs afin de s'assurer de l'absence de problèmes au niveau des utilisateurs. \nAttention, suivant les machines, une pression d'air comprimé du réseau trop basse risque de les endommager ou de provoquer un arrêt de production. Vérifier les manomètre à l'entrée des machines et les modes de  fonctionnement.\n\nSi un petit nombre d'utilisateurs ont besoin d'un faible volume d'air comprimé mais à une pression élevée, ils peuvent être alimentés via un rehausseur de pression. Le reste du réseau est réglé à une pression plus basse. En pratique, beaucoup de machines ont un besoin de pression limité à 4 bar, quelques-unes à 6 bar. \n\nS'il existe des consommateurs d'air comprimé à débit élevé mais pression basse, il vaut souvent la peine d'installer un second réseau d'air comprimé avec une basse pression et les compresseurs correspondants.\n"}]
[]
[]
[null,{"$f":"Traduction!$A$223","v":"2.3 Minimisation des pertes de charges"}]
[null,{"$f":"Traduction!$A$224","v":"Diminuer les pertes de charge du réseau permet de réduire la consigne de pression et  obtenir ainsi des économies d'énergie (voir 2.2). Quelques règles de bonnes pratiques:\n- Créer un réseau bouclé (les pertes de charges sont de l'ordre de 75 % de celles d'un réseau non-bouclé et il y moins de branches \"défavorisées\").\n- Dimensionner les tuyauteries pour une vitesse maximale de l'air de 6 m/s pour les lignes principales et de 15 m/s pour les branches de distribution\n- Choisir des matériaux pour la tuyauterie avec un faible coefficient de rugosité\n- Utiliser des vannes à passage intégral\n- Choisir les accessoires en fonction de leurs pertes de charge annoncées.\n- Limiter la longeur des flexibles.\n- Entretien régulier des appareils de filtration.\n- Si un utilisateur a parfois besoin d'un débit élevé de façon abrupte, il est possible d'installer un stockage d'air comprimé supplémentaire localement afin de diminuer les pertes de charges dans le réseau et de lisser la demande. Ce genre de comportement peut être observé sur le manomètre à l'entrée de la machine (baisse subite de pression). La pression peut aussi être monitorée avec un loggeur. \nLes économies sont à calculer grâce au point 2.2."}]
[]
[null,{"$f":"Traduction!$A$225","v":"2.4 Sectionnement du réseau"}]
[null,{"$f":"Traduction!$A$226","v":"Suivant le profil d'utilisation de l'air comprimé dans les différents équipements/utilisateurs, une partie du réseau peut-être déconnectée durant les heures de non-utilisation. Les gains se calculent avec le taux de fuite et la proportion du réseau coupé (voir AP+). Il faut toujouirs au préalable vérifier s'il n'est pas possible d'arrêter complètement le compresseur. \nDans le cas où tout le réseau est maintenu en pression hors des heures de travail pour alimenter un utilisateur unique, il peut être envisagé de sortir cet appareil du réseau et l'alimenter avec une compresseur dédié."}]
[]
[null,{"$f":"Traduction!$A$227","v":"3. Optimisation de l'utilisation"}]
[]
[null,{"$f":"Traduction!$A$228","v":"En règle générale, les consommateurs d'air comprimé avec un grand volume annuel, une pression relativement élevé ( > 6 bar) ou des besoins hors des heures d'ouverture doivent être étudiés plus en détail.\n\nAu niveau des utilisateurs finaux, le besoin peut souvent être réduit par des mesures simples :\n- Ajout d'une électrovanne, à l'entrée des machines, qui se ferme lorsque cette dernière n'est pas utilisée. Les économies peuvent être calculées soit, en mesurant le débit à l'entrée des machines, soit par estimation du débit donné par le fournisseur.\n- Régulation des consommateurs : dans certains cas, le débit ou la pression peuvent  être régulé au niveau des utilisateurs. \n- Remplacer les outillages pneumatiques par des équivalents électriques.\n          - Par exemple la consommation d'un moteur électrique par rapport à un moteur pneumatique et de 5-10 fois plus basse.\n          - Remplacement de piston à air avec plus de 10 mouvement par minute par des piston électrique. \n          - Remplacement de pompe à membrane pneumatique par des pompe à membrane électrique ou pompe de circulation.\n          - Beaucoup de machines utilisent des buses de nettoyage pneumatiques (ou pour du refroidissement), par exemple pour évacuer des copeaux ou nettoyer des capteurs optiques. Sur des machines avec un volume d'ai pour le nettoyage important, il est possible de travailler avec des souffleries locales.\nSur certaines machines outils, l'air comprimés est utilisé pour protéger les broches des impuretés. Lorsque la machine est hors production, l'air continue d'être soufflé pour éviter que lors du nettoyage de la machine des corps étrangers entrent dans les broches. \n\nIl est généralement utile de s'approcher du constructeur de la machine pour discuter des possibilités de réduction du besoin d'air comprimé."}]
[]
[null,{"$f":"Traduction!$A$229","v":"4. Optimisation de la production"}]
[]
[null,{"$f":"Traduction!$A$230","v":"4.1 Adéquation entre les besoins et la production"}]
[null,{"$f":"Traduction!$A$705","v":"Une fois la distribution et l'utilisation de l'air comprimé bien spécifiées et optimisées, il s'agit de vérifer si les compresseurs sont correctement dimensionnés en puissance et en pression. \nPression: Un compresseur avec une pression de consigne effective bien plus basse que la pression nominale aura une efficacité réduite. Il est difficile de calculer le gain obtenu par un compresseur correctement dimensionné en pression. Cette information est à demander au fournisseur.\nAttention, lors d'un redimensionnement, les puissances maximales futures doivent être prises en compte (à discuter avec le personnel sur place).\nDébit nominal: Si le compresseur est surdimensionné en débit, l'efficacité sera prétéritée tant pour des compresseurs fonctionnant en charge/à vide, que pour des compresseur à vitesse variable. Les gains théoriques peuvent être calculés grâce aux données techniques de la puissance du compresseur en fonction du taux de charge. En dessous de 40-50 % de taux de charge, l'efficacité d'un compresseur à vitesse variable se détériore significativement (voir figure 1). Les méthodes de calcul sont décrites sous 4.2.  "}]
[null,{"$f":"Traduction!$A$232","v":"Figure 1 : Comparaison des puissances spécifiques de compresseurs à vitesse variable (la médiane en noir) et en marche/arrêt (la médiane en bleu) en fonction du taux de charge. Sources de données: fiche CAGIS de 2017 des compresseurs Atlas Copco et Kaeser avec une Pression nominale entre 7.6 bar  et 8.1 bar et entre 8.3 bar et 8.9 bar soit 22 compresseurs à vitesse variable et 29 en marche arrêt (en traits fins, toutes les courbes individuelles). En rouge les différences entre les deux médianes, donc les potentiels d'économie."}]
[]
[null,{"$f":"Traduction!$A$233","v":"Conseils:\nComme la plupart des compresseurs sont redondants, il est possible d'optimiser le système économiquement en ne remplacent qu'un seul compresseur par un compresseur à vitesse variable. Celui-ci fonctionnera alors la majorité du temps. L'ancien compresseur à vitesse fixe, ne s'enclanche qu'une heure par semaine ou lors d'un disfonctionnent du nouveau compresseur.\n\nSi un compresseur à vis est surdimensionné et n'est que rarement en puissance, la durée de vie risque de diminuer car le compresseur tourne souvent à froid. Un plus petit compresseur à vis ou un compresseur à piston serait plus adéquat.\n\nUn système d'air comprimé avec des compresseurs à vitesse variable a aussi besoin d'un stock."}]
[]
[null,{"$f":"Traduction!$A$234","v":"4.2 Performance compresseur(s)"}]
[null,{"$f":"Traduction!$A$235","v":"Il existe plusieurs moyen d'augmenter la performance des compresseurs. Pour avoir une estimation plus précise des gains, la détermination de la performance actuelle du système est un premier pas. Un bon système d'air comprimé à vis à 7 bar nécessite environ 0.1 kWh d'énergie élecrique par m3 d'air comprimé. (rendement isothermique de 60%). Les points suivants décrivent les différentes possibilités d'optimisation. \n\nNotez que les compresseurs sans huiles sont moins efficaces que les compresseurs avec huile, qui peuvent être muni d'un filtre."}]
[null,{"$f":"Traduction!$A$236","v":"4.2.1 Déterminer la performance actuelle du ou des compresseur(s)"}]
[null,{"$f":"Traduction!$A$237","v":"Méthode :\n- Mesurage de la puissance électrique absorbée pour chaque compresseur\n- Mesurage concomitant du débit total produit. Le débit total peut soit être connu grace à un débitmètre (qui doit être ajouté), soit via l'enregistrement déjà inclus dans le système. Dans le dernier cas, le compteur peut-être relevé régulièrement à la main.\nCes deux grandeurs permettent de calculer la puissance spécifique du ou des compresseurs, qui pourra être comparée aux valeurs de la fiche technique (dégradation) et aux valeurs des BAT (best available technique). \nAttention : lors de la comparaison, il faut prendre en compte le fait que les valeurs des fiches techniques sont mesurée dans des conditions standard. Ces valeurs doivent être corrigées en fonction de la température d'aspiration et de la pression. La puissance spécifique peut-être calculée au niveau du compresseur ou au niveau de toute la production incluant le séchage et les purges."}]
[null,{"$f":"Traduction!$A$238","v":"4.2.2 Remplacement du compresseur en marche/à vide par un compresseur à vitesse variable"}]
[null,{"$f":"Traduction!$A$239","v":"Gains\nLe remplacement d'un compresseur marche/à vide par un nouveau compresseur à vitesse variable permet 3 gains principaux:\n- Un gain d'efficacité lors de taux de charges partiels (notamment en dessous de 80%) comme montré avec la différence des puissances spécifiques dans la fig. 1. Ce gain est dû à la diminution voir à l'élimination de période en marche à vide qui consomment de l'énergie mais ne produisent rien. \n- Gain dû à une plage de pression réduite: en marche à vide, la plage de pression (delta p) est relativement élevée pour éviter des marches/arrêts trop fréquents. Or, une pression augmentée signifie une puissance spécifiques diminuée, donc une efficacité réduite. Un compresseur à vitesse variable n'a plus vraiment de plage de pression (ou une plage plus petite) mais une pression de consigne qui est assurée en continu (voir figure 2).\n- Gain technologique dû à des composants plus performants :  un nouveau compresseur aura généralement une puissance spécifique plus faible qu'un ancien (à vérifier avec les données techniques et éventuellement par mesurage). "}]
[null,{"$f":"Traduction!$A$240","v":"Figure 2 : Consommation électrique d'un compresseur 22 kW en charge/marche à vide. Le remplacement de ce compresseur par un compresseur à vitesse variable permettrait d'éviter une trop grand plage de pression et ainsi d'économiser la partie verte. De plus, avec une vitesse variable la marche à vide pourrait aussi être supprimée, partie en rouge (à noter que ce compresseur a une marche à vide relativement courte). Dans ce cas précis, sur  une journée , la partie verte permettrait un gain de 4 %. La partie rouge un gain d'environ 10%."}]
[null,{"$f":"Traduction!$A$241","v":"Méthode de calcul des gains:\n1) Définir un profil annuels des débits \nDans le cas idéal, les débits ont été mesurés sur une année avec une résolution fine (quelques minutes) ce qui permet d'avoir un profil réel. \nMalheureusement, ces données ne sont généralement pas disponibles. Dans ce cas, une campagne de mesurage du débit durant une période représentative peut être organisée. Les résultats peuvent alors être extrapolés sur une année. Dans le cas où une mesure (souvent intrusive) du débit n'est pas possible ou trop compliquée, le profil du débit peut-être estimé en ne mesurant que la puissance électrique du compresseur en fonction du temps (sur une période significative avec un pas de temps d'une minute environ). Le débit peut alors être estimé grâce à la puissance spécifique fournie par la fiche technique (à adapter aux conditions du système en prenant en compte la température de l'air aspiré et les pressions de consigne). Le débit devra ensuite être lissé (effet du stock d'air comprimé). Dans ce dernier cas, les estimations n'intègrent pas la différence entre la puissance spécifique issue de la fiche technique et la valeur réelle. \nUne semaine de mesure est souvent suffisant.\nAttention : si des optimisations du réseau ou des consommateurs sont prévues simultanément, le profil doit être adapté (idéalement ces optimisations sont implémentées avant les mesurages)."}]
[null,{"$f":"Traduction!$A$242","v":"Figure 3 : Profil des débits en histogramme"}]
[null,{"$f":"Traduction!$A$243","v":"2) Grâce au profil des débits annuel mesuré ou estimé, la consommation électrique du nouveau compresseur peut-être estimée des valeurs de puissances spécifiques (adaptées aux conditions de fonctionnement) en fonction du taux de charge (généralement à demander au fournisseur, les fiches américaines CAGIS donnent aussi déjà une bonne estimation). La consommation ainsi calculée peut ensuite être comparée à la consommation actuelle (par exemple mesurée au wattmètre). "}]
[null,{"$f":"Traduction!$A$244","v":"4.2.3 Redimensionnement."}]
[null,{"$f":"Traduction!$A$245","v":"Un compresseur surdimensionné n'est pas efficace (voir section 4.1). Suivant les conditions, le remplacement par un compresseur adapté peut-être rentable. "}]
[null,{"$f":"Traduction!$A$246","v":"Méthode de calcul"}]
[null,{"$f":"Traduction!$A$247","v":"Les gains sont estimés comme à la section 4.2.2. Lors d'un remplacement, il vaut généralement la peine d'installer un compresseur à vitesse variable (si l'ancien n'était pas déjà sur variateur). "}]
[null,{"$f":"Traduction!$A$248","v":"4.2.4 Optimisation de la cascade des compresseurs"}]
[null,{"$f":"Traduction!$A$249","v":"Dans les situations dans lesquelles le système comprend plusieurs compresseurs pouvant fonctionner simultanément, l'optimisation de la cascade est parfois possible avec des économies significatives et à peu de coûts. En règle générale, le fournisseur du compresseur s'occupe de cette régulation. Les modes de fonctionnement efficaces suivants sont à vérifier/atteindre:\n- Le/les compresseurs à vitesse variable génère(nt) la partie fluctuante du débit (le débit de bande est produit par un/des compresseur(s) sans variateur). Cette condition est vérifiée si le taux de charge du/des compresseur(s) sans variateur est élevé. \n- Les enclenchements/déclenchement assurent des taux de charge optimaux : pour les compresseurs en charge/à vide en dessus de 80/90 %, pour les compresseurs à vitesse variable entre 50% et 90%.\n- Les compresseurs les plus efficients fonctionnent en priorité. "}]
[null,{"$f":"Traduction!$A$250","v":"Méthode de calcul des gain:"}]
[null,{"$f":"Traduction!$A$251","v":"1. Mesurer de manière simultanée la consommation électrique de chaque compresseur sur une période représentative. \n2. Déduire le taux de charge de chaque compresseur en fonction de la tranche de débit.\n3. Grâce aux puissances spécifiques des différents compresseurs et des taux de charge, un débit peut être estimé. En sommant ces valeurs, un débit total peut être obtenu. Idéalement le débit total est mesuré par un débitmètre. \n4. Sur cette base, dressez alors une une monotone inverse ou un histogramme des débits. \n5. Pour chaque tranche de débit, une nouvelle séquence d'enclenchement optimisée assurera la production nécessaire \n6. La nouvelle consommation peut alors être estimée par tranche de débit grâce aux puissances spécifiques et au débit de chaque compresseur. \n7. La somme de ces consommations peut alors être comparée à la consommation initale pour établir le gain potentiel.  "}]
[null,{"$f":"Traduction!$A$252","v":"Remarques: Des systèmes de gestion automatique modernes optimisent automatiquement les séquences d'enclenchement selon le type et l'efficacité des compresseurs."}]
[null,{"$f":"Traduction!$A$253","v":"4.3 Température d'aspiration"}]
[null,{"$f":"Traduction!A254","v":"La puissance de compression est dépendante de la température d'aspiration. La diminution de la masse volumique de l'air avec l'augmentation de la température engendre une augmentation de la consommation spécifique.\nMéthode de calcul:\nL'augmentation moyenne de la consommation spécifique d'un compresseur en fonction de la température est de 0.34 %/°C.\n\nOptimisations: \n- Meilleure ventilation des locaux \n- Aspiration de l'air extérieur (généralement)\nUn ventilateur peut être utile (notamment si l'arrivé d'air frais passe par une longue conduite). La propreté de l'air aspiré ne doit pas être négligée."}]
[]
[null,{"$f":"Traduction!$A$255","v":"4.4 Monitoring instrumenté (smart meter)"}]
[null,{"$f":"Traduction!$A$256","v":"Dans la plupart des cas, il est intéressant d'installer des compteurs d'électricité à demeure (smart metering). Ceci permet la surveillance du bon fonctionnement des installations, de déterminer les coûts pour l'air comprimé et de quantifier l'effet des mesures d'économies implémentées."}]
[]
[null,{"$f":"Traduction!$A$257","v":"5. Optimisation des auxiliaires"}]
[]
[null,{"$f":"Traduction!$A$258","v":"5.1 Séchage"}]
[null,{"$f":"Traduction!$A$259","v":"L'air quittant le compresseur est généralement saturé en eau. Cet air doit être séché pour éviter de la condensation dans le réseau. Le niveau de qualité de l'air en lien avec l'humidité est exprimé par le point de rosé. Il existe plusieurs types de sécheurs:\n- Réfrigération:  les machines frigorifiques sont les systèmes de séchage de l'air comprimé les plus efficaces. Elle sont utilisables lorsque le point de rosé est en dessus de 2°C. Si ces sécheurs ont besoin de 10 minutes pour fonctionner en plein ils peuvent être arrêtés en même temps que le compresseur.\n-  Adsoption: deux réservoirs installés en parallèle contiennent un produit siccatif; l'adsoption se déroule dans le premier réservoir et la régénération dans le second. La régénération à froid se fait via l'injection d'air comprimé (10-20 % du débit nominal du sécheur, ce sont donc des pertes). Le point de rosée sous pression se situe entre -40°C et -70°C. La regénération utilise soit de l'air réchauffé (résistance électrique), de la vapeur ou l'air chauffé par le compressaur. La température est ensuite réduite grâce à l'air ambiant. Le point de rosée se situe aux alentours de -40°C. Les pertes se situe entre 8- 12% liée aux pertes de charge et à la consommation d'air comprimé. Ce type doit être utilisé seulement si nécessaire. Ces sécheurs doivent être réglé en humidité et non par horaire. Les sécheurs à absorption sont plus efficace si l'air est d'abord séché par un sécheur à réfrigération.\n- Membrane pour les petits débit (< 85 m3/h) ponctuelle.\nUne estimation de la consommation est donnée par la figure 4."}]
[null,{"$f":"Traduction!$A$260","v":"Figure 4 : Consommation énergétique de différents sécheurs et leurs domaine d'application [rat]. Attention ces valuers sont approximatives. D'autres sources indiquent entre 2 et 10 Wh/m3 pour les sécheurs frigorifique et entre 15% et 20 % de pertes en volume d'air comprimé pour les sécheurs à adsorption et absoprtion."}]
[null,{"$f":"Traduction!A261","v":"On recommande de remplacer à posteriori tous les systèmes de séchage par une machine frigorifique si le point de rosé requis n'est pas trop élevé (bas?) (> 3°C).\nLes économies peuvent être calculées en s'informant sur les consommations des différents sécheurs.\nPour les sécheurs à adsorption les mesures d'optimisation suivantes peuvent être envisagées:\n- Réguler la régénération sur la base de la mesure du point de rosée.\n- Ne pas surdimensionner le sécheur (notamment lorsque la régénération est réalisée par un débit fixe dimensionné pour la capacité nominale).\n- Contrôler le bon fonctionnement des vannes. "}]
[]
[]
[null,{"$f":"Traduction!A709","v":"Références:"}]
[null,{"$f":"Traduction!A710","v":"[Hiraux2014] Ellipse, Air comprimé, Michel Hiraux, 2014"}]
[null,{"$f":"Traduction!A711","v":"Mesurage Planair"}]
[null,{"$f":"Traduction!A712","v":"[rat] Ratgeber Druckluft für den Praxiseinsatz, ein Handbuch füe de Instandhaltung. LandesEnergieVerein Steiermark, 2006"}]
[null,{"$f":"Traduction!A713","v":"Les auteurs remercie Rolf Gloor pour la relecture et les nombreux conseils qui sont intégrés dans ce texte."}]

{"sheet":"Feuil3","index":7,"n_rows":0,"n_cols":0,"rows_kept":0,"cut":false,"hidden":false,"merged":[]}

{"sheet":"Feuil4","index":8,"n_rows":18,"n_cols":5,"rows_kept":18,"cut":false,"hidden":false,"merged":[]}
[]
[]
[]
[]
[]
[]
[]
[]
[]
[]
[]
[]
[]
[]
[]
[]
[]
[null,null,null,null,{"$f":"secheurde","v":{"$error":"#NAME?"}}]

{"sheet":"Aide calcul économie froid","index":9,"n_rows":9101,"n_cols":20,"rows_kept":4500,"cut":true,"hidden":false,"merged":[[263,3,263,6],[31,3,31,8],[273,1,273,2],[167,1,190,1],[277,1,277,3],[39,1,39,2],[40,1,40,2],[253,1,253,2],[221,1,221,3],[222,1,222,3],[223,1,223,3],[251,1,251,2],[252,1,252,2],[33,1,36,1],[267,1,267,2],[259,1,259,2],[260,1,260,2],[261,1,261,2],[262,1,262,2],[263,1,263,2],[266,1,266,2],[258,1,258,2],[256,1,256,2],[460,1,460,2],[461,1,461,2],[456,1,456,2],[457,1,457,2],[318,1,323,8],[446,1,446,8],[423,1,423,4],[424,1,425,4],[458,1,458,2],[459,1,459,2],[426,1,426,4],[343,1,343,4],[344,1,344,4],[360,1,361,4],[217,1,217,3],[218,1,218,3],[47,1,70,1],[71,1,94,1],[257,1,257,2],[95,1,118,1],[119,1,142,1],[191,1,214,1],[219,1,219,3],[220,1,220,3],[24,3,24,8],[143,1,166,1],[1,29,1,30],[1,16,1,17],[7,1,7,7],[5,1,5,8],[10,1,11,8],[26,1,29,1],[389,1,389,8],[268,1,268,2],[268,3,268,6],[271,1,271,2],[272,1,272,2],[362,1,362,4],[273,3,273,6],[276,1,276,3],[359,1,359,4],[382,1,383,8]],"bounds":{"rows_first":2000,"rows_last":500,"rows_between":2000,"halvings":0}}
[]
[null,{"$f":"HYPERLINK(NomFichier&Listes!C49&\"'!A1\",Trad!A3)","v":"Menu"},{"$f":"HYPERLINK(NomFichier&Listes!C50&\"'!A1\",Trad!A4)","v":"Introduction"},{"$f":"HYPERLINK(NomFichier&Listes!C56&\"'!A1\",Trad!A10)","v":"Aide"},null,{"$f":"HYPERLINK(NomFichier&Listes!C51&\"'!A1\",Trad!A5)","v":"Pompe(s)"},{"$f":"HYPERLINK(NomFichier&Listes!C52&\"'!A1\",Trad!A6)","v":"Ventilateur(s)"},{"$f":"HYPERLINK(NomFichier&Listes!C53&\"'!A1\",Trad!A7)","v":"Air comprimé"},{"$f":"HYPERLINK(NomFichier&Listes!C54&\"'!A1\",Trad!A8)","v":"Groupe froid"}]
[]
[null,null,null,null,null,null,null,null,{"$f":"Traduction!$A$327","v":"Calcul des économies"}]
[]
[null,{"$f":"Trad!A31","v":"Cette fiche permet, sur la base de données usuellement relevées, d'estimer des potentiels d'économies de mesures types. L'utilisateur a ainsi la possibilité d'introduire les T aller et retour de sa distribution de froid et le débit associé en période estivale. L'outil détermine alors le besoin de froid (profil type sur la semaine la plus contraignante). Il détermine alors les performances du système actuel dans les 4 saisons et les compare à celles que l'on pourrait atteindre avec un système efficace (calcul du potentiel d'économies). Sur les mêmes bases, l'outil permet aussi de déterminer le potentiel associé à l'introduction d'un free cooling. Il compare ce potentiel avec celui que l'on pourrait atteindre avec une récupération de chaleur sur le condenseur."}]
[]
[null,{"$f":"Traduction!$A$328","v":"Légende :         \n          données pré-remplies\n          données à compléter (selon mesurages ou hypothèses)\n          données calculées\n\n"}]
[]
[null,{"$f":"Traduction!$A$329","v":"1. Détermination des caractéristiques du fluide"}]
[null,{"$f":"Traduction!$A$330","v":"Déterminer le type de fluide présent dans votre réseau de distribution ainsi que le régime de température, puis compléter les caractéristiques de ce dernier d'après les tableaux ci-dessous."}]
[]
[]
[null,{"$f":"Traduction!$A$331","v":"1.1 Eau"}]
[null,{"$f":"Traduction!$A$332","v":"Température (°C)"},{"$f":"Traduction!$A$333","v":"Masse volumique (kg/m3)"},{"$f":"Traduction!$A$334","v":"Chaleur spécifique (J/kg.K)"}]
[null,1,1000,4213]
[null,5,1000,4202]
[null,10,1000,4192]
[null,15,999,4186]
[null,20,998,4182]
[null,25,997,4180]
[null,30,996,4178]
[]
[null,{"$f":"Traduction!$A$335","v":"1.2 Eau + antigel"}]
[null,{"$f":"Traduction!$A$336","v":"Masse volumique (kg/m3):"},null,{"$f":"Traduction!$A$332","v":"Température (°C)"}]
[null,null,null,-20,-10,0,10,20,30]
[null," ",20,"-",1039,1038,1036,1033,1029]
[null,null,30,"-",1056,1054,1051,1047,1043]
[null,null,40,1075,1073,1070,1066,1062,1057]
[null,null,50,1094,1090,1086,1082,1076,1071]
[]
[null,{"$f":"Traduction!$A$338","v":"Chaleur spécifique (J/kg.K) :"},null,{"$f":"Traduction!$A$332","v":"Température (°C)"}]
[null,null,null,-20,-10,0,10,20,30]
[null,{"$f":"Traduction!$A$337","v":"Concentration en % du poids d'antigel"},20,"-",3870,3890,3900,3910,3930]
[null,null,30,"-",3660,3680,3700,3720,3740]
[null,null,40,3420,3450,3470,3500,3530,3550]
[null,null,50,3210,3240,3270,3300,3330,3370]
[]
[null,{"$f":"Traduction!$A$339","v":"1.3 Résultats"}]
[null,{"$f":"Traduction!$A$340","v":"Masse volumique"}]
[null,{"$f":"Traduction!$A$341","v":"Chaleur spécifique"}]
[]
[]
[null,{"$f":"Traduction!$A$342","v":"2. Détermination du profil froid hebdomadaire en été"}]
[]
[null,{"$f":"Traduction!$A$349","v":"2.1 Mesurages"}]
[null,{"$f":"Traduction!$A$350","v":"Jour"},{"$f":"Traduction!$A$343","v":"Date"},{"$f":"Traduction!$A$344","v":"Heure"},{"$f":"Traduction!$A$345","v":"Température aller (°C)"},{"$f":"Traduction!$A$346","v":"Température retour (°C)"},{"$f":"Traduction!$A$347","v":"Débit (m3/h)"},{"$f":"Traduction!$A$348","v":"Puissance frigorifique (kWf)"}]
[null,{"$f":"Traduction!$A$351","v":"Lundi "},null,"00:00:00",null,null,null,{"$f":"'Aide calcul économie froid'!$D$40*'Aide calcul économie froid'!$D$41/1000*G48/3600*(F48-E48)","v":0}]
[null,null,null,"01:00:00",null,null,null,{"$f":"'Aide calcul économie froid'!$D$40*'Aide calcul économie froid'!$D$41/1000*G49/3600*(F49-E49)","v":0}]
[null,null,null,"02:00:00",null,null,null,{"$f":"'Aide calcul économie froid'!$D$40*'Aide calcul économie froid'!$D$41/1000*G50/3600*(F50-E50)","v":0}]
[null,null,null,"03:00:00",null,null,null,{"$f":"'Aide calcul économie froid'!$D$40*'Aide calcul économie froid'!$D$41/1000*G51/3600*(F51-E51)","v":0}]
[null,null,null,"04:00:00",null,null,null,{"$f":"'Aide calcul économie froid'!$D$40*'Aide calcul économie froid'!$D$41/1000*G52/3600*(F52-E52)","v":0}]
[null,null,null,"05:00:00",null,null,null,{"$f":"'Aide calcul économie froid'!$D$40*'Aide calcul économie froid'!$D$41/1000*G53/3600*(F53-E53)","v":0}]
[null,null,null,"06:00:00",null,null,null,{"$f":"'Aide calcul économie froid'!$D$40*'Aide calcul économie froid'!$D$41/1000*G54/3600*(F54-E54)","v":0}]
[null,null,null,"07:00:00",null,null,null,{"$f":"'Aide calcul économie froid'!$D$40*'Aide calcul économie froid'!$D$41/1000*G55/3600*(F55-E55)","v":0}]
[null,null,null,"08:00:00",null,null,null,{"$f":"'Aide calcul économie froid'!$D$40*'Aide calcul économie froid'!$D$41/1000*G56/3600*(F56-E56)","v":0}]
[null,null,null,"09:00:00",null,null,null,{"$f":"'Aide calcul économie froid'!$D$40*'Aide calcul économie froid'!$D$41/1000*G57/3600*(F57-E57)","v":0}]
[null,null,null,"10:00:00",null,null,null,{"$f":"'Aide calcul économie froid'!$D$40*'Aide calcul économie froid'!$D$41/1000*G58/3600*(F58-E58)","v":0}]
[null,null,null,"11:00:00",null,null,null,{"$f":"'Aide calcul économie froid'!$D$40*'Aide calcul économie froid'!$D$41/1000*G59/3600*(F59-E59)","v":0}]
[null,null,null,"12:00:00",null,null,null,{"$f":"'Aide calcul économie froid'!$D$40*'Aide calcul économie froid'!$D$41/1000*G60/3600*(F60-E60)","v":0}]
[null,null,null,"13:00:00",null,null,null,{"$f":"'Aide calcul économie froid'!$D$40*'Aide calcul économie froid'!$D$41/1000*G61/3600*(F61-E61)","v":0}]
[null,null,null,"14:00:00",null,null,null,{"$f":"'Aide calcul économie froid'!$D$40*'Aide calcul économie froid'!$D$41/1000*G62/3600*(F62-E62)","v":0}]
[null,null,null,"15:00:00",null,null,null,{"$f":"'Aide calcul économie froid'!$D$40*'Aide calcul économie froid'!$D$41/1000*G63/3600*(F63-E63)","v":0}]
[null,null,null,"16:00:00",null,null,null,{"$f":"'Aide calcul économie froid'!$D$40*'Aide calcul économie froid'!$D$41/1000*G64/3600*(F64-E64)","v":0}]
[null,null,null,"17:00:00",null,null,null,{"$f":"'Aide calcul économie froid'!$D$40*'Aide calcul économie froid'!$D$41/1000*G65/3600*(F65-E65)","v":0}]
[null,null,null,"18:00:00",null,null,null,{"$f":"'Aide calcul économie froid'!$D$40*'Aide calcul économie froid'!$D$41/1000*G66/3600*(F66-E66)","v":0}]
[null,null,null,"19:00:00",null,null,null,{"$f":"'Aide calcul économie froid'!$D$40*'Aide calcul économie froid'!$D$41/1000*G67/3600*(F67-E67)","v":0}]
[null,null,null,"20:00:00",null,null,null,{"$f":"'Aide calcul économie froid'!$D$40*'Aide calcul économie froid'!$D$41/1000*G68/3600*(F68-E68)","v":0}]
[null,null,null,"21:00:00",null,null,null,{"$f":"'Aide calcul économie froid'!$D$40*'Aide calcul économie froid'!$D$41/1000*G69/3600*(F69-E69)","v":0}]
[null,null,null,"22:00:00",null,null,null,{"$f":"'Aide calcul économie froid'!$D$40*'Aide calcul économie froid'!$D$41/1000*G70/3600*(F70-E70)","v":0}]
[null,null,null,"23:00:00",null,null,null,{"$f":"'Aide calcul économie froid'!$D$40*'Aide calcul économie froid'!$D$41/1000*G71/3600*(F71-E71)","v":0}]
[null,{"$f":"Traduction!$A$352","v":"Mardi"},null,"00:00:00",null,null,null,{"$f":"'Aide calcul économie froid'!$D$40*'Aide calcul économie froid'!$D$41/1000*G72/3600*(F72-E72)","v":0}]
[null,null,null,"01:00:00",null,null,null,{"$f":"'Aide calcul économie froid'!$D$40*'Aide calcul économie froid'!$D$41/1000*G73/3600*(F73-E73)","v":0}]
[null,null,null,"02:00:00",null,null,null,{"$f":"'Aide calcul économie froid'!$D$40*'Aide calcul économie froid'!$D$41/1000*G74/3600*(F74-E74)","v":0}]
[null,null,null,"03:00:00",null,null,null,{"$f":"'Aide calcul économie froid'!$D$40*'Aide calcul économie froid'!$D$41/1000*G75/3600*(F75-E75)","v":0}]
[null,null,null,"04:00:00",null,null,null,{"$f":"'Aide calcul économie froid'!$D$40*'Aide calcul économie froid'!$D$41/1000*G76/3600*(F76-E76)","v":0}]
[null,null,null,"05:00:00",null,null,null,{"$f":"'Aide calcul économie froid'!$D$40*'Aide calcul économie froid'!$D$41/1000*G77/3600*(F77-E77)","v":0}]
[null,null,null,"06:00:00",null,null,null,{"$f":"'Aide calcul économie froid'!$D$40*'Aide calcul économie froid'!$D$41/1000*G78/3600*(F78-E78)","v":0}]
[null,null,null,"07:00:00",null,null,null,{"$f":"'Aide calcul économie froid'!$D$40*'Aide calcul économie froid'!$D$41/1000*G79/3600*(F79-E79)","v":0}]
[null,null,null,"08:00:00",null,null,null,{"$f":"'Aide calcul économie froid'!$D$40*'Aide calcul économie froid'!$D$41/1000*G80/3600*(F80-E80)","v":0}]
[null,null,null,"09:00:00",null,null,null,{"$f":"'Aide calcul économie froid'!$D$40*'Aide calcul économie froid'!$D$41/1000*G81/3600*(F81-E81)","v":0}]
[null,null,null,"10:00:00",null,null,null,{"$f":"'Aide calcul économie froid'!$D$40*'Aide calcul économie froid'!$D$41/1000*G82/3600*(F82-E82)","v":0}]
[null,null,null,"11:00:00",null,null,null,{"$f":"'Aide calcul économie froid'!$D$40*'Aide calcul économie froid'!$D$41/1000*G83/3600*(F83-E83)","v":0}]
[null,null,null,"12:00:00",null,null,null,{"$f":"'Aide calcul économie froid'!$D$40*'Aide calcul économie froid'!$D$41/1000*G84/3600*(F84-E84)","v":0}]
[null,null,null,"13:00:00",null,null,null,{"$f":"'Aide calcul économie froid'!$D$40*'Aide calcul économie froid'!$D$41/1000*G85/3600*(F85-E85)","v":0}]
[null,null,null,"14:00:00",null,null,null,{"$f":"'Aide calcul économie froid'!$D$40*'Aide calcul économie froid'!$D$41/1000*G86/3600*(F86-E86)","v":0}]
[null,null,null,"15:00:00",null,null,null,{"$f":"'Aide calcul économie froid'!$D$40*'Aide calcul économie froid'!$D$41/1000*G87/3600*(F87-E87)","v":0}]
[null,null,null,"16:00:00",null,null,null,{"$f":"'Aide calcul économie froid'!$D$40*'Aide calcul économie froid'!$D$41/1000*G88/3600*(F88-E88)","v":0}]
[null,null,null,"17:00:00",null,null,null,{"$f":"'Aide calcul économie froid'!$D$40*'Aide calcul économie froid'!$D$41/1000*G89/3600*(F89-E89)","v":0}]
[null,null,null,"18:00:00",null,null,null,{"$f":"'Aide calcul économie froid'!$D$40*'Aide calcul économie froid'!$D$41/1000*G90/3600*(F90-E90)","v":0}]
[null,null,null,"19:00:00",null,null,null,{"$f":"'Aide calcul économie froid'!$D$40*'Aide calcul économie froid'!$D$41/1000*G91/3600*(F91-E91)","v":0}]
[null,null,null,"20:00:00",null,null,null,{"$f":"'Aide calcul économie froid'!$D$40*'Aide calcul économie froid'!$D$41/1000*G92/3600*(F92-E92)","v":0}]
[null,null,null,"21:00:00",null,null,null,{"$f":"'Aide calcul économie froid'!$D$40*'Aide calcul économie froid'!$D$41/1000*G93/3600*(F93-E93)","v":0}]
[null,null,null,"22:00:00",null,null,null,{"$f":"'Aide calcul économie froid'!$D$40*'Aide calcul économie froid'!$D$41/1000*G94/3600*(F94-E94)","v":0}]
[null,null,null,"23:00:00",null,null,null,{"$f":"'Aide calcul économie froid'!$D$40*'Aide calcul économie froid'!$D$41/1000*G95/3600*(F95-E95)","v":0}]
[null,{"$f":"Traduction!$A$353","v":"Mercredi"},null,"00:00:00",null,null,null,{"$f":"'Aide calcul économie froid'!$D$40*'Aide calcul économie froid'!$D$41/1000*G96/3600*(F96-E96)","v":0}]
[null,null,null,"01:00:00",null,null,null,{"$f":"'Aide calcul économie froid'!$D$40*'Aide calcul économie froid'!$D$41/1000*G97/3600*(F97-E97)","v":0}]
[null,null,null,"02:00:00",null,null,null,{"$f":"'Aide calcul économie froid'!$D$40*'Aide calcul économie froid'!$D$41/1000*G98/3600*(F98-E98)","v":0}]
[null,null,null,"03:00:00",null,null,null,{"$f":"'Aide calcul économie froid'!$D$40*'Aide calcul économie froid'!$D$41/1000*G99/3600*(F99-E99)","v":0}]
[null,null,null,"04:00:00",null,null,null,{"$f":"'Aide calcul économie froid'!$D$40*'Aide calcul économie froid'!$D$41/1000*G100/3600*(F100-E100)","v":0}]
[null,null,null,"05:00:00",null,null,null,{"$f":"'Aide calcul économie froid'!$D$40*'Aide calcul économie froid'!$D$41/1000*G101/3600*(F101-E101)","v":0}]
[null,null,null,"06:00:00",null,null,null,{"$f":"'Aide calcul économie froid'!$D$40*'Aide calcul économie froid'!$D$41/1000*G102/3600*(F102-E102)","v":0}]
[null,null,null,"07:00:00",null,null,null,{"$f":"'Aide calcul économie froid'!$D$40*'Aide calcul économie froid'!$D$41/1000*G103/3600*(F103-E103)","v":0}]
[null,null,null,"08:00:00",null,null,null,{"$f":"'Aide calcul économie froid'!$D$40*'Aide calcul économie froid'!$D$41/1000*G104/3600*(F104-E104)","v":0}]
[null,null,null,"09:00:00",null,null,null,{"$f":"'Aide calcul économie froid'!$D$40*'Aide calcul économie froid'!$D$41/1000*G105/3600*(F105-E105)","v":0}]
[null,null,null,"10:00:00",null,null,null,{"$f":"'Aide calcul économie froid'!$D$40*'Aide calcul économie froid'!$D$41/1000*G106/3600*(F106-E106)","v":0}]
[null,null,null,"11:00:00",null,null,null,{"$f":"'Aide calcul économie froid'!$D$40*'Aide calcul économie froid'!$D$41/1000*G107/3600*(F107-E107)","v":0}]
[null,null,null,"12:00:00",null,null,null,{"$f":"'Aide calcul économie froid'!$D$40*'Aide calcul économie froid'!$D$41/1000*G108/3600*(F108-E108)","v":0}]
[null,null,null,"13:00:00",null,null,null,{"$f":"'Aide calcul économie froid'!$D$40*'Aide calcul économie froid'!$D$41/1000*G109/3600*(F109-E109)","v":0}]
[null,null,null,"14:00:00",null,null,null,{"$f":"'Aide calcul économie froid'!$D$40*'Aide calcul économie froid'!$D$41/1000*G110/3600*(F110-E110)","v":0}]
[null,null,null,"15:00:00",null,null,null,{"$f":"'Aide calcul économie froid'!$D$40*'Aide calcul économie froid'!$D$41/1000*G111/3600*(F111-E111)","v":0}]
[null,null,null,"16:00:00",null,null,null,{"$f":"'Aide calcul économie froid'!$D$40*'Aide calcul économie froid'!$D$41/1000*G112/3600*(F112-E112)","v":0}]
[null,null,null,"17:00:00",null,null,null,{"$f":"'Aide calcul économie froid'!$D$40*'Aide calcul économie froid'!$D$41/1000*G113/3600*(F113-E113)","v":0}]
[null,null,null,"18:00:00",null,null,null,{"$f":"'Aide calcul économie froid'!$D$40*'Aide calcul économie froid'!$D$41/1000*G114/3600*(F114-E114)","v":0}]
[null,null,null,"19:00:00",null,null,null,{"$f":"'Aide calcul économie froid'!$D$40*'Aide calcul économie froid'!$D$41/1000*G115/3600*(F115-E115)","v":0}]
[null,null,null,"20:00:00",null,null,null,{"$f":"'Aide calcul économie froid'!$D$40*'Aide calcul économie froid'!$D$41/1000*G116/3600*(F116-E116)","v":0}]
[null,null,null,"21:00:00",null,null,null,{"$f":"'Aide calcul économie froid'!$D$40*'Aide calcul économie froid'!$D$41/1000*G117/3600*(F117-E117)","v":0}]
[null,null,null,"22:00:00",null,null,null,{"$f":"'Aide calcul économie froid'!$D$40*'Aide calcul économie froid'!$D$41/1000*G118/3600*(F118-E118)","v":0}]
[null,null,null,"23:00:00",null,null,null,{"$f":"'Aide calcul économie froid'!$D$40*'Aide calcul économie froid'!$D$41/1000*G119/3600*(F119-E119)","v":0}]
[null,{"$f":"Traduction!$A$354","v":"Jeudi"},null,"00:00:00",null,null,null,{"$f":"'Aide calcul économie froid'!$D$40*'Aide calcul économie froid'!$D$41/1000*G120/3600*(F120-E120)","v":0}]
[null,null,null,"01:00:00",null,null,null,{"$f":"'Aide calcul économie froid'!$D$40*'Aide calcul économie froid'!$D$41/1000*G121/3600*(F121-E121)","v":0}]
[null,null,null,"02:00:00",null,null,null,{"$f":"'Aide calcul économie froid'!$D$40*'Aide calcul économie froid'!$D$41/1000*G122/3600*(F122-E122)","v":0}]
[null,null,null,"03:00:00",null,null,null,{"$f":"'Aide calcul économie froid'!$D$40*'Aide calcul économie froid'!$D$41/1000*G123/3600*(F123-E123)","v":0}]
[null,null,null,"04:00:00",null,null,null,{"$f":"'Aide calcul économie froid'!$D$40*'Aide calcul économie froid'!$D$41/1000*G124/3600*(F124-E124)","v":0}]
[null,null,null,"05:00:00",null,null,null,{"$f":"'Aide calcul économie froid'!$D$40*'Aide calcul économie froid'!$D$41/1000*G125/3600*(F125-E125)","v":0}]
[null,null,null,"06:00:00",null,null,null,{"$f":"'Aide calcul économie froid'!$D$40*'Aide calcul économie froid'!$D$41/1000*G126/3600*(F126-E126)","v":0}]
[null,null,null,"07:00:00",null,null,null,{"$f":"'Aide calcul économie froid'!$D$40*'Aide calcul économie froid'!$D$41/1000*G127/3600*(F127-E127)","v":0}]
[null,null,null,"08:00:00",null,null,null,{"$f":"'Aide calcul économie froid'!$D$40*'Aide calcul économie froid'!$D$41/1000*G128/3600*(F128-E128)","v":0}]
[null,null,null,"09:00:00",null,null,null,{"$f":"'Aide calcul économie froid'!$D$40*'Aide calcul économie froid'!$D$41/1000*G129/3600*(F129-E129)","v":0}]
[null,null,null,"10:00:00",null,null,null,{"$f":"'Aide calcul économie froid'!$D$40*'Aide calcul économie froid'!$D$41/1000*G130/3600*(F130-E130)","v":0}]
[null,null,null,"11:00:00",null,null,null,{"$f":"'Aide calcul économie froid'!$D$40*'Aide calcul économie froid'!$D$41/1000*G131/3600*(F131-E131)","v":0}]
[null,null,null,"12:00:00",null,null,null,{"$f":"'Aide calcul économie froid'!$D$40*'Aide calcul économie froid'!$D$41/1000*G132/3600*(F132-E132)","v":0}]
[null,null,null,"13:00:00",null,null,null,{"$f":"'Aide calcul économie froid'!$D$40*'Aide calcul économie froid'!$D$41/1000*G133/3600*(F133-E133)","v":0}]
[null,null,null,"14:00:00",null,null,null,{"$f":"'Aide calcul économie froid'!$D$40*'Aide calcul économie froid'!$D$41/1000*G134/3600*(F134-E134)","v":0}]
[null,null,null,"15:00:00",null,null,null,{"$f":"'Aide calcul économie froid'!$D$40*'Aide calcul économie froid'!$D$41/1000*G135/3600*(F135-E135)","v":0}]
[null,null,null,"16:00:00",null,null,null,{"$f":"'Aide calcul économie froid'!$D$40*'Aide calcul économie froid'!$D$41/1000*G136/3600*(F136-E136)","v":0}]
[null,null,null,"17:00:00",null,null,null,{"$f":"'Aide calcul économie froid'!$D$40*'Aide calcul économie froid'!$D$41/1000*G137/3600*(F137-E137)","v":0}]
[null,null,null,"18:00:00",null,null,null,{"$f":"'Aide calcul économie froid'!$D$40*'Aide calcul économie froid'!$D$41/1000*G138/3600*(F138-E138)","v":0}]
[null,null,null,"19:00:00",null,null,null,{"$f":"'Aide calcul économie froid'!$D$40*'Aide calcul économie froid'!$D$41/1000*G139/3600*(F139-E139)","v":0}]
[null,null,null,"20:00:00",null,null,null,{"$f":"'Aide calcul économie froid'!$D$40*'Aide calcul économie froid'!$D$41/1000*G140/3600*(F140-E140)","v":0}]
[null,null,null,"21:00:00",null,null,null,{"$f":"'Aide calcul économie froid'!$D$40*'Aide calcul économie froid'!$D$41/1000*G141/3600*(F141-E141)","v":0}]
[null,null,null,"22:00:00",null,null,null,{"$f":"'Aide calcul économie froid'!$D$40*'Aide calcul économie froid'!$D$41/1000*G142/3600*(F142-E142)","v":0}]
[null,null,null,"23:00:00",null,null,null,{"$f":"'Aide calcul économie froid'!$D$40*'Aide calcul économie froid'!$D$41/1000*G143/3600*(F143-E143)","v":0}]
[null,{"$f":"Traduction!$A$355","v":"Vendredi"},null,"00:00:00",null,null,null,{"$f":"'Aide calcul économie froid'!$D$40*'Aide calcul économie froid'!$D$41/1000*G144/3600*(F144-E144)","v":0}]
[null,null,null,"01:00:00",null,null,null,{"$f":"'Aide calcul économie froid'!$D$40*'Aide calcul économie froid'!$D$41/1000*G145/3600*(F145-E145)","v":0}]
[null,null,null,"02:00:00",null,null,null,{"$f":"'Aide calcul économie froid'!$D$40*'Aide calcul économie froid'!$D$41/1000*G146/3600*(F146-E146)","v":0}]
[null,null,null,"03:00:00",null,null,null,{"$f":"'Aide calcul économie froid'!$D$40*'Aide calcul économie froid'!$D$41/1000*G147/3600*(F147-E147)","v":0}]
[null,null,null,"04:00:00",null,null,null,{"$f":"'Aide calcul économie froid'!$D$40*'Aide calcul économie froid'!$D$41/1000*G148/3600*(F148-E148)","v":0}]
[null,null,null,"05:00:00",null,null,null,{"$f":"'Aide calcul économie froid'!$D$40*'Aide calcul économie froid'!$D$41/1000*G149/3600*(F149-E149)","v":0}]
[null,null,null,"06:00:00",null,null,null,{"$f":"'Aide calcul économie froid'!$D$40*'Aide calcul économie froid'!$D$41/1000*G150/3600*(F150-E150)","v":0}]
[null,null,null,"07:00:00",null,null,null,{"$f":"'Aide calcul économie froid'!$D$40*'Aide calcul économie froid'!$D$41/1000*G151/3600*(F151-E151)","v":0}]
[null,null,null,"08:00:00",null,null,null,{"$f":"'Aide calcul économie froid'!$D$40*'Aide calcul économie froid'!$D$41/1000*G152/3600*(F152-E152)","v":0}]
[null,null,null,"09:00:00",null,null,null,{"$f":"'Aide calcul économie froid'!$D$40*'Aide calcul économie froid'!$D$41/1000*G153/3600*(F153-E153)","v":0}]
[null,null,null,"10:00:00",null,null,null,{"$f":"'Aide calcul économie froid'!$D$40*'Aide calcul économie froid'!$D$41/1000*G154/3600*(F154-E154)","v":0}]
[null,null,null,"11:00:00",null,null,null,{"$f":"'Aide calcul économie froid'!$D$40*'Aide calcul économie froid'!$D$41/1000*G155/3600*(F155-E155)","v":0}]
[null,null,null,"12:00:00",null,null,null,{"$f":"'Aide calcul économie froid'!$D$40*'Aide calcul économie froid'!$D$41/1000*G156/3600*(F156-E156)","v":0}]
[null,null,null,"13:00:00",null,null,null,{"$f":"'Aide calcul économie froid'!$D$40*'Aide calcul économie froid'!$D$41/1000*G157/3600*(F157-E157)","v":0}]
[null,null,null,"14:00:00",null,null,null,{"$f":"'Aide calcul économie froid'!$D$40*'Aide calcul économie froid'!$D$41/1000*G158/3600*(F158-E158)","v":0}]
[null,null,null,"15:00:00",null,null,null,{"$f":"'Aide calcul économie froid'!$D$40*'Aide calcul économie froid'!$D$41/1000*G159/3600*(F159-E159)","v":0}]
[null,null,null,"16:00:00",null,null,null,{"$f":"'Aide calcul économie froid'!$D$40*'Aide calcul économie froid'!$D$41/1000*G160/3600*(F160-E160)","v":0}]
[null,null,null,"17:00:00",null,null,null,{"$f":"'Aide calcul économie froid'!$D$40*'Aide calcul économie froid'!$D$41/1000*G161/3600*(F161-E161)","v":0}]
[null,null,null,"18:00:00",null,null,null,{"$f":"'Aide calcul économie froid'!$D$40*'Aide calcul économie froid'!$D$41/1000*G162/3600*(F162-E162)","v":0}]
[null,null,null,"19:00:00",null,null,null,{"$f":"'Aide calcul économie froid'!$D$40*'Aide calcul économie froid'!$D$41/1000*G163/3600*(F163-E163)","v":0}]
[null,null,null,"20:00:00",null,null,null,{"$f":"'Aide calcul économie froid'!$D$40*'Aide calcul économie froid'!$D$41/1000*G164/3600*(F164-E164)","v":0}]
[null,null,null,"21:00:00",null,null,null,{"$f":"'Aide calcul économie froid'!$D$40*'Aide calcul économie froid'!$D$41/1000*G165/3600*(F165-E165)","v":0}]
[null,null,null,"22:00:00",null,null,null,{"$f":"'Aide calcul économie froid'!$D$40*'Aide calcul économie froid'!$D$41/1000*G166/3600*(F166-E166)","v":0}]
[null,null,null,"23:00:00",null,null,null,{"$f":"'Aide calcul économie froid'!$D$40*'Aide calcul économie froid'!$D$41/1000*G167/3600*(F167-E167)","v":0}]
[null,{"$f":"Traduction!$A$356","v":"Samedi"},null,"00:00:00",null,null,null,{"$f":"'Aide calcul économie froid'!$D$40*'Aide calcul économie froid'!$D$41/1000*G168/3600*(F168-E168)","v":0}]
[null,null,null,"01:00:00",null,null,null,{"$f":"'Aide calcul économie froid'!$D$40*'Aide calcul économie froid'!$D$41/1000*G169/3600*(F169-E169)","v":0}]
[null,null,null,"02:00:00",null,null,null,{"$f":"'Aide calcul économie froid'!$D$40*'Aide calcul économie froid'!$D$41/1000*G170/3600*(F170-E170)","v":0}]
[null,null,null,"03:00:00",null,null,null,{"$f":"'Aide calcul économie froid'!$D$40*'Aide calcul économie froid'!$D$41/1000*G171/3600*(F171-E171)","v":0}]
[null,null,null,"04:00:00",null,null,null,{"$f":"'Aide calcul économie froid'!$D$40*'Aide calcul économie froid'!$D$41/1000*G172/3600*(F172-E172)","v":0}]
[null,null,null,"05:00:00",null,null,null,{"$f":"'Aide calcul économie froid'!$D$40*'Aide calcul économie froid'!$D$41/1000*G173/3600*(F173-E173)","v":0}]
[null,null,null,"06:00:00",null,null,null,{"$f":"'Aide calcul économie froid'!$D$40*'Aide calcul économie froid'!$D$41/1000*G174/3600*(F174-E174)","v":0}]
[null,null,null,"07:00:00",null,null,null,{"$f":"'Aide calcul économie froid'!$D$40*'Aide calcul économie froid'!$D$41/1000*G175/3600*(F175-E175)","v":0}]
[null,null,null,"08:00:00",null,null,null,{"$f":"'Aide calcul économie froid'!$D$40*'Aide calcul économie froid'!$D$41/1000*G176/3600*(F176-E176)","v":0}]
[null,null,null,"09:00:00",null,null,null,{"$f":"'Aide calcul économie froid'!$D$40*'Aide calcul économie froid'!$D$41/1000*G177/3600*(F177-E177)","v":0}]
[null,null,null,"10:00:00",null,null,null,{"$f":"'Aide calcul économie froid'!$D$40*'Aide calcul économie froid'!$D$41/1000*G178/3600*(F178-E178)","v":0}]
[null,null,null,"11:00:00",null,null,null,{"$f":"'Aide calcul économie froid'!$D$40*'Aide calcul économie froid'!$D$41/1000*G179/3600*(F179-E179)","v":0}]
[null,null,null,"12:00:00",null,null,null,{"$f":"'Aide calcul économie froid'!$D$40*'Aide calcul économie froid'!$D$41/1000*G180/3600*(F180-E180)","v":0}]
[null,null,null,"13:00:00",null,null,null,{"$f":"'Aide calcul économie froid'!$D$40*'Aide calcul économie froid'!$D$41/1000*G181/3600*(F181-E181)","v":0}]
[null,null,null,"14:00:00",null,null,null,{"$f":"'Aide calcul économie froid'!$D$40*'Aide calcul économie froid'!$D$41/1000*G182/3600*(F182-E182)","v":0}]
[null,null,null,"15:00:00",null,null,null,{"$f":"'Aide calcul économie froid'!$D$40*'Aide calcul économie froid'!$D$41/1000*G183/3600*(F183-E183)","v":0}]
[null,null,null,"16:00:00",null,null,null,{"$f":"'Aide calcul économie froid'!$D$40*'Aide calcul économie froid'!$D$41/1000*G184/3600*(F184-E184)","v":0}]
[null,null,null,"17:00:00",null,null,null,{"$f":"'Aide calcul économie froid'!$D$40*'Aide calcul économie froid'!$D$41/1000*G185/3600*(F185-E185)","v":0}]
[null,null,null,"18:00:00",null,null,null,{"$f":"'Aide calcul économie froid'!$D$40*'Aide calcul économie froid'!$D$41/1000*G186/3600*(F186-E186)","v":0}]
[null,null,null,"19:00:00",null,null,null,{"$f":"'Aide calcul économie froid'!$D$40*'Aide calcul économie froid'!$D$41/1000*G187/3600*(F187-E187)","v":0}]
[null,null,null,"20:00:00",null,null,null,{"$f":"'Aide calcul économie froid'!$D$40*'Aide calcul économie froid'!$D$41/1000*G188/3600*(F188-E188)","v":0}]
[null,null,null,"21:00:00",null,null,null,{"$f":"'Aide calcul économie froid'!$D$40*'Aide calcul économie froid'!$D$41/1000*G189/3600*(F189-E189)","v":0}]
[null,null,null,"22:00:00",null,null,null,{"$f":"'Aide calcul économie froid'!$D$40*'Aide calcul économie froid'!$D$41/1000*G190/3600*(F190-E190)","v":0}]
[null,null,null,"23:00:00",null,null,null,{"$f":"'Aide calcul économie froid'!$D$40*'Aide calcul économie froid'!$D$41/1000*G191/3600*(F191-E191)","v":0}]
[null,{"$f":"Traduction!$A$357","v":"Dimanche"},null,"00:00:00",null,null,null,{"$f":"'Aide calcul économie froid'!$D$40*'Aide calcul économie froid'!$D$41/1000*G192/3600*(F192-E192)","v":0}]
[null,null,null,"01:00:00",null,null,null,{"$f":"'Aide calcul économie froid'!$D$40*'Aide calcul économie froid'!$D$41/1000*G193/3600*(F193-E193)","v":0}]
[null,null,null,"02:00:00",null,null,null,{"$f":"'Aide calcul économie froid'!$D$40*'Aide calcul économie froid'!$D$41/1000*G194/3600*(F194-E194)","v":0}]
[null,null,null,"03:00:00",null,null,null,{"$f":"'Aide calcul économie froid'!$D$40*'Aide calcul économie froid'!$D$41/1000*G195/3600*(F195-E195)","v":0}]
[null,null,null,"04:00:00",null,null,null,{"$f":"'Aide calcul économie froid'!$D$40*'Aide calcul économie froid'!$D$41/1000*G196/3600*(F196-E196)","v":0}]
[null,null,null,"05:00:00",null,null,null,{"$f":"'Aide calcul économie froid'!$D$40*'Aide calcul économie froid'!$D$41/1000*G197/3600*(F197-E197)","v":0}]
[null,null,null,"06:00:00",null,null,null,{"$f":"'Aide calcul économie froid'!$D$40*'Aide calcul économie froid'!$D$41/1000*G198/3600*(F198-E198)","v":0}]
[null,null,null,"07:00:00",null,null,null,{"$f":"'Aide calcul économie froid'!$D$40*'Aide calcul économie froid'!$D$41/1000*G199/3600*(F199-E199)","v":0}]
[null,null,null,"08:00:00",null,null,null,{"$f":"'Aide calcul économie froid'!$D$40*'Aide calcul économie froid'!$D$41/1000*G200/3600*(F200-E200)","v":0}]
[null,null,null,"09:00:00",null,null,null,{"$f":"'Aide calcul économie froid'!$D$40*'Aide calcul économie froid'!$D$41/1000*G201/3600*(F201-E201)","v":0}]
[null,null,null,"10:00:00",null,null,null,{"$f":"'Aide calcul économie froid'!$D$40*'Aide calcul économie froid'!$D$41/1000*G202/3600*(F202-E202)","v":0}]
[null,null,null,"11:00:00",null,null,null,{"$f":"'Aide calcul économie froid'!$D$40*'Aide calcul économie froid'!$D$41/1000*G203/3600*(F203-E203)","v":0}]
[null,null,null,"12:00:00",null,null,null,{"$f":"'Aide calcul économie froid'!$D$40*'Aide calcul économie froid'!$D$41/1000*G204/3600*(F204-E204)","v":0}]
[null,null,null,"13:00:00",null,null,null,{"$f":"'Aide calcul économie froid'!$D$40*'Aide calcul économie froid'!$D$41/1000*G205/3600*(F205-E205)","v":0}]
[null,null,null,"14:00:00",null,null,null,{"$f":"'Aide calcul économie froid'!$D$40*'Aide calcul économie froid'!$D$41/1000*G206/3600*(F206-E206)","v":0}]
[null,null,null,"15:00:00",null,null,null,{"$f":"'Aide calcul économie froid'!$D$40*'Aide calcul économie froid'!$D$41/1000*G207/3600*(F207-E207)","v":0}]
[null,null,null,"16:00:00",null,null,null,{"$f":"'Aide calcul économie froid'!$D$40*'Aide calcul économie froid'!$D$41/1000*G208/3600*(F208-E208)","v":0}]
[null,null,null,"17:00:00",null,null,null,{"$f":"'Aide calcul économie froid'!$D$40*'Aide calcul économie froid'!$D$41/1000*G209/3600*(F209-E209)","v":0}]
[null,null,null,"18:00:00",null,null,null,{"$f":"'Aide calcul économie froid'!$D$40*'Aide calcul économie froid'!$D$41/1000*G210/3600*(F210-E210)","v":0}]
[null,null,null,"19:00:00",null,null,null,{"$f":"'Aide calcul économie froid'!$D$40*'Aide calcul économie froid'!$D$41/1000*G211/3600*(F211-E211)","v":0}]
[null,null,null,"20:00:00",null,null,null,{"$f":"'Aide calcul économie froid'!$D$40*'Aide calcul économie froid'!$D$41/1000*G212/3600*(F212-E212)","v":0}]
[null,null,null,"21:00:00",null,null,null,{"$f":"'Aide calcul économie froid'!$D$40*'Aide calcul économie froid'!$D$41/1000*G213/3600*(F213-E213)","v":0}]
[null,null,null,"22:00:00",null,null,null,{"$f":"'Aide calcul économie froid'!$D$40*'Aide calcul économie froid'!$D$41/1000*G214/3600*(F214-E214)","v":0}]
[null,null,null,"23:00:00",null,null,null,{"$f":"'Aide calcul économie froid'!$D$40*'Aide calcul économie froid'!$D$41/1000*G215/3600*(F215-E215)","v":0}]
[]
[null,{"$f":"Traduction!$A$358","v":"2.2 Résultats"}]
[null,{"$f":"Traduction!$A$359","v":"Température aller moyennne (°C)"},null,null,{"$f":"AVERAGE(E48:E215)","v":{"$error":"#DIV/0!"}}]
[null,{"$f":"Traduction!$A$360","v":"Température retour moyenne (°C)"},null,null,{"$f":"AVERAGE(F48:F215)","v":{"$error":"#DIV/0!"}}]
[null,{"$f":"Traduction!$A$361","v":"Débit moyen (m3/h)"},null,null,{"$f":"AVERAGE(G48:G215)","v":{"$error":"#DIV/0!"}}]
[null,{"$f":"Traduction!$A$362","v":"Puissance frigorifique moyenne (kWf)"},null,null,{"$f":"AVERAGE(H48:H215)","v":0}]
[null,{"$f":"Traduction!$A$363","v":"Besoins frigorifiques hebdomadaires (kWh)"},null,null,{"$f":"SUM(H48:H215)","v":0}]
[null,{"$f":"Traduction!$A$364","v":"Besoins frigorifiques mensuels (kWh)"},null,null,{"$f":"E222*4","v":0}]
[null,{"$f":"Traduction!$A$365","v":"Temps de fonctionnement moyen du groupe"},null,null,{"$f":"1-(COUNTIF(H48:H215,0)/COUNTA(H48:H215))","v":0}]
[]
[]
[]
[]
[]
[]
[]
[]
[]
[]
[]
[]
[]
[]
[]
[]
[]
[]
[]
[]
[]
[]
[]
[]
[null,{"$f":"Traduction!$A$366","v":"3. Détermination de la performance du groupe froid"}]
[]
[null,{"$f":"Traduction!$A$371","v":"3.1 Fonctionnement du groupe froid"}]
[null,{"$f":"Traduction!$A$372","v":"Période"},null,{"$f":"Traduction!$A$367","v":"1 (hiver)"},{"$f":"Traduction!$A$368","v":"2 (automne)"},{"$f":"Traduction!$A$369","v":"3 (printemps)"},{"$f":"Traduction!$A$370","v":"4 (été)"}]
[null,{"$f":"Traduction!$A$373","v":"Moyenne température extérieure"}]
[null,{"$f":"Traduction!$A$374","v":"Répartition du temps de fonctionnement "}]
[]
[null,{"$f":"Traduction!$A$375","v":"3.2 SEPR réel du groupe existant"}]
[null,{"$f":"Trad!B214","v":"Aérorefroidisseur"},null,{"$f":"Traduction!$A$367","v":"1 (hiver)"},{"$f":"Traduction!$A$368","v":"2 (automne)"},{"$f":"Traduction!$A$369","v":"3 (printemps)"},{"$f":"Traduction!$A$370","v":"4 (été)"}]
[null,{"$f":"Traduction!$A$345","v":"Température aller (°C)"}]
[null,{"$f":"Traduction!$A$346","v":"Température retour (°C)"}]
[null,{"$f":"Traduction!$A$347","v":"Débit (m3/h)"}]
[null,{"$f":"Traduction!$A$348","v":"Puissance frigorifique (kWf)"},null,{"$f":"'Aide calcul économie froid'!$D$40*'Aide calcul économie froid'!$D$41/1000*D260/3600*(D259-D258)","v":0},{"$f":"'Aide calcul économie froid'!$D$40*'Aide calcul économie froid'!$D$41/1000*E260/3600*(E259-E258)","v":0},{"$f":"'Aide calcul économie froid'!$D$40*'Aide calcul économie froid'!$D$41/1000*F260/3600*(F259-F258)","v":0},{"$f":"'Aide calcul économie froid'!$D$40*'Aide calcul économie froid'!$D$41/1000*G260/3600*(G259-G258)","v":0}]
[null,{"$f":"Traduction!$A$376","v":"Puissance électrique (kWf)"}]
[null,{"$f":"Traduction!A377","v":"EER réel"},null,{"$f":"D261/D262","v":{"$error":"#DIV/0!"}},{"$f":"E261/E262","v":{"$error":"#DIV/0!"}},{"$f":"F261/F262","v":{"$error":"#DIV/0!"}},{"$f":"G261/G262","v":{"$error":"#DIV/0!"}}]
[null,{"$f":"Traduction!A378","v":"SEPR réel"},null,{"$f":"D263*D254+E263*E254+F263*F254+G263*G254","v":{"$error":"#DIV/0!"}}]
[]
[null,{"$f":"Traduction!$A$379","v":"3.3 SEPR théorique du groupe existant"}]
[null,"Cas",null,{"$f":"Traduction!$A$367","v":"1 (hiver)"},{"$f":"Traduction!$A$368","v":"2 (automne)"},{"$f":"Traduction!$A$369","v":"3 (printemps)"},{"$f":"Traduction!$A$370","v":"4 (été)"}]
[null,{"$f":"Traduction!$A$380","v":"EER théorique"}]
[null,{"$f":"Traduction!$A$381","v":"SEPR théorique"},null,{"$f":"D268*D254+E268*E254+F268*F254+G268*G254","v":0}]
[]
[null,{"$f":"Traduction!$A$382","v":"3.4 SEPR théorique du nouveau groupe"}]
[null,"Cas",null,1,2,3,4]
[null,{"$f":"Traduction!$A$380","v":"EER théorique"}]
[null,{"$f":"Traduction!$A$381","v":"SEPR théorique"},null,{"$f":"D273*D254+E273*E254+F273*F254+G273*G254","v":0}]
[]
[null,{"$f":"Traduction!$A$383","v":"3.5 Résultats"}]
[null,{"$f":"Traduction!$A$384","v":"Potentiel d'économie par l'optimisation du groupe existant"},null,null,{"$f":"D269/D264-1","v":{"$error":"#DIV/0!"}}]
[null,{"$f":"Traduction!$A$385","v":"Potentiel d'économie par l'achat d'un nouveau groupe froid"},null,null,{"$f":"D274/D264-1","v":{"$error":"#DIV/0!"}}]
[]
[]
[null,{"$f":"Traduction!$A$386","v":"4. Détermination de la consommation électrique du groupe froid et du producteur de chaleur"}]
[]
[null,{"$f":"Traduction!$A$390","v":"4.1 Consommation électrique du groupe froid"}]
[null,{"$f":"Traduction!$A$391","v":"Mois"},{"$f":"Traduction!$A$387","v":"Taux de charge par rapport à la période estivale"},{"$f":"Traduction!$A$388","v":"Besoin en froid"},{"$f":"Traduction!$A$389","v":"Consommation électrique"}]
[null,{"$f":"Traduction!$A$392","v":"Janvier"},null,{"$f":"C285*$D$291","v":0},{"$f":"D285/'Aide calcul économie froid'!$D$264","v":{"$error":"#DIV/0!"}}]
[null,{"$f":"Traduction!$A$393","v":"Février"},null,0,{"$f":"D286/'Aide calcul économie froid'!$D$264","v":{"$error":"#DIV/0!"}}]
[null,{"$f":"Traduction!$A$394","v":"Mars"},null,0,{"$f":"D287/'Aide calcul économie froid'!$D$264","v":{"$error":"#DIV/0!"}}]
[null,{"$f":"Traduction!$A$395","v":"Avril"},null,0,{"$f":"D288/'Aide calcul économie froid'!$D$264","v":{"$error":"#DIV/0!"}}]
[null,"Mai",null,0,{"$f":"D289/'Aide calcul économie froid'!$D$264","v":{"$error":"#DIV/0!"}}]
[null,{"$f":"Traduction!$A$396","v":"Juin"},null,0,{"$f":"D290/'Aide calcul économie froid'!$D$264","v":{"$error":"#DIV/0!"}}]
[null,{"$f":"Traduction!$A$397","v":"Juillet"},1,{"$f":"'Aide calcul économie froid'!E223","v":0},{"$f":"D291/'Aide calcul économie froid'!$D$264","v":{"$error":"#DIV/0!"}}]
[null,{"$f":"Traduction!$A$398","v":"Août"},1,{"$f":"D291","v":0},{"$f":"D292/'Aide calcul économie froid'!$D$264","v":{"$error":"#DIV/0!"}}]
[null,{"$f":"Traduction!$A$399","v":"Septembre"},null,{"$f":"C293*$D$291","v":0},{"$f":"D293/'Aide calcul économie froid'!$D$264","v":{"$error":"#DIV/0!"}}]
[null,{"$f":"Traduction!$A$400","v":"Octobre"},null,{"$f":"C294*$D$291","v":0},{"$f":"D294/'Aide calcul économie froid'!$D$264","v":{"$error":"#DIV/0!"}}]
[null,{"$f":"Traduction!$A$401","v":"Novembre"},null,{"$f":"C295*$D$291","v":0},{"$f":"D295/'Aide calcul économie froid'!$D$264","v":{"$error":"#DIV/0!"}}]
[null,{"$f":"Traduction!$A$402","v":"Décembre"},null,{"$f":"C296*$D$291","v":0},{"$f":"D296/'Aide calcul économie froid'!$D$264","v":{"$error":"#DIV/0!"}}]
[null,null,null,{"$f":"Traduction!$A$403","v":"Total"},{"$f":"SUM(E285:E296)","v":{"$error":"#DIV/0!"}}]
[]
[null,{"$f":"Traduction!$A$405","v":"4.2 Consommation du producteur de chaleur"}]
[null,{"$f":"Traduction!$A$391","v":"Mois"},{"$f":"Traduction!$A$404","v":"Consommation thermique "}]
[null,{"$f":"Traduction!$A$392","v":"Janvier"}]
[null,{"$f":"Traduction!$A$393","v":"Février"}]
[null,{"$f":"Traduction!$A$394","v":"Mars"}]
[null,{"$f":"Traduction!$A$395","v":"Avril"}]
[null,"Mai"]
[null,{"$f":"Traduction!$A$396","v":"Juin"}]
[null,{"$f":"Traduction!$A$397","v":"Juillet"}]
[null,{"$f":"Traduction!$A$398","v":"Août"}]
[null,{"$f":"Traduction!$A$399","v":"Septembre"}]
[null,{"$f":"Traduction!$A$400","v":"Octobre"}]
[null,{"$f":"Traduction!$A$401","v":"Novembre"}]
[null,{"$f":"Traduction!$A$402","v":"Décembre"}]
[null,{"$f":"Traduction!$A$403","v":"Total"},{"$f":"SUM(C301:C312)","v":0}]
[]
[]
[null,{"$f":"Traduction!$A$406","v":"4. Détermination des économies par la mise en place d'un système de free cooling"}]
[]
[null,{"$f":"Traduction!$A$407","v":"4.1 Principe du free cooling"}]
[null,{"$f":"Traduction!$A$408","v":"Lorsque la température extérieure est inférieure à la température du réseau de froid, l'eau glacée circule à travers l'aérorefroidisseur, qui n'est autre qu'un échangeur avec des ventilateurs qui forcent l'échange entre l'air et l'eau. De cette manière le fluide est refroidi sans que le groupe froid n'ait besoin de fonctionner.\nUne différence de température entre l'eau à refroidir et l'air extérieur est indispensable, sinon aucun transfert de chaleur n'est possible. Un différentiel d'environ 3 °C entre la température de l’air extérieur et celle de l’eau est nécessaire pour le fonctionnement du free-cooling. Ce différentiel étant lié aux caractéristiques des échangeurs de chaleur, le cas échéant, il pourrait être réduit."}]
[]
[]
[]
[]
[]
[]
[]
[]
[]
[]
[]
[]
[]
[]
[]
[]
[]
[]
[]
[]
[]
[]
[null,null,null,null,null,null,null,null,null,null,null,null,null,null,{"$f":"Traduction!$A$97","v":"l'heure et le jour de la semaine"},{"$f":"Traduction!$A$212","v":"Système d'air comprimé à vitesse variable:\nLa plupart des compresseurs à vitesse variable permettent d'extraire, via l'affichage, les pourcentages du temps de fonctionnement correspondant aux différents taux de charge. Grâce à ces pourcentages, aux nombres d'heures de fonctionnement et aux puissances absorbées correspondantes (ces puissances à différents taux de charge sont à demander au constructeur ou à déterminer selon les fiches techniques CAGI américaines), la consommation annuelle totale peut-être déterminée. \nAttention : même si les estimations sont plus précises que dans le GA (analyse préliminaire), ce sont encore des valeurs estimées, basées sur des valeurs indicatives valables dans les conditions standards.\n\nSystème d'air comprimé à vitesse fixe : \nLa plupart des compresseurs d'air ont des compteurs d'heures de fonctionnement et d'heures en charge. La différence est le temps de marche à vide. Si les heures de fonctionnement ne sont pas relevées régulièrement, un nombre d'heures et une date peuvent parfois être trouvés dans le carnet d'entretien ou l'autocollant d'entretien. Si ces informations ne sont pas disponibles, il est possible d'estimer les heures de fonctionnement annuelles grâce à l'année d'installation ou de construction du compresseur.  La consommation peut être estimée en multipliant les heures de fonctionnement en charge par la puissance absorbé en charge plus les heures de fonctionnement en marche à vide fois la puissance absorbée dans ce mode. Les puissances absorbées sont parfois disponibles sur les fiches techniques. Sinon, on approximera la puissance absorbée en charge à 100% de la puissance nominale et en marche à vide à 25%.\n\nSi aucune de ces informations n'est disponible, la consommation annuelle peut être très grossièrement estimée en multipliant la puissance nominale par 2000 heures de fonctionnement."},{"$f":"Traduction!$A$97","v":"l'heure et le jour de la semaine"},{"$f":"Traduction!$A$409","v":"Température extérieure (°C)"},{"$f":"Traduction!$A$410","v":"Température de fonctionnement du free cooling (°C)"},{"$f":"Traduction!$A$411","v":"Heures Freecooling"}]
[null,{"$f":"Traduction!$A$416","v":"4.2 Résultats"},null,null,null,null,null,null,null,null,null,null,null,null,{"$f":"Traduction!$A$351","v":"Lundi "},"2018-01-01","01:00:00",-4.8,{"$f":"'[2]Détail N°7'!$L$28","v":9},{"$f":"IF(R343<=S343,1,0)","v":1}]
[null,{"$f":"Traduction!$A$417","v":"Température moyenne aller du réseau d'eau glacée"},null,null,null,null,null,null,null,null,null,null,null,null,{"$f":"Traduction!$A$351","v":"Lundi "},"2018-01-01","02:00:00",-5.0999999999999996,{"$f":"'[2]Détail N°7'!$L$28","v":9},1]
[null,{"$f":"Traduction!$A$418","v":"Température de mise en service du free cooling"},null,null,null,{"$f":"F344-3","v":-3},null,null,null,null,null,null,null,null,{"$f":"Traduction!$A$351","v":"Lundi "},"2018-01-01","04:00:00",-5.6,{"$f":"'[2]Détail N°7'!$L$28","v":9},1]
[null,{"$f":"Traduction!$A$391","v":"Mois"},{"$f":"Traduction!$A$412","v":"Heures"},{"$f":"Traduction!$A$413","v":"Heures de free cooling"},{"$f":"Traduction!$A$414","v":"Potentiel du free cooling"},{"$f":"Traduction!$A$415","v":"Economie d'énergie (par an)"},null,null,null,null,null,null,null,null,{"$f":"Traduction!$A$351","v":"Lundi "},"2018-01-01","05:00:00",-5.8,{"$f":"'[2]Détail N°7'!$L$28","v":9},1]
[null,{"$f":"Traduction!$A$392","v":"Janvier"},744,{"$f":"SUM(T343:T1085)","v":714},{"$f":"D347/C347","v":0.95967741935483875},{"$f":"E347*'Aide calcul économie froid'!E285","v":{"$error":"#DIV/0!"}},null,null,null,null,null,null,null,null,{"$f":"Traduction!$A$351","v":"Lundi "},"2018-01-01","06:00:00",-6,{"$f":"'[2]Détail N°7'!$L$28","v":9},1]
[null,{"$f":"Traduction!$A$393","v":"Février"},672,{"$f":"SUM(T1086:T1757)","v":649},0.96577380952380953,{"$f":"E348*'Aide calcul économie froid'!E286","v":{"$error":"#DIV/0!"}},null,null,null,null,null,null,null,null,{"$f":"Traduction!$A$351","v":"Lundi "},"2018-01-01","07:00:00",-6.1,{"$f":"'[2]Détail N°7'!$L$28","v":9},1]
[null,{"$f":"Traduction!$A$394","v":"Mars"},744,{"$f":"SUM(T1758:T2501)","v":545},0.73252688172043012,{"$f":"E349*'Aide calcul économie froid'!E287","v":{"$error":"#DIV/0!"}},null,null,null,null,null,null,null,null,{"$f":"Traduction!$A$351","v":"Lundi "},"2018-01-01","08:00:00",-6.2,{"$f":"'[2]Détail N°7'!$L$28","v":9},1]
[null,{"$f":"Traduction!$A$395","v":"Avril"},720,{"$f":"SUM(T2502:T3221)","v":308},0.42777777777777776,{"$f":"E350*'Aide calcul économie froid'!E288","v":{"$error":"#DIV/0!"}},null,null,null,null,null,null,null,null,{"$f":"Traduction!$A$351","v":"Lundi "},"2018-01-01","09:00:00",-6.2,{"$f":"'[2]Détail N°7'!$L$28","v":9},1]
[null,"Mai",744,{"$f":"SUM(T3222:T3965)","v":78},0.10483870967741936,{"$f":"E351*'Aide calcul économie froid'!E289","v":{"$error":"#DIV/0!"}},null,null,null,null,null,null,null,null,{"$f":"Traduction!$A$351","v":"Lundi "},"2018-01-01","10:00:00",-5.5,{"$f":"'[2]Détail N°7'!$L$28","v":9},1]
[null,{"$f":"Traduction!$A$396","v":"Juin"},720,{"$f":"SUM(T3966:T4685)","v":5},6.9444444444444441E-3,{"$f":"E352*'Aide calcul économie froid'!E290","v":{"$error":"#DIV/0!"}},null,null,null,null,null,null,null,null,{"$f":"Traduction!$A$351","v":"Lundi "},"2018-01-01","11:00:00",-5,{"$f":"'[2]Détail N°7'!$L$28","v":9},1]
[null,{"$f":"Traduction!$A$397","v":"Juillet"},744,{"$f":"SUM(T4686:T5429)","v":0},0,{"$f":"E353*'Aide calcul économie froid'!E291","v":{"$error":"#DIV/0!"}},null,null,null,null,null,null,null,null,{"$f":"Traduction!$A$351","v":"Lundi "},"2018-01-01","12:00:00",-4.5999999999999996,{"$f":"'[2]Détail N°7'!$L$28","v":9},1]
[null,{"$f":"Traduction!$A$398","v":"Août"},744,{"$f":"SUM(T5430:T6173)","v":0},0,{"$f":"E354*'Aide calcul économie froid'!E292","v":{"$error":"#DIV/0!"}},null,null,null,null,null,null,null,null,{"$f":"Traduction!$A$351","v":"Lundi "},"2018-01-01","13:00:00",-4.3,{"$f":"'[2]Détail N°7'!$L$28","v":9},1]
[null,{"$f":"Traduction!$A$399","v":"Septembre"},720,{"$f":"SUM(T6174:T6893)","v":41},5.6944444444444443E-2,{"$f":"E355*'Aide calcul économie froid'!E293","v":{"$error":"#DIV/0!"}},null,null,null,null,null,null,null,null,{"$f":"Traduction!$A$351","v":"Lundi "},"2018-01-01","14:00:00",-4.3,{"$f":"'[2]Détail N°7'!$L$28","v":9},1]
[null,{"$f":"Traduction!$A$400","v":"Octobre"},744,{"$f":"SUM(T6894:T7637)","v":206},0.2768817204301075,{"$f":"E356*'Aide calcul économie froid'!E294","v":{"$error":"#DIV/0!"}},null,null,null,null,null,null,null,null,{"$f":"Traduction!$A$351","v":"Lundi "},"2018-01-01","15:00:00",-4.3,{"$f":"'[2]Détail N°7'!$L$28","v":9},1]
[null,{"$f":"Traduction!$A$401","v":"Novembre"},720,{"$f":"SUM(T7638:T8357)","v":597},0.82916666666666672,{"$f":"E357*'Aide calcul économie froid'!E295","v":{"$error":"#DIV/0!"}},null,null,null,null,null,null,null,null,{"$f":"Traduction!$A$351","v":"Lundi "},"2018-01-01","16:00:00",-4.5999999999999996,{"$f":"'[2]Détail N°7'!$L$28","v":9},1]
[null,{"$f":"Traduction!$A$402","v":"Décembre"},744,{"$f":"SUM(T8358:T9101)","v":729},0.97983870967741937,{"$f":"E358*'Aide calcul économie froid'!E296","v":{"$error":"#DIV/0!"}},null,null,null,null,null,null,null,null,{"$f":"Traduction!$A$351","v":"Lundi "},"2018-01-01","17:00:00",-5,{"$f":"'[2]Détail N°7'!$L$28","v":9},1]
[null,null,null,null,null,null,null,null,null,null,null,null,null,null,{"$f":"Traduction!$A$351","v":"Lundi "},"2018-01-01","18:00:00",-5,{"$f":"'[2]Détail N°7'!$L$28","v":9},1]
[null,{"$f":"Traduction!$A$429","v":"Rappel de la consommation d'électricité du groupe froid"},null,null,null,{"$f":"'Aide calcul économie froid'!E297","v":{"$error":"#DIV/0!"}},null,null,null,null,null,null,null,null,{"$f":"Traduction!$A$351","v":"Lundi "},"2018-01-01","19:00:00",-4.9000000000000004,{"$f":"'[2]Détail N°7'!$L$28","v":9},1]
[null,{"$f":"Traduction!$A$430","v":"Economie d'électricité par le free cooling"},null,null,null,{"$f":"SUM(F347:F358)","v":{"$error":"#DIV/0!"}},null,null,null,null,null,null,null,null,{"$f":"Traduction!$A$351","v":"Lundi "},"2018-01-01","20:00:00",-4.8,{"$f":"'[2]Détail N°7'!$L$28","v":9},1]
[null,null,null,null,null,{"$f":"F361/F360","v":{"$error":"#DIV/0!"}},null,null,null,null,null,null,null,null,{"$f":"Traduction!$A$351","v":"Lundi "},"2018-01-01","21:00:00",-4.7,{"$f":"'[2]Détail N°7'!$L$28","v":9},1]
[null,{"$f":"Traduction!$A$431","v":"Consommation d'électricité restante"},null,null,null,{"$f":"F360-F361","v":{"$error":"#DIV/0!"}},null,null,null,null,null,null,null,null,{"$f":"Traduction!$A$351","v":"Lundi "},"2018-01-01","22:00:00",-4.5999999999999996,{"$f":"'[2]Détail N°7'!$L$28","v":9},1]
[null,null,null,null,null,null,null,null,null,null,null,null,null,null,{"$f":"Traduction!$A$351","v":"Lundi "},"2018-01-01","23:00:00",-4.5,{"$f":"'[2]Détail N°7'!$L$28","v":9},1]
[null,null,null,null,null,null,null,null,null,null,null,null,null,null,{"$f":"Traduction!$A$351","v":"Lundi "},"2018-01-01","00:00:00",-4.5,{"$f":"'[2]Détail N°7'!$L$28","v":9},1]
[null,null,null,null,null,null,null,null,null,null,null,null,null,null,{"$f":"Traduction!$A$352","v":"Mardi"},"2018-01-02","01:00:00",-4.3,{"$f":"'[2]Détail N°7'!$L$28","v":9},1]
[null,null,null,null,null,null,null,null,null,null,null,null,null,null,{"$f":"Traduction!$A$352","v":"Mardi"},"2018-01-02","02:00:00",-4.3,{"$f":"'[2]Détail N°7'!$L$28","v":9},1]
[null,null,null,null,null,null,null,null,null,null,null,null,null,null,{"$f":"Traduction!$A$352","v":"Mardi"},"2018-01-02","03:00:00",-3.9,{"$f":"'[2]Détail N°7'!$L$28","v":9},1]
[null,null,null,null,null,null,null,null,null,null,null,null,null,null,{"$f":"Traduction!$A$352","v":"Mardi"},"2018-01-02","04:00:00",-3.7,{"$f":"'[2]Détail N°7'!$L$28","v":9},1]
[null,null,null,null,null,null,null,null,null,null,null,null,null,null,{"$f":"Traduction!$A$352","v":"Mardi"},"2018-01-02","05:00:00",-3.6,{"$f":"'[2]Détail N°7'!$L$28","v":9},1]
[null,null,null,null,null,null,null,null,null,null,null,null,null,null,{"$f":"Traduction!$A$352","v":"Mardi"},"2018-01-02","06:00:00",-3.5,{"$f":"'[2]Détail N°7'!$L$28","v":9},1]
[null,null,null,null,null,null,null,null,null,null,null,null,null,null,{"$f":"Traduction!$A$352","v":"Mardi"},"2018-01-02","07:00:00",-3.4,{"$f":"'[2]Détail N°7'!$L$28","v":9},1]
[null,null,null,null,null,null,null,null,null,null,null,null,null,null,{"$f":"Traduction!$A$352","v":"Mardi"},"2018-01-02","08:00:00",-3.3,{"$f":"'[2]Détail N°7'!$L$28","v":9},1]
[null,null,null,null,null,null,null,null,null,null,null,null,null,null,{"$f":"Traduction!$A$352","v":"Mardi"},"2018-01-02","09:00:00",-3.1,{"$f":"'[2]Détail N°7'!$L$28","v":9},1]
[null,null,null,null,null,null,null,null,null,null,null,null,null,null,{"$f":"Traduction!$A$352","v":"Mardi"},"2018-01-02","10:00:00",-2.2999999999999998,{"$f":"'[2]Détail N°7'!$L$28","v":9},1]
[null,null,null,null,null,null,null,null,null,null,null,null,null,null,{"$f":"Traduction!$A$352","v":"Mardi"},"2018-01-02","11:00:00",-1.6,{"$f":"'[2]Détail N°7'!$L$28","v":9},1]
[null,null,null,null,null,null,null,null,null,null,null,null,null,null,{"$f":"Traduction!$A$352","v":"Mardi"},"2018-01-02","12:00:00",-0.9,{"$f":"'[2]Détail N°7'!$L$28","v":9},1]
[null,null,null,null,null,null,null,null,null,null,null,null,null,null,{"$f":"Traduction!$A$352","v":"Mardi"},"2018-01-02","13:00:00",-0.4,{"$f":"'[2]Détail N°7'!$L$28","v":9},1]
[null,null,null,null,null,null,null,null,null,null,null,null,null,null,{"$f":"Traduction!$A$352","v":"Mardi"},"2018-01-02","14:00:00",-0.1,{"$f":"'[2]Détail N°7'!$L$28","v":9},1]
[null,null,null,null,null,null,null,null,null,null,null,null,null,null,{"$f":"Traduction!$A$352","v":"Mardi"},"2018-01-02","15:00:00",0,{"$f":"'[2]Détail N°7'!$L$28","v":9},1]
[null,null,null,null,null,null,null,null,null,null,null,null,null,null,{"$f":"Traduction!$A$352","v":"Mardi"},"2018-01-02","16:00:00",-0.1,{"$f":"'[2]Détail N°7'!$L$28","v":9},1]
[null,null,null,null,null,null,null,null,null,null,null,null,null,null,{"$f":"Traduction!$A$352","v":"Mardi"},"2018-01-02","17:00:00",-0.6,{"$f":"'[2]Détail N°7'!$L$28","v":9},1]
[null,{"$f":"Traduction!$A$737","v":"Note : Les calculs présentés dans cette fiche se basent sur les données météorologiques de la ville de Neuchâtel. Pour les sites avec des températures plus basses, l'économie d'énergie sera plus importante, et inversement pour les sites avec des températures plus élevées. "},null,null,null,null,null,null,null,null,null,null,null,null,{"$f":"Traduction!$A$352","v":"Mardi"},"2018-01-02","18:00:00",-0.8,{"$f":"'[2]Détail N°7'!$L$28","v":9},1]
[null,null,null,null,null,null,null,null,null,null,null,null,null,null,{"$f":"Traduction!$A$352","v":"Mardi"},"2018-01-02","19:00:00",-1,{"$f":"'[2]Détail N°7'!$L$28","v":9},1]
[null,null,null,null,null,null,null,null,null,null,null,null,null,null,{"$f":"Traduction!$A$352","v":"Mardi"},"2018-01-02","20:00:00",-1.2,{"$f":"'[2]Détail N°7'!$L$28","v":9},1]
[null,null,null,null,null,null,null,null,null,null,null,null,null,null,{"$f":"Traduction!$A$352","v":"Mardi"},"2018-01-02","21:00:00",-1.4,{"$f":"'[2]Détail N°7'!$L$28","v":9},1]
[null,{"$f":"Traduction!$A$433","v":"5. Détermination des économies par la mise en place d'un système de récupération de chaleur"},null,null,null,null,null,null,null,null,null,null,null,null,{"$f":"Traduction!$A$352","v":"Mardi"},"2018-01-02","22:00:00",-1.6,{"$f":"'[2]Détail N°7'!$L$28","v":9},1]
[null,null,null,null,null,null,null,null,null,null,null,null,null,null,{"$f":"Traduction!$A$352","v":"Mardi"},"2018-01-02","23:00:00",-1.7,{"$f":"'[2]Détail N°7'!$L$28","v":9},1]
[null,{"$f":"Traduction!$A$434","v":"5.1 Principe de la récupération de chaleur"},null,null,null,null,null,null,null,null,null,null,null,null,{"$f":"Traduction!$A$352","v":"Mardi"},"2018-01-02","00:00:00",-1.9,{"$f":"'[2]Détail N°7'!$L$28","v":9},1]
[null,{"$f":"Traduction!$A$435","v":"Un groupe frigorifique ne produit pas du froid mais il retire de la chaleur à une source telle que l'eau ou l'air au niveau de l'évaporateur.\nCette chaleur est le plus souvent évacuée dans l'air ambiant au niveau du condenseur et donc perdue. L'installation d'un récupérateur de chaleur permet de valoriser cette énergie lorsque le groupe froid fonctionne, l'eau réchauffée dans l'échangeur est stocké dans un ballon et peut ensuite être utilisée pour les besoins de chauffage ou d'eau chaude sanitaire."},null,null,null,null,null,null,null,null,null,null,null,null,{"$f":"Traduction!$A$353","v":"Mercredi"},"2018-01-03","01:00:00",-2.6,{"$f":"'[2]Détail N°7'!$L$28","v":9},1]
[null,null,null,null,null,null,null,null,null,null,null,null,null,null,{"$f":"Traduction!$A$353","v":"Mercredi"},"2018-01-03","02:00:00",-3.3,{"$f":"'[2]Détail N°7'!$L$28","v":9},1]
[null,{"$f":"Traduction!$A$434","v":"5.1 Principe de la récupération de chaleur"},null,null,null,null,null,{"$f":"Traduction!$A$47","v":"Ajout de la catégorie autres, ajout dans synthèse d'un tableau récapitulatif avec possibilité de corriger les économies. Aide à la sélection d'entrainement est supprimée de la feuille excel et une une nouvelle page d'aide avec les liens sur les différents systèmes est crée."},null,null,null,null,null,null,{"$f":"Traduction!$A$353","v":"Mercredi"},"2018-01-03","03:00:00",-4,{"$f":"'[2]Détail N°7'!$L$28","v":9},1]
[null,null,null,null,null,null,null,null,null,null,null,null,null,null,{"$f":"Traduction!$A$353","v":"Mercredi"},"2018-01-03","04:00:00",-4.5,{"$f":"'[2]Détail N°7'!$L$28","v":9},1]
[null,null,null,null,null,null,null,null,null,null,null,null,null,null,{"$f":"Traduction!$A$353","v":"Mercredi"},"2018-01-03","05:00:00",-4.9000000000000004,{"$f":"'[2]Détail N°7'!$L$28","v":9},1]
[null,null,null,null,null,null,null,null,null,null,null,null,null,null,{"$f":"Traduction!$A$353","v":"Mercredi"},"2018-01-03","06:00:00",-5.4,{"$f":"'[2]Détail N°7'!$L$28","v":9},1]
[null,null,null,null,null,null,null,null,null,null,null,null,null,null,{"$f":"Traduction!$A$353","v":"Mercredi"},"2018-01-03","07:00:00",-5.7,{"$f":"'[2]Détail N°7'!$L$28","v":9},1]
[null,null,null,null,null,null,null,null,null,null,null,null,null,null,{"$f":"Traduction!$A$353","v":"Mercredi"},"2018-01-03","08:00:00",-6,{"$f":"'[2]Détail N°7'!$L$28","v":9},1]
[null,null,null,null,null,null,null,null,null,null,null,null,null,null,{"$f":"Traduction!$A$353","v":"Mercredi"},"2018-01-03","09:00:00",-6.1,{"$f":"'[2]Détail N°7'!$L$28","v":9},1]
[null,null,null,null,null,null,null,null,null,null,null,null,null,null,{"$f":"Traduction!$A$353","v":"Mercredi"},"2018-01-03","10:00:00",-4.9000000000000004,{"$f":"'[2]Détail N°7'!$L$28","v":9},1]
[null,null,null,null,null,null,null,null,null,null,null,null,null,null,{"$f":"Traduction!$A$353","v":"Mercredi"},"2018-01-03","11:00:00",-3.9,{"$f":"'[2]Détail N°7'!$L$28","v":9},1]
[null,null,null,null,null,null,null,null,null,null,null,null,null,null,{"$f":"Traduction!$A$353","v":"Mercredi"},"2018-01-03","12:00:00",-3,{"$f":"'[2]Détail N°7'!$L$28","v":9},1]
[null,null,null,null,null,null,null,null,null,null,null,null,null,null,{"$f":"Traduction!$A$353","v":"Mercredi"},"2018-01-03","13:00:00",-2.4,{"$f":"'[2]Détail N°7'!$L$28","v":9},1]
[null,null,null,null,null,null,null,null,null,null,null,null,null,null,{"$f":"Traduction!$A$353","v":"Mercredi"},"2018-01-03","14:00:00",-2.1,{"$f":"'[2]Détail N°7'!$L$28","v":9},1]
[null,null,null,null,null,null,null,null,null,null,null,null,null,null,{"$f":"Traduction!$A$353","v":"Mercredi"},"2018-01-03","15:00:00",-2.1,{"$f":"'[2]Détail N°7'!$L$28","v":9},1]
[null,null,null,null,null,null,null,null,null,null,null,null,null,null,{"$f":"Traduction!$A$353","v":"Mercredi"},"2018-01-03","16:00:00",-2.6,{"$f":"'[2]Détail N°7'!$L$28","v":9},1]
[null,null,null,null,null,null,null,null,null,null,null,null,null,null,{"$f":"Traduction!$A$353","v":"Mercredi"},"2018-01-03","17:00:00",-3.6,{"$f":"'[2]Détail N°7'!$L$28","v":9},1]
[null,null,null,null,null,null,null,null,null,null,null,null,null,null,{"$f":"Traduction!$A$353","v":"Mercredi"},"2018-01-03","18:00:00",-4,{"$f":"'[2]Détail N°7'!$L$28","v":9},{"$f":"IF(R407<=S407,1,0)","v":1}]
[null,null,null,null,null,null,null,null,null,null,null,null,null,null,{"$f":"Traduction!$A$353","v":"Mercredi"},"2018-01-03","19:00:00",-4.5,{"$f":"'[2]Détail N°7'!$L$28","v":9},1]
[null,{"$f":"Traduction!$A$442","v":"5.2 Résultats"},null,null,null,null,null,null,null,null,null,null,null,null,{"$f":"Traduction!$A$353","v":"Mercredi"},"2018-01-03","20:00:00",-5,{"$f":"'[2]Détail N°7'!$L$28","v":9},1]
[null,{"$f":"Traduction!$A$391","v":"Mois"},{"$f":"Traduction!$A$438","v":"Puissance froid moyenne Evaporateur"},{"$f":"Traduction!$A$439","v":"Puissance chaud moyenne Condenseur"},{"$f":"Traduction!$A$440","v":"Simultanéité besoin chaud vs récupération"},{"$f":"Traduction!$A$441","v":"Energie valorisable"},null,null,null,null,null,null,null,null,{"$f":"Traduction!$A$353","v":"Mercredi"},"2018-01-03","21:00:00",-5.5,{"$f":"'[2]Détail N°7'!$L$28","v":9},1]
[null,{"$f":"Traduction!$A$392","v":"Janvier"},{"$f":"'Aide calcul économie froid'!$E$221*'Aide calcul économie froid'!C285","v":0},{"$f":"C411*1.3","v":0},null,{"$f":"IF('Aide calcul économie froid'!C301>D411*E411*'Aide calcul économie froid'!C347*'Aide calcul économie froid'!$E$224,D411*E411*'Aide calcul économie froid'!C347*'Aide calcul économie froid'!$E$224,'Aide calcul économie froid'!C301)","v":0},null,null,null,null,null,null,null,null,{"$f":"Traduction!$A$353","v":"Mercredi"},"2018-01-03","22:00:00",-6,{"$f":"'[2]Détail N°7'!$L$28","v":9},1]
[null,{"$f":"Traduction!$A$393","v":"Février"},{"$f":"'Aide calcul économie froid'!$E$221*'Aide calcul économie froid'!C286","v":0},0,null,{"$f":"IF('Aide calcul économie froid'!C302>D412*E412*'Aide calcul économie froid'!C348*'Aide calcul économie froid'!$E$224,D412*E412*'Aide calcul économie froid'!C348*'Aide calcul économie froid'!$E$224,'Aide calcul économie froid'!C302)","v":0},null,null,null,null,null,null,null,null,{"$f":"Traduction!$A$353","v":"Mercredi"},"2018-01-03","23:00:00",-6.5,{"$f":"'[2]Détail N°7'!$L$28","v":9},1]
[null,{"$f":"Traduction!$A$394","v":"Mars"},{"$f":"'Aide calcul économie froid'!$E$221*'Aide calcul économie froid'!C287","v":0},0,null,{"$f":"IF('Aide calcul économie froid'!C303>D413*E413*'Aide calcul économie froid'!C349*'Aide calcul économie froid'!$E$224,D413*E413*'Aide calcul économie froid'!C349*'Aide calcul économie froid'!$E$224,'Aide calcul économie froid'!C303)","v":0},null,null,null,null,null,null,null,null,{"$f":"Traduction!$A$353","v":"Mercredi"},"2018-01-03",2,-6.9,{"$f":"'[2]Détail N°7'!$L$28","v":9},1]
[null,{"$f":"Traduction!$A$395","v":"Avril"},{"$f":"'Aide calcul économie froid'!$E$221*'Aide calcul économie froid'!C288","v":0},0,null,{"$f":"IF('Aide calcul économie froid'!C304>D414*E414*'Aide calcul économie froid'!C350*'Aide calcul économie froid'!$E$224,D414*E414*'Aide calcul économie froid'!C350*'Aide calcul économie froid'!$E$224,'Aide calcul économie froid'!C304)","v":0},null,null,null,null,null,null,null,null,{"$f":"Traduction!$A$354","v":"Jeudi"},"2018-01-04",2.0416666666666701,-6.9,{"$f":"'[2]Détail N°7'!$L$28","v":9},1]
[null,"Mai",{"$f":"'Aide calcul économie froid'!$E$221*'Aide calcul économie froid'!C289","v":0},0,null,{"$f":"IF('Aide calcul économie froid'!C305>D415*E415*'Aide calcul économie froid'!C351*'Aide calcul économie froid'!$E$224,D415*E415*'Aide calcul économie froid'!C351*'Aide calcul économie froid'!$E$224,'Aide calcul économie froid'!C305)","v":0},null,null,null,null,null,null,null,null,{"$f":"Traduction!$A$354","v":"Jeudi"},"2018-01-04",2.0833333333333299,-7,{"$f":"'[2]Détail N°7'!$L$28","v":9},1]
[null,{"$f":"Traduction!$A$396","v":"Juin"},{"$f":"'Aide calcul économie froid'!$E$221*'Aide calcul économie froid'!C290","v":0},0,null,{"$f":"IF('Aide calcul économie froid'!C306>D416*E416*'Aide calcul économie froid'!C352*'Aide calcul économie froid'!$E$224,D416*E416*'Aide calcul économie froid'!C352*'Aide calcul économie froid'!$E$224,'Aide calcul économie froid'!C306)","v":0},null,null,null,null,null,null,null,null,{"$f":"Traduction!$A$354","v":"Jeudi"},"2018-01-04",2.125,-7.2,{"$f":"'[2]Détail N°7'!$L$28","v":9},1]
[null,{"$f":"Traduction!$A$397","v":"Juillet"},{"$f":"'Aide calcul économie froid'!$E$221*'Aide calcul économie froid'!C291","v":0},0,null,{"$f":"IF('Aide calcul économie froid'!C307>D417*E417*'Aide calcul économie froid'!C353*'Aide calcul économie froid'!$E$224,D417*E417*'Aide calcul économie froid'!C353*'Aide calcul économie froid'!$E$224,'Aide calcul économie froid'!C307)","v":0},null,null,null,null,null,null,null,null,{"$f":"Traduction!$A$354","v":"Jeudi"},"2018-01-04",2.1666666666666701,-7.3,{"$f":"'[2]Détail N°7'!$L$28","v":9},1]
[null,{"$f":"Traduction!$A$398","v":"Août"},{"$f":"'Aide calcul économie froid'!$E$221*'Aide calcul économie froid'!C292","v":0},0,null,{"$f":"IF('Aide calcul économie froid'!C308>D418*E418*'Aide calcul économie froid'!C354*'Aide calcul économie froid'!$E$224,D418*E418*'Aide calcul économie froid'!C354*'Aide calcul économie froid'!$E$224,'Aide calcul économie froid'!C308)","v":0},null,null,null,null,null,null,null,null,{"$f":"Traduction!$A$354","v":"Jeudi"},"2018-01-04",2.2083333333333299,-7.4,{"$f":"'[2]Détail N°7'!$L$28","v":9},1]
[null,{"$f":"Traduction!$A$399","v":"Septembre"},{"$f":"'Aide calcul économie froid'!$E$221*'Aide calcul économie froid'!C293","v":0},0,null,{"$f":"IF('Aide calcul économie froid'!C309>D419*E419*'Aide calcul économie froid'!C355*'Aide calcul économie froid'!$E$224,D419*E419*'Aide calcul économie froid'!C355*'Aide calcul économie froid'!$E$224,'Aide calcul économie froid'!C309)","v":0},null,null,null,null,null,null,null,null,{"$f":"Traduction!$A$354","v":"Jeudi"},"2018-01-04",2.25,-7.5,{"$f":"'[2]Détail N°7'!$L$28","v":9},1]
[null,{"$f":"Traduction!$A$400","v":"Octobre"},{"$f":"'Aide calcul économie froid'!$E$221*'Aide calcul économie froid'!C294","v":0},0,null,{"$f":"IF('Aide calcul économie froid'!C310>D420*E420*'Aide calcul économie froid'!C356*'Aide calcul économie froid'!$E$224,D420*E420*'Aide calcul économie froid'!C356*'Aide calcul économie froid'!$E$224,'Aide calcul économie froid'!C310)","v":0},null,null,null,null,null,null,null,null,{"$f":"Traduction!$A$354","v":"Jeudi"},"2018-01-04",2.2916666666666701,-7.6,{"$f":"'[2]Détail N°7'!$L$28","v":9},1]
[null,{"$f":"Traduction!$A$401","v":"Novembre"},{"$f":"'Aide calcul économie froid'!$E$221*'Aide calcul économie froid'!C295","v":0},0,null,{"$f":"IF('Aide calcul économie froid'!C311>D421*E421*'Aide calcul économie froid'!C357*'Aide calcul économie froid'!$E$224,D421*E421*'Aide calcul économie froid'!C357*'Aide calcul économie froid'!$E$224,'Aide calcul économie froid'!C311)","v":0},null,null,null,null,null,null,null,null,{"$f":"Traduction!$A$354","v":"Jeudi"},"2018-01-04",2.3333333333333299,-7.8,{"$f":"'[2]Détail N°7'!$L$28","v":9},1]
[null,{"$f":"Traduction!$A$402","v":"Décembre"},{"$f":"'Aide calcul économie froid'!$E$221*'Aide calcul économie froid'!C296","v":0},0,null,{"$f":"IF('Aide calcul économie froid'!C312>D422*E422*'Aide calcul économie froid'!C358*'Aide calcul économie froid'!$E$224,D422*E422*'Aide calcul économie froid'!C358*'Aide calcul économie froid'!$E$224,'Aide calcul économie froid'!C312)","v":0},null,null,null,null,null,null,null,null,{"$f":"Traduction!$A$354","v":"Jeudi"},"2018-01-04",2.375,-7.8,{"$f":"'[2]Détail N°7'!$L$28","v":9},1]
[null,null,null,null,null,null,null,null,null,null,null,null,null,null,{"$f":"Traduction!$A$354","v":"Jeudi"},"2018-01-04",2.4166666666666701,-6.6,{"$f":"'[2]Détail N°7'!$L$28","v":9},1]
[null,{"$f":"Traduction!$A$443","v":"Rappel de la consommation thermique"},null,null,null,{"$f":"'Aide calcul économie froid'!$C$313","v":0},null,null,null,null,null,null,null,null,{"$f":"Traduction!$A$354","v":"Jeudi"},"2018-01-04",2.4583333333333299,-5.5,{"$f":"'[2]Détail N°7'!$L$28","v":9},1]
[null,{"$f":"Traduction!$A$444","v":"Economie thermique par la récupération de chaleur"},null,null,null,{"$f":"SUM(F411:F422)","v":0},null,null,null,null,null,null,null,null,{"$f":"Traduction!$A$354","v":"Jeudi"},"2018-01-04",2.5,-4.5,{"$f":"'[2]Détail N°7'!$L$28","v":9},1]
[null,null,null,null,null,{"$f":"F425/F424","v":{"$error":"#DIV/0!"}},null,null,null,null,null,null,null,null,{"$f":"Traduction!$A$354","v":"Jeudi"},"2018-01-04",2.5416666666666701,-3.9,{"$f":"'[2]Détail N°7'!$L$28","v":9},1]
[null,{"$f":"Traduction!$A$445","v":"Consommation thermique restante"},null,null,null,{"$f":"F424-F425","v":0},null,null,null,null,null,null,null,null,{"$f":"Traduction!$A$354","v":"Jeudi"},"2018-01-04",2.5833333333333299,-3.5,{"$f":"'[2]Détail N°7'!$L$28","v":9},1]
[null,null,null,null,null,null,null,null,null,null,null,null,null,null,{"$f":"Traduction!$A$354","v":"Jeudi"},"2018-01-04",2.625,-3.5,{"$f":"'[2]Détail N°7'!$L$28","v":9},1]
[null,null,null,null,null,null,null,null,null,null,null,null,null,null,{"$f":"Traduction!$A$354","v":"Jeudi"},"2018-01-04",2.6666666666666701,-4,{"$f":"'[2]Détail N°7'!$L$28","v":9},1]
[null,null,null,null,null,null,null,null,null,null,null,null,null,null,{"$f":"Traduction!$A$354","v":"Jeudi"},"2018-01-04",2.7083333333333299,-5,{"$f":"'[2]Détail N°7'!$L$28","v":9},1]
[null,null,null,null,null,null,null,null,null,null,null,null,null,null,{"$f":"Traduction!$A$354","v":"Jeudi"},"2018-01-04",2.75,-5.2,{"$f":"'[2]Détail N°7'!$L$28","v":9},1]
[null,null,null,null,null,null,null,null,null,null,null,null,null,null,{"$f":"Traduction!$A$354","v":"Jeudi"},"2018-01-04",2.7916666666666701,-5.3,{"$f":"'[2]Détail N°7'!$L$28","v":9},1]
[null,null,null,null,null,null,null,null,null,null,null,null,null,null,{"$f":"Traduction!$A$354","v":"Jeudi"},"2018-01-04",2.8333333333333299,-5.5,{"$f":"'[2]Détail N°7'!$L$28","v":9},1]
[null,null,null,null,null,null,null,null,null,null,null,null,null,null,{"$f":"Traduction!$A$354","v":"Jeudi"},"2018-01-04",2.875,-5.7,{"$f":"'[2]Détail N°7'!$L$28","v":9},1]
[null,null,null,null,null,null,null,null,null,null,null,null,null,null,{"$f":"Traduction!$A$354","v":"Jeudi"},"2018-01-04",2.9166666666666701,-5.8,{"$f":"'[2]Détail N°7'!$L$28","v":9},1]
[null,null,null,null,null,null,null,null,null,null,null,null,null,null,{"$f":"Traduction!$A$354","v":"Jeudi"},"2018-01-04",2.9583333333333299,-6,{"$f":"'[2]Détail N°7'!$L$28","v":9},1]
[null,null,null,null,null,null,null,null,null,null,null,null,null,null,{"$f":"Traduction!$A$354","v":"Jeudi"},"2018-01-04",3,-6.2,{"$f":"'[2]Détail N°7'!$L$28","v":9},1]
[null,null,null,null,null,null,null,null,null,null,null,null,null,null,{"$f":"Traduction!$A$355","v":"Vendredi"},"2018-01-05",3.0416666666666701,-5.8,{"$f":"'[2]Détail N°7'!$L$28","v":9},1]
[null,null,null,null,null,null,null,null,null,null,null,null,null,null,{"$f":"Traduction!$A$355","v":"Vendredi"},"2018-01-05",3.0833333333333299,-5.5,{"$f":"'[2]Détail N°7'!$L$28","v":9},1]
[null,null,null,null,null,null,null,null,null,null,null,null,null,null,{"$f":"Traduction!$A$355","v":"Vendredi"},"2018-01-05",3.125,-5.0999999999999996,{"$f":"'[2]Détail N°7'!$L$28","v":9},1]
[null,null,null,null,null,null,null,null,null,null,null,null,null,null,{"$f":"Traduction!$A$355","v":"Vendredi"},"2018-01-05",3.1666666666666701,-4.9000000000000004,{"$f":"'[2]Détail N°7'!$L$28","v":9},1]
[null,null,null,null,null,null,null,null,null,null,null,null,null,null,{"$f":"Traduction!$A$355","v":"Vendredi"},"2018-01-05",3.2083333333333299,-4.7,{"$f":"'[2]Détail N°7'!$L$28","v":9},1]
[null,null,null,null,null,null,null,null,null,null,null,null,null,null,{"$f":"Traduction!$A$355","v":"Vendredi"},"2018-01-05",3.25,-4.5,{"$f":"'[2]Détail N°7'!$L$28","v":9},1]
[null,null,null,null,null,null,null,null,null,null,null,null,null,null,{"$f":"Traduction!$A$355","v":"Vendredi"},"2018-01-05",3.2916666666666701,-4.3,{"$f":"'[2]Détail N°7'!$L$28","v":9},1]
[null,null,null,null,null,null,null,null,null,null,null,null,null,null,{"$f":"Traduction!$A$355","v":"Vendredi"},"2018-01-05",3.3333333333333299,-4.2,{"$f":"'[2]Détail N°7'!$L$28","v":9},1]
[null,null,null,null,null,null,null,null,null,null,null,null,null,null,{"$f":"Traduction!$A$355","v":"Vendredi"},"2018-01-05",3.375,-4,{"$f":"'[2]Détail N°7'!$L$28","v":9},1]
[null,{"$f":"Traduction!A446","v":"Les calculs présentés dans cette fiche se basent sur l'hypothèse d'une température de sortie d'eau à 45°C sur la récupération de chaleur (température de condensation) , permettant de satisfaire les besoins en chauffage. \n\nSi l'exploitant nécessite de plus hautes températures pour le chauffage (par exemple 60°C) , deux solutions sont possibles :\n- la température de condensation ne doit pas être relevée, 15% de la puissance de condensation peut être récupéré au niveau de la désurchauffe à une température de 60°C\n- la température de condensation doit être relevée pour valoriser la chaleur évacuée. Il en résulte une consommation d'énergie supplémentaire de 2.5% par degré d'élévation de température. Dans ce cas la chaleur rejetée n'est pas gratuite, la commande devra être configurée de manière à augmenter la température de condensation uniquement pendant la durée d'utilisation de la chaleur rejetée. "},null,null,null,null,null,null,null,null,null,null,null,null,{"$f":"Traduction!$A$355","v":"Vendredi"},"2018-01-05",3.4166666666666701,-3.8,{"$f":"'[2]Détail N°7'!$L$28","v":9},1]
[null,null,null,null,null,null,null,null,null,null,null,null,null,null,{"$f":"Traduction!$A$355","v":"Vendredi"},"2018-01-05",3.4583333333333299,-3.1,{"$f":"'[2]Détail N°7'!$L$28","v":9},1]
[null,null,null,null,null,null,null,null,null,null,null,null,null,null,{"$f":"Traduction!$A$355","v":"Vendredi"},"2018-01-05",3.5,-2,{"$f":"'[2]Détail N°7'!$L$28","v":9},1]
[null,{"$f":"Traduction!$A$447","v":"6. Free cooling vs récupération de chaleur"},null,null,null,null,null,null,null,null,null,null,null,null,{"$f":"Traduction!$A$355","v":"Vendredi"},"2018-01-05",3.5416666666666701,-1.2,{"$f":"'[2]Détail N°7'!$L$28","v":9},1]
[null,null,null,null,null,null,null,null,null,null,null,null,null,null,{"$f":"Traduction!$A$355","v":"Vendredi"},"2018-01-05",3.5833333333333299,-0.4,{"$f":"'[2]Détail N°7'!$L$28","v":9},1]
[null,{"$f":"Traduction!$A$448","v":"6.1 Facteurs d'émission de C02 des énergies fossiles"},null,null,null,null,null,null,null,null,null,null,null,null,{"$f":"Traduction!$A$355","v":"Vendredi"},"2018-01-05",3.625,-0.3,{"$f":"'[2]Détail N°7'!$L$28","v":9},1]
[null,{"$f":"Traduction!$A$449","v":"Mazout"},265.35000000000002,null,null,null,null,null,null,null,null,null,null,null,{"$f":"Traduction!$A$355","v":"Vendredi"},"2018-01-05",3.6666666666666701,-0.2,{"$f":"'[2]Détail N°7'!$L$28","v":9},1]
[null,"Gaz",201.96,null,null,null,null,null,null,null,null,null,null,null,{"$f":"Traduction!$A$355","v":"Vendredi"},"2018-01-05",3.7083333333333299,-0.7,{"$f":"'[2]Détail N°7'!$L$28","v":9},1]
[null,null,null,null,null,null,null,null,null,null,null,null,null,null,{"$f":"Traduction!$A$355","v":"Vendredi"},"2018-01-05",3.75,-0.6,{"$f":"'[2]Détail N°7'!$L$28","v":9},1]
[null,{"$f":"Traduction!$A$453","v":"6.2 Résulats"},null,null,null,null,null,null,null,null,null,null,null,null,{"$f":"Traduction!$A$355","v":"Vendredi"},"2018-01-05",3.7916666666666701,-0.5,{"$f":"'[2]Détail N°7'!$L$28","v":9},1]
[null,{"$f":"Traduction!$A$454","v":"Système"},null,{"$f":"Traduction!$A$450","v":"Free cooling"},{"$f":"Traduction!$A$451","v":"Récupération de chaleur"},null,null,null,null,null,null,null,null,null,{"$f":"Traduction!$A$355","v":"Vendredi"},"2018-01-05",3.8333333333333299,-0.3,{"$f":"'[2]Détail N°7'!$L$28","v":9},1]
[null,{"$f":"Traduction!$A$455","v":"Type d'énergie"},null,{"$f":"Traduction!$A$452","v":"électricité"},"gaz",null,null,null,null,null,null,null,null,null,{"$f":"Traduction!$A$355","v":"Vendredi"},"2018-01-05",3.875,-0.2,{"$f":"'[2]Détail N°7'!$L$28","v":9},1]
[null,{"$f":"Traduction!$A$456","v":"Coût de l'énergie"},null,null,null,null,null,null,null,null,null,null,null,null,{"$f":"Traduction!$A$355","v":"Vendredi"},"2018-01-05",3.9166666666666701,-0.1,{"$f":"'[2]Détail N°7'!$L$28","v":9},1]
[null,{"$f":"Traduction!$A$415","v":"Economie d'énergie (par an)"},null,{"$f":"'Aide calcul économie froid'!F361","v":{"$error":"#DIV/0!"}},{"$f":"'Aide calcul économie froid'!F425","v":0},null,null,null,null,null,null,null,null,null,{"$f":"Traduction!$A$355","v":"Vendredi"},"2018-01-05",3.9583333333333299,0.1,{"$f":"'[2]Détail N°7'!$L$28","v":9},1]
[null,{"$f":"Traduction!A457","v":"Réduction des frais (par an)"},null,{"$f":"D460*D459","v":{"$error":"#DIV/0!"}},{"$f":"E459*E460","v":0},null,null,null,null,null,null,null,null,null,{"$f":"Traduction!$A$355","v":"Vendredi"},"2018-01-05",4,0.2,{"$f":"'[2]Détail N°7'!$L$28","v":9},1]
[null,{"$f":"Traduction!$A$458","v":"Réduction des émissions de CO2 (par an)"},null,0,{"$f":"IF(E458=\"mazout\",C453*E460/1000/1000,C454*E460/1000/1000)","v":0},null,null,null,null,null,null,null,null,null,{"$f":"Traduction!$A$356","v":"Samedi"},"2018-01-06",4.0416666666666696,0.1,{"$f":"'[2]Détail N°7'!$L$28","v":9},1]
[null,null,null,null,null,null,null,null,null,null,null,null,null,null,{"$f":"Traduction!$A$356","v":"Samedi"},"2018-01-06",4.0833333333333304,-0.1,{"$f":"'[2]Détail N°7'!$L$28","v":9},1]
[null,null,null,null,null,null,null,null,null,null,null,null,null,null,{"$f":"Traduction!$A$356","v":"Samedi"},"2018-01-06",4.125,-0.2,{"$f":"'[2]Détail N°7'!$L$28","v":9},1]
[null,null,null,null,null,null,null,null,null,null,null,null,null,null,{"$f":"Traduction!$A$356","v":"Samedi"},"2018-01-06",4.1666666666666696,-0.2,{"$f":"'[2]Détail N°7'!$L$28","v":9},1]
[null,null,null,null,null,null,null,null,null,null,null,null,null,null,{"$f":"Traduction!$A$356","v":"Samedi"},"2018-01-06",4.2083333333333304,-0.2,{"$f":"'[2]Détail N°7'!$L$28","v":9},1]
[null,null,null,null,null,null,null,null,null,null,null,null,null,null,{"$f":"Traduction!$A$356","v":"Samedi"},"2018-01-06",4.25,-0.3,{"$f":"'[2]Détail N°7'!$L$28","v":9},1]
[null,null,null,null,null,null,null,null,null,null,null,null,null,null,{"$f":"Traduction!$A$356","v":"Samedi"},"2018-01-06",4.2916666666666696,-0.3,{"$f":"'[2]Détail N°7'!$L$28","v":9},1]
[null,null,null,null,null,null,null,null,null,null,null,null,null,null,{"$f":"Traduction!$A$356","v":"Samedi"},"2018-01-06",4.3333333333333304,-0.3,{"$f":"'[2]Détail N°7'!$L$28","v":9},1]
[null,null,null,null,null,null,null,null,null,null,null,null,null,null,{"$f":"Traduction!$A$356","v":"Samedi"},"2018-01-06",4.375,-0.1,{"$f":"'[2]Détail N°7'!$L$28","v":9},1]
[null,null,null,null,null,null,null,null,null,null,null,null,null,null,{"$f":"Traduction!$A$356","v":"Samedi"},"2018-01-06",4.4166666666666696,1.5,{"$f":"'[2]Détail N°7'!$L$28","v":9},{"$f":"IF(R471<=S471,1,0)","v":1}]
[null,null,null,null,null,null,null,null,null,null,null,null,null,null,{"$f":"Traduction!$A$356","v":"Samedi"},"2018-01-06",4.4583333333333304,3,{"$f":"'[2]Détail N°7'!$L$28","v":9},1]
[null,null,null,null,null,null,null,null,null,null,null,null,null,null,{"$f":"Traduction!$A$356","v":"Samedi"},"2018-01-06",4.5,4.4000000000000004,{"$f":"'[2]Détail N°7'!$L$28","v":9},1]
[null,null,null,null,null,null,null,null,null,null,null,null,null,null,{"$f":"Traduction!$A$356","v":"Samedi"},"2018-01-06",4.5416666666666696,5.4,{"$f":"'[2]Détail N°7'!$L$28","v":9},1]
[null,null,null,null,null,null,null,null,null,null,null,null,null,null,{"$f":"Traduction!$A$356","v":"Samedi"},"2018-01-06",4.5833333333333304,6,{"$f":"'[2]Détail N°7'!$L$28","v":9},1]
[null,null,null,null,null,null,null,null,null,null,null,null,null,null,{"$f":"Traduction!$A$356","v":"Samedi"},"2018-01-06",4.625,5.8,{"$f":"'[2]Détail N°7'!$L$28","v":9},1]
[null,null,null,null,null,null,null,null,null,null,null,null,null,null,{"$f":"Traduction!$A$356","v":"Samedi"},"2018-01-06",4.6666666666666696,5.0999999999999996,{"$f":"'[2]Détail N°7'!$L$28","v":9},1]
[null,null,null,null,null,null,null,null,null,null,null,null,null,null,{"$f":"Traduction!$A$356","v":"Samedi"},"2018-01-06",4.7083333333333304,4.0999999999999996,{"$f":"'[2]Détail N°7'!$L$28","v":9},1]
[null,null,null,null,null,null,null,null,null,null,null,null,null,null,{"$f":"Traduction!$A$356","v":"Samedi"},"2018-01-06",4.75,3.9,{"$f":"'[2]Détail N°7'!$L$28","v":9},1]
[null,null,null,null,null,null,null,null,null,null,null,null,null,null,{"$f":"Traduction!$A$356","v":"Samedi"},"2018-01-06",4.7916666666666696,3.6,{"$f":"'[2]Détail N°7'!$L$28","v":9},1]
[null,null,null,null,null,null,null,null,null,null,null,null,null,null,{"$f":"Traduction!$A$356","v":"Samedi"},"2018-01-06",4.8333333333333304,3.3,{"$f":"'[2]Détail N°7'!$L$28","v":9},1]
[null,null,null,null,null,null,null,null,null,null,null,null,null,null,{"$f":"Traduction!$A$356","v":"Samedi"},"2018-01-06",4.875,3,{"$f":"'[2]Détail N°7'!$L$28","v":9},1]
[null,null,null,null,null,null,null,null,null,null,null,null,null,null,{"$f":"Traduction!$A$356","v":"Samedi"},"2018-01-06",4.9166666666666696,2.8,{"$f":"'[2]Détail N°7'!$L$28","v":9},1]
[null,null,null,null,null,null,null,null,null,null,null,null,null,null,{"$f":"Traduction!$A$356","v":"Samedi"},"2018-01-06",4.9583333333333304,2.5,{"$f":"'[2]Détail N°7'!$L$28","v":9},1]
[null,null,null,null,null,null,null,null,null,null,null,null,null,null,{"$f":"Traduction!$A$356","v":"Samedi"},"2018-01-06",5,2.2000000000000002,{"$f":"'[2]Détail N°7'!$L$28","v":9},1]
[null,null,null,null,null,null,null,null,null,null,null,null,null,null,{"$f":"Traduction!$A$357","v":"Dimanche"},"2018-01-07",5.0416666666666696,1.8,{"$f":"'[2]Détail N°7'!$L$28","v":9},1]
[null,null,null,null,null,null,null,null,null,null,null,null,null,null,{"$f":"Traduction!$A$357","v":"Dimanche"},"2018-01-07",5.0833333333333304,1.4,{"$f":"'[2]Détail N°7'!$L$28","v":9},1]
[null,null,null,null,null,null,null,null,null,null,null,null,null,null,{"$f":"Traduction!$A$357","v":"Dimanche"},"2018-01-07",5.125,0.9,{"$f":"'[2]Détail N°7'!$L$28","v":9},1]
[null,null,null,null,null,null,null,null,null,null,null,null,null,null,{"$f":"Traduction!$A$357","v":"Dimanche"},"2018-01-07",5.1666666666666696,0.7,{"$f":"'[2]Détail N°7'!$L$28","v":9},1]
[null,null,null,null,null,null,null,null,null,null,null,null,null,null,{"$f":"Traduction!$A$357","v":"Dimanche"},"2018-01-07",5.2083333333333304,0.4,{"$f":"'[2]Détail N°7'!$L$28","v":9},1]
[null,null,null,null,null,null,null,null,null,null,null,null,null,null,{"$f":"Traduction!$A$357","v":"Dimanche"},"2018-01-07",5.25,0.2,{"$f":"'[2]Détail N°7'!$L$28","v":9},1]
[null,null,null,null,null,null,null,null,null,null,null,null,null,null,{"$f":"Traduction!$A$357","v":"Dimanche"},"2018-01-07",5.2916666666666696,0,{"$f":"'[2]Détail N°7'!$L$28","v":9},1]
[null,null,null,null,null,null,null,null,null,null,null,null,null,null,{"$f":"Traduction!$A$357","v":"Dimanche"},"2018-01-07",5.3333333333333304,-0.1,{"$f":"'[2]Détail N°7'!$L$28","v":9},1]
[null,null,null,null,null,null,null,null,null,null,null,null,null,null,{"$f":"Traduction!$A$357","v":"Dimanche"},"2018-01-07",5.375,-0.1,{"$f":"'[2]Détail N°7'!$L$28","v":9},1]
[null,null,null,null,null,null,null,null,null,null,null,null,null,null,{"$f":"Traduction!$A$357","v":"Dimanche"},"2018-01-07",5.4166666666666696,0,{"$f":"'[2]Détail N°7'!$L$28","v":9},1]
[null,null,null,null,null,null,null,null,null,null,null,null,null,null,{"$f":"Traduction!$A$357","v":"Dimanche"},"2018-01-07",5.4583333333333304,0.1,{"$f":"'[2]Détail N°7'!$L$28","v":9},1]
[null,null,null,null,null,null,null,null,null,null,null,null,null,null,{"$f":"Traduction!$A$357","v":"Dimanche"},"2018-01-07",5.5,0.2,{"$f":"'[2]Détail N°7'!$L$28","v":9},1]
[null,null,null,null,null,null,null,null,null,null,null,null,null,null,{"$f":"Traduction!$A$357","v":"Dimanche"},"2018-01-07",5.5416666666666696,0.2,{"$f":"'[2]Détail N°7'!$L$28","v":9},1]
[null,null,null,null,null,null,null,null,null,null,null,null,null,null,{"$f":"Traduction!$A$357","v":"Dimanche"},"2018-01-07",5.5833333333333304,1,{"$f":"'[2]Détail N°7'!$L$28","v":9},1]
[null,null,null,null,null,null,null,null,null,null,null,null,null,null,{"$f":"Traduction!$A$357","v":"Dimanche"},"2018-01-07",5.625,1.4,{"$f":"'[2]Détail N°7'!$L$28","v":9},1]
[null,null,null,null,null,null,null,null,null,null,null,null,null,null,{"$f":"Traduction!$A$357","v":"Dimanche"},"2018-01-07",5.6666666666666696,1.5,{"$f":"'[2]Détail N°7'!$L$28","v":9},1]
[null,null,null,null,null,null,null,null,null,null,null,null,null,null,{"$f":"Traduction!$A$357","v":"Dimanche"},"2018-01-07",5.7083333333333304,1.1000000000000001,{"$f":"'[2]Détail N°7'!$L$28","v":9},1]
[null,null,null,null,null,null,null,null,null,null,null,null,null,null,{"$f":"Traduction!$A$357","v":"Dimanche"},"2018-01-07",5.75,0.9,{"$f":"'[2]Détail N°7'!$L$28","v":9},1]
[null,null,null,null,null,null,null,null,null,null,null,null,null,null,{"$f":"Traduction!$A$357","v":"Dimanche"},"2018-01-07",5.7916666666666696,0.7,{"$f":"'[2]Détail N°7'!$L$28","v":9},1]
[null,null,null,null,null,null,null,null,null,null,null,null,null,null,{"$f":"Traduction!$A$357","v":"Dimanche"},"2018-01-07",5.8333333333333304,0.5,{"$f":"'[2]Détail N°7'!$L$28","v":9},1]
[null,null,null,null,null,null,null,null,null,null,null,null,null,null,{"$f":"Traduction!$A$357","v":"Dimanche"},"2018-01-07",5.875,0.2,{"$f":"'[2]Détail N°7'!$L$28","v":9},1]
[null,null,null,null,null,null,null,null,null,null,null,null,null,null,{"$f":"Traduction!$A$357","v":"Dimanche"},"2018-01-07",5.9166666666666696,0,{"$f":"'[2]Détail N°7'!$L$28","v":9},1]
[null,null,null,null,null,null,null,null,null,null,null,null,null,null,{"$f":"Traduction!$A$357","v":"Dimanche"},"2018-01-07",5.9583333333333304,-0.2,{"$f":"'[2]Détail N°7'!$L$28","v":9},1]
[null,null,null,null,null,null,null,null,null,null,null,null,null,null,{"$f":"Traduction!$A$357","v":"Dimanche"},"2018-01-07",6,-0.4,{"$f":"'[2]Détail N°7'!$L$28","v":9},1]
[null,null,null,null,null,null,null,null,null,null,null,null,null,null,{"$f":"Traduction!$A$351","v":"Lundi "},"2018-01-08",6.0416666666666696,-0.5,{"$f":"'[2]Détail N°7'!$L$28","v":9},1]
[null,null,null,null,null,null,null,null,null,null,null,null,null,null,{"$f":"Traduction!$A$351","v":"Lundi "},"2018-01-08",6.0833333333333304,-0.6,{"$f":"'[2]Détail N°7'!$L$28","v":9},1]
[null,null,null,null,null,null,null,null,null,null,null,null,null,null,{"$f":"Traduction!$A$351","v":"Lundi "},"2018-01-08",6.125,-0.6,{"$f":"'[2]Détail N°7'!$L$28","v":9},1]
[null,null,null,null,null,null,null,null,null,null,null,null,null,null,{"$f":"Traduction!$A$351","v":"Lundi "},"2018-01-08",6.1666666666666696,-0.7,{"$f":"'[2]Détail N°7'!$L$28","v":9},1]
[null,null,null,null,null,null,null,null,null,null,null,null,null,null,{"$f":"Traduction!$A$351","v":"Lundi "},"2018-01-08",6.2083333333333304,-0.7,{"$f":"'[2]Détail N°7'!$L$28","v":9},1]
[null,null,null,null,null,null,null,null,null,null,null,null,null,null,{"$f":"Traduction!$A$351","v":"Lundi "},"2018-01-08",6.25,-0.7,{"$f":"'[2]Détail N°7'!$L$28","v":9},1]
[null,null,null,null,null,null,null,null,null,null,null,null,null,null,{"$f":"Traduction!$A$351","v":"Lundi "},"2018-01-08",6.2916666666666696,-0.7,{"$f":"'[2]Détail N°7'!$L$28","v":9},1]
[null,null,null,null,null,null,null,null,null,null,null,null,null,null,{"$f":"Traduction!$A$351","v":"Lundi "},"2018-01-08",6.3333333333333304,-0.7,{"$f":"'[2]Détail N°7'!$L$28","v":9},1]
[null,null,null,null,null,null,null,null,null,null,null,null,null,null,{"$f":"Traduction!$A$351","v":"Lundi "},"2018-01-08",6.375,-0.6,{"$f":"'[2]Détail N°7'!$L$28","v":9},1]
[null,null,null,null,null,null,null,null,null,null,null,null,null,null,{"$f":"Traduction!$A$351","v":"Lundi "},"2018-01-08",6.4166666666666696,-0.3,{"$f":"'[2]Détail N°7'!$L$28","v":9},1]
[null,null,null,null,null,null,null,null,null,null,null,null,null,null,{"$f":"Traduction!$A$351","v":"Lundi "},"2018-01-08",6.4583333333333304,-0.2,{"$f":"'[2]Détail N°7'!$L$28","v":9},1]
[null,null,null,null,null,null,null,null,null,null,null,null,null,null,{"$f":"Traduction!$A$351","v":"Lundi "},"2018-01-08",6.5,0,{"$f":"'[2]Détail N°7'!$L$28","v":9},1]
[null,null,null,null,null,null,null,null,null,null,null,null,null,null,{"$f":"Traduction!$A$351","v":"Lundi "},"2018-01-08",6.5416666666666696,0.1,{"$f":"'[2]Détail N°7'!$L$28","v":9},1]
[null,null,null,null,null,null,null,null,null,null,null,null,null,null,{"$f":"Traduction!$A$351","v":"Lundi "},"2018-01-08",6.5833333333333304,2.2999999999999998,{"$f":"'[2]Détail N°7'!$L$28","v":9},1]
[null,null,null,null,null,null,null,null,null,null,null,null,null,null,{"$f":"Traduction!$A$351","v":"Lundi "},"2018-01-08",6.625,3,{"$f":"'[2]Détail N°7'!$L$28","v":9},1]
[null,null,null,null,null,null,null,null,null,null,null,null,null,null,{"$f":"Traduction!$A$351","v":"Lundi "},"2018-01-08",6.6666666666666696,3.1,{"$f":"'[2]Détail N°7'!$L$28","v":9},1]
[null,null,null,null,null,null,null,null,null,null,null,null,null,null,{"$f":"Traduction!$A$351","v":"Lundi "},"2018-01-08",6.7083333333333304,2.5,{"$f":"'[2]Détail N°7'!$L$28","v":9},1]
[null,null,null,null,null,null,null,null,null,null,null,null,null,null,{"$f":"Traduction!$A$351","v":"Lundi "},"2018-01-08",6.75,2.5,{"$f":"'[2]Détail N°7'!$L$28","v":9},1]
[null,null,null,null,null,null,null,null,null,null,null,null,null,null,{"$f":"Traduction!$A$351","v":"Lundi "},"2018-01-08",6.7916666666666696,2.4,{"$f":"'[2]Détail N°7'!$L$28","v":9},1]
[null,null,null,null,null,null,null,null,null,null,null,null,null,null,{"$f":"Traduction!$A$351","v":"Lundi "},"2018-01-08",6.8333333333333304,2.4,{"$f":"'[2]Détail N°7'!$L$28","v":9},1]
[null,null,null,null,null,null,null,null,null,null,null,null,null,null,{"$f":"Traduction!$A$351","v":"Lundi "},"2018-01-08",6.875,2.4,{"$f":"'[2]Détail N°7'!$L$28","v":9},1]
[null,null,null,null,null,null,null,null,null,null,null,null,null,null,{"$f":"Traduction!$A$351","v":"Lundi "},"2018-01-08",6.9166666666666696,2.2999999999999998,{"$f":"'[2]Détail N°7'!$L$28","v":9},1]
[null,null,null,null,null,null,null,null,null,null,null,null,null,null,{"$f":"Traduction!$A$351","v":"Lundi "},"2018-01-08",6.9583333333333304,2.2999999999999998,{"$f":"'[2]Détail N°7'!$L$28","v":9},1]
[null,null,null,null,null,null,null,null,null,null,null,null,null,null,{"$f":"Traduction!$A$351","v":"Lundi "},"2018-01-08",7,2.2999999999999998,{"$f":"'[2]Détail N°7'!$L$28","v":9},1]
[null,null,null,null,null,null,null,null,null,null,null,null,null,null,{"$f":"Traduction!$A$352","v":"Mardi"},"2018-01-09",7.0416666666666696,2.2000000000000002,{"$f":"'[2]Détail N°7'!$L$28","v":9},1]
[null,null,null,null,null,null,null,null,null,null,null,null,null,null,{"$f":"Traduction!$A$352","v":"Mardi"},"2018-01-09",7.0833333333333304,2,{"$f":"'[2]Détail N°7'!$L$28","v":9},{"$f":"IF(R535<=S535,1,0)","v":1}]
[null,null,null,null,null,null,null,null,null,null,null,null,null,null,{"$f":"Traduction!$A$352","v":"Mardi"},"2018-01-09",7.125,1.9,{"$f":"'[2]Détail N°7'!$L$28","v":9},1]
[null,null,null,null,null,null,null,null,null,null,null,null,null,null,{"$f":"Traduction!$A$352","v":"Mardi"},"2018-01-09",7.1666666666666696,1.8,{"$f":"'[2]Détail N°7'!$L$28","v":9},1]
[null,null,null,null,null,null,null,null,null,null,null,null,null,null,{"$f":"Traduction!$A$352","v":"Mardi"},"2018-01-09",7.2083333333333304,1.7,{"$f":"'[2]Détail N°7'!$L$28","v":9},1]
[null,null,null,null,null,null,null,null,null,null,null,null,null,null,{"$f":"Traduction!$A$352","v":"Mardi"},"2018-01-09",7.25,1.6,{"$f":"'[2]Détail N°7'!$L$28","v":9},1]
[null,null,null,null,null,null,null,null,null,null,null,null,null,null,{"$f":"Traduction!$A$352","v":"Mardi"},"2018-01-09",7.2916666666666696,1.5,{"$f":"'[2]Détail N°7'!$L$28","v":9},1]
[null,null,null,null,null,null,null,null,null,null,null,null,null,null,{"$f":"Traduction!$A$352","v":"Mardi"},"2018-01-09",7.3333333333333304,1.5,{"$f":"'[2]Détail N°7'!$L$28","v":9},1]
[null,null,null,null,null,null,null,null,null,null,null,null,null,null,{"$f":"Traduction!$A$352","v":"Mardi"},"2018-01-09",7.375,1.5,{"$f":"'[2]Détail N°7'!$L$28","v":9},1]
[null,null,null,null,null,null,null,null,null,null,null,null,null,null,{"$f":"Traduction!$A$352","v":"Mardi"},"2018-01-09",7.4166666666666696,1.6,{"$f":"'[2]Détail N°7'!$L$28","v":9},1]
[null,null,null,null,null,null,null,null,null,null,null,null,null,null,{"$f":"Traduction!$A$352","v":"Mardi"},"2018-01-09",7.4583333333333304,1.7,{"$f":"'[2]Détail N°7'!$L$28","v":9},1]
[null,null,null,null,null,null,null,null,null,null,null,null,null,null,{"$f":"Traduction!$A$352","v":"Mardi"},"2018-01-09",7.5,1.8,{"$f":"'[2]Détail N°7'!$L$28","v":9},1]
[null,null,null,null,null,null,null,null,null,null,null,null,null,null,{"$f":"Traduction!$A$352","v":"Mardi"},"2018-01-09",7.5416666666666696,1.8,{"$f":"'[2]Détail N°7'!$L$28","v":9},1]
[null,null,null,null,null,null,null,null,null,null,null,null,null,null,{"$f":"Traduction!$A$352","v":"Mardi"},"2018-01-09",7.5833333333333304,1.9,{"$f":"'[2]Détail N°7'!$L$28","v":9},1]
[null,null,null,null,null,null,null,null,null,null,null,null,null,null,{"$f":"Traduction!$A$352","v":"Mardi"},"2018-01-09",7.625,1.8,{"$f":"'[2]Détail N°7'!$L$28","v":9},1]
[null,null,null,null,null,null,null,null,null,null,null,null,null,null,{"$f":"Traduction!$A$352","v":"Mardi"},"2018-01-09",7.6666666666666696,1.6,{"$f":"'[2]Détail N°7'!$L$28","v":9},1]
[null,null,null,null,null,null,null,null,null,null,null,null,null,null,{"$f":"Traduction!$A$352","v":"Mardi"},"2018-01-09",7.7083333333333304,1.4,{"$f":"'[2]Détail N°7'!$L$28","v":9},1]
[null,null,null,null,null,null,null,null,null,null,null,null,null,null,{"$f":"Traduction!$A$352","v":"Mardi"},"2018-01-09",7.75,1.8,{"$f":"'[2]Détail N°7'!$L$28","v":9},1]
[null,null,null,null,null,null,null,null,null,null,null,null,null,null,{"$f":"Traduction!$A$352","v":"Mardi"},"2018-01-09",7.7916666666666696,1.7,{"$f":"'[2]Détail N°7'!$L$28","v":9},1]
[null,null,null,null,null,null,null,null,null,null,null,null,null,null,{"$f":"Traduction!$A$352","v":"Mardi"},"2018-01-09",7.8333333333333304,2.2000000000000002,{"$f":"'[2]Détail N°7'!$L$28","v":9},1]
[null,null,null,null,null,null,null,null,null,null,null,null,null,null,{"$f":"Traduction!$A$352","v":"Mardi"},"2018-01-09",7.875,1.8,{"$f":"'[2]Détail N°7'!$L$28","v":9},1]
[null,null,null,null,null,null,null,null,null,null,null,null,null,null,{"$f":"Traduction!$A$352","v":"Mardi"},"2018-01-09",7.9166666666666696,2.8,{"$f":"'[2]Détail N°7'!$L$28","v":9},1]
[null,null,null,null,null,null,null,null,null,null,null,null,null,null,{"$f":"Traduction!$A$352","v":"Mardi"},"2018-01-09",7.9583333333333304,3.2,{"$f":"'[2]Détail N°7'!$L$28","v":9},1]
[null,null,null,null,null,null,null,null,null,null,null,null,null,null,{"$f":"Traduction!$A$352","v":"Mardi"},"2018-01-09",8,3.4,{"$f":"'[2]Détail N°7'!$L$28","v":9},1]
[null,null,null,null,null,null,null,null,null,null,null,null,null,null,{"$f":"Traduction!$A$353","v":"Mercredi"},"2018-01-10",8.0416666666666696,3.6,{"$f":"'[2]Détail N°7'!$L$28","v":9},1]
[null,null,null,null,null,null,null,null,null,null,null,null,null,null,{"$f":"Traduction!$A$353","v":"Mercredi"},"2018-01-10",8.0833333333333304,3.6,{"$f":"'[2]Détail N°7'!$L$28","v":9},1]
[null,null,null,null,null,null,null,null,null,null,null,null,null,null,{"$f":"Traduction!$A$353","v":"Mercredi"},"2018-01-10",8.125,3.9,{"$f":"'[2]Détail N°7'!$L$28","v":9},1]
[null,null,null,null,null,null,null,null,null,null,null,null,null,null,{"$f":"Traduction!$A$353","v":"Mercredi"},"2018-01-10",8.1666666666666696,4.0999999999999996,{"$f":"'[2]Détail N°7'!$L$28","v":9},1]
[null,null,null,null,null,null,null,null,null,null,null,null,null,null,{"$f":"Traduction!$A$353","v":"Mercredi"},"2018-01-10",8.2083333333333304,4.2,{"$f":"'[2]Détail N°7'!$L$28","v":9},1]
[null,null,null,null,null,null,null,null,null,null,null,null,null,null,{"$f":"Traduction!$A$353","v":"Mercredi"},"2018-01-10",8.25,4.3,{"$f":"'[2]Détail N°7'!$L$28","v":9},1]
[null,null,null,null,null,null,null,null,null,null,null,null,null,null,{"$f":"Traduction!$A$353","v":"Mercredi"},"2018-01-10",8.2916666666666696,4.4000000000000004,{"$f":"'[2]Détail N°7'!$L$28","v":9},1]
[null,null,null,null,null,null,null,null,null,null,null,null,null,null,{"$f":"Traduction!$A$353","v":"Mercredi"},"2018-01-10",8.3333333333333304,4.5,{"$f":"'[2]Détail N°7'!$L$28","v":9},1]
[null,null,null,null,null,null,null,null,null,null,null,null,null,null,{"$f":"Traduction!$A$353","v":"Mercredi"},"2018-01-10",8.375,4.5999999999999996,{"$f":"'[2]Détail N°7'!$L$28","v":9},1]
[null,null,null,null,null,null,null,null,null,null,null,null,null,null,{"$f":"Traduction!$A$353","v":"Mercredi"},"2018-01-10",8.4166666666666696,5.0999999999999996,{"$f":"'[2]Détail N°7'!$L$28","v":9},1]
[null,null,null,null,null,null,null,null,null,null,null,null,null,null,{"$f":"Traduction!$A$353","v":"Mercredi"},"2018-01-10",8.4583333333333304,5.7,{"$f":"'[2]Détail N°7'!$L$28","v":9},1]
[null,null,null,null,null,null,null,null,null,null,null,null,null,null,{"$f":"Traduction!$A$353","v":"Mercredi"},"2018-01-10",8.5,6.2,{"$f":"'[2]Détail N°7'!$L$28","v":9},1]
[null,null,null,null,null,null,null,null,null,null,null,null,null,null,{"$f":"Traduction!$A$353","v":"Mercredi"},"2018-01-10",8.5416666666666696,6.7,{"$f":"'[2]Détail N°7'!$L$28","v":9},1]
[null,null,null,null,null,null,null,null,null,null,null,null,null,null,{"$f":"Traduction!$A$353","v":"Mercredi"},"2018-01-10",8.5833333333333304,6.9,{"$f":"'[2]Détail N°7'!$L$28","v":9},1]
[null,null,null,null,null,null,null,null,null,null,null,null,null,null,{"$f":"Traduction!$A$353","v":"Mercredi"},"2018-01-10",8.625,6.9,{"$f":"'[2]Détail N°7'!$L$28","v":9},1]
[null,null,null,null,null,null,null,null,null,null,null,null,null,null,{"$f":"Traduction!$A$353","v":"Mercredi"},"2018-01-10",8.6666666666666696,6.8,{"$f":"'[2]Détail N°7'!$L$28","v":9},1]
[null,null,null,null,null,null,null,null,null,null,null,null,null,null,{"$f":"Traduction!$A$353","v":"Mercredi"},"2018-01-10",8.7083333333333304,6.5,{"$f":"'[2]Détail N°7'!$L$28","v":9},1]
[null,null,null,null,null,null,null,null,null,null,null,null,null,null,{"$f":"Traduction!$A$353","v":"Mercredi"},"2018-01-10",8.75,6.4,{"$f":"'[2]Détail N°7'!$L$28","v":9},1]
[null,null,null,null,null,null,null,null,null,null,null,null,null,null,{"$f":"Traduction!$A$353","v":"Mercredi"},"2018-01-10",8.7916666666666696,6.3,{"$f":"'[2]Détail N°7'!$L$28","v":9},1]
[null,null,null,null,null,null,null,null,null,null,null,null,null,null,{"$f":"Traduction!$A$353","v":"Mercredi"},"2018-01-10",8.8333333333333304,5.5,{"$f":"'[2]Détail N°7'!$L$28","v":9},1]
[null,null,null,null,null,null,null,null,null,null,null,null,null,null,{"$f":"Traduction!$A$353","v":"Mercredi"},"2018-01-10",8.875,5.9,{"$f":"'[2]Détail N°7'!$L$28","v":9},1]
[null,null,null,null,null,null,null,null,null,null,null,null,null,null,{"$f":"Traduction!$A$353","v":"Mercredi"},"2018-01-10",8.9166666666666696,5.9,{"$f":"'[2]Détail N°7'!$L$28","v":9},1]
[null,null,null,null,null,null,null,null,null,null,null,null,null,null,{"$f":"Traduction!$A$353","v":"Mercredi"},"2018-01-10",8.9583333333333304,5.8,{"$f":"'[2]Détail N°7'!$L$28","v":9},1]
[null,null,null,null,null,null,null,null,null,null,null,null,null,null,{"$f":"Traduction!$A$353","v":"Mercredi"},"2018-01-10",9,5.7,{"$f":"'[2]Détail N°7'!$L$28","v":9},1]
[null,null,null,null,null,null,null,null,null,null,null,null,null,null,{"$f":"Traduction!$A$354","v":"Jeudi"},"2018-01-11",9.0416666666666696,5.4,{"$f":"'[2]Détail N°7'!$L$28","v":9},1]
[null,null,null,null,null,null,null,null,null,null,null,null,null,null,{"$f":"Traduction!$A$354","v":"Jeudi"},"2018-01-11",9.0833333333333304,5.0999999999999996,{"$f":"'[2]Détail N°7'!$L$28","v":9},1]
[null,null,null,null,null,null,null,null,null,null,null,null,null,null,{"$f":"Traduction!$A$354","v":"Jeudi"},"2018-01-11",9.125,4.8,{"$f":"'[2]Détail N°7'!$L$28","v":9},1]
[null,null,null,null,null,null,null,null,null,null,null,null,null,null,{"$f":"Traduction!$A$354","v":"Jeudi"},"2018-01-11",9.1666666666666696,4.7,{"$f":"'[2]Détail N°7'!$L$28","v":9},1]
[null,null,null,null,null,null,null,null,null,null,null,null,null,null,{"$f":"Traduction!$A$354","v":"Jeudi"},"2018-01-11",9.2083333333333304,4.5,{"$f":"'[2]Détail N°7'!$L$28","v":9},1]
[null,null,null,null,null,null,null,null,null,null,null,null,null,null,{"$f":"Traduction!$A$354","v":"Jeudi"},"2018-01-11",9.25,4.3,{"$f":"'[2]Détail N°7'!$L$28","v":9},1]
[null,null,null,null,null,null,null,null,null,null,null,null,null,null,{"$f":"Traduction!$A$354","v":"Jeudi"},"2018-01-11",9.2916666666666696,4.2,{"$f":"'[2]Détail N°7'!$L$28","v":9},1]
[null,null,null,null,null,null,null,null,null,null,null,null,null,null,{"$f":"Traduction!$A$354","v":"Jeudi"},"2018-01-11",9.3333333333333304,4.0999999999999996,{"$f":"'[2]Détail N°7'!$L$28","v":9},1]
[null,null,null,null,null,null,null,null,null,null,null,null,null,null,{"$f":"Traduction!$A$354","v":"Jeudi"},"2018-01-11",9.375,4.0999999999999996,{"$f":"'[2]Détail N°7'!$L$28","v":9},1]
[null,null,null,null,null,null,null,null,null,null,null,null,null,null,{"$f":"Traduction!$A$354","v":"Jeudi"},"2018-01-11",9.4166666666666696,4.4000000000000004,{"$f":"'[2]Détail N°7'!$L$28","v":9},1]
[null,null,null,null,null,null,null,null,null,null,null,null,null,null,{"$f":"Traduction!$A$354","v":"Jeudi"},"2018-01-11",9.4583333333333304,4.7,{"$f":"'[2]Détail N°7'!$L$28","v":9},1]
[null,null,null,null,null,null,null,null,null,null,null,null,null,null,{"$f":"Traduction!$A$354","v":"Jeudi"},"2018-01-11",9.5,5,{"$f":"'[2]Détail N°7'!$L$28","v":9},1]
[null,null,null,null,null,null,null,null,null,null,null,null,null,null,{"$f":"Traduction!$A$354","v":"Jeudi"},"2018-01-11",9.5416666666666696,5.0999999999999996,{"$f":"'[2]Détail N°7'!$L$28","v":9},1]
[null,null,null,null,null,null,null,null,null,null,null,null,null,null,{"$f":"Traduction!$A$354","v":"Jeudi"},"2018-01-11",9.5833333333333304,5.2,{"$f":"'[2]Détail N°7'!$L$28","v":9},1]
[null,null,null,null,null,null,null,null,null,null,null,null,null,null,{"$f":"Traduction!$A$354","v":"Jeudi"},"2018-01-11",9.625,5.2,{"$f":"'[2]Détail N°7'!$L$28","v":9},1]
[null,null,null,null,null,null,null,null,null,null,null,null,null,null,{"$f":"Traduction!$A$354","v":"Jeudi"},"2018-01-11",9.6666666666666696,5.0999999999999996,{"$f":"'[2]Détail N°7'!$L$28","v":9},1]
[null,null,null,null,null,null,null,null,null,null,null,null,null,null,{"$f":"Traduction!$A$354","v":"Jeudi"},"2018-01-11",9.7083333333333304,4.9000000000000004,{"$f":"'[2]Détail N°7'!$L$28","v":9},1]
[null,null,null,null,null,null,null,null,null,null,null,null,null,null,{"$f":"Traduction!$A$354","v":"Jeudi"},"2018-01-11",9.75,4.5,{"$f":"'[2]Détail N°7'!$L$28","v":9},{"$f":"IF(R599<=S599,1,0)","v":1}]
[null,null,null,null,null,null,null,null,null,null,null,null,null,null,{"$f":"Traduction!$A$354","v":"Jeudi"},"2018-01-11",9.7916666666666696,4.2,{"$f":"'[2]Détail N°7'!$L$28","v":9},1]
[null,null,null,null,null,null,null,null,null,null,null,null,null,null,{"$f":"Traduction!$A$354","v":"Jeudi"},"2018-01-11",9.8333333333333304,3.5,{"$f":"'[2]Détail N°7'!$L$28","v":9},1]
[null,null,null,null,null,null,null,null,null,null,null,null,null,null,{"$f":"Traduction!$A$354","v":"Jeudi"},"2018-01-11",9.875,3.8,{"$f":"'[2]Détail N°7'!$L$28","v":9},1]
[null,null,null,null,null,null,null,null,null,null,null,null,null,null,{"$f":"Traduction!$A$354","v":"Jeudi"},"2018-01-11",9.9166666666666696,3.5,{"$f":"'[2]Détail N°7'!$L$28","v":9},1]
[null,null,null,null,null,null,null,null,null,null,null,null,null,null,{"$f":"Traduction!$A$354","v":"Jeudi"},"2018-01-11",9.9583333333333304,3.3,{"$f":"'[2]Détail N°7'!$L$28","v":9},1]
[null,null,null,null,null,null,null,null,null,null,null,null,null,null,{"$f":"Traduction!$A$354","v":"Jeudi"},"2018-01-11",10,3,{"$f":"'[2]Détail N°7'!$L$28","v":9},1]
[null,null,null,null,null,null,null,null,null,null,null,null,null,null,{"$f":"Traduction!$A$355","v":"Vendredi"},"2018-01-12",10.0416666666667,2.8,{"$f":"'[2]Détail N°7'!$L$28","v":9},1]
[null,null,null,null,null,null,null,null,null,null,null,null,null,null,{"$f":"Traduction!$A$355","v":"Vendredi"},"2018-01-12",10.0833333333333,2.5,{"$f":"'[2]Détail N°7'!$L$28","v":9},1]
[null,null,null,null,null,null,null,null,null,null,null,null,null,null,{"$f":"Traduction!$A$355","v":"Vendredi"},"2018-01-12",10.125,2.4,{"$f":"'[2]Détail N°7'!$L$28","v":9},1]
[null,null,null,null,null,null,null,null,null,null,null,null,null,null,{"$f":"Traduction!$A$355","v":"Vendredi"},"2018-01-12",10.1666666666667,2.2000000000000002,{"$f":"'[2]Détail N°7'!$L$28","v":9},1]
[null,null,null,null,null,null,null,null,null,null,null,null,null,null,{"$f":"Traduction!$A$355","v":"Vendredi"},"2018-01-12",10.2083333333333,2.1,{"$f":"'[2]Détail N°7'!$L$28","v":9},1]
[null,null,null,null,null,null,null,null,null,null,null,null,null,null,{"$f":"Traduction!$A$355","v":"Vendredi"},"2018-01-12",10.25,2,{"$f":"'[2]Détail N°7'!$L$28","v":9},1]
[null,null,null,null,null,null,null,null,null,null,null,null,null,null,{"$f":"Traduction!$A$355","v":"Vendredi"},"2018-01-12",10.2916666666667,1.9,{"$f":"'[2]Détail N°7'!$L$28","v":9},1]
[null,null,null,null,null,null,null,null,null,null,null,null,null,null,{"$f":"Traduction!$A$355","v":"Vendredi"},"2018-01-12",10.3333333333333,1.8,{"$f":"'[2]Détail N°7'!$L$28","v":9},1]
[null,null,null,null,null,null,null,null,null,null,null,null,null,null,{"$f":"Traduction!$A$355","v":"Vendredi"},"2018-01-12",10.375,1.9,{"$f":"'[2]Détail N°7'!$L$28","v":9},1]
[null,null,null,null,null,null,null,null,null,null,null,null,null,null,{"$f":"Traduction!$A$355","v":"Vendredi"},"2018-01-12",10.4166666666667,2.5,{"$f":"'[2]Détail N°7'!$L$28","v":9},1]
[null,null,null,null,null,null,null,null,null,null,null,null,null,null,{"$f":"Traduction!$A$355","v":"Vendredi"},"2018-01-12",10.4583333333333,3.1,{"$f":"'[2]Détail N°7'!$L$28","v":9},1]
[null,null,null,null,null,null,null,null,null,null,null,null,null,null,{"$f":"Traduction!$A$355","v":"Vendredi"},"2018-01-12",10.5,3.8,{"$f":"'[2]Détail N°7'!$L$28","v":9},1]
[null,null,null,null,null,null,null,null,null,null,null,null,null,null,{"$f":"Traduction!$A$355","v":"Vendredi"},"2018-01-12",10.5416666666667,4.0999999999999996,{"$f":"'[2]Détail N°7'!$L$28","v":9},1]
[null,null,null,null,null,null,null,null,null,null,null,null,null,null,{"$f":"Traduction!$A$355","v":"Vendredi"},"2018-01-12",10.5833333333333,4.0999999999999996,{"$f":"'[2]Détail N°7'!$L$28","v":9},1]
[null,null,null,null,null,null,null,null,null,null,null,null,null,null,{"$f":"Traduction!$A$355","v":"Vendredi"},"2018-01-12",10.625,4.0999999999999996,{"$f":"'[2]Détail N°7'!$L$28","v":9},1]
[null,null,null,null,null,null,null,null,null,null,null,null,null,null,{"$f":"Traduction!$A$355","v":"Vendredi"},"2018-01-12",10.6666666666667,3.9,{"$f":"'[2]Détail N°7'!$L$28","v":9},1]
[null,null,null,null,null,null,null,null,null,null,null,null,null,null,{"$f":"Traduction!$A$355","v":"Vendredi"},"2018-01-12",10.7083333333333,3.5,{"$f":"'[2]Détail N°7'!$L$28","v":9},1]
[null,null,null,null,null,null,null,null,null,null,null,null,null,null,{"$f":"Traduction!$A$355","v":"Vendredi"},"2018-01-12",10.75,3.4,{"$f":"'[2]Détail N°7'!$L$28","v":9},1]
[null,null,null,null,null,null,null,null,null,null,null,null,null,null,{"$f":"Traduction!$A$355","v":"Vendredi"},"2018-01-12",10.7916666666667,3.3,{"$f":"'[2]Détail N°7'!$L$28","v":9},1]
[null,null,null,null,null,null,null,null,null,null,null,null,null,null,{"$f":"Traduction!$A$355","v":"Vendredi"},"2018-01-12",10.8333333333333,3.2,{"$f":"'[2]Détail N°7'!$L$28","v":9},1]
[null,null,null,null,null,null,null,null,null,null,null,null,null,null,{"$f":"Traduction!$A$355","v":"Vendredi"},"2018-01-12",10.875,3.1,{"$f":"'[2]Détail N°7'!$L$28","v":9},1]
[null,null,null,null,null,null,null,null,null,null,null,null,null,null,{"$f":"Traduction!$A$355","v":"Vendredi"},"2018-01-12",10.9166666666667,3,{"$f":"'[2]Détail N°7'!$L$28","v":9},1]
[null,null,null,null,null,null,null,null,null,null,null,null,null,null,{"$f":"Traduction!$A$355","v":"Vendredi"},"2018-01-12",10.9583333333333,2.9,{"$f":"'[2]Détail N°7'!$L$28","v":9},1]
[null,null,null,null,null,null,null,null,null,null,null,null,null,null,{"$f":"Traduction!$A$355","v":"Vendredi"},"2018-01-12",11,2.8,{"$f":"'[2]Détail N°7'!$L$28","v":9},1]
[null,null,null,null,null,null,null,null,null,null,null,null,null,null,{"$f":"Traduction!$A$356","v":"Samedi"},"2018-01-13",11.0416666666667,2.8,{"$f":"'[2]Détail N°7'!$L$28","v":9},1]
[null,null,null,null,null,null,null,null,null,null,null,null,null,null,{"$f":"Traduction!$A$356","v":"Samedi"},"2018-01-13",11.0833333333333,2.9,{"$f":"'[2]Détail N°7'!$L$28","v":9},1]
[null,null,null,null,null,null,null,null,null,null,null,null,null,null,{"$f":"Traduction!$A$356","v":"Samedi"},"2018-01-13",11.125,3,{"$f":"'[2]Détail N°7'!$L$28","v":9},1]
[null,null,null,null,null,null,null,null,null,null,null,null,null,null,{"$f":"Traduction!$A$356","v":"Samedi"},"2018-01-13",11.1666666666667,3.1,{"$f":"'[2]Détail N°7'!$L$28","v":9},1]
[null,null,null,null,null,null,null,null,null,null,null,null,null,null,{"$f":"Traduction!$A$356","v":"Samedi"},"2018-01-13",11.2083333333333,3.1,{"$f":"'[2]Détail N°7'!$L$28","v":9},1]
[null,null,null,null,null,null,null,null,null,null,null,null,null,null,{"$f":"Traduction!$A$356","v":"Samedi"},"2018-01-13",11.25,3.2,{"$f":"'[2]Détail N°7'!$L$28","v":9},1]
[null,null,null,null,null,null,null,null,null,null,null,null,null,null,{"$f":"Traduction!$A$356","v":"Samedi"},"2018-01-13",11.2916666666667,3.3,{"$f":"'[2]Détail N°7'!$L$28","v":9},1]
[null,null,null,null,null,null,null,null,null,null,null,null,null,null,{"$f":"Traduction!$A$356","v":"Samedi"},"2018-01-13",11.3333333333333,3.4,{"$f":"'[2]Détail N°7'!$L$28","v":9},1]
[null,null,null,null,null,null,null,null,null,null,null,null,null,null,{"$f":"Traduction!$A$356","v":"Samedi"},"2018-01-13",11.375,3.6,{"$f":"'[2]Détail N°7'!$L$28","v":9},1]
[null,null,null,null,null,null,null,null,null,null,null,null,null,null,{"$f":"Traduction!$A$356","v":"Samedi"},"2018-01-13",11.4166666666667,5.6,{"$f":"'[2]Détail N°7'!$L$28","v":9},1]
[null,null,null,null,null,null,null,null,null,null,null,null,null,null,{"$f":"Traduction!$A$356","v":"Samedi"},"2018-01-13",11.4583333333333,7.6,{"$f":"'[2]Détail N°7'!$L$28","v":9},1]
[null,null,null,null,null,null,null,null,null,null,null,null,null,null,{"$f":"Traduction!$A$356","v":"Samedi"},"2018-01-13",11.5,9.1999999999999993,{"$f":"'[2]Détail N°7'!$L$28","v":9},0]
[null,null,null,null,null,null,null,null,null,null,null,null,null,null,{"$f":"Traduction!$A$356","v":"Samedi"},"2018-01-13",11.5416666666667,10.5,{"$f":"'[2]Détail N°7'!$L$28","v":9},0]
[null,null,null,null,null,null,null,null,null,null,null,null,null,null,{"$f":"Traduction!$A$356","v":"Samedi"},"2018-01-13",11.5833333333333,11.4,{"$f":"'[2]Détail N°7'!$L$28","v":9},0]
[null,null,null,null,null,null,null,null,null,null,null,null,null,null,{"$f":"Traduction!$A$356","v":"Samedi"},"2018-01-13",11.625,11.7,{"$f":"'[2]Détail N°7'!$L$28","v":9},0]
[null,null,null,null,null,null,null,null,null,null,null,null,null,null,{"$f":"Traduction!$A$356","v":"Samedi"},"2018-01-13",11.6666666666667,11.3,{"$f":"'[2]Détail N°7'!$L$28","v":9},0]
[null,null,null,null,null,null,null,null,null,null,null,null,null,null,{"$f":"Traduction!$A$356","v":"Samedi"},"2018-01-13",11.7083333333333,10.1,{"$f":"'[2]Détail N°7'!$L$28","v":9},0]
[null,null,null,null,null,null,null,null,null,null,null,null,null,null,{"$f":"Traduction!$A$356","v":"Samedi"},"2018-01-13",11.75,9.6,{"$f":"'[2]Détail N°7'!$L$28","v":9},0]
[null,null,null,null,null,null,null,null,null,null,null,null,null,null,{"$f":"Traduction!$A$356","v":"Samedi"},"2018-01-13",11.7916666666667,9.1,{"$f":"'[2]Détail N°7'!$L$28","v":9},0]
[null,null,null,null,null,null,null,null,null,null,null,null,null,null,{"$f":"Traduction!$A$356","v":"Samedi"},"2018-01-13",11.8333333333333,8.6,{"$f":"'[2]Détail N°7'!$L$28","v":9},1]
[null,null,null,null,null,null,null,null,null,null,null,null,null,null,{"$f":"Traduction!$A$356","v":"Samedi"},"2018-01-13",11.875,8,{"$f":"'[2]Détail N°7'!$L$28","v":9},1]
[null,null,null,null,null,null,null,null,null,null,null,null,null,null,{"$f":"Traduction!$A$356","v":"Samedi"},"2018-01-13",11.9166666666667,7.5,{"$f":"'[2]Détail N°7'!$L$28","v":9},1]
[null,null,null,null,null,null,null,null,null,null,null,null,null,null,{"$f":"Traduction!$A$356","v":"Samedi"},"2018-01-13",11.9583333333333,7,{"$f":"'[2]Détail N°7'!$L$28","v":9},1]
[null,null,null,null,null,null,null,null,null,null,null,null,null,null,{"$f":"Traduction!$A$356","v":"Samedi"},"2018-01-13",12,6.5,{"$f":"'[2]Détail N°7'!$L$28","v":9},1]
[null,null,null,null,null,null,null,null,null,null,null,null,null,null,{"$f":"Traduction!$A$357","v":"Dimanche"},"2018-01-14",12.0416666666667,5.7,{"$f":"'[2]Détail N°7'!$L$28","v":9},1]
[null,null,null,null,null,null,null,null,null,null,null,null,null,null,{"$f":"Traduction!$A$357","v":"Dimanche"},"2018-01-14",12.0833333333333,4.8,{"$f":"'[2]Détail N°7'!$L$28","v":9},1]
[null,null,null,null,null,null,null,null,null,null,null,null,null,null,{"$f":"Traduction!$A$357","v":"Dimanche"},"2018-01-14",12.125,3.9,{"$f":"'[2]Détail N°7'!$L$28","v":9},1]
[null,null,null,null,null,null,null,null,null,null,null,null,null,null,{"$f":"Traduction!$A$357","v":"Dimanche"},"2018-01-14",12.1666666666667,3.4,{"$f":"'[2]Détail N°7'!$L$28","v":9},1]
[null,null,null,null,null,null,null,null,null,null,null,null,null,null,{"$f":"Traduction!$A$357","v":"Dimanche"},"2018-01-14",12.2083333333333,2.9,{"$f":"'[2]Détail N°7'!$L$28","v":9},1]
[null,null,null,null,null,null,null,null,null,null,null,null,null,null,{"$f":"Traduction!$A$357","v":"Dimanche"},"2018-01-14",12.25,2.4,{"$f":"'[2]Détail N°7'!$L$28","v":9},1]
[null,null,null,null,null,null,null,null,null,null,null,null,null,null,{"$f":"Traduction!$A$357","v":"Dimanche"},"2018-01-14",12.2916666666667,2.1,{"$f":"'[2]Détail N°7'!$L$28","v":9},1]
[null,null,null,null,null,null,null,null,null,null,null,null,null,null,{"$f":"Traduction!$A$357","v":"Dimanche"},"2018-01-14",12.3333333333333,1.7,{"$f":"'[2]Détail N°7'!$L$28","v":9},1]
[null,null,null,null,null,null,null,null,null,null,null,null,null,null,{"$f":"Traduction!$A$357","v":"Dimanche"},"2018-01-14",12.375,1.7,{"$f":"'[2]Détail N°7'!$L$28","v":9},1]
[null,null,null,null,null,null,null,null,null,null,null,null,null,null,{"$f":"Traduction!$A$357","v":"Dimanche"},"2018-01-14",12.4166666666667,3.4,{"$f":"'[2]Détail N°7'!$L$28","v":9},{"$f":"IF(R663<=S663,1,0)","v":1}]
[null,null,null,null,null,null,null,null,null,null,null,null,null,null,{"$f":"Traduction!$A$357","v":"Dimanche"},"2018-01-14",12.4583333333333,5,{"$f":"'[2]Détail N°7'!$L$28","v":9},1]
[null,null,null,null,null,null,null,null,null,null,null,null,null,null,{"$f":"Traduction!$A$357","v":"Dimanche"},"2018-01-14",12.5,6.4,{"$f":"'[2]Détail N°7'!$L$28","v":9},1]
[null,null,null,null,null,null,null,null,null,null,null,null,null,null,{"$f":"Traduction!$A$357","v":"Dimanche"},"2018-01-14",12.5416666666667,7.3,{"$f":"'[2]Détail N°7'!$L$28","v":9},1]
[null,null,null,null,null,null,null,null,null,null,null,null,null,null,{"$f":"Traduction!$A$357","v":"Dimanche"},"2018-01-14",12.5833333333333,7.9,{"$f":"'[2]Détail N°7'!$L$28","v":9},1]
[null,null,null,null,null,null,null,null,null,null,null,null,null,null,{"$f":"Traduction!$A$357","v":"Dimanche"},"2018-01-14",12.625,7.9,{"$f":"'[2]Détail N°7'!$L$28","v":9},1]
[null,null,null,null,null,null,null,null,null,null,null,null,null,null,{"$f":"Traduction!$A$357","v":"Dimanche"},"2018-01-14",12.6666666666667,7.4,{"$f":"'[2]Détail N°7'!$L$28","v":9},1]
[null,null,null,null,null,null,null,null,null,null,null,null,null,null,{"$f":"Traduction!$A$357","v":"Dimanche"},"2018-01-14",12.7083333333333,6.3,{"$f":"'[2]Détail N°7'!$L$28","v":9},1]
[null,null,null,null,null,null,null,null,null,null,null,null,null,null,{"$f":"Traduction!$A$357","v":"Dimanche"},"2018-01-14",12.75,5.0999999999999996,{"$f":"'[2]Détail N°7'!$L$28","v":9},1]
[null,null,null,null,null,null,null,null,null,null,null,null,null,null,{"$f":"Traduction!$A$357","v":"Dimanche"},"2018-01-14",12.7916666666667,5.0999999999999996,{"$f":"'[2]Détail N°7'!$L$28","v":9},1]
[null,null,null,null,null,null,null,null,null,null,null,null,null,null,{"$f":"Traduction!$A$357","v":"Dimanche"},"2018-01-14",12.8333333333333,5.0999999999999996,{"$f":"'[2]Détail N°7'!$L$28","v":9},1]
[null,null,null,null,null,null,null,null,null,null,null,null,null,null,{"$f":"Traduction!$A$357","v":"Dimanche"},"2018-01-14",12.875,5.0999999999999996,{"$f":"'[2]Détail N°7'!$L$28","v":9},1]
[null,null,null,null,null,null,null,null,null,null,null,null,null,null,{"$f":"Traduction!$A$357","v":"Dimanche"},"2018-01-14",12.9166666666667,5.0999999999999996,{"$f":"'[2]Détail N°7'!$L$28","v":9},1]
[null,null,null,null,null,null,null,null,null,null,null,null,null,null,{"$f":"Traduction!$A$357","v":"Dimanche"},"2018-01-14",12.9583333333333,5.0999999999999996,{"$f":"'[2]Détail N°7'!$L$28","v":9},1]
[null,null,null,null,null,null,null,null,null,null,null,null,null,null,{"$f":"Traduction!$A$357","v":"Dimanche"},"2018-01-14",13,5.0999999999999996,{"$f":"'[2]Détail N°7'!$L$28","v":9},1]
[null,null,null,null,null,null,null,null,null,null,null,null,null,null,{"$f":"Traduction!$A$351","v":"Lundi "},"2018-01-15",13.0416666666667,5.4,{"$f":"'[2]Détail N°7'!$L$28","v":9},1]
[null,null,null,null,null,null,null,null,null,null,null,null,null,null,{"$f":"Traduction!$A$351","v":"Lundi "},"2018-01-15",13.0833333333333,5.8,{"$f":"'[2]Détail N°7'!$L$28","v":9},1]
[null,null,null,null,null,null,null,null,null,null,null,null,null,null,{"$f":"Traduction!$A$351","v":"Lundi "},"2018-01-15",13.125,6.2,{"$f":"'[2]Détail N°7'!$L$28","v":9},1]
[null,null,null,null,null,null,null,null,null,null,null,null,null,null,{"$f":"Traduction!$A$351","v":"Lundi "},"2018-01-15",13.1666666666667,6.4,{"$f":"'[2]Détail N°7'!$L$28","v":9},1]
[null,null,null,null,null,null,null,null,null,null,null,null,null,null,{"$f":"Traduction!$A$351","v":"Lundi "},"2018-01-15",13.2083333333333,6.6,{"$f":"'[2]Détail N°7'!$L$28","v":9},1]
[null,null,null,null,null,null,null,null,null,null,null,null,null,null,{"$f":"Traduction!$A$351","v":"Lundi "},"2018-01-15",13.25,6.9,{"$f":"'[2]Détail N°7'!$L$28","v":9},1]
[null,null,null,null,null,null,null,null,null,null,null,null,null,null,{"$f":"Traduction!$A$351","v":"Lundi "},"2018-01-15",13.2916666666667,7,{"$f":"'[2]Détail N°7'!$L$28","v":9},1]
[null,null,null,null,null,null,null,null,null,null,null,null,null,null,{"$f":"Traduction!$A$351","v":"Lundi "},"2018-01-15",13.3333333333333,7.2,{"$f":"'[2]Détail N°7'!$L$28","v":9},1]
[null,null,null,null,null,null,null,null,null,null,null,null,null,null,{"$f":"Traduction!$A$351","v":"Lundi "},"2018-01-15",13.375,7.4,{"$f":"'[2]Détail N°7'!$L$28","v":9},1]
[null,null,null,null,null,null,null,null,null,null,null,null,null,null,{"$f":"Traduction!$A$351","v":"Lundi "},"2018-01-15",13.4166666666667,7.9,{"$f":"'[2]Détail N°7'!$L$28","v":9},1]
[null,null,null,null,null,null,null,null,null,null,null,null,null,null,{"$f":"Traduction!$A$351","v":"Lundi "},"2018-01-15",13.4583333333333,9.1,{"$f":"'[2]Détail N°7'!$L$28","v":9},0]
[null,null,null,null,null,null,null,null,null,null,null,null,null,null,{"$f":"Traduction!$A$351","v":"Lundi "},"2018-01-15",13.5,9.8000000000000007,{"$f":"'[2]Détail N°7'!$L$28","v":9},0]
[null,null,null,null,null,null,null,null,null,null,null,null,null,null,{"$f":"Traduction!$A$351","v":"Lundi "},"2018-01-15",13.5416666666667,10.4,{"$f":"'[2]Détail N°7'!$L$28","v":9},0]
[null,null,null,null,null,null,null,null,null,null,null,null,null,null,{"$f":"Traduction!$A$351","v":"Lundi "},"2018-01-15",13.5833333333333,10.8,{"$f":"'[2]Détail N°7'!$L$28","v":9},0]
[null,null,null,null,null,null,null,null,null,null,null,null,null,null,{"$f":"Traduction!$A$351","v":"Lundi "},"2018-01-15",13.625,10.9,{"$f":"'[2]Détail N°7'!$L$28","v":9},0]
[null,null,null,null,null,null,null,null,null,null,null,null,null,null,{"$f":"Traduction!$A$351","v":"Lundi "},"2018-01-15",13.6666666666667,10.9,{"$f":"'[2]Détail N°7'!$L$28","v":9},0]
[null,null,null,null,null,null,null,null,null,null,null,null,null,null,{"$f":"Traduction!$A$351","v":"Lundi "},"2018-01-15",13.7083333333333,10.5,{"$f":"'[2]Détail N°7'!$L$28","v":9},0]
[null,null,null,null,null,null,null,null,null,null,null,null,null,null,{"$f":"Traduction!$A$351","v":"Lundi "},"2018-01-15",13.75,10,{"$f":"'[2]Détail N°7'!$L$28","v":9},0]
[null,null,null,null,null,null,null,null,null,null,null,null,null,null,{"$f":"Traduction!$A$351","v":"Lundi "},"2018-01-15",13.7916666666667,10,{"$f":"'[2]Détail N°7'!$L$28","v":9},0]
[null,null,null,null,null,null,null,null,null,null,null,null,null,null,{"$f":"Traduction!$A$351","v":"Lundi "},"2018-01-15",13.8333333333333,9.8000000000000007,{"$f":"'[2]Détail N°7'!$L$28","v":9},0]
[null,null,null,null,null,null,null,null,null,null,null,null,null,null,{"$f":"Traduction!$A$351","v":"Lundi "},"2018-01-15",13.875,9.6999999999999993,{"$f":"'[2]Détail N°7'!$L$28","v":9},0]
[null,null,null,null,null,null,null,null,null,null,null,null,null,null,{"$f":"Traduction!$A$351","v":"Lundi "},"2018-01-15",13.9166666666667,9.6,{"$f":"'[2]Détail N°7'!$L$28","v":9},0]
[null,null,null,null,null,null,null,null,null,null,null,null,null,null,{"$f":"Traduction!$A$351","v":"Lundi "},"2018-01-15",13.9583333333333,9.4,{"$f":"'[2]Détail N°7'!$L$28","v":9},0]
[null,null,null,null,null,null,null,null,null,null,null,null,null,null,{"$f":"Traduction!$A$351","v":"Lundi "},"2018-01-15",14,9.3000000000000007,{"$f":"'[2]Détail N°7'!$L$28","v":9},0]
[null,null,null,null,null,null,null,null,null,null,null,null,null,null,{"$f":"Traduction!$A$352","v":"Mardi"},"2018-01-16",14.0416666666667,8.4,{"$f":"'[2]Détail N°7'!$L$28","v":9},1]
[null,null,null,null,null,null,null,null,null,null,null,null,null,null,{"$f":"Traduction!$A$352","v":"Mardi"},"2018-01-16",14.0833333333333,7.3,{"$f":"'[2]Détail N°7'!$L$28","v":9},1]
[null,null,null,null,null,null,null,null,null,null,null,null,null,null,{"$f":"Traduction!$A$352","v":"Mardi"},"2018-01-16",14.125,6.2,{"$f":"'[2]Détail N°7'!$L$28","v":9},1]
[null,null,null,null,null,null,null,null,null,null,null,null,null,null,{"$f":"Traduction!$A$352","v":"Mardi"},"2018-01-16",14.1666666666667,5.6,{"$f":"'[2]Détail N°7'!$L$28","v":9},1]
[null,null,null,null,null,null,null,null,null,null,null,null,null,null,{"$f":"Traduction!$A$352","v":"Mardi"},"2018-01-16",14.2083333333333,5,{"$f":"'[2]Détail N°7'!$L$28","v":9},1]
[null,null,null,null,null,null,null,null,null,null,null,null,null,null,{"$f":"Traduction!$A$352","v":"Mardi"},"2018-01-16",14.25,4.4000000000000004,{"$f":"'[2]Détail N°7'!$L$28","v":9},1]
[null,null,null,null,null,null,null,null,null,null,null,null,null,null,{"$f":"Traduction!$A$352","v":"Mardi"},"2018-01-16",14.2916666666667,4,{"$f":"'[2]Détail N°7'!$L$28","v":9},1]
[null,null,null,null,null,null,null,null,null,null,null,null,null,null,{"$f":"Traduction!$A$352","v":"Mardi"},"2018-01-16",14.3333333333333,3.5,{"$f":"'[2]Détail N°7'!$L$28","v":9},1]
[null,null,null,null,null,null,null,null,null,null,null,null,null,null,{"$f":"Traduction!$A$352","v":"Mardi"},"2018-01-16",14.375,3.4,{"$f":"'[2]Détail N°7'!$L$28","v":9},1]
[null,null,null,null,null,null,null,null,null,null,null,null,null,null,{"$f":"Traduction!$A$352","v":"Mardi"},"2018-01-16",14.4166666666667,3.4,{"$f":"'[2]Détail N°7'!$L$28","v":9},1]
[null,null,null,null,null,null,null,null,null,null,null,null,null,null,{"$f":"Traduction!$A$352","v":"Mardi"},"2018-01-16",14.4583333333333,3.3,{"$f":"'[2]Détail N°7'!$L$28","v":9},1]
[null,null,null,null,null,null,null,null,null,null,null,null,null,null,{"$f":"Traduction!$A$352","v":"Mardi"},"2018-01-16",14.5,3.3,{"$f":"'[2]Détail N°7'!$L$28","v":9},1]
[null,null,null,null,null,null,null,null,null,null,null,null,null,null,{"$f":"Traduction!$A$352","v":"Mardi"},"2018-01-16",14.5416666666667,3.3,{"$f":"'[2]Détail N°7'!$L$28","v":9},1]
[null,null,null,null,null,null,null,null,null,null,null,null,null,null,{"$f":"Traduction!$A$352","v":"Mardi"},"2018-01-16",14.5833333333333,3.9,{"$f":"'[2]Détail N°7'!$L$28","v":9},1]
[null,null,null,null,null,null,null,null,null,null,null,null,null,null,{"$f":"Traduction!$A$352","v":"Mardi"},"2018-01-16",14.625,4.0999999999999996,{"$f":"'[2]Détail N°7'!$L$28","v":9},1]
[null,null,null,null,null,null,null,null,null,null,null,null,null,null,{"$f":"Traduction!$A$352","v":"Mardi"},"2018-01-16",14.6666666666667,4.0999999999999996,{"$f":"'[2]Détail N°7'!$L$28","v":9},1]
[null,null,null,null,null,null,null,null,null,null,null,null,null,null,{"$f":"Traduction!$A$352","v":"Mardi"},"2018-01-16",14.7083333333333,3.8,{"$f":"'[2]Détail N°7'!$L$28","v":9},1]
[null,null,null,null,null,null,null,null,null,null,null,null,null,null,{"$f":"Traduction!$A$352","v":"Mardi"},"2018-01-16",14.75,3.5,{"$f":"'[2]Détail N°7'!$L$28","v":9},1]
[null,null,null,null,null,null,null,null,null,null,null,null,null,null,{"$f":"Traduction!$A$352","v":"Mardi"},"2018-01-16",14.7916666666667,3.1,{"$f":"'[2]Détail N°7'!$L$28","v":9},1]
[null,null,null,null,null,null,null,null,null,null,null,null,null,null,{"$f":"Traduction!$A$352","v":"Mardi"},"2018-01-16",14.8333333333333,2.8,{"$f":"'[2]Détail N°7'!$L$28","v":9},1]
[null,null,null,null,null,null,null,null,null,null,null,null,null,null,{"$f":"Traduction!$A$352","v":"Mardi"},"2018-01-16",14.875,2.5,{"$f":"'[2]Détail N°7'!$L$28","v":9},1]
[null,null,null,null,null,null,null,null,null,null,null,null,null,null,{"$f":"Traduction!$A$352","v":"Mardi"},"2018-01-16",14.9166666666667,2.1,{"$f":"'[2]Détail N°7'!$L$28","v":9},1]
[null,null,null,null,null,null,null,null,null,null,null,null,null,null,{"$f":"Traduction!$A$352","v":"Mardi"},"2018-01-16",14.9583333333333,1.8,{"$f":"'[2]Détail N°7'!$L$28","v":9},1]
[null,null,null,null,null,null,null,null,null,null,null,null,null,null,{"$f":"Traduction!$A$352","v":"Mardi"},"2018-01-16",15,1.5,{"$f":"'[2]Détail N°7'!$L$28","v":9},1]
[null,null,null,null,null,null,null,null,null,null,null,null,null,null,{"$f":"Traduction!$A$353","v":"Mercredi"},"2018-01-17",15.0416666666667,1.6,{"$f":"'[2]Détail N°7'!$L$28","v":9},1]
[null,null,null,null,null,null,null,null,null,null,null,null,null,null,{"$f":"Traduction!$A$353","v":"Mercredi"},"2018-01-17",15.0833333333333,1.9,{"$f":"'[2]Détail N°7'!$L$28","v":9},{"$f":"IF(R727<=S727,1,0)","v":1}]
[null,null,null,null,null,null,null,null,null,null,null,null,null,null,{"$f":"Traduction!$A$353","v":"Mercredi"},"2018-01-17",15.125,2.1,{"$f":"'[2]Détail N°7'!$L$28","v":9},1]
[null,null,null,null,null,null,null,null,null,null,null,null,null,null,{"$f":"Traduction!$A$353","v":"Mercredi"},"2018-01-17",15.1666666666667,2.2000000000000002,{"$f":"'[2]Détail N°7'!$L$28","v":9},1]
[null,null,null,null,null,null,null,null,null,null,null,null,null,null,{"$f":"Traduction!$A$353","v":"Mercredi"},"2018-01-17",15.2083333333333,2.4,{"$f":"'[2]Détail N°7'!$L$28","v":9},1]
[null,null,null,null,null,null,null,null,null,null,null,null,null,null,{"$f":"Traduction!$A$353","v":"Mercredi"},"2018-01-17",15.25,2.5,{"$f":"'[2]Détail N°7'!$L$28","v":9},1]
[null,null,null,null,null,null,null,null,null,null,null,null,null,null,{"$f":"Traduction!$A$353","v":"Mercredi"},"2018-01-17",15.2916666666667,2.6,{"$f":"'[2]Détail N°7'!$L$28","v":9},1]
[null,null,null,null,null,null,null,null,null,null,null,null,null,null,{"$f":"Traduction!$A$353","v":"Mercredi"},"2018-01-17",15.3333333333333,2.7,{"$f":"'[2]Détail N°7'!$L$28","v":9},1]
[null,null,null,null,null,null,null,null,null,null,null,null,null,null,{"$f":"Traduction!$A$353","v":"Mercredi"},"2018-01-17",15.375,2.9,{"$f":"'[2]Détail N°7'!$L$28","v":9},1]
[null,null,null,null,null,null,null,null,null,null,null,null,null,null,{"$f":"Traduction!$A$353","v":"Mercredi"},"2018-01-17",15.4166666666667,4.0999999999999996,{"$f":"'[2]Détail N°7'!$L$28","v":9},1]
[null,null,null,null,null,null,null,null,null,null,null,null,null,null,{"$f":"Traduction!$A$353","v":"Mercredi"},"2018-01-17",15.4583333333333,5.0999999999999996,{"$f":"'[2]Détail N°7'!$L$28","v":9},1]
[null,null,null,null,null,null,null,null,null,null,null,null,null,null,{"$f":"Traduction!$A$353","v":"Mercredi"},"2018-01-17",15.5,5.6,{"$f":"'[2]Détail N°7'!$L$28","v":9},1]
[null,null,null,null,null,null,null,null,null,null,null,null,null,null,{"$f":"Traduction!$A$353","v":"Mercredi"},"2018-01-17",15.5416666666667,5.9,{"$f":"'[2]Détail N°7'!$L$28","v":9},1]
[null,null,null,null,null,null,null,null,null,null,null,null,null,null,{"$f":"Traduction!$A$353","v":"Mercredi"},"2018-01-17",15.5833333333333,6.2,{"$f":"'[2]Détail N°7'!$L$28","v":9},1]
[null,null,null,null,null,null,null,null,null,null,null,null,null,null,{"$f":"Traduction!$A$353","v":"Mercredi"},"2018-01-17",15.625,6.3,{"$f":"'[2]Détail N°7'!$L$28","v":9},1]
[null,null,null,null,null,null,null,null,null,null,null,null,null,null,{"$f":"Traduction!$A$353","v":"Mercredi"},"2018-01-17",15.6666666666667,6.2,{"$f":"'[2]Détail N°7'!$L$28","v":9},1]
[null,null,null,null,null,null,null,null,null,null,null,null,null,null,{"$f":"Traduction!$A$353","v":"Mercredi"},"2018-01-17",15.7083333333333,5.8,{"$f":"'[2]Détail N°7'!$L$28","v":9},1]
[null,null,null,null,null,null,null,null,null,null,null,null,null,null,{"$f":"Traduction!$A$353","v":"Mercredi"},"2018-01-17",15.75,5.4,{"$f":"'[2]Détail N°7'!$L$28","v":9},1]
[null,null,null,null,null,null,null,null,null,null,null,null,null,null,{"$f":"Traduction!$A$353","v":"Mercredi"},"2018-01-17",15.7916666666667,5.2,{"$f":"'[2]Détail N°7'!$L$28","v":9},1]
[null,null,null,null,null,null,null,null,null,null,null,null,null,null,{"$f":"Traduction!$A$353","v":"Mercredi"},"2018-01-17",15.8333333333333,4.9000000000000004,{"$f":"'[2]Détail N°7'!$L$28","v":9},1]
[null,null,null,null,null,null,null,null,null,null,null,null,null,null,{"$f":"Traduction!$A$353","v":"Mercredi"},"2018-01-17",15.875,4.5,{"$f":"'[2]Détail N°7'!$L$28","v":9},1]
[null,null,null,null,null,null,null,null,null,null,null,null,null,null,{"$f":"Traduction!$A$353","v":"Mercredi"},"2018-01-17",15.9166666666667,4.5,{"$f":"'[2]Détail N°7'!$L$28","v":9},1]
[null,null,null,null,null,null,null,null,null,null,null,null,null,null,{"$f":"Traduction!$A$353","v":"Mercredi"},"2018-01-17",15.9583333333333,4.3,{"$f":"'[2]Détail N°7'!$L$28","v":9},1]
[null,null,null,null,null,null,null,null,null,null,null,null,null,null,{"$f":"Traduction!$A$353","v":"Mercredi"},"2018-01-17",16,4.0999999999999996,{"$f":"'[2]Détail N°7'!$L$28","v":9},1]
[null,null,null,null,null,null,null,null,null,null,null,null,null,null,{"$f":"Traduction!$A$354","v":"Jeudi"},"2018-01-18",16.0416666666667,3,{"$f":"'[2]Détail N°7'!$L$28","v":9},1]
[null,null,null,null,null,null,null,null,null,null,null,null,null,null,{"$f":"Traduction!$A$354","v":"Jeudi"},"2018-01-18",16.0833333333333,1.8,{"$f":"'[2]Détail N°7'!$L$28","v":9},1]
[null,null,null,null,null,null,null,null,null,null,null,null,null,null,{"$f":"Traduction!$A$354","v":"Jeudi"},"2018-01-18",16.125,0.3,{"$f":"'[2]Détail N°7'!$L$28","v":9},1]
[null,null,null,null,null,null,null,null,null,null,null,null,null,null,{"$f":"Traduction!$A$354","v":"Jeudi"},"2018-01-18",16.1666666666667,-0.1,{"$f":"'[2]Détail N°7'!$L$28","v":9},1]
[null,null,null,null,null,null,null,null,null,null,null,null,null,null,{"$f":"Traduction!$A$354","v":"Jeudi"},"2018-01-18",16.2083333333333,-0.8,{"$f":"'[2]Détail N°7'!$L$28","v":9},1]
[null,null,null,null,null,null,null,null,null,null,null,null,null,null,{"$f":"Traduction!$A$354","v":"Jeudi"},"2018-01-18",16.25,-1.4,{"$f":"'[2]Détail N°7'!$L$28","v":9},1]
[null,null,null,null,null,null,null,null,null,null,null,null,null,null,{"$f":"Traduction!$A$354","v":"Jeudi"},"2018-01-18",16.2916666666667,-2,{"$f":"'[2]Détail N°7'!$L$28","v":9},1]
[null,null,null,null,null,null,null,null,null,null,null,null,null,null,{"$f":"Traduction!$A$354","v":"Jeudi"},"2018-01-18",16.3333333333333,-2.5,{"$f":"'[2]Détail N°7'!$L$28","v":9},1]
[null,null,null,null,null,null,null,null,null,null,null,null,null,null,{"$f":"Traduction!$A$354","v":"Jeudi"},"2018-01-18",16.375,-2.6,{"$f":"'[2]Détail N°7'!$L$28","v":9},1]
[null,null,null,null,null,null,null,null,null,null,null,null,null,null,{"$f":"Traduction!$A$354","v":"Jeudi"},"2018-01-18",16.4166666666667,-2.9,{"$f":"'[2]Détail N°7'!$L$28","v":9},1]
[null,null,null,null,null,null,null,null,null,null,null,null,null,null,{"$f":"Traduction!$A$354","v":"Jeudi"},"2018-01-18",16.4583333333333,-3.2,{"$f":"'[2]Détail N°7'!$L$28","v":9},1]
[null,null,null,null,null,null,null,null,null,null,null,null,null,null,{"$f":"Traduction!$A$354","v":"Jeudi"},"2018-01-18",16.5,-3.4,{"$f":"'[2]Détail N°7'!$L$28","v":9},1]
[null,null,null,null,null,null,null,null,null,null,null,null,null,null,{"$f":"Traduction!$A$354","v":"Jeudi"},"2018-01-18",16.5416666666667,-3.7,{"$f":"'[2]Détail N°7'!$L$28","v":9},1]
[null,null,null,null,null,null,null,null,null,null,null,null,null,null,{"$f":"Traduction!$A$354","v":"Jeudi"},"2018-01-18",16.5833333333333,-3.9,{"$f":"'[2]Détail N°7'!$L$28","v":9},1]
[null,null,null,null,null,null,null,null,null,null,null,null,null,null,{"$f":"Traduction!$A$354","v":"Jeudi"},"2018-01-18",16.625,-4.0999999999999996,{"$f":"'[2]Détail N°7'!$L$28","v":9},1]
[null,null,null,null,null,null,null,null,null,null,null,null,null,null,{"$f":"Traduction!$A$354","v":"Jeudi"},"2018-01-18",16.6666666666667,-3.8,{"$f":"'[2]Détail N°7'!$L$28","v":9},1]
[null,null,null,null,null,null,null,null,null,null,null,null,null,null,{"$f":"Traduction!$A$354","v":"Jeudi"},"2018-01-18",16.7083333333333,-3.9,{"$f":"'[2]Détail N°7'!$L$28","v":9},1]
[null,null,null,null,null,null,null,null,null,null,null,null,null,null,{"$f":"Traduction!$A$354","v":"Jeudi"},"2018-01-18",16.75,-3.9,{"$f":"'[2]Détail N°7'!$L$28","v":9},1]
[null,null,null,null,null,null,null,null,null,null,null,null,null,null,{"$f":"Traduction!$A$354","v":"Jeudi"},"2018-01-18",16.7916666666667,-4.3,{"$f":"'[2]Détail N°7'!$L$28","v":9},1]
[null,null,null,null,null,null,null,null,null,null,null,null,null,null,{"$f":"Traduction!$A$354","v":"Jeudi"},"2018-01-18",16.8333333333333,-4.7,{"$f":"'[2]Détail N°7'!$L$28","v":9},1]
[null,null,null,null,null,null,null,null,null,null,null,null,null,null,{"$f":"Traduction!$A$354","v":"Jeudi"},"2018-01-18",16.875,-5.0999999999999996,{"$f":"'[2]Détail N°7'!$L$28","v":9},1]
[null,null,null,null,null,null,null,null,null,null,null,null,null,null,{"$f":"Traduction!$A$354","v":"Jeudi"},"2018-01-18",16.9166666666667,-5.5,{"$f":"'[2]Détail N°7'!$L$28","v":9},1]
[null,null,null,null,null,null,null,null,null,null,null,null,null,null,{"$f":"Traduction!$A$354","v":"Jeudi"},"2018-01-18",16.9583333333333,-6,{"$f":"'[2]Détail N°7'!$L$28","v":9},1]
[null,null,null,null,null,null,null,null,null,null,null,null,null,null,{"$f":"Traduction!$A$354","v":"Jeudi"},"2018-01-18",17,-6.4,{"$f":"'[2]Détail N°7'!$L$28","v":9},1]
[null,null,null,null,null,null,null,null,null,null,null,null,null,null,{"$f":"Traduction!$A$355","v":"Vendredi"},"2018-01-19",17.0416666666667,-6.1,{"$f":"'[2]Détail N°7'!$L$28","v":9},1]
[null,null,null,null,null,null,null,null,null,null,null,null,null,null,{"$f":"Traduction!$A$355","v":"Vendredi"},"2018-01-19",17.0833333333333,-5.8,{"$f":"'[2]Détail N°7'!$L$28","v":9},1]
[null,null,null,null,null,null,null,null,null,null,null,null,null,null,{"$f":"Traduction!$A$355","v":"Vendredi"},"2018-01-19",17.125,-5.4,{"$f":"'[2]Détail N°7'!$L$28","v":9},1]
[null,null,null,null,null,null,null,null,null,null,null,null,null,null,{"$f":"Traduction!$A$355","v":"Vendredi"},"2018-01-19",17.1666666666667,-5.2,{"$f":"'[2]Détail N°7'!$L$28","v":9},1]
[null,null,null,null,null,null,null,null,null,null,null,null,null,null,{"$f":"Traduction!$A$355","v":"Vendredi"},"2018-01-19",17.2083333333333,-5,{"$f":"'[2]Détail N°7'!$L$28","v":9},1]
[null,null,null,null,null,null,null,null,null,null,null,null,null,null,{"$f":"Traduction!$A$355","v":"Vendredi"},"2018-01-19",17.25,-4.8,{"$f":"'[2]Détail N°7'!$L$28","v":9},1]
[null,null,null,null,null,null,null,null,null,null,null,null,null,null,{"$f":"Traduction!$A$355","v":"Vendredi"},"2018-01-19",17.2916666666667,-4.5999999999999996,{"$f":"'[2]Détail N°7'!$L$28","v":9},1]
[null,null,null,null,null,null,null,null,null,null,null,null,null,null,{"$f":"Traduction!$A$355","v":"Vendredi"},"2018-01-19",17.3333333333333,-4.5,{"$f":"'[2]Détail N°7'!$L$28","v":9},1]
[null,null,null,null,null,null,null,null,null,null,null,null,null,null,{"$f":"Traduction!$A$355","v":"Vendredi"},"2018-01-19",17.375,-4.3,{"$f":"'[2]Détail N°7'!$L$28","v":9},1]
[null,null,null,null,null,null,null,null,null,null,null,null,null,null,{"$f":"Traduction!$A$355","v":"Vendredi"},"2018-01-19",17.4166666666667,-3.3,{"$f":"'[2]Détail N°7'!$L$28","v":9},1]
[null,null,null,null,null,null,null,null,null,null,null,null,null,null,{"$f":"Traduction!$A$355","v":"Vendredi"},"2018-01-19",17.4583333333333,-2.5,{"$f":"'[2]Détail N°7'!$L$28","v":9},1]
[null,null,null,null,null,null,null,null,null,null,null,null,null,null,{"$f":"Traduction!$A$355","v":"Vendredi"},"2018-01-19",17.5,-1.3,{"$f":"'[2]Détail N°7'!$L$28","v":9},1]
[null,null,null,null,null,null,null,null,null,null,null,null,null,null,{"$f":"Traduction!$A$355","v":"Vendredi"},"2018-01-19",17.5416666666667,-0.4,{"$f":"'[2]Détail N°7'!$L$28","v":9},1]
[null,null,null,null,null,null,null,null,null,null,null,null,null,null,{"$f":"Traduction!$A$355","v":"Vendredi"},"2018-01-19",17.5833333333333,0.9,{"$f":"'[2]Détail N°7'!$L$28","v":9},1]
[null,null,null,null,null,null,null,null,null,null,null,null,null,null,{"$f":"Traduction!$A$355","v":"Vendredi"},"2018-01-19",17.625,1.6,{"$f":"'[2]Détail N°7'!$L$28","v":9},1]
[null,null,null,null,null,null,null,null,null,null,null,null,null,null,{"$f":"Traduction!$A$355","v":"Vendredi"},"2018-01-19",17.6666666666667,1.8,{"$f":"'[2]Détail N°7'!$L$28","v":9},1]
[null,null,null,null,null,null,null,null,null,null,null,null,null,null,{"$f":"Traduction!$A$355","v":"Vendredi"},"2018-01-19",17.7083333333333,1.1000000000000001,{"$f":"'[2]Détail N°7'!$L$28","v":9},1]
[null,null,null,null,null,null,null,null,null,null,null,null,null,null,{"$f":"Traduction!$A$355","v":"Vendredi"},"2018-01-19",17.75,0.3,{"$f":"'[2]Détail N°7'!$L$28","v":9},{"$f":"IF(R791<=S791,1,0)","v":1}]
[null,null,null,null,null,null,null,null,null,null,null,null,null,null,{"$f":"Traduction!$A$355","v":"Vendredi"},"2018-01-19",17.7916666666667,0.3,{"$f":"'[2]Détail N°7'!$L$28","v":9},1]
[null,null,null,null,null,null,null,null,null,null,null,null,null,null,{"$f":"Traduction!$A$355","v":"Vendredi"},"2018-01-19",17.8333333333333,0.2,{"$f":"'[2]Détail N°7'!$L$28","v":9},1]
[null,null,null,null,null,null,null,null,null,null,null,null,null,null,{"$f":"Traduction!$A$355","v":"Vendredi"},"2018-01-19",17.875,0.1,{"$f":"'[2]Détail N°7'!$L$28","v":9},1]
[null,null,null,null,null,null,null,null,null,null,null,null,null,null,{"$f":"Traduction!$A$355","v":"Vendredi"},"2018-01-19",17.9166666666667,0.1,{"$f":"'[2]Détail N°7'!$L$28","v":9},1]
[null,null,null,null,null,null,null,null,null,null,null,null,null,null,{"$f":"Traduction!$A$355","v":"Vendredi"},"2018-01-19",17.9583333333333,0,{"$f":"'[2]Détail N°7'!$L$28","v":9},1]
[null,null,null,null,null,null,null,null,null,null,null,null,null,null,{"$f":"Traduction!$A$355","v":"Vendredi"},"2018-01-19",18,-0.1,{"$f":"'[2]Détail N°7'!$L$28","v":9},1]
[null,null,null,null,null,null,null,null,null,null,null,null,null,null,{"$f":"Traduction!$A$356","v":"Samedi"},"2018-01-20",18.0416666666667,-0.5,{"$f":"'[2]Détail N°7'!$L$28","v":9},1]
[null,null,null,null,null,null,null,null,null,null,null,null,null,null,{"$f":"Traduction!$A$356","v":"Samedi"},"2018-01-20",18.0833333333333,-0.9,{"$f":"'[2]Détail N°7'!$L$28","v":9},1]
[null,null,null,null,null,null,null,null,null,null,null,null,null,null,{"$f":"Traduction!$A$356","v":"Samedi"},"2018-01-20",18.125,-1.3,{"$f":"'[2]Détail N°7'!$L$28","v":9},1]
[null,null,null,null,null,null,null,null,null,null,null,null,null,null,{"$f":"Traduction!$A$356","v":"Samedi"},"2018-01-20",18.1666666666667,-1.5,{"$f":"'[2]Détail N°7'!$L$28","v":9},1]
[null,null,null,null,null,null,null,null,null,null,null,null,null,null,{"$f":"Traduction!$A$356","v":"Samedi"},"2018-01-20",18.2083333333333,-1.7,{"$f":"'[2]Détail N°7'!$L$28","v":9},1]
[null,null,null,null,null,null,null,null,null,null,null,null,null,null,{"$f":"Traduction!$A$356","v":"Samedi"},"2018-01-20",18.25,-1.9,{"$f":"'[2]Détail N°7'!$L$28","v":9},1]
[null,null,null,null,null,null,null,null,null,null,null,null,null,null,{"$f":"Traduction!$A$356","v":"Samedi"},"2018-01-20",18.2916666666667,-2,{"$f":"'[2]Détail N°7'!$L$28","v":9},1]
[null,null,null,null,null,null,null,null,null,null,null,null,null,null,{"$f":"Traduction!$A$356","v":"Samedi"},"2018-01-20",18.3333333333333,-2.1,{"$f":"'[2]Détail N°7'!$L$28","v":9},1]
[null,null,null,null,null,null,null,null,null,null,null,null,null,null,{"$f":"Traduction!$A$356","v":"Samedi"},"2018-01-20",18.375,-1.9,{"$f":"'[2]Détail N°7'!$L$28","v":9},1]
[null,null,null,null,null,null,null,null,null,null,null,null,null,null,{"$f":"Traduction!$A$356","v":"Samedi"},"2018-01-20",18.4166666666667,-1,{"$f":"'[2]Détail N°7'!$L$28","v":9},1]
[null,null,null,null,null,null,null,null,null,null,null,null,null,null,{"$f":"Traduction!$A$356","v":"Samedi"},"2018-01-20",18.4583333333333,-0.7,{"$f":"'[2]Détail N°7'!$L$28","v":9},1]
[null,null,null,null,null,null,null,null,null,null,null,null,null,null,{"$f":"Traduction!$A$356","v":"Samedi"},"2018-01-20",18.5,-0.3,{"$f":"'[2]Détail N°7'!$L$28","v":9},1]
[null,null,null,null,null,null,null,null,null,null,null,null,null,null,{"$f":"Traduction!$A$356","v":"Samedi"},"2018-01-20",18.5416666666667,0.9,{"$f":"'[2]Détail N°7'!$L$28","v":9},1]
[null,null,null,null,null,null,null,null,null,null,null,null,null,null,{"$f":"Traduction!$A$356","v":"Samedi"},"2018-01-20",18.5833333333333,1.8,{"$f":"'[2]Détail N°7'!$L$28","v":9},1]
[null,null,null,null,null,null,null,null,null,null,null,null,null,null,{"$f":"Traduction!$A$356","v":"Samedi"},"2018-01-20",18.625,2.4,{"$f":"'[2]Détail N°7'!$L$28","v":9},1]
[null,null,null,null,null,null,null,null,null,null,null,null,null,null,{"$f":"Traduction!$A$356","v":"Samedi"},"2018-01-20",18.6666666666667,2.6,{"$f":"'[2]Détail N°7'!$L$28","v":9},1]
[null,null,null,null,null,null,null,null,null,null,null,null,null,null,{"$f":"Traduction!$A$356","v":"Samedi"},"2018-01-20",18.7083333333333,2.2000000000000002,{"$f":"'[2]Détail N°7'!$L$28","v":9},1]
[null,null,null,null,null,null,null,null,null,null,null,null,null,null,{"$f":"Traduction!$A$356","v":"Samedi"},"2018-01-20",18.75,1.4,{"$f":"'[2]Détail N°7'!$L$28","v":9},1]
[null,null,null,null,null,null,null,null,null,null,null,null,null,null,{"$f":"Traduction!$A$356","v":"Samedi"},"2018-01-20",18.7916666666667,0.9,{"$f":"'[2]Détail N°7'!$L$28","v":9},1]
[null,null,null,null,null,null,null,null,null,null,null,null,null,null,{"$f":"Traduction!$A$356","v":"Samedi"},"2018-01-20",18.8333333333333,0.3,{"$f":"'[2]Détail N°7'!$L$28","v":9},1]
[null,null,null,null,null,null,null,null,null,null,null,null,null,null,{"$f":"Traduction!$A$356","v":"Samedi"},"2018-01-20",18.875,-0.2,{"$f":"'[2]Détail N°7'!$L$28","v":9},1]
[null,null,null,null,null,null,null,null,null,null,null,null,null,null,{"$f":"Traduction!$A$356","v":"Samedi"},"2018-01-20",18.9166666666667,-0.8,{"$f":"'[2]Détail N°7'!$L$28","v":9},1]
[null,null,null,null,null,null,null,null,null,null,null,null,null,null,{"$f":"Traduction!$A$356","v":"Samedi"},"2018-01-20",18.9583333333333,-1.3,{"$f":"'[2]Détail N°7'!$L$28","v":9},1]
[null,null,null,null,null,null,null,null,null,null,null,null,null,null,{"$f":"Traduction!$A$356","v":"Samedi"},"2018-01-20",19,-1.8,{"$f":"'[2]Détail N°7'!$L$28","v":9},1]
[null,null,null,null,null,null,null,null,null,null,null,null,null,null,{"$f":"Traduction!$A$357","v":"Dimanche"},"2018-01-21",19.0416666666667,-2.4,{"$f":"'[2]Détail N°7'!$L$28","v":9},1]
[null,null,null,null,null,null,null,null,null,null,null,null,null,null,{"$f":"Traduction!$A$357","v":"Dimanche"},"2018-01-21",19.0833333333333,-2.9,{"$f":"'[2]Détail N°7'!$L$28","v":9},1]
[null,null,null,null,null,null,null,null,null,null,null,null,null,null,{"$f":"Traduction!$A$357","v":"Dimanche"},"2018-01-21",19.125,-3.5,{"$f":"'[2]Détail N°7'!$L$28","v":9},1]
[null,null,null,null,null,null,null,null,null,null,null,null,null,null,{"$f":"Traduction!$A$357","v":"Dimanche"},"2018-01-21",19.1666666666667,-3.8,{"$f":"'[2]Détail N°7'!$L$28","v":9},1]
[null,null,null,null,null,null,null,null,null,null,null,null,null,null,{"$f":"Traduction!$A$357","v":"Dimanche"},"2018-01-21",19.2083333333333,-4,{"$f":"'[2]Détail N°7'!$L$28","v":9},1]
[null,null,null,null,null,null,null,null,null,null,null,null,null,null,{"$f":"Traduction!$A$357","v":"Dimanche"},"2018-01-21",19.25,-4.3,{"$f":"'[2]Détail N°7'!$L$28","v":9},1]
[null,null,null,null,null,null,null,null,null,null,null,null,null,null,{"$f":"Traduction!$A$357","v":"Dimanche"},"2018-01-21",19.2916666666667,-4.5,{"$f":"'[2]Détail N°7'!$L$28","v":9},1]
[null,null,null,null,null,null,null,null,null,null,null,null,null,null,{"$f":"Traduction!$A$357","v":"Dimanche"},"2018-01-21",19.3333333333333,-4.7,{"$f":"'[2]Détail N°7'!$L$28","v":9},1]
[null,null,null,null,null,null,null,null,null,null,null,null,null,null,{"$f":"Traduction!$A$357","v":"Dimanche"},"2018-01-21",19.375,-4.5,{"$f":"'[2]Détail N°7'!$L$28","v":9},1]
[null,null,null,null,null,null,null,null,null,null,null,null,null,null,{"$f":"Traduction!$A$357","v":"Dimanche"},"2018-01-21",19.4166666666667,-2.6,{"$f":"'[2]Détail N°7'!$L$28","v":9},1]
[null,null,null,null,null,null,null,null,null,null,null,null,null,null,{"$f":"Traduction!$A$357","v":"Dimanche"},"2018-01-21",19.4583333333333,-0.8,{"$f":"'[2]Détail N°7'!$L$28","v":9},1]
[null,null,null,null,null,null,null,null,null,null,null,null,null,null,{"$f":"Traduction!$A$357","v":"Dimanche"},"2018-01-21",19.5,0.7,{"$f":"'[2]Détail N°7'!$L$28","v":9},1]
[null,null,null,null,null,null,null,null,null,null,null,null,null,null,{"$f":"Traduction!$A$357","v":"Dimanche"},"2018-01-21",19.5416666666667,1.8,{"$f":"'[2]Détail N°7'!$L$28","v":9},1]
[null,null,null,null,null,null,null,null,null,null,null,null,null,null,{"$f":"Traduction!$A$357","v":"Dimanche"},"2018-01-21",19.5833333333333,2.5,{"$f":"'[2]Détail N°7'!$L$28","v":9},1]
[null,null,null,null,null,null,null,null,null,null,null,null,null,null,{"$f":"Traduction!$A$357","v":"Dimanche"},"2018-01-21",19.625,2.8,{"$f":"'[2]Détail N°7'!$L$28","v":9},1]
[null,null,null,null,null,null,null,null,null,null,null,null,null,null,{"$f":"Traduction!$A$357","v":"Dimanche"},"2018-01-21",19.6666666666667,2.4,{"$f":"'[2]Détail N°7'!$L$28","v":9},1]
[null,null,null,null,null,null,null,null,null,null,null,null,null,null,{"$f":"Traduction!$A$357","v":"Dimanche"},"2018-01-21",19.7083333333333,1.4,{"$f":"'[2]Détail N°7'!$L$28","v":9},1]
[null,null,null,null,null,null,null,null,null,null,null,null,null,null,{"$f":"Traduction!$A$357","v":"Dimanche"},"2018-01-21",19.75,0.2,{"$f":"'[2]Détail N°7'!$L$28","v":9},1]
[null,null,null,null,null,null,null,null,null,null,null,null,null,null,{"$f":"Traduction!$A$357","v":"Dimanche"},"2018-01-21",19.7916666666667,-0.3,{"$f":"'[2]Détail N°7'!$L$28","v":9},1]
[null,null,null,null,null,null,null,null,null,null,null,null,null,null,{"$f":"Traduction!$A$357","v":"Dimanche"},"2018-01-21",19.8333333333333,-0.9,{"$f":"'[2]Détail N°7'!$L$28","v":9},1]
[null,null,null,null,null,null,null,null,null,null,null,null,null,null,{"$f":"Traduction!$A$357","v":"Dimanche"},"2018-01-21",19.875,-1.4,{"$f":"'[2]Détail N°7'!$L$28","v":9},1]
[null,null,null,null,null,null,null,null,null,null,null,null,null,null,{"$f":"Traduction!$A$357","v":"Dimanche"},"2018-01-21",19.9166666666667,-2,{"$f":"'[2]Détail N°7'!$L$28","v":9},1]
[null,null,null,null,null,null,null,null,null,null,null,null,null,null,{"$f":"Traduction!$A$357","v":"Dimanche"},"2018-01-21",19.9583333333333,-2.5,{"$f":"'[2]Détail N°7'!$L$28","v":9},1]
[null,null,null,null,null,null,null,null,null,null,null,null,null,null,{"$f":"Traduction!$A$357","v":"Dimanche"},"2018-01-21",20,-3.1,{"$f":"'[2]Détail N°7'!$L$28","v":9},1]
[null,null,null,null,null,null,null,null,null,null,null,null,null,null,{"$f":"Traduction!$A$351","v":"Lundi "},"2018-01-22",20.0416666666667,-3.5,{"$f":"'[2]Détail N°7'!$L$28","v":9},1]
[null,null,null,null,null,null,null,null,null,null,null,null,null,null,{"$f":"Traduction!$A$351","v":"Lundi "},"2018-01-22",20.0833333333333,-4.0999999999999996,{"$f":"'[2]Détail N°7'!$L$28","v":9},1]
[null,null,null,null,null,null,null,null,null,null,null,null,null,null,{"$f":"Traduction!$A$351","v":"Lundi "},"2018-01-22",20.125,-4.7,{"$f":"'[2]Détail N°7'!$L$28","v":9},1]
[null,null,null,null,null,null,null,null,null,null,null,null,null,null,{"$f":"Traduction!$A$351","v":"Lundi "},"2018-01-22",20.1666666666667,-5.0999999999999996,{"$f":"'[2]Détail N°7'!$L$28","v":9},1]
[null,null,null,null,null,null,null,null,null,null,null,null,null,null,{"$f":"Traduction!$A$351","v":"Lundi "},"2018-01-22",20.2083333333333,-5.4,{"$f":"'[2]Détail N°7'!$L$28","v":9},1]
[null,null,null,null,null,null,null,null,null,null,null,null,null,null,{"$f":"Traduction!$A$351","v":"Lundi "},"2018-01-22",20.25,-5.8,{"$f":"'[2]Détail N°7'!$L$28","v":9},1]
[null,null,null,null,null,null,null,null,null,null,null,null,null,null,{"$f":"Traduction!$A$351","v":"Lundi "},"2018-01-22",20.2916666666667,-6.1,{"$f":"'[2]Détail N°7'!$L$28","v":9},1]
[null,null,null,null,null,null,null,null,null,null,null,null,null,null,{"$f":"Traduction!$A$351","v":"Lundi "},"2018-01-22",20.3333333333333,-6.3,{"$f":"'[2]Détail N°7'!$L$28","v":9},1]
[null,null,null,null,null,null,null,null,null,null,null,null,null,null,{"$f":"Traduction!$A$351","v":"Lundi "},"2018-01-22",20.375,-6.4,{"$f":"'[2]Détail N°7'!$L$28","v":9},1]
[null,null,null,null,null,null,null,null,null,null,null,null,null,null,{"$f":"Traduction!$A$351","v":"Lundi "},"2018-01-22",20.4166666666667,-5.8,{"$f":"'[2]Détail N°7'!$L$28","v":9},{"$f":"IF(R855<=S855,1,0)","v":1}]
[null,null,null,null,null,null,null,null,null,null,null,null,null,null,{"$f":"Traduction!$A$351","v":"Lundi "},"2018-01-22",20.4583333333333,-5.4,{"$f":"'[2]Détail N°7'!$L$28","v":9},1]
[null,null,null,null,null,null,null,null,null,null,null,null,null,null,{"$f":"Traduction!$A$351","v":"Lundi "},"2018-01-22",20.5,-5,{"$f":"'[2]Détail N°7'!$L$28","v":9},1]
[null,null,null,null,null,null,null,null,null,null,null,null,null,null,{"$f":"Traduction!$A$351","v":"Lundi "},"2018-01-22",20.5416666666667,-4.5,{"$f":"'[2]Détail N°7'!$L$28","v":9},1]
[null,null,null,null,null,null,null,null,null,null,null,null,null,null,{"$f":"Traduction!$A$351","v":"Lundi "},"2018-01-22",20.5833333333333,-4.4000000000000004,{"$f":"'[2]Détail N°7'!$L$28","v":9},1]
[null,null,null,null,null,null,null,null,null,null,null,null,null,null,{"$f":"Traduction!$A$351","v":"Lundi "},"2018-01-22",20.625,-4.4000000000000004,{"$f":"'[2]Détail N°7'!$L$28","v":9},1]
[null,null,null,null,null,null,null,null,null,null,null,null,null,null,{"$f":"Traduction!$A$351","v":"Lundi "},"2018-01-22",20.6666666666667,-4.5,{"$f":"'[2]Détail N°7'!$L$28","v":9},1]
[null,null,null,null,null,null,null,null,null,null,null,null,null,null,{"$f":"Traduction!$A$351","v":"Lundi "},"2018-01-22",20.7083333333333,-4.9000000000000004,{"$f":"'[2]Détail N°7'!$L$28","v":9},1]
[null,null,null,null,null,null,null,null,null,null,null,null,null,null,{"$f":"Traduction!$A$351","v":"Lundi "},"2018-01-22",20.75,-5.5,{"$f":"'[2]Détail N°7'!$L$28","v":9},1]
[null,null,null,null,null,null,null,null,null,null,null,null,null,null,{"$f":"Traduction!$A$351","v":"Lundi "},"2018-01-22",20.7916666666667,-5.3,{"$f":"'[2]Détail N°7'!$L$28","v":9},1]
[null,null,null,null,null,null,null,null,null,null,null,null,null,null,{"$f":"Traduction!$A$351","v":"Lundi "},"2018-01-22",20.8333333333333,-5.0999999999999996,{"$f":"'[2]Détail N°7'!$L$28","v":9},1]
[null,null,null,null,null,null,null,null,null,null,null,null,null,null,{"$f":"Traduction!$A$351","v":"Lundi "},"2018-01-22",20.875,-5,{"$f":"'[2]Détail N°7'!$L$28","v":9},1]
[null,null,null,null,null,null,null,null,null,null,null,null,null,null,{"$f":"Traduction!$A$351","v":"Lundi "},"2018-01-22",20.9166666666667,-4.8,{"$f":"'[2]Détail N°7'!$L$28","v":9},1]
[null,null,null,null,null,null,null,null,null,null,null,null,null,null,{"$f":"Traduction!$A$351","v":"Lundi "},"2018-01-22",20.9583333333333,-4.7,{"$f":"'[2]Détail N°7'!$L$28","v":9},1]
[null,null,null,null,null,null,null,null,null,null,null,null,null,null,{"$f":"Traduction!$A$351","v":"Lundi "},"2018-01-22",21,-4.5,{"$f":"'[2]Détail N°7'!$L$28","v":9},1]
[null,null,null,null,null,null,null,null,null,null,null,null,null,null,{"$f":"Traduction!$A$352","v":"Mardi"},"2018-01-23",21.0416666666667,-4.2,{"$f":"'[2]Détail N°7'!$L$28","v":9},1]
[null,null,null,null,null,null,null,null,null,null,null,null,null,null,{"$f":"Traduction!$A$352","v":"Mardi"},"2018-01-23",21.0833333333333,-3.8,{"$f":"'[2]Détail N°7'!$L$28","v":9},1]
[null,null,null,null,null,null,null,null,null,null,null,null,null,null,{"$f":"Traduction!$A$352","v":"Mardi"},"2018-01-23",21.125,-3.4,{"$f":"'[2]Détail N°7'!$L$28","v":9},1]
[null,null,null,null,null,null,null,null,null,null,null,null,null,null,{"$f":"Traduction!$A$352","v":"Mardi"},"2018-01-23",21.1666666666667,-3.1,{"$f":"'[2]Détail N°7'!$L$28","v":9},1]
[null,null,null,null,null,null,null,null,null,null,null,null,null,null,{"$f":"Traduction!$A$352","v":"Mardi"},"2018-01-23",21.2083333333333,-2.9,{"$f":"'[2]Détail N°7'!$L$28","v":9},1]
[null,null,null,null,null,null,null,null,null,null,null,null,null,null,{"$f":"Traduction!$A$352","v":"Mardi"},"2018-01-23",21.25,-2.7,{"$f":"'[2]Détail N°7'!$L$28","v":9},1]
[null,null,null,null,null,null,null,null,null,null,null,null,null,null,{"$f":"Traduction!$A$352","v":"Mardi"},"2018-01-23",21.2916666666667,-2.5,{"$f":"'[2]Détail N°7'!$L$28","v":9},1]
[null,null,null,null,null,null,null,null,null,null,null,null,null,null,{"$f":"Traduction!$A$352","v":"Mardi"},"2018-01-23",21.3333333333333,-2.2999999999999998,{"$f":"'[2]Détail N°7'!$L$28","v":9},1]
[null,null,null,null,null,null,null,null,null,null,null,null,null,null,{"$f":"Traduction!$A$352","v":"Mardi"},"2018-01-23",21.375,-2.1,{"$f":"'[2]Détail N°7'!$L$28","v":9},1]
[null,null,null,null,null,null,null,null,null,null,null,null,null,null,{"$f":"Traduction!$A$352","v":"Mardi"},"2018-01-23",21.4166666666667,-0.9,{"$f":"'[2]Détail N°7'!$L$28","v":9},1]
[null,null,null,null,null,null,null,null,null,null,null,null,null,null,{"$f":"Traduction!$A$352","v":"Mardi"},"2018-01-23",21.4583333333333,0.2,{"$f":"'[2]Détail N°7'!$L$28","v":9},1]
[null,null,null,null,null,null,null,null,null,null,null,null,null,null,{"$f":"Traduction!$A$352","v":"Mardi"},"2018-01-23",21.5,1.1000000000000001,{"$f":"'[2]Détail N°7'!$L$28","v":9},1]
[null,null,null,null,null,null,null,null,null,null,null,null,null,null,{"$f":"Traduction!$A$352","v":"Mardi"},"2018-01-23",21.5416666666667,2.2000000000000002,{"$f":"'[2]Détail N°7'!$L$28","v":9},1]
[null,null,null,null,null,null,null,null,null,null,null,null,null,null,{"$f":"Traduction!$A$352","v":"Mardi"},"2018-01-23",21.5833333333333,2.7,{"$f":"'[2]Détail N°7'!$L$28","v":9},1]
[null,null,null,null,null,null,null,null,null,null,null,null,null,null,{"$f":"Traduction!$A$352","v":"Mardi"},"2018-01-23",21.625,3,{"$f":"'[2]Détail N°7'!$L$28","v":9},1]
[null,null,null,null,null,null,null,null,null,null,null,null,null,null,{"$f":"Traduction!$A$352","v":"Mardi"},"2018-01-23",21.6666666666667,3,{"$f":"'[2]Détail N°7'!$L$28","v":9},1]
[null,null,null,null,null,null,null,null,null,null,null,null,null,null,{"$f":"Traduction!$A$352","v":"Mardi"},"2018-01-23",21.7083333333333,2.6,{"$f":"'[2]Détail N°7'!$L$28","v":9},1]
[null,null,null,null,null,null,null,null,null,null,null,null,null,null,{"$f":"Traduction!$A$352","v":"Mardi"},"2018-01-23",21.75,1.9,{"$f":"'[2]Détail N°7'!$L$28","v":9},1]
[null,null,null,null,null,null,null,null,null,null,null,null,null,null,{"$f":"Traduction!$A$352","v":"Mardi"},"2018-01-23",21.7916666666667,1.9,{"$f":"'[2]Détail N°7'!$L$28","v":9},1]
[null,null,null,null,null,null,null,null,null,null,null,null,null,null,{"$f":"Traduction!$A$352","v":"Mardi"},"2018-01-23",21.8333333333333,2,{"$f":"'[2]Détail N°7'!$L$28","v":9},1]
[null,null,null,null,null,null,null,null,null,null,null,null,null,null,{"$f":"Traduction!$A$352","v":"Mardi"},"2018-01-23",21.875,2,{"$f":"'[2]Détail N°7'!$L$28","v":9},1]
[null,null,null,null,null,null,null,null,null,null,null,null,null,null,{"$f":"Traduction!$A$352","v":"Mardi"},"2018-01-23",21.9166666666667,2.1,{"$f":"'[2]Détail N°7'!$L$28","v":9},1]
[null,null,null,null,null,null,null,null,null,null,null,null,null,null,{"$f":"Traduction!$A$352","v":"Mardi"},"2018-01-23",21.9583333333333,2.1,{"$f":"'[2]Détail N°7'!$L$28","v":9},1]
[null,null,null,null,null,null,null,null,null,null,null,null,null,null,{"$f":"Traduction!$A$352","v":"Mardi"},"2018-01-23",22,2.2000000000000002,{"$f":"'[2]Détail N°7'!$L$28","v":9},1]
[null,null,null,null,null,null,null,null,null,null,null,null,null,null,{"$f":"Traduction!$A$353","v":"Mercredi"},"2018-01-24",22.0416666666667,2,{"$f":"'[2]Détail N°7'!$L$28","v":9},1]
[null,null,null,null,null,null,null,null,null,null,null,null,null,null,{"$f":"Traduction!$A$353","v":"Mercredi"},"2018-01-24",22.0833333333333,1.6,{"$f":"'[2]Détail N°7'!$L$28","v":9},1]
[null,null,null,null,null,null,null,null,null,null,null,null,null,null,{"$f":"Traduction!$A$353","v":"Mercredi"},"2018-01-24",22.125,1.3,{"$f":"'[2]Détail N°7'!$L$28","v":9},1]
[null,null,null,null,null,null,null,null,null,null,null,null,null,null,{"$f":"Traduction!$A$353","v":"Mercredi"},"2018-01-24",22.1666666666667,1.3,{"$f":"'[2]Détail N°7'!$L$28","v":9},1]
[null,null,null,null,null,null,null,null,null,null,null,null,null,null,{"$f":"Traduction!$A$353","v":"Mercredi"},"2018-01-24",22.2083333333333,1.2,{"$f":"'[2]Détail N°7'!$L$28","v":9},1]
[null,null,null,null,null,null,null,null,null,null,null,null,null,null,{"$f":"Traduction!$A$353","v":"Mercredi"},"2018-01-24",22.25,1,{"$f":"'[2]Détail N°7'!$L$28","v":9},1]
[null,null,null,null,null,null,null,null,null,null,null,null,null,null,{"$f":"Traduction!$A$353","v":"Mercredi"},"2018-01-24",22.2916666666667,0.9,{"$f":"'[2]Détail N°7'!$L$28","v":9},1]
[null,null,null,null,null,null,null,null,null,null,null,null,null,null,{"$f":"Traduction!$A$353","v":"Mercredi"},"2018-01-24",22.3333333333333,0.8,{"$f":"'[2]Détail N°7'!$L$28","v":9},1]
[null,null,null,null,null,null,null,null,null,null,null,null,null,null,{"$f":"Traduction!$A$353","v":"Mercredi"},"2018-01-24",22.375,0.9,{"$f":"'[2]Détail N°7'!$L$28","v":9},1]
[null,null,null,null,null,null,null,null,null,null,null,null,null,null,{"$f":"Traduction!$A$353","v":"Mercredi"},"2018-01-24",22.4166666666667,1.2,{"$f":"'[2]Détail N°7'!$L$28","v":9},1]
[null,null,null,null,null,null,null,null,null,null,null,null,null,null,{"$f":"Traduction!$A$353","v":"Mercredi"},"2018-01-24",22.4583333333333,1.4,{"$f":"'[2]Détail N°7'!$L$28","v":9},1]
[null,null,null,null,null,null,null,null,null,null,null,null,null,null,{"$f":"Traduction!$A$353","v":"Mercredi"},"2018-01-24",22.5,1.6,{"$f":"'[2]Détail N°7'!$L$28","v":9},1]
[null,null,null,null,null,null,null,null,null,null,null,null,null,null,{"$f":"Traduction!$A$353","v":"Mercredi"},"2018-01-24",22.5416666666667,1.7,{"$f":"'[2]Détail N°7'!$L$28","v":9},1]
[null,null,null,null,null,null,null,null,null,null,null,null,null,null,{"$f":"Traduction!$A$353","v":"Mercredi"},"2018-01-24",22.5833333333333,1.7,{"$f":"'[2]Détail N°7'!$L$28","v":9},1]
[null,null,null,null,null,null,null,null,null,null,null,null,null,null,{"$f":"Traduction!$A$353","v":"Mercredi"},"2018-01-24",22.625,1.7,{"$f":"'[2]Détail N°7'!$L$28","v":9},1]
[null,null,null,null,null,null,null,null,null,null,null,null,null,null,{"$f":"Traduction!$A$353","v":"Mercredi"},"2018-01-24",22.6666666666667,1.6,{"$f":"'[2]Détail N°7'!$L$28","v":9},1]
[null,null,null,null,null,null,null,null,null,null,null,null,null,null,{"$f":"Traduction!$A$353","v":"Mercredi"},"2018-01-24",22.7083333333333,1.5,{"$f":"'[2]Détail N°7'!$L$28","v":9},1]
[null,null,null,null,null,null,null,null,null,null,null,null,null,null,{"$f":"Traduction!$A$353","v":"Mercredi"},"2018-01-24",22.75,1.2,{"$f":"'[2]Détail N°7'!$L$28","v":9},1]
[null,null,null,null,null,null,null,null,null,null,null,null,null,null,{"$f":"Traduction!$A$353","v":"Mercredi"},"2018-01-24",22.7916666666667,0.9,{"$f":"'[2]Détail N°7'!$L$28","v":9},1]
[null,null,null,null,null,null,null,null,null,null,null,null,null,null,{"$f":"Traduction!$A$353","v":"Mercredi"},"2018-01-24",22.8333333333333,0.4,{"$f":"'[2]Détail N°7'!$L$28","v":9},1]
[null,null,null,null,null,null,null,null,null,null,null,null,null,null,{"$f":"Traduction!$A$353","v":"Mercredi"},"2018-01-24",22.875,1.1000000000000001,{"$f":"'[2]Détail N°7'!$L$28","v":9},1]
[null,null,null,null,null,null,null,null,null,null,null,null,null,null,{"$f":"Traduction!$A$353","v":"Mercredi"},"2018-01-24",22.9166666666667,1,{"$f":"'[2]Détail N°7'!$L$28","v":9},1]
[null,null,null,null,null,null,null,null,null,null,null,null,null,null,{"$f":"Traduction!$A$353","v":"Mercredi"},"2018-01-24",22.9583333333333,0.9,{"$f":"'[2]Détail N°7'!$L$28","v":9},1]
[null,null,null,null,null,null,null,null,null,null,null,null,null,null,{"$f":"Traduction!$A$353","v":"Mercredi"},"2018-01-24",23,0.8,{"$f":"'[2]Détail N°7'!$L$28","v":9},1]
[null,null,null,null,null,null,null,null,null,null,null,null,null,null,{"$f":"Traduction!$A$354","v":"Jeudi"},"2018-01-25",23.0416666666667,0.9,{"$f":"'[2]Détail N°7'!$L$28","v":9},1]
[null,null,null,null,null,null,null,null,null,null,null,null,null,null,{"$f":"Traduction!$A$354","v":"Jeudi"},"2018-01-25",23.0833333333333,0.9,{"$f":"'[2]Détail N°7'!$L$28","v":9},{"$f":"IF(R919<=S919,1,0)","v":1}]
[null,null,null,null,null,null,null,null,null,null,null,null,null,null,{"$f":"Traduction!$A$354","v":"Jeudi"},"2018-01-25",23.125,1,{"$f":"'[2]Détail N°7'!$L$28","v":9},1]
[null,null,null,null,null,null,null,null,null,null,null,null,null,null,{"$f":"Traduction!$A$354","v":"Jeudi"},"2018-01-25",23.1666666666667,1,{"$f":"'[2]Détail N°7'!$L$28","v":9},1]
[null,null,null,null,null,null,null,null,null,null,null,null,null,null,{"$f":"Traduction!$A$354","v":"Jeudi"},"2018-01-25",23.2083333333333,1,{"$f":"'[2]Détail N°7'!$L$28","v":9},1]
[null,null,null,null,null,null,null,null,null,null,null,null,null,null,{"$f":"Traduction!$A$354","v":"Jeudi"},"2018-01-25",23.25,1.1000000000000001,{"$f":"'[2]Détail N°7'!$L$28","v":9},1]
[null,null,null,null,null,null,null,null,null,null,null,null,null,null,{"$f":"Traduction!$A$354","v":"Jeudi"},"2018-01-25",23.2916666666667,1.1000000000000001,{"$f":"'[2]Détail N°7'!$L$28","v":9},1]
[null,null,null,null,null,null,null,null,null,null,null,null,null,null,{"$f":"Traduction!$A$354","v":"Jeudi"},"2018-01-25",23.3333333333333,1.1000000000000001,{"$f":"'[2]Détail N°7'!$L$28","v":9},1]
[null,null,null,null,null,null,null,null,null,null,null,null,null,null,{"$f":"Traduction!$A$354","v":"Jeudi"},"2018-01-25",23.375,1.4,{"$f":"'[2]Détail N°7'!$L$28","v":9},1]
[null,null,null,null,null,null,null,null,null,null,null,null,null,null,{"$f":"Traduction!$A$354","v":"Jeudi"},"2018-01-25",23.4166666666667,2.8,{"$f":"'[2]Détail N°7'!$L$28","v":9},1]
[null,null,null,null,null,null,null,null,null,null,null,null,null,null,{"$f":"Traduction!$A$354","v":"Jeudi"},"2018-01-25",23.4583333333333,4.4000000000000004,{"$f":"'[2]Détail N°7'!$L$28","v":9},1]
[null,null,null,null,null,null,null,null,null,null,null,null,null,null,{"$f":"Traduction!$A$354","v":"Jeudi"},"2018-01-25",23.5,5.3,{"$f":"'[2]Détail N°7'!$L$28","v":9},1]
[null,null,null,null,null,null,null,null,null,null,null,null,null,null,{"$f":"Traduction!$A$354","v":"Jeudi"},"2018-01-25",23.5416666666667,5.4,{"$f":"'[2]Détail N°7'!$L$28","v":9},1]
[null,null,null,null,null,null,null,null,null,null,null,null,null,null,{"$f":"Traduction!$A$354","v":"Jeudi"},"2018-01-25",23.5833333333333,5.3,{"$f":"'[2]Détail N°7'!$L$28","v":9},1]
[null,null,null,null,null,null,null,null,null,null,null,null,null,null,{"$f":"Traduction!$A$354","v":"Jeudi"},"2018-01-25",23.625,5.0999999999999996,{"$f":"'[2]Détail N°7'!$L$28","v":9},1]
[null,null,null,null,null,null,null,null,null,null,null,null,null,null,{"$f":"Traduction!$A$354","v":"Jeudi"},"2018-01-25",23.6666666666667,4.4000000000000004,{"$f":"'[2]Détail N°7'!$L$28","v":9},1]
[null,null,null,null,null,null,null,null,null,null,null,null,null,null,{"$f":"Traduction!$A$354","v":"Jeudi"},"2018-01-25",23.7083333333333,3.8,{"$f":"'[2]Détail N°7'!$L$28","v":9},1]
[null,null,null,null,null,null,null,null,null,null,null,null,null,null,{"$f":"Traduction!$A$354","v":"Jeudi"},"2018-01-25",23.75,3.2,{"$f":"'[2]Détail N°7'!$L$28","v":9},1]
[null,null,null,null,null,null,null,null,null,null,null,null,null,null,{"$f":"Traduction!$A$354","v":"Jeudi"},"2018-01-25",23.7916666666667,3.7,{"$f":"'[2]Détail N°7'!$L$28","v":9},1]
[null,null,null,null,null,null,null,null,null,null,null,null,null,null,{"$f":"Traduction!$A$354","v":"Jeudi"},"2018-01-25",23.8333333333333,4.0999999999999996,{"$f":"'[2]Détail N°7'!$L$28","v":9},1]
[null,null,null,null,null,null,null,null,null,null,null,null,null,null,{"$f":"Traduction!$A$354","v":"Jeudi"},"2018-01-25",23.875,4.5999999999999996,{"$f":"'[2]Détail N°7'!$L$28","v":9},1]
[null,null,null,null,null,null,null,null,null,null,null,null,null,null,{"$f":"Traduction!$A$354","v":"Jeudi"},"2018-01-25",23.9166666666667,5,{"$f":"'[2]Détail N°7'!$L$28","v":9},1]
[null,null,null,null,null,null,null,null,null,null,null,null,null,null,{"$f":"Traduction!$A$354","v":"Jeudi"},"2018-01-25",23.9583333333333,5.5,{"$f":"'[2]Détail N°7'!$L$28","v":9},1]
[null,null,null,null,null,null,null,null,null,null,null,null,null,null,{"$f":"Traduction!$A$354","v":"Jeudi"},"2018-01-25",24,5.9,{"$f":"'[2]Détail N°7'!$L$28","v":9},1]
[null,null,null,null,null,null,null,null,null,null,null,null,null,null,{"$f":"Traduction!$A$355","v":"Vendredi"},"2018-01-26",24.0416666666667,5.9,{"$f":"'[2]Détail N°7'!$L$28","v":9},1]
[null,null,null,null,null,null,null,null,null,null,null,null,null,null,{"$f":"Traduction!$A$355","v":"Vendredi"},"2018-01-26",24.0833333333333,5.9,{"$f":"'[2]Détail N°7'!$L$28","v":9},1]
[null,null,null,null,null,null,null,null,null,null,null,null,null,null,{"$f":"Traduction!$A$355","v":"Vendredi"},"2018-01-26",24.125,5.9,{"$f":"'[2]Détail N°7'!$L$28","v":9},1]
[null,null,null,null,null,null,null,null,null,null,null,null,null,null,{"$f":"Traduction!$A$355","v":"Vendredi"},"2018-01-26",24.1666666666667,6,{"$f":"'[2]Détail N°7'!$L$28","v":9},1]
[null,null,null,null,null,null,null,null,null,null,null,null,null,null,{"$f":"Traduction!$A$355","v":"Vendredi"},"2018-01-26",24.2083333333333,6,{"$f":"'[2]Détail N°7'!$L$28","v":9},1]
[null,null,null,null,null,null,null,null,null,null,null,null,null,null,{"$f":"Traduction!$A$355","v":"Vendredi"},"2018-01-26",24.25,6,{"$f":"'[2]Détail N°7'!$L$28","v":9},1]
[null,null,null,null,null,null,null,null,null,null,null,null,null,null,{"$f":"Traduction!$A$355","v":"Vendredi"},"2018-01-26",24.2916666666667,6.1,{"$f":"'[2]Détail N°7'!$L$28","v":9},1]
[null,null,null,null,null,null,null,null,null,null,null,null,null,null,{"$f":"Traduction!$A$355","v":"Vendredi"},"2018-01-26",24.3333333333333,6.1,{"$f":"'[2]Détail N°7'!$L$28","v":9},1]
[null,null,null,null,null,null,null,null,null,null,null,null,null,null,{"$f":"Traduction!$A$355","v":"Vendredi"},"2018-01-26",24.375,6.3,{"$f":"'[2]Détail N°7'!$L$28","v":9},1]
[null,null,null,null,null,null,null,null,null,null,null,null,null,null,{"$f":"Traduction!$A$355","v":"Vendredi"},"2018-01-26",24.4166666666667,6.7,{"$f":"'[2]Détail N°7'!$L$28","v":9},1]
[null,null,null,null,null,null,null,null,null,null,null,null,null,null,{"$f":"Traduction!$A$355","v":"Vendredi"},"2018-01-26",24.4583333333333,6.9,{"$f":"'[2]Détail N°7'!$L$28","v":9},1]
[null,null,null,null,null,null,null,null,null,null,null,null,null,null,{"$f":"Traduction!$A$355","v":"Vendredi"},"2018-01-26",24.5,7.1,{"$f":"'[2]Détail N°7'!$L$28","v":9},1]
[null,null,null,null,null,null,null,null,null,null,null,null,null,null,{"$f":"Traduction!$A$355","v":"Vendredi"},"2018-01-26",24.5416666666667,7.3,{"$f":"'[2]Détail N°7'!$L$28","v":9},1]
[null,null,null,null,null,null,null,null,null,null,null,null,null,null,{"$f":"Traduction!$A$355","v":"Vendredi"},"2018-01-26",24.5833333333333,8.6999999999999993,{"$f":"'[2]Détail N°7'!$L$28","v":9},1]
[null,null,null,null,null,null,null,null,null,null,null,null,null,null,{"$f":"Traduction!$A$355","v":"Vendredi"},"2018-01-26",24.625,9.8000000000000007,{"$f":"'[2]Détail N°7'!$L$28","v":9},0]
[null,null,null,null,null,null,null,null,null,null,null,null,null,null,{"$f":"Traduction!$A$355","v":"Vendredi"},"2018-01-26",24.6666666666667,10.4,{"$f":"'[2]Détail N°7'!$L$28","v":9},0]
[null,null,null,null,null,null,null,null,null,null,null,null,null,null,{"$f":"Traduction!$A$355","v":"Vendredi"},"2018-01-26",24.7083333333333,10.5,{"$f":"'[2]Détail N°7'!$L$28","v":9},0]
[null,null,null,null,null,null,null,null,null,null,null,null,null,null,{"$f":"Traduction!$A$355","v":"Vendredi"},"2018-01-26",24.75,9.9,{"$f":"'[2]Détail N°7'!$L$28","v":9},0]
[null,null,null,null,null,null,null,null,null,null,null,null,null,null,{"$f":"Traduction!$A$355","v":"Vendredi"},"2018-01-26",24.7916666666667,9.6,{"$f":"'[2]Détail N°7'!$L$28","v":9},0]
[null,null,null,null,null,null,null,null,null,null,null,null,null,null,{"$f":"Traduction!$A$355","v":"Vendredi"},"2018-01-26",24.8333333333333,9.4,{"$f":"'[2]Détail N°7'!$L$28","v":9},0]
[null,null,null,null,null,null,null,null,null,null,null,null,null,null,{"$f":"Traduction!$A$355","v":"Vendredi"},"2018-01-26",24.875,9.1,{"$f":"'[2]Détail N°7'!$L$28","v":9},0]
[null,null,null,null,null,null,null,null,null,null,null,null,null,null,{"$f":"Traduction!$A$355","v":"Vendredi"},"2018-01-26",24.9166666666667,8.8000000000000007,{"$f":"'[2]Détail N°7'!$L$28","v":9},1]
[null,null,null,null,null,null,null,null,null,null,null,null,null,null,{"$f":"Traduction!$A$355","v":"Vendredi"},"2018-01-26",24.9583333333333,8.6,{"$f":"'[2]Détail N°7'!$L$28","v":9},1]
[null,null,null,null,null,null,null,null,null,null,null,null,null,null,{"$f":"Traduction!$A$355","v":"Vendredi"},"2018-01-26",25,8.3000000000000007,{"$f":"'[2]Détail N°7'!$L$28","v":9},1]
[null,null,null,null,null,null,null,null,null,null,null,null,null,null,{"$f":"Traduction!$A$356","v":"Samedi"},"2018-01-27",25.0416666666667,7.9,{"$f":"'[2]Détail N°7'!$L$28","v":9},1]
[null,null,null,null,null,null,null,null,null,null,null,null,null,null,{"$f":"Traduction!$A$356","v":"Samedi"},"2018-01-27",25.0833333333333,7.4,{"$f":"'[2]Détail N°7'!$L$28","v":9},1]
[null,null,null,null,null,null,null,null,null,null,null,null,null,null,{"$f":"Traduction!$A$356","v":"Samedi"},"2018-01-27",25.125,6.9,{"$f":"'[2]Détail N°7'!$L$28","v":9},1]
[null,null,null,null,null,null,null,null,null,null,null,null,null,null,{"$f":"Traduction!$A$356","v":"Samedi"},"2018-01-27",25.1666666666667,6.6,{"$f":"'[2]Détail N°7'!$L$28","v":9},1]
[null,null,null,null,null,null,null,null,null,null,null,null,null,null,{"$f":"Traduction!$A$356","v":"Samedi"},"2018-01-27",25.2083333333333,6.4,{"$f":"'[2]Détail N°7'!$L$28","v":9},1]
[null,null,null,null,null,null,null,null,null,null,null,null,null,null,{"$f":"Traduction!$A$356","v":"Samedi"},"2018-01-27",25.25,6.1,{"$f":"'[2]Détail N°7'!$L$28","v":9},1]
[null,null,null,null,null,null,null,null,null,null,null,null,null,null,{"$f":"Traduction!$A$356","v":"Samedi"},"2018-01-27",25.2916666666667,5.9,{"$f":"'[2]Détail N°7'!$L$28","v":9},1]
[null,null,null,null,null,null,null,null,null,null,null,null,null,null,{"$f":"Traduction!$A$356","v":"Samedi"},"2018-01-27",25.3333333333333,5.7,{"$f":"'[2]Détail N°7'!$L$28","v":9},1]
[null,null,null,null,null,null,null,null,null,null,null,null,null,null,{"$f":"Traduction!$A$356","v":"Samedi"},"2018-01-27",25.375,5.8,{"$f":"'[2]Détail N°7'!$L$28","v":9},1]
[null,null,null,null,null,null,null,null,null,null,null,null,null,null,{"$f":"Traduction!$A$356","v":"Samedi"},"2018-01-27",25.4166666666667,6.1,{"$f":"'[2]Détail N°7'!$L$28","v":9},1]
[null,null,null,null,null,null,null,null,null,null,null,null,null,null,{"$f":"Traduction!$A$356","v":"Samedi"},"2018-01-27",25.4583333333333,6,{"$f":"'[2]Détail N°7'!$L$28","v":9},1]
[null,null,null,null,null,null,null,null,null,null,null,null,null,null,{"$f":"Traduction!$A$356","v":"Samedi"},"2018-01-27",25.5,6.6,{"$f":"'[2]Détail N°7'!$L$28","v":9},1]
[null,null,null,null,null,null,null,null,null,null,null,null,null,null,{"$f":"Traduction!$A$356","v":"Samedi"},"2018-01-27",25.5416666666667,6.9,{"$f":"'[2]Détail N°7'!$L$28","v":9},1]
[null,null,null,null,null,null,null,null,null,null,null,null,null,null,{"$f":"Traduction!$A$356","v":"Samedi"},"2018-01-27",25.5833333333333,6.9,{"$f":"'[2]Détail N°7'!$L$28","v":9},1]
[null,null,null,null,null,null,null,null,null,null,null,null,null,null,{"$f":"Traduction!$A$356","v":"Samedi"},"2018-01-27",25.625,6.8,{"$f":"'[2]Détail N°7'!$L$28","v":9},1]
[null,null,null,null,null,null,null,null,null,null,null,null,null,null,{"$f":"Traduction!$A$356","v":"Samedi"},"2018-01-27",25.6666666666667,6.8,{"$f":"'[2]Détail N°7'!$L$28","v":9},1]
[null,null,null,null,null,null,null,null,null,null,null,null,null,null,{"$f":"Traduction!$A$356","v":"Samedi"},"2018-01-27",25.7083333333333,6.4,{"$f":"'[2]Détail N°7'!$L$28","v":9},1]
[null,null,null,null,null,null,null,null,null,null,null,null,null,null,{"$f":"Traduction!$A$356","v":"Samedi"},"2018-01-27",25.75,6.3,{"$f":"'[2]Détail N°7'!$L$28","v":9},{"$f":"IF(R983<=S983,1,0)","v":1}]
[null,null,null,null,null,null,null,null,null,null,null,null,null,null,{"$f":"Traduction!$A$356","v":"Samedi"},"2018-01-27",25.7916666666667,5.9,{"$f":"'[2]Détail N°7'!$L$28","v":9},1]
[null,null,null,null,null,null,null,null,null,null,null,null,null,null,{"$f":"Traduction!$A$356","v":"Samedi"},"2018-01-27",25.8333333333333,5.5,{"$f":"'[2]Détail N°7'!$L$28","v":9},1]
[null,null,null,null,null,null,null,null,null,null,null,null,null,null,{"$f":"Traduction!$A$356","v":"Samedi"},"2018-01-27",25.875,5.0999999999999996,{"$f":"'[2]Détail N°7'!$L$28","v":9},1]
[null,null,null,null,null,null,null,null,null,null,null,null,null,null,{"$f":"Traduction!$A$356","v":"Samedi"},"2018-01-27",25.9166666666667,4.7,{"$f":"'[2]Détail N°7'!$L$28","v":9},1]
[null,null,null,null,null,null,null,null,null,null,null,null,null,null,{"$f":"Traduction!$A$356","v":"Samedi"},"2018-01-27",25.9583333333333,4.2,{"$f":"'[2]Détail N°7'!$L$28","v":9},1]
[null,null,null,null,null,null,null,null,null,null,null,null,null,null,{"$f":"Traduction!$A$356","v":"Samedi"},"2018-01-27",26,3.8,{"$f":"'[2]Détail N°7'!$L$28","v":9},1]
[null,null,null,null,null,null,null,null,null,null,null,null,null,null,{"$f":"Traduction!$A$357","v":"Dimanche"},"2018-01-28",26.0416666666667,3.2,{"$f":"'[2]Détail N°7'!$L$28","v":9},1]
[null,null,null,null,null,null,null,null,null,null,null,null,null,null,{"$f":"Traduction!$A$357","v":"Dimanche"},"2018-01-28",26.0833333333333,3.1,{"$f":"'[2]Détail N°7'!$L$28","v":9},1]
[null,null,null,null,null,null,null,null,null,null,null,null,null,null,{"$f":"Traduction!$A$357","v":"Dimanche"},"2018-01-28",26.125,2.8,{"$f":"'[2]Détail N°7'!$L$28","v":9},1]
[null,null,null,null,null,null,null,null,null,null,null,null,null,null,{"$f":"Traduction!$A$357","v":"Dimanche"},"2018-01-28",26.1666666666667,2.6,{"$f":"'[2]Détail N°7'!$L$28","v":9},1]
[null,null,null,null,null,null,null,null,null,null,null,null,null,null,{"$f":"Traduction!$A$357","v":"Dimanche"},"2018-01-28",26.2083333333333,2.4,{"$f":"'[2]Détail N°7'!$L$28","v":9},1]
[null,null,null,null,null,null,null,null,null,null,null,null,null,null,{"$f":"Traduction!$A$357","v":"Dimanche"},"2018-01-28",26.25,2.2000000000000002,{"$f":"'[2]Détail N°7'!$L$28","v":9},1]
[null,null,null,null,null,null,null,null,null,null,null,null,null,null,{"$f":"Traduction!$A$357","v":"Dimanche"},"2018-01-28",26.2916666666667,2.1,{"$f":"'[2]Détail N°7'!$L$28","v":9},1]
[null,null,null,null,null,null,null,null,null,null,null,null,null,null,{"$f":"Traduction!$A$357","v":"Dimanche"},"2018-01-28",26.3333333333333,1.9,{"$f":"'[2]Détail N°7'!$L$28","v":9},1]
[null,null,null,null,null,null,null,null,null,null,null,null,null,null,{"$f":"Traduction!$A$357","v":"Dimanche"},"2018-01-28",26.375,2.1,{"$f":"'[2]Détail N°7'!$L$28","v":9},1]
[null,null,null,null,null,null,null,null,null,null,null,null,null,null,{"$f":"Traduction!$A$357","v":"Dimanche"},"2018-01-28",26.4166666666667,2.7,{"$f":"'[2]Détail N°7'!$L$28","v":9},1]
[null,null,null,null,null,null,null,null,null,null,null,null,null,null,{"$f":"Traduction!$A$357","v":"Dimanche"},"2018-01-28",26.4583333333333,3.2,{"$f":"'[2]Détail N°7'!$L$28","v":9},1]
[null,null,null,null,null,null,null,null,null,null,null,null,null,null,{"$f":"Traduction!$A$357","v":"Dimanche"},"2018-01-28",26.5,3.5,{"$f":"'[2]Détail N°7'!$L$28","v":9},1]
[null,null,null,null,null,null,null,null,null,null,null,null,null,null,{"$f":"Traduction!$A$357","v":"Dimanche"},"2018-01-28",26.5416666666667,3.8,{"$f":"'[2]Détail N°7'!$L$28","v":9},1]
[null,null,null,null,null,null,null,null,null,null,null,null,null,null,{"$f":"Traduction!$A$357","v":"Dimanche"},"2018-01-28",26.5833333333333,3.8,{"$f":"'[2]Détail N°7'!$L$28","v":9},1]
[null,null,null,null,null,null,null,null,null,null,null,null,null,null,{"$f":"Traduction!$A$357","v":"Dimanche"},"2018-01-28",26.625,3.8,{"$f":"'[2]Détail N°7'!$L$28","v":9},1]
[null,null,null,null,null,null,null,null,null,null,null,null,null,null,{"$f":"Traduction!$A$357","v":"Dimanche"},"2018-01-28",26.6666666666667,3.6,{"$f":"'[2]Détail N°7'!$L$28","v":9},1]
[null,null,null,null,null,null,null,null,null,null,null,null,null,null,{"$f":"Traduction!$A$357","v":"Dimanche"},"2018-01-28",26.7083333333333,3.3,{"$f":"'[2]Détail N°7'!$L$28","v":9},1]
[null,null,null,null,null,null,null,null,null,null,null,null,null,null,{"$f":"Traduction!$A$357","v":"Dimanche"},"2018-01-28",26.75,3,{"$f":"'[2]Détail N°7'!$L$28","v":9},1]
[null,null,null,null,null,null,null,null,null,null,null,null,null,null,{"$f":"Traduction!$A$357","v":"Dimanche"},"2018-01-28",26.7916666666667,2.6,{"$f":"'[2]Détail N°7'!$L$28","v":9},1]
[null,null,null,null,null,null,null,null,null,null,null,null,null,null,{"$f":"Traduction!$A$357","v":"Dimanche"},"2018-01-28",26.8333333333333,2.2000000000000002,{"$f":"'[2]Détail N°7'!$L$28","v":9},1]
[null,null,null,null,null,null,null,null,null,null,null,null,null,null,{"$f":"Traduction!$A$357","v":"Dimanche"},"2018-01-28",26.875,1.8,{"$f":"'[2]Détail N°7'!$L$28","v":9},1]
[null,null,null,null,null,null,null,null,null,null,null,null,null,null,{"$f":"Traduction!$A$357","v":"Dimanche"},"2018-01-28",26.9166666666667,1.4,{"$f":"'[2]Détail N°7'!$L$28","v":9},1]
[null,null,null,null,null,null,null,null,null,null,null,null,null,null,{"$f":"Traduction!$A$357","v":"Dimanche"},"2018-01-28",26.9583333333333,1,{"$f":"'[2]Détail N°7'!$L$28","v":9},1]
[null,null,null,null,null,null,null,null,null,null,null,null,null,null,{"$f":"Traduction!$A$357","v":"Dimanche"},"2018-01-28",27,0.6,{"$f":"'[2]Détail N°7'!$L$28","v":9},1]
[null,null,null,null,null,null,null,null,null,null,null,null,null,null,{"$f":"Traduction!$A$351","v":"Lundi "},"2018-01-29",27.0416666666667,0.2,{"$f":"'[2]Détail N°7'!$L$28","v":9},1]
[null,null,null,null,null,null,null,null,null,null,null,null,null,null,{"$f":"Traduction!$A$351","v":"Lundi "},"2018-01-29",27.0833333333333,-0.2,{"$f":"'[2]Détail N°7'!$L$28","v":9},1]
[null,null,null,null,null,null,null,null,null,null,null,null,null,null,{"$f":"Traduction!$A$351","v":"Lundi "},"2018-01-29",27.125,-0.8,{"$f":"'[2]Détail N°7'!$L$28","v":9},1]
[null,null,null,null,null,null,null,null,null,null,null,null,null,null,{"$f":"Traduction!$A$351","v":"Lundi "},"2018-01-29",27.1666666666667,-1,{"$f":"'[2]Détail N°7'!$L$28","v":9},1]
[null,null,null,null,null,null,null,null,null,null,null,null,null,null,{"$f":"Traduction!$A$351","v":"Lundi "},"2018-01-29",27.2083333333333,-1.2,{"$f":"'[2]Détail N°7'!$L$28","v":9},1]
[null,null,null,null,null,null,null,null,null,null,null,null,null,null,{"$f":"Traduction!$A$351","v":"Lundi "},"2018-01-29",27.25,-1.5,{"$f":"'[2]Détail N°7'!$L$28","v":9},1]
[null,null,null,null,null,null,null,null,null,null,null,null,null,null,{"$f":"Traduction!$A$351","v":"Lundi "},"2018-01-29",27.2916666666667,-1.6,{"$f":"'[2]Détail N°7'!$L$28","v":9},1]
[null,null,null,null,null,null,null,null,null,null,null,null,null,null,{"$f":"Traduction!$A$351","v":"Lundi "},"2018-01-29",27.3333333333333,-1.8,{"$f":"'[2]Détail N°7'!$L$28","v":9},1]
[null,null,null,null,null,null,null,null,null,null,null,null,null,null,{"$f":"Traduction!$A$351","v":"Lundi "},"2018-01-29",27.375,-1.8,{"$f":"'[2]Détail N°7'!$L$28","v":9},1]
[null,null,null,null,null,null,null,null,null,null,null,null,null,null,{"$f":"Traduction!$A$351","v":"Lundi "},"2018-01-29",27.4166666666667,-1.6,{"$f":"'[2]Détail N°7'!$L$28","v":9},1]
[null,null,null,null,null,null,null,null,null,null,null,null,null,null,{"$f":"Traduction!$A$351","v":"Lundi "},"2018-01-29",27.4583333333333,-1.5,{"$f":"'[2]Détail N°7'!$L$28","v":9},1]
[null,null,null,null,null,null,null,null,null,null,null,null,null,null,{"$f":"Traduction!$A$351","v":"Lundi "},"2018-01-29",27.5,-1.4,{"$f":"'[2]Détail N°7'!$L$28","v":9},1]
[null,null,null,null,null,null,null,null,null,null,null,null,null,null,{"$f":"Traduction!$A$351","v":"Lundi "},"2018-01-29",27.5416666666667,-1.3,{"$f":"'[2]Détail N°7'!$L$28","v":9},1]
[null,null,null,null,null,null,null,null,null,null,null,null,null,null,{"$f":"Traduction!$A$351","v":"Lundi "},"2018-01-29",27.5833333333333,-0.1,{"$f":"'[2]Détail N°7'!$L$28","v":9},1]
[null,null,null,null,null,null,null,null,null,null,null,null,null,null,{"$f":"Traduction!$A$351","v":"Lundi "},"2018-01-29",27.625,0.5,{"$f":"'[2]Détail N°7'!$L$28","v":9},1]
[null,null,null,null,null,null,null,null,null,null,null,null,null,null,{"$f":"Traduction!$A$351","v":"Lundi "},"2018-01-29",27.6666666666667,0.7,{"$f":"'[2]Détail N°7'!$L$28","v":9},1]
[null,null,null,null,null,null,null,null,null,null,null,null,null,null,{"$f":"Traduction!$A$351","v":"Lundi "},"2018-01-29",27.7083333333333,0.5,{"$f":"'[2]Détail N°7'!$L$28","v":9},1]
[null,null,null,null,null,null,null,null,null,null,null,null,null,null,{"$f":"Traduction!$A$351","v":"Lundi "},"2018-01-29",27.75,0,{"$f":"'[2]Détail N°7'!$L$28","v":9},1]
[null,null,null,null,null,null,null,null,null,null,null,null,null,null,{"$f":"Traduction!$A$351","v":"Lundi "},"2018-01-29",27.7916666666667,-0.1,{"$f":"'[2]Détail N°7'!$L$28","v":9},1]
[null,null,null,null,null,null,null,null,null,null,null,null,null,null,{"$f":"Traduction!$A$351","v":"Lundi "},"2018-01-29",27.8333333333333,-0.3,{"$f":"'[2]Détail N°7'!$L$28","v":9},1]
[null,null,null,null,null,null,null,null,null,null,null,null,null,null,{"$f":"Traduction!$A$351","v":"Lundi "},"2018-01-29",27.875,-0.4,{"$f":"'[2]Détail N°7'!$L$28","v":9},1]
[null,null,null,null,null,null,null,null,null,null,null,null,null,null,{"$f":"Traduction!$A$351","v":"Lundi "},"2018-01-29",27.9166666666667,-0.6,{"$f":"'[2]Détail N°7'!$L$28","v":9},1]
[null,null,null,null,null,null,null,null,null,null,null,null,null,null,{"$f":"Traduction!$A$351","v":"Lundi "},"2018-01-29",27.9583333333333,-0.7,{"$f":"'[2]Détail N°7'!$L$28","v":9},1]
[null,null,null,null,null,null,null,null,null,null,null,null,null,null,{"$f":"Traduction!$A$351","v":"Lundi "},"2018-01-29",28,-0.8,{"$f":"'[2]Détail N°7'!$L$28","v":9},1]
[null,null,null,null,null,null,null,null,null,null,null,null,null,null,{"$f":"Traduction!$A$352","v":"Mardi"},"2018-01-30",28.0416666666667,-0.8,{"$f":"'[2]Détail N°7'!$L$28","v":9},1]
[null,null,null,null,null,null,null,null,null,null,null,null,null,null,{"$f":"Traduction!$A$352","v":"Mardi"},"2018-01-30",28.0833333333333,-0.8,{"$f":"'[2]Détail N°7'!$L$28","v":9},1]
[null,null,null,null,null,null,null,null,null,null,null,null,null,null,{"$f":"Traduction!$A$352","v":"Mardi"},"2018-01-30",28.125,-0.8,{"$f":"'[2]Détail N°7'!$L$28","v":9},1]
[null,null,null,null,null,null,null,null,null,null,null,null,null,null,{"$f":"Traduction!$A$352","v":"Mardi"},"2018-01-30",28.1666666666667,-0.7,{"$f":"'[2]Détail N°7'!$L$28","v":9},1]
[null,null,null,null,null,null,null,null,null,null,null,null,null,null,{"$f":"Traduction!$A$352","v":"Mardi"},"2018-01-30",28.2083333333333,-0.7,{"$f":"'[2]Détail N°7'!$L$28","v":9},1]
[null,null,null,null,null,null,null,null,null,null,null,null,null,null,{"$f":"Traduction!$A$352","v":"Mardi"},"2018-01-30",28.25,-0.7,{"$f":"'[2]Détail N°7'!$L$28","v":9},1]
[null,null,null,null,null,null,null,null,null,null,null,null,null,null,{"$f":"Traduction!$A$352","v":"Mardi"},"2018-01-30",28.2916666666667,-0.6,{"$f":"'[2]Détail N°7'!$L$28","v":9},1]
[null,null,null,null,null,null,null,null,null,null,null,null,null,null,{"$f":"Traduction!$A$352","v":"Mardi"},"2018-01-30",28.3333333333333,-0.6,{"$f":"'[2]Détail N°7'!$L$28","v":9},1]
[null,null,null,null,null,null,null,null,null,null,null,null,null,null,{"$f":"Traduction!$A$352","v":"Mardi"},"2018-01-30",28.375,-0.4,{"$f":"'[2]Détail N°7'!$L$28","v":9},1]
[null,null,null,null,null,null,null,null,null,null,null,null,null,null,{"$f":"Traduction!$A$352","v":"Mardi"},"2018-01-30",28.4166666666667,0.3,{"$f":"'[2]Détail N°7'!$L$28","v":9},{"$f":"IF(R1047<=S1047,1,0)","v":1}]
[null,null,null,null,null,null,null,null,null,null,null,null,null,null,{"$f":"Traduction!$A$352","v":"Mardi"},"2018-01-30",28.4583333333333,0.8,{"$f":"'[2]Détail N°7'!$L$28","v":9},1]
[null,null,null,null,null,null,null,null,null,null,null,null,null,null,{"$f":"Traduction!$A$352","v":"Mardi"},"2018-01-30",28.5,1.2,{"$f":"'[2]Détail N°7'!$L$28","v":9},1]
[null,null,null,null,null,null,null,null,null,null,null,null,null,null,{"$f":"Traduction!$A$352","v":"Mardi"},"2018-01-30",28.5416666666667,1.4,{"$f":"'[2]Détail N°7'!$L$28","v":9},1]
[null,null,null,null,null,null,null,null,null,null,null,null,null,null,{"$f":"Traduction!$A$352","v":"Mardi"},"2018-01-30",28.5833333333333,3.2,{"$f":"'[2]Détail N°7'!$L$28","v":9},1]
[null,null,null,null,null,null,null,null,null,null,null,null,null,null,{"$f":"Traduction!$A$352","v":"Mardi"},"2018-01-30",28.625,4.3,{"$f":"'[2]Détail N°7'!$L$28","v":9},1]
[null,null,null,null,null,null,null,null,null,null,null,null,null,null,{"$f":"Traduction!$A$352","v":"Mardi"},"2018-01-30",28.6666666666667,4.7,{"$f":"'[2]Détail N°7'!$L$28","v":9},1]
[null,null,null,null,null,null,null,null,null,null,null,null,null,null,{"$f":"Traduction!$A$352","v":"Mardi"},"2018-01-30",28.7083333333333,4.4000000000000004,{"$f":"'[2]Détail N°7'!$L$28","v":9},1]
[null,null,null,null,null,null,null,null,null,null,null,null,null,null,{"$f":"Traduction!$A$352","v":"Mardi"},"2018-01-30",28.75,3.6,{"$f":"'[2]Détail N°7'!$L$28","v":9},1]
[null,null,null,null,null,null,null,null,null,null,null,null,null,null,{"$f":"Traduction!$A$352","v":"Mardi"},"2018-01-30",28.7916666666667,3.6,{"$f":"'[2]Détail N°7'!$L$28","v":9},1]
[null,null,null,null,null,null,null,null,null,null,null,null,null,null,{"$f":"Traduction!$A$352","v":"Mardi"},"2018-01-30",28.8333333333333,3.7,{"$f":"'[2]Détail N°7'!$L$28","v":9},1]
[null,null,null,null,null,null,null,null,null,null,null,null,null,null,{"$f":"Traduction!$A$352","v":"Mardi"},"2018-01-30",28.875,3.7,{"$f":"'[2]Détail N°7'!$L$28","v":9},1]
[null,null,null,null,null,null,null,null,null,null,null,null,null,null,{"$f":"Traduction!$A$352","v":"Mardi"},"2018-01-30",28.9166666666667,3.8,{"$f":"'[2]Détail N°7'!$L$28","v":9},1]
[null,null,null,null,null,null,null,null,null,null,null,null,null,null,{"$f":"Traduction!$A$352","v":"Mardi"},"2018-01-30",28.9583333333333,3.8,{"$f":"'[2]Détail N°7'!$L$28","v":9},1]
[null,null,null,null,null,null,null,null,null,null,null,null,null,null,{"$f":"Traduction!$A$352","v":"Mardi"},"2018-01-30",29,3.9,{"$f":"'[2]Détail N°7'!$L$28","v":9},1]
[null,null,null,null,null,null,null,null,null,null,null,null,null,null,{"$f":"Traduction!$A$353","v":"Mercredi"},"2018-01-31",29.0416666666667,3.8,{"$f":"'[2]Détail N°7'!$L$28","v":9},1]
[null,null,null,null,null,null,null,null,null,null,null,null,null,null,{"$f":"Traduction!$A$353","v":"Mercredi"},"2018-01-31",29.0833333333333,3.7,{"$f":"'[2]Détail N°7'!$L$28","v":9},1]
[null,null,null,null,null,null,null,null,null,null,null,null,null,null,{"$f":"Traduction!$A$353","v":"Mercredi"},"2018-01-31",29.125,3.5,{"$f":"'[2]Détail N°7'!$L$28","v":9},1]
[null,null,null,null,null,null,null,null,null,null,null,null,null,null,{"$f":"Traduction!$A$353","v":"Mercredi"},"2018-01-31",29.1666666666667,3,{"$f":"'[2]Détail N°7'!$L$28","v":9},1]
[null,null,null,null,null,null,null,null,null,null,null,null,null,null,{"$f":"Traduction!$A$353","v":"Mercredi"},"2018-01-31",29.2083333333333,3.1,{"$f":"'[2]Détail N°7'!$L$28","v":9},1]
[null,null,null,null,null,null,null,null,null,null,null,null,null,null,{"$f":"Traduction!$A$353","v":"Mercredi"},"2018-01-31",29.25,3.3,{"$f":"'[2]Détail N°7'!$L$28","v":9},1]
[null,null,null,null,null,null,null,null,null,null,null,null,null,null,{"$f":"Traduction!$A$353","v":"Mercredi"},"2018-01-31",29.2916666666667,3.4,{"$f":"'[2]Détail N°7'!$L$28","v":9},1]
[null,null,null,null,null,null,null,null,null,null,null,null,null,null,{"$f":"Traduction!$A$353","v":"Mercredi"},"2018-01-31",29.3333333333333,3.3,{"$f":"'[2]Détail N°7'!$L$28","v":9},1]
[null,null,null,null,null,null,null,null,null,null,null,null,null,null,{"$f":"Traduction!$A$353","v":"Mercredi"},"2018-01-31",29.375,3.2,{"$f":"'[2]Détail N°7'!$L$28","v":9},1]
[null,null,null,null,null,null,null,null,null,null,null,null,null,null,{"$f":"Traduction!$A$353","v":"Mercredi"},"2018-01-31",29.4166666666667,3.5,{"$f":"'[2]Détail N°7'!$L$28","v":9},1]
[null,null,null,null,null,null,null,null,null,null,null,null,null,null,{"$f":"Traduction!$A$353","v":"Mercredi"},"2018-01-31",29.4583333333333,3.4,{"$f":"'[2]Détail N°7'!$L$28","v":9},1]
[null,null,null,null,null,null,null,null,null,null,null,null,null,null,{"$f":"Traduction!$A$353","v":"Mercredi"},"2018-01-31",29.5,3.7,{"$f":"'[2]Détail N°7'!$L$28","v":9},1]
[null,null,null,null,null,null,null,null,null,null,null,null,null,null,{"$f":"Traduction!$A$353","v":"Mercredi"},"2018-01-31",29.5416666666667,3.7,{"$f":"'[2]Détail N°7'!$L$28","v":9},1]
[null,null,null,null,null,null,null,null,null,null,null,null,null,null,{"$f":"Traduction!$A$353","v":"Mercredi"},"2018-01-31",29.5833333333333,3.8,{"$f":"'[2]Détail N°7'!$L$28","v":9},1]
[null,null,null,null,null,null,null,null,null,null,null,null,null,null,{"$f":"Traduction!$A$353","v":"Mercredi"},"2018-01-31",29.625,3.7,{"$f":"'[2]Détail N°7'!$L$28","v":9},1]
[null,null,null,null,null,null,null,null,null,null,null,null,null,null,{"$f":"Traduction!$A$353","v":"Mercredi"},"2018-01-31",29.6666666666667,3.8,{"$f":"'[2]Détail N°7'!$L$28","v":9},1]
[null,null,null,null,null,null,null,null,null,null,null,null,null,null,{"$f":"Traduction!$A$353","v":"Mercredi"},"2018-01-31",29.7083333333333,3.8,{"$f":"'[2]Détail N°7'!$L$28","v":9},1]
[null,null,null,null,null,null,null,null,null,null,null,null,null,null,{"$f":"Traduction!$A$353","v":"Mercredi"},"2018-01-31",29.75,3.7,{"$f":"'[2]Détail N°7'!$L$28","v":9},1]
[null,null,null,null,null,null,null,null,null,null,null,null,null,null,{"$f":"Traduction!$A$353","v":"Mercredi"},"2018-01-31",29.7916666666667,3.5,{"$f":"'[2]Détail N°7'!$L$28","v":9},1]
[null,null,null,null,null,null,null,null,null,null,null,null,null,null,{"$f":"Traduction!$A$353","v":"Mercredi"},"2018-01-31",29.8333333333333,3.5,{"$f":"'[2]Détail N°7'!$L$28","v":9},1]
[null,null,null,null,null,null,null,null,null,null,null,null,null,null,{"$f":"Traduction!$A$353","v":"Mercredi"},"2018-01-31",29.875,3.3,{"$f":"'[2]Détail N°7'!$L$28","v":9},1]
[null,null,null,null,null,null,null,null,null,null,null,null,null,null,{"$f":"Traduction!$A$353","v":"Mercredi"},"2018-01-31",29.9166666666667,3.2,{"$f":"'[2]Détail N°7'!$L$28","v":9},1]
[null,null,null,null,null,null,null,null,null,null,null,null,null,null,{"$f":"Traduction!$A$353","v":"Mercredi"},"2018-01-31",29.9583333333333,2.4,{"$f":"'[2]Détail N°7'!$L$28","v":9},1]
[null,null,null,null,null,null,null,null,null,null,null,null,null,null,{"$f":"Traduction!$A$353","v":"Mercredi"},"2018-01-31",30,1.5,{"$f":"'[2]Détail N°7'!$L$28","v":9},1]
[null,null,null,null,null,null,null,null,null,null,null,null,null,null,{"$f":"Traduction!$A$354","v":"Jeudi"},"2018-02-01",30.0416666666667,2.9,{"$f":"'[2]Détail N°7'!$L$28","v":9},1]
[null,null,null,null,null,null,null,null,null,null,null,null,null,null,{"$f":"Traduction!$A$354","v":"Jeudi"},"2018-02-01",30.0833333333333,2.8,{"$f":"'[2]Détail N°7'!$L$28","v":9},1]
[null,null,null,null,null,null,null,null,null,null,null,null,null,null,{"$f":"Traduction!$A$354","v":"Jeudi"},"2018-02-01",30.125,2.7,{"$f":"'[2]Détail N°7'!$L$28","v":9},1]
[null,null,null,null,null,null,null,null,null,null,null,null,null,null,{"$f":"Traduction!$A$354","v":"Jeudi"},"2018-02-01",30.1666666666667,2.6,{"$f":"'[2]Détail N°7'!$L$28","v":9},1]
[null,null,null,null,null,null,null,null,null,null,null,null,null,null,{"$f":"Traduction!$A$354","v":"Jeudi"},"2018-02-01",30.2083333333333,2.6,{"$f":"'[2]Détail N°7'!$L$28","v":9},1]
[null,null,null,null,null,null,null,null,null,null,null,null,null,null,{"$f":"Traduction!$A$354","v":"Jeudi"},"2018-02-01",30.25,2.6,{"$f":"'[2]Détail N°7'!$L$28","v":9},1]
[null,null,null,null,null,null,null,null,null,null,null,null,null,null,{"$f":"Traduction!$A$354","v":"Jeudi"},"2018-02-01",30.2916666666667,2.6,{"$f":"'[2]Détail N°7'!$L$28","v":9},1]
[null,null,null,null,null,null,null,null,null,null,null,null,null,null,{"$f":"Traduction!$A$354","v":"Jeudi"},"2018-02-01",30.3333333333333,2.5,{"$f":"'[2]Détail N°7'!$L$28","v":9},1]
[null,null,null,null,null,null,null,null,null,null,null,null,null,null,{"$f":"Traduction!$A$354","v":"Jeudi"},"2018-02-01",30.375,3,{"$f":"'[2]Détail N°7'!$L$28","v":9},1]
[null,null,null,null,null,null,null,null,null,null,null,null,null,null,{"$f":"Traduction!$A$354","v":"Jeudi"},"2018-02-01",30.4166666666667,4.5999999999999996,{"$f":"'[2]Détail N°7'!$L$28","v":9},1]
[null,null,null,null,null,null,null,null,null,null,null,null,null,null,{"$f":"Traduction!$A$354","v":"Jeudi"},"2018-02-01",30.4583333333333,5.9,{"$f":"'[2]Détail N°7'!$L$28","v":9},1]
[null,null,null,null,null,null,null,null,null,null,null,null,null,null,{"$f":"Traduction!$A$354","v":"Jeudi"},"2018-02-01",30.5,7.1,{"$f":"'[2]Détail N°7'!$L$28","v":9},1]
[null,null,null,null,null,null,null,null,null,null,null,null,null,null,{"$f":"Traduction!$A$354","v":"Jeudi"},"2018-02-01",30.5416666666667,7.9,{"$f":"'[2]Détail N°7'!$L$28","v":9},1]
[null,null,null,null,null,null,null,null,null,null,null,null,null,null,{"$f":"Traduction!$A$354","v":"Jeudi"},"2018-02-01",30.5833333333333,8.3000000000000007,{"$f":"'[2]Détail N°7'!$L$28","v":9},1]
[null,null,null,null,null,null,null,null,null,null,null,null,null,null,{"$f":"Traduction!$A$354","v":"Jeudi"},"2018-02-01",30.625,8.6,{"$f":"'[2]Détail N°7'!$L$28","v":9},1]
[null,null,null,null,null,null,null,null,null,null,null,null,null,null,{"$f":"Traduction!$A$354","v":"Jeudi"},"2018-02-01",30.6666666666667,8.4,{"$f":"'[2]Détail N°7'!$L$28","v":9},1]
[null,null,null,null,null,null,null,null,null,null,null,null,null,null,{"$f":"Traduction!$A$354","v":"Jeudi"},"2018-02-01",30.7083333333333,7.7,{"$f":"'[2]Détail N°7'!$L$28","v":9},1]
[null,null,null,null,null,null,null,null,null,null,null,null,null,null,{"$f":"Traduction!$A$354","v":"Jeudi"},"2018-02-01",30.75,6.9,{"$f":"'[2]Détail N°7'!$L$28","v":9},1]
[null,null,null,null,null,null,null,null,null,null,null,null,null,null,{"$f":"Traduction!$A$354","v":"Jeudi"},"2018-02-01",30.7916666666667,6.5,{"$f":"'[2]Détail N°7'!$L$28","v":9},1]
[null,null,null,null,null,null,null,null,null,null,null,null,null,null,{"$f":"Traduction!$A$354","v":"Jeudi"},"2018-02-01",30.8333333333333,6.1,{"$f":"'[2]Détail N°7'!$L$28","v":9},1]
[null,null,null,null,null,null,null,null,null,null,null,null,null,null,{"$f":"Traduction!$A$354","v":"Jeudi"},"2018-02-01",30.875,5.7,{"$f":"'[2]Détail N°7'!$L$28","v":9},1]
[null,null,null,null,null,null,null,null,null,null,null,null,null,null,{"$f":"Traduction!$A$354","v":"Jeudi"},"2018-02-01",30.9166666666667,5.3,{"$f":"'[2]Détail N°7'!$L$28","v":9},1]
[null,null,null,null,null,null,null,null,null,null,null,null,null,null,{"$f":"Traduction!$A$354","v":"Jeudi"},"2018-02-01",30.9583333333333,4.9000000000000004,{"$f":"'[2]Détail N°7'!$L$28","v":9},1]
[null,null,null,null,null,null,null,null,null,null,null,null,null,null,{"$f":"Traduction!$A$354","v":"Jeudi"},"2018-02-01",31,4.5,{"$f":"'[2]Détail N°7'!$L$28","v":9},1]
[null,null,null,null,null,null,null,null,null,null,null,null,null,null,{"$f":"Traduction!$A$355","v":"Vendredi"},"2018-02-02",31.0416666666667,4,{"$f":"'[2]Détail N°7'!$L$28","v":9},1]
[null,null,null,null,null,null,null,null,null,null,null,null,null,null,{"$f":"Traduction!$A$355","v":"Vendredi"},"2018-02-02",31.0833333333333,3.5,{"$f":"'[2]Détail N°7'!$L$28","v":9},{"$f":"IF(R1111<=S1111,1,0)","v":1}]
[null,null,null,null,null,null,null,null,null,null,null,null,null,null,{"$f":"Traduction!$A$355","v":"Vendredi"},"2018-02-02",31.125,3,{"$f":"'[2]Détail N°7'!$L$28","v":9},1]
[null,null,null,null,null,null,null,null,null,null,null,null,null,null,{"$f":"Traduction!$A$355","v":"Vendredi"},"2018-02-02",31.1666666666667,2.7,{"$f":"'[2]Détail N°7'!$L$28","v":9},1]
[null,null,null,null,null,null,null,null,null,null,null,null,null,null,{"$f":"Traduction!$A$355","v":"Vendredi"},"2018-02-02",31.2083333333333,2.4,{"$f":"'[2]Détail N°7'!$L$28","v":9},1]
[null,null,null,null,null,null,null,null,null,null,null,null,null,null,{"$f":"Traduction!$A$355","v":"Vendredi"},"2018-02-02",31.25,2.1,{"$f":"'[2]Détail N°7'!$L$28","v":9},1]
[null,null,null,null,null,null,null,null,null,null,null,null,null,null,{"$f":"Traduction!$A$355","v":"Vendredi"},"2018-02-02",31.2916666666667,1.9,{"$f":"'[2]Détail N°7'!$L$28","v":9},1]
[null,null,null,null,null,null,null,null,null,null,null,null,null,null,{"$f":"Traduction!$A$355","v":"Vendredi"},"2018-02-02",31.3333333333333,1.7,{"$f":"'[2]Détail N°7'!$L$28","v":9},1]
[null,null,null,null,null,null,null,null,null,null,null,null,null,null,{"$f":"Traduction!$A$355","v":"Vendredi"},"2018-02-02",31.375,2.1,{"$f":"'[2]Détail N°7'!$L$28","v":9},1]
[null,null,null,null,null,null,null,null,null,null,null,null,null,null,{"$f":"Traduction!$A$355","v":"Vendredi"},"2018-02-02",31.4166666666667,3.7,{"$f":"'[2]Détail N°7'!$L$28","v":9},1]
[null,null,null,null,null,null,null,null,null,null,null,null,null,null,{"$f":"Traduction!$A$355","v":"Vendredi"},"2018-02-02",31.4583333333333,5,{"$f":"'[2]Détail N°7'!$L$28","v":9},1]
[null,null,null,null,null,null,null,null,null,null,null,null,null,null,{"$f":"Traduction!$A$355","v":"Vendredi"},"2018-02-02",31.5,6,{"$f":"'[2]Détail N°7'!$L$28","v":9},1]
[null,null,null,null,null,null,null,null,null,null,null,null,null,null,{"$f":"Traduction!$A$355","v":"Vendredi"},"2018-02-02",31.5416666666667,6.8,{"$f":"'[2]Détail N°7'!$L$28","v":9},1]
[null,null,null,null,null,null,null,null,null,null,null,null,null,null,{"$f":"Traduction!$A$355","v":"Vendredi"},"2018-02-02",31.5833333333333,7.3,{"$f":"'[2]Détail N°7'!$L$28","v":9},1]
[null,null,null,null,null,null,null,null,null,null,null,null,null,null,{"$f":"Traduction!$A$355","v":"Vendredi"},"2018-02-02",31.625,7.4,{"$f":"'[2]Détail N°7'!$L$28","v":9},1]
[null,null,null,null,null,null,null,null,null,null,null,null,null,null,{"$f":"Traduction!$A$355","v":"Vendredi"},"2018-02-02",31.6666666666667,7.2,{"$f":"'[2]Détail N°7'!$L$28","v":9},1]
[null,null,null,null,null,null,null,null,null,null,null,null,null,null,{"$f":"Traduction!$A$355","v":"Vendredi"},"2018-02-02",31.7083333333333,6.5,{"$f":"'[2]Détail N°7'!$L$28","v":9},1]
[null,null,null,null,null,null,null,null,null,null,null,null,null,null,{"$f":"Traduction!$A$355","v":"Vendredi"},"2018-02-02",31.75,5.5,{"$f":"'[2]Détail N°7'!$L$28","v":9},1]
[null,null,null,null,null,null,null,null,null,null,null,null,null,null,{"$f":"Traduction!$A$355","v":"Vendredi"},"2018-02-02",31.7916666666667,5.0999999999999996,{"$f":"'[2]Détail N°7'!$L$28","v":9},1]
[null,null,null,null,null,null,null,null,null,null,null,null,null,null,{"$f":"Traduction!$A$355","v":"Vendredi"},"2018-02-02",31.8333333333333,4.7,{"$f":"'[2]Détail N°7'!$L$28","v":9},1]
[null,null,null,null,null,null,null,null,null,null,null,null,null,null,{"$f":"Traduction!$A$355","v":"Vendredi"},"2018-02-02",31.875,4.3,{"$f":"'[2]Détail N°7'!$L$28","v":9},1]
[null,null,null,null,null,null,null,null,null,null,null,null,null,null,{"$f":"Traduction!$A$355","v":"Vendredi"},"2018-02-02",31.9166666666667,3.9,{"$f":"'[2]Détail N°7'!$L$28","v":9},1]
[null,null,null,null,null,null,null,null,null,null,null,null,null,null,{"$f":"Traduction!$A$355","v":"Vendredi"},"2018-02-02",31.9583333333333,3.5,{"$f":"'[2]Détail N°7'!$L$28","v":9},1]
[null,null,null,null,null,null,null,null,null,null,null,null,null,null,{"$f":"Traduction!$A$355","v":"Vendredi"},"2018-02-02",32,3.1,{"$f":"'[2]Détail N°7'!$L$28","v":9},1]
[null,null,null,null,null,null,null,null,null,null,null,null,null,null,{"$f":"Traduction!$A$356","v":"Samedi"},"2018-02-03",32.0416666666667,2.8,{"$f":"'[2]Détail N°7'!$L$28","v":9},1]
[null,null,null,null,null,null,null,null,null,null,null,null,null,null,{"$f":"Traduction!$A$356","v":"Samedi"},"2018-02-03",32.0833333333333,2.6,{"$f":"'[2]Détail N°7'!$L$28","v":9},1]
[null,null,null,null,null,null,null,null,null,null,null,null,null,null,{"$f":"Traduction!$A$356","v":"Samedi"},"2018-02-03",32.125,2.2999999999999998,{"$f":"'[2]Détail N°7'!$L$28","v":9},1]
[null,null,null,null,null,null,null,null,null,null,null,null,null,null,{"$f":"Traduction!$A$356","v":"Samedi"},"2018-02-03",32.1666666666667,2.2000000000000002,{"$f":"'[2]Détail N°7'!$L$28","v":9},1]
[null,null,null,null,null,null,null,null,null,null,null,null,null,null,{"$f":"Traduction!$A$356","v":"Samedi"},"2018-02-03",32.2083333333333,2,{"$f":"'[2]Détail N°7'!$L$28","v":9},1]
[null,null,null,null,null,null,null,null,null,null,null,null,null,null,{"$f":"Traduction!$A$356","v":"Samedi"},"2018-02-03",32.25,1.9,{"$f":"'[2]Détail N°7'!$L$28","v":9},1]
[null,null,null,null,null,null,null,null,null,null,null,null,null,null,{"$f":"Traduction!$A$356","v":"Samedi"},"2018-02-03",32.2916666666667,1.8,{"$f":"'[2]Détail N°7'!$L$28","v":9},1]
[null,null,null,null,null,null,null,null,null,null,null,null,null,null,{"$f":"Traduction!$A$356","v":"Samedi"},"2018-02-03",32.3333333333333,1.7,{"$f":"'[2]Détail N°7'!$L$28","v":9},1]
[null,null,null,null,null,null,null,null,null,null,null,null,null,null,{"$f":"Traduction!$A$356","v":"Samedi"},"2018-02-03",32.375,2.2000000000000002,{"$f":"'[2]Détail N°7'!$L$28","v":9},1]
[null,null,null,null,null,null,null,null,null,null,null,null,null,null,{"$f":"Traduction!$A$356","v":"Samedi"},"2018-02-03",32.4166666666667,3.8,{"$f":"'[2]Détail N°7'!$L$28","v":9},1]
[null,null,null,null,null,null,null,null,null,null,null,null,null,null,{"$f":"Traduction!$A$356","v":"Samedi"},"2018-02-03",32.4583333333333,5.2,{"$f":"'[2]Détail N°7'!$L$28","v":9},1]
[null,null,null,null,null,null,null,null,null,null,null,null,null,null,{"$f":"Traduction!$A$356","v":"Samedi"},"2018-02-03",32.5,6.4,{"$f":"'[2]Détail N°7'!$L$28","v":9},1]
[null,null,null,null,null,null,null,null,null,null,null,null,null,null,{"$f":"Traduction!$A$356","v":"Samedi"},"2018-02-03",32.5416666666667,7.2,{"$f":"'[2]Détail N°7'!$L$28","v":9},1]
[null,null,null,null,null,null,null,null,null,null,null,null,null,null,{"$f":"Traduction!$A$356","v":"Samedi"},"2018-02-03",32.5833333333333,7.7,{"$f":"'[2]Détail N°7'!$L$28","v":9},1]
[null,null,null,null,null,null,null,null,null,null,null,null,null,null,{"$f":"Traduction!$A$356","v":"Samedi"},"2018-02-03",32.625,7.9,{"$f":"'[2]Détail N°7'!$L$28","v":9},1]
[null,null,null,null,null,null,null,null,null,null,null,null,null,null,{"$f":"Traduction!$A$356","v":"Samedi"},"2018-02-03",32.6666666666667,7.7,{"$f":"'[2]Détail N°7'!$L$28","v":9},1]
[null,null,null,null,null,null,null,null,null,null,null,null,null,null,{"$f":"Traduction!$A$356","v":"Samedi"},"2018-02-03",32.7083333333333,7,{"$f":"'[2]Détail N°7'!$L$28","v":9},1]
[null,null,null,null,null,null,null,null,null,null,null,null,null,null,{"$f":"Traduction!$A$356","v":"Samedi"},"2018-02-03",32.75,6,{"$f":"'[2]Détail N°7'!$L$28","v":9},1]
[null,null,null,null,null,null,null,null,null,null,null,null,null,null,{"$f":"Traduction!$A$356","v":"Samedi"},"2018-02-03",32.7916666666667,5.8,{"$f":"'[2]Détail N°7'!$L$28","v":9},1]
[null,null,null,null,null,null,null,null,null,null,null,null,null,null,{"$f":"Traduction!$A$356","v":"Samedi"},"2018-02-03",32.8333333333333,5.5,{"$f":"'[2]Détail N°7'!$L$28","v":9},1]
[null,null,null,null,null,null,null,null,null,null,null,null,null,null,{"$f":"Traduction!$A$356","v":"Samedi"},"2018-02-03",32.875,5.3,{"$f":"'[2]Détail N°7'!$L$28","v":9},1]
[null,null,null,null,null,null,null,null,null,null,null,null,null,null,{"$f":"Traduction!$A$356","v":"Samedi"},"2018-02-03",32.9166666666667,5.0999999999999996,{"$f":"'[2]Détail N°7'!$L$28","v":9},1]
[null,null,null,null,null,null,null,null,null,null,null,null,null,null,{"$f":"Traduction!$A$356","v":"Samedi"},"2018-02-03",32.9583333333333,4.8,{"$f":"'[2]Détail N°7'!$L$28","v":9},1]
[null,null,null,null,null,null,null,null,null,null,null,null,null,null,{"$f":"Traduction!$A$356","v":"Samedi"},"2018-02-03",33,4.5999999999999996,{"$f":"'[2]Détail N°7'!$L$28","v":9},1]
[null,null,null,null,null,null,null,null,null,null,null,null,null,null,{"$f":"Traduction!$A$357","v":"Dimanche"},"2018-02-04",33.0416666666667,4.4000000000000004,{"$f":"'[2]Détail N°7'!$L$28","v":9},1]
[null,null,null,null,null,null,null,null,null,null,null,null,null,null,{"$f":"Traduction!$A$357","v":"Dimanche"},"2018-02-04",33.0833333333333,4.2,{"$f":"'[2]Détail N°7'!$L$28","v":9},1]
[null,null,null,null,null,null,null,null,null,null,null,null,null,null,{"$f":"Traduction!$A$357","v":"Dimanche"},"2018-02-04",33.125,3.8,{"$f":"'[2]Détail N°7'!$L$28","v":9},1]
[null,null,null,null,null,null,null,null,null,null,null,null,null,null,{"$f":"Traduction!$A$357","v":"Dimanche"},"2018-02-04",33.1666666666667,3.7,{"$f":"'[2]Détail N°7'!$L$28","v":9},1]
[null,null,null,null,null,null,null,null,null,null,null,null,null,null,{"$f":"Traduction!$A$357","v":"Dimanche"},"2018-02-04",33.2083333333333,3.6,{"$f":"'[2]Détail N°7'!$L$28","v":9},1]
[null,null,null,null,null,null,null,null,null,null,null,null,null,null,{"$f":"Traduction!$A$357","v":"Dimanche"},"2018-02-04",33.25,3.5,{"$f":"'[2]Détail N°7'!$L$28","v":9},1]
[null,null,null,null,null,null,null,null,null,null,null,null,null,null,{"$f":"Traduction!$A$357","v":"Dimanche"},"2018-02-04",33.2916666666667,3.4,{"$f":"'[2]Détail N°7'!$L$28","v":9},1]
[null,null,null,null,null,null,null,null,null,null,null,null,null,null,{"$f":"Traduction!$A$357","v":"Dimanche"},"2018-02-04",33.3333333333333,3.5,{"$f":"'[2]Détail N°7'!$L$28","v":9},1]
[null,null,null,null,null,null,null,null,null,null,null,null,null,null,{"$f":"Traduction!$A$357","v":"Dimanche"},"2018-02-04",33.375,3.5,{"$f":"'[2]Détail N°7'!$L$28","v":9},1]
[null,null,null,null,null,null,null,null,null,null,null,null,null,null,{"$f":"Traduction!$A$357","v":"Dimanche"},"2018-02-04",33.4166666666667,3.7,{"$f":"'[2]Détail N°7'!$L$28","v":9},1]
[null,null,null,null,null,null,null,null,null,null,null,null,null,null,{"$f":"Traduction!$A$357","v":"Dimanche"},"2018-02-04",33.4583333333333,3.8,{"$f":"'[2]Détail N°7'!$L$28","v":9},1]
[null,null,null,null,null,null,null,null,null,null,null,null,null,null,{"$f":"Traduction!$A$357","v":"Dimanche"},"2018-02-04",33.5,4,{"$f":"'[2]Détail N°7'!$L$28","v":9},1]
[null,null,null,null,null,null,null,null,null,null,null,null,null,null,{"$f":"Traduction!$A$357","v":"Dimanche"},"2018-02-04",33.5416666666667,4.0999999999999996,{"$f":"'[2]Détail N°7'!$L$28","v":9},1]
[null,null,null,null,null,null,null,null,null,null,null,null,null,null,{"$f":"Traduction!$A$357","v":"Dimanche"},"2018-02-04",33.5833333333333,4.2,{"$f":"'[2]Détail N°7'!$L$28","v":9},1]
[null,null,null,null,null,null,null,null,null,null,null,null,null,null,{"$f":"Traduction!$A$357","v":"Dimanche"},"2018-02-04",33.625,4.2,{"$f":"'[2]Détail N°7'!$L$28","v":9},1]
[null,null,null,null,null,null,null,null,null,null,null,null,null,null,{"$f":"Traduction!$A$357","v":"Dimanche"},"2018-02-04",33.6666666666667,4.0999999999999996,{"$f":"'[2]Détail N°7'!$L$28","v":9},1]
[null,null,null,null,null,null,null,null,null,null,null,null,null,null,{"$f":"Traduction!$A$357","v":"Dimanche"},"2018-02-04",33.7083333333333,4,{"$f":"'[2]Détail N°7'!$L$28","v":9},1]
[null,null,null,null,null,null,null,null,null,null,null,null,null,null,{"$f":"Traduction!$A$357","v":"Dimanche"},"2018-02-04",33.75,3.8,{"$f":"'[2]Détail N°7'!$L$28","v":9},{"$f":"IF(R1175<=S1175,1,0)","v":1}]
[null,null,null,null,null,null,null,null,null,null,null,null,null,null,{"$f":"Traduction!$A$357","v":"Dimanche"},"2018-02-04",33.7916666666667,3.5,{"$f":"'[2]Détail N°7'!$L$28","v":9},1]
[null,null,null,null,null,null,null,null,null,null,null,null,null,null,{"$f":"Traduction!$A$357","v":"Dimanche"},"2018-02-04",33.8333333333333,3.3,{"$f":"'[2]Détail N°7'!$L$28","v":9},1]
[null,null,null,null,null,null,null,null,null,null,null,null,null,null,{"$f":"Traduction!$A$357","v":"Dimanche"},"2018-02-04",33.875,2.7,{"$f":"'[2]Détail N°7'!$L$28","v":9},1]
[null,null,null,null,null,null,null,null,null,null,null,null,null,null,{"$f":"Traduction!$A$357","v":"Dimanche"},"2018-02-04",33.9166666666667,1.9,{"$f":"'[2]Détail N°7'!$L$28","v":9},1]
[null,null,null,null,null,null,null,null,null,null,null,null,null,null,{"$f":"Traduction!$A$357","v":"Dimanche"},"2018-02-04",33.9583333333333,2.5,{"$f":"'[2]Détail N°7'!$L$28","v":9},1]
[null,null,null,null,null,null,null,null,null,null,null,null,null,null,{"$f":"Traduction!$A$357","v":"Dimanche"},"2018-02-04",34,2.4,{"$f":"'[2]Détail N°7'!$L$28","v":9},1]
[null,null,null,null,null,null,null,null,null,null,null,null,null,null,{"$f":"Traduction!$A$351","v":"Lundi "},"2018-02-05",34.0416666666667,2.4,{"$f":"'[2]Détail N°7'!$L$28","v":9},1]
[null,null,null,null,null,null,null,null,null,null,null,null,null,null,{"$f":"Traduction!$A$351","v":"Lundi "},"2018-02-05",34.0833333333333,2,{"$f":"'[2]Détail N°7'!$L$28","v":9},1]
[null,null,null,null,null,null,null,null,null,null,null,null,null,null,{"$f":"Traduction!$A$351","v":"Lundi "},"2018-02-05",34.125,1.7,{"$f":"'[2]Détail N°7'!$L$28","v":9},1]
[null,null,null,null,null,null,null,null,null,null,null,null,null,null,{"$f":"Traduction!$A$351","v":"Lundi "},"2018-02-05",34.1666666666667,1.5,{"$f":"'[2]Détail N°7'!$L$28","v":9},1]
[null,null,null,null,null,null,null,null,null,null,null,null,null,null,{"$f":"Traduction!$A$351","v":"Lundi "},"2018-02-05",34.2083333333333,1.3,{"$f":"'[2]Détail N°7'!$L$28","v":9},1]
[null,null,null,null,null,null,null,null,null,null,null,null,null,null,{"$f":"Traduction!$A$351","v":"Lundi "},"2018-02-05",34.25,1.1000000000000001,{"$f":"'[2]Détail N°7'!$L$28","v":9},1]
[null,null,null,null,null,null,null,null,null,null,null,null,null,null,{"$f":"Traduction!$A$351","v":"Lundi "},"2018-02-05",34.2916666666667,1,{"$f":"'[2]Détail N°7'!$L$28","v":9},1]
[null,null,null,null,null,null,null,null,null,null,null,null,null,null,{"$f":"Traduction!$A$351","v":"Lundi "},"2018-02-05",34.3333333333333,1,{"$f":"'[2]Détail N°7'!$L$28","v":9},1]
[null,null,null,null,null,null,null,null,null,null,null,null,null,null,{"$f":"Traduction!$A$351","v":"Lundi "},"2018-02-05",34.375,1,{"$f":"'[2]Détail N°7'!$L$28","v":9},1]
[null,null,null,null,null,null,null,null,null,null,null,null,null,null,{"$f":"Traduction!$A$351","v":"Lundi "},"2018-02-05",34.4166666666667,1.1000000000000001,{"$f":"'[2]Détail N°7'!$L$28","v":9},1]
[null,null,null,null,null,null,null,null,null,null,null,null,null,null,{"$f":"Traduction!$A$351","v":"Lundi "},"2018-02-05",34.4583333333333,1.3,{"$f":"'[2]Détail N°7'!$L$28","v":9},1]
[null,null,null,null,null,null,null,null,null,null,null,null,null,null,{"$f":"Traduction!$A$351","v":"Lundi "},"2018-02-05",34.5,1.4,{"$f":"'[2]Détail N°7'!$L$28","v":9},1]
[null,null,null,null,null,null,null,null,null,null,null,null,null,null,{"$f":"Traduction!$A$351","v":"Lundi "},"2018-02-05",34.5416666666667,1.5,{"$f":"'[2]Détail N°7'!$L$28","v":9},1]
[null,null,null,null,null,null,null,null,null,null,null,null,null,null,{"$f":"Traduction!$A$351","v":"Lundi "},"2018-02-05",34.5833333333333,1.6,{"$f":"'[2]Détail N°7'!$L$28","v":9},1]
[null,null,null,null,null,null,null,null,null,null,null,null,null,null,{"$f":"Traduction!$A$351","v":"Lundi "},"2018-02-05",34.625,1.6,{"$f":"'[2]Détail N°7'!$L$28","v":9},1]
[null,null,null,null,null,null,null,null,null,null,null,null,null,null,{"$f":"Traduction!$A$351","v":"Lundi "},"2018-02-05",34.6666666666667,1.6,{"$f":"'[2]Détail N°7'!$L$28","v":9},1]
[null,null,null,null,null,null,null,null,null,null,null,null,null,null,{"$f":"Traduction!$A$351","v":"Lundi "},"2018-02-05",34.7083333333333,1.5,{"$f":"'[2]Détail N°7'!$L$28","v":9},1]
[null,null,null,null,null,null,null,null,null,null,null,null,null,null,{"$f":"Traduction!$A$351","v":"Lundi "},"2018-02-05",34.75,1.2,{"$f":"'[2]Détail N°7'!$L$28","v":9},1]
[null,null,null,null,null,null,null,null,null,null,null,null,null,null,{"$f":"Traduction!$A$351","v":"Lundi "},"2018-02-05",34.7916666666667,0.5,{"$f":"'[2]Détail N°7'!$L$28","v":9},1]
[null,null,null,null,null,null,null,null,null,null,null,null,null,null,{"$f":"Traduction!$A$351","v":"Lundi "},"2018-02-05",34.8333333333333,0.9,{"$f":"'[2]Détail N°7'!$L$28","v":9},1]
[null,null,null,null,null,null,null,null,null,null,null,null,null,null,{"$f":"Traduction!$A$351","v":"Lundi "},"2018-02-05",34.875,0.7,{"$f":"'[2]Détail N°7'!$L$28","v":9},1]
[null,null,null,null,null,null,null,null,null,null,null,null,null,null,{"$f":"Traduction!$A$351","v":"Lundi "},"2018-02-05",34.9166666666667,0.3,{"$f":"'[2]Détail N°7'!$L$28","v":9},1]
[null,null,null,null,null,null,null,null,null,null,null,null,null,null,{"$f":"Traduction!$A$351","v":"Lundi "},"2018-02-05",34.9583333333333,0.2,{"$f":"'[2]Détail N°7'!$L$28","v":9},1]
[null,null,null,null,null,null,null,null,null,null,null,null,null,null,{"$f":"Traduction!$A$351","v":"Lundi "},"2018-02-05",35,0.1,{"$f":"'[2]Détail N°7'!$L$28","v":9},1]
[null,null,null,null,null,null,null,null,null,null,null,null,null,null,{"$f":"Traduction!$A$352","v":"Mardi"},"2018-02-06",35.0416666666667,-0.3,{"$f":"'[2]Détail N°7'!$L$28","v":9},1]
[null,null,null,null,null,null,null,null,null,null,null,null,null,null,{"$f":"Traduction!$A$352","v":"Mardi"},"2018-02-06",35.0833333333333,-0.8,{"$f":"'[2]Détail N°7'!$L$28","v":9},1]
[null,null,null,null,null,null,null,null,null,null,null,null,null,null,{"$f":"Traduction!$A$352","v":"Mardi"},"2018-02-06",35.125,-0.3,{"$f":"'[2]Détail N°7'!$L$28","v":9},1]
[null,null,null,null,null,null,null,null,null,null,null,null,null,null,{"$f":"Traduction!$A$352","v":"Mardi"},"2018-02-06",35.1666666666667,-0.1,{"$f":"'[2]Détail N°7'!$L$28","v":9},1]
[null,null,null,null,null,null,null,null,null,null,null,null,null,null,{"$f":"Traduction!$A$352","v":"Mardi"},"2018-02-06",35.2083333333333,-0.1,{"$f":"'[2]Détail N°7'!$L$28","v":9},1]
[null,null,null,null,null,null,null,null,null,null,null,null,null,null,{"$f":"Traduction!$A$352","v":"Mardi"},"2018-02-06",35.25,-0.2,{"$f":"'[2]Détail N°7'!$L$28","v":9},1]
[null,null,null,null,null,null,null,null,null,null,null,null,null,null,{"$f":"Traduction!$A$352","v":"Mardi"},"2018-02-06",35.2916666666667,-0.2,{"$f":"'[2]Détail N°7'!$L$28","v":9},1]
[null,null,null,null,null,null,null,null,null,null,null,null,null,null,{"$f":"Traduction!$A$352","v":"Mardi"},"2018-02-06",35.3333333333333,-0.2,{"$f":"'[2]Détail N°7'!$L$28","v":9},1]
[null,null,null,null,null,null,null,null,null,null,null,null,null,null,{"$f":"Traduction!$A$352","v":"Mardi"},"2018-02-06",35.375,0,{"$f":"'[2]Détail N°7'!$L$28","v":9},1]
[null,null,null,null,null,null,null,null,null,null,null,null,null,null,{"$f":"Traduction!$A$352","v":"Mardi"},"2018-02-06",35.4166666666667,0.2,{"$f":"'[2]Détail N°7'!$L$28","v":9},1]
[null,null,null,null,null,null,null,null,null,null,null,null,null,null,{"$f":"Traduction!$A$352","v":"Mardi"},"2018-02-06",35.4583333333333,0.5,{"$f":"'[2]Détail N°7'!$L$28","v":9},1]
[null,null,null,null,null,null,null,null,null,null,null,null,null,null,{"$f":"Traduction!$A$352","v":"Mardi"},"2018-02-06",35.5,0.8,{"$f":"'[2]Détail N°7'!$L$28","v":9},1]
[null,null,null,null,null,null,null,null,null,null,null,null,null,null,{"$f":"Traduction!$A$352","v":"Mardi"},"2018-02-06",35.5416666666667,1,{"$f":"'[2]Détail N°7'!$L$28","v":9},1]
[null,null,null,null,null,null,null,null,null,null,null,null,null,null,{"$f":"Traduction!$A$352","v":"Mardi"},"2018-02-06",35.5833333333333,1.1000000000000001,{"$f":"'[2]Détail N°7'!$L$28","v":9},1]
[null,null,null,null,null,null,null,null,null,null,null,null,null,null,{"$f":"Traduction!$A$352","v":"Mardi"},"2018-02-06",35.625,1.1000000000000001,{"$f":"'[2]Détail N°7'!$L$28","v":9},1]
[null,null,null,null,null,null,null,null,null,null,null,null,null,null,{"$f":"Traduction!$A$352","v":"Mardi"},"2018-02-06",35.6666666666667,1.1000000000000001,{"$f":"'[2]Détail N°7'!$L$28","v":9},1]
[null,null,null,null,null,null,null,null,null,null,null,null,null,null,{"$f":"Traduction!$A$352","v":"Mardi"},"2018-02-06",35.7083333333333,1,{"$f":"'[2]Détail N°7'!$L$28","v":9},1]
[null,null,null,null,null,null,null,null,null,null,null,null,null,null,{"$f":"Traduction!$A$352","v":"Mardi"},"2018-02-06",35.75,0.7,{"$f":"'[2]Détail N°7'!$L$28","v":9},1]
[null,null,null,null,null,null,null,null,null,null,null,null,null,null,{"$f":"Traduction!$A$352","v":"Mardi"},"2018-02-06",35.7916666666667,0.7,{"$f":"'[2]Détail N°7'!$L$28","v":9},1]
[null,null,null,null,null,null,null,null,null,null,null,null,null,null,{"$f":"Traduction!$A$352","v":"Mardi"},"2018-02-06",35.8333333333333,0.5,{"$f":"'[2]Détail N°7'!$L$28","v":9},1]
[null,null,null,null,null,null,null,null,null,null,null,null,null,null,{"$f":"Traduction!$A$352","v":"Mardi"},"2018-02-06",35.875,0.3,{"$f":"'[2]Détail N°7'!$L$28","v":9},1]
[null,null,null,null,null,null,null,null,null,null,null,null,null,null,{"$f":"Traduction!$A$352","v":"Mardi"},"2018-02-06",35.9166666666667,0,{"$f":"'[2]Détail N°7'!$L$28","v":9},1]
[null,null,null,null,null,null,null,null,null,null,null,null,null,null,{"$f":"Traduction!$A$352","v":"Mardi"},"2018-02-06",35.9583333333333,-0.2,{"$f":"'[2]Détail N°7'!$L$28","v":9},1]
[null,null,null,null,null,null,null,null,null,null,null,null,null,null,{"$f":"Traduction!$A$352","v":"Mardi"},"2018-02-06",36,-0.3,{"$f":"'[2]Détail N°7'!$L$28","v":9},1]
[null,null,null,null,null,null,null,null,null,null,null,null,null,null,{"$f":"Traduction!$A$353","v":"Mercredi"},"2018-02-07",36.0416666666667,-0.7,{"$f":"'[2]Détail N°7'!$L$28","v":9},1]
[null,null,null,null,null,null,null,null,null,null,null,null,null,null,{"$f":"Traduction!$A$353","v":"Mercredi"},"2018-02-07",36.0833333333333,-1.1000000000000001,{"$f":"'[2]Détail N°7'!$L$28","v":9},1]
[null,null,null,null,null,null,null,null,null,null,null,null,null,null,{"$f":"Traduction!$A$353","v":"Mercredi"},"2018-02-07",36.125,-1.8,{"$f":"'[2]Détail N°7'!$L$28","v":9},1]
[null,null,null,null,null,null,null,null,null,null,null,null,null,null,{"$f":"Traduction!$A$353","v":"Mercredi"},"2018-02-07",36.1666666666667,-1.8,{"$f":"'[2]Détail N°7'!$L$28","v":9},1]
[null,null,null,null,null,null,null,null,null,null,null,null,null,null,{"$f":"Traduction!$A$353","v":"Mercredi"},"2018-02-07",36.2083333333333,-2,{"$f":"'[2]Détail N°7'!$L$28","v":9},1]
[null,null,null,null,null,null,null,null,null,null,null,null,null,null,{"$f":"Traduction!$A$353","v":"Mercredi"},"2018-02-07",36.25,-2.1,{"$f":"'[2]Détail N°7'!$L$28","v":9},1]
[null,null,null,null,null,null,null,null,null,null,null,null,null,null,{"$f":"Traduction!$A$353","v":"Mercredi"},"2018-02-07",36.2916666666667,-2.2999999999999998,{"$f":"'[2]Détail N°7'!$L$28","v":9},1]
[null,null,null,null,null,null,null,null,null,null,null,null,null,null,{"$f":"Traduction!$A$353","v":"Mercredi"},"2018-02-07",36.3333333333333,-2.4,{"$f":"'[2]Détail N°7'!$L$28","v":9},1]
[null,null,null,null,null,null,null,null,null,null,null,null,null,null,{"$f":"Traduction!$A$353","v":"Mercredi"},"2018-02-07",36.375,-2.2999999999999998,{"$f":"'[2]Détail N°7'!$L$28","v":9},1]
[null,null,null,null,null,null,null,null,null,null,null,null,null,null,{"$f":"Traduction!$A$353","v":"Mercredi"},"2018-02-07",36.4166666666667,-2.1,{"$f":"'[2]Détail N°7'!$L$28","v":9},{"$f":"IF(R1239<=S1239,1,0)","v":1}]
[null,null,null,null,null,null,null,null,null,null,null,null,null,null,{"$f":"Traduction!$A$353","v":"Mercredi"},"2018-02-07",36.4583333333333,-2,{"$f":"'[2]Détail N°7'!$L$28","v":9},1]
[null,null,null,null,null,null,null,null,null,null,null,null,null,null,{"$f":"Traduction!$A$353","v":"Mercredi"},"2018-02-07",36.5,-2,{"$f":"'[2]Détail N°7'!$L$28","v":9},1]
[null,null,null,null,null,null,null,null,null,null,null,null,null,null,{"$f":"Traduction!$A$353","v":"Mercredi"},"2018-02-07",36.5416666666667,-1.9,{"$f":"'[2]Détail N°7'!$L$28","v":9},1]
[null,null,null,null,null,null,null,null,null,null,null,null,null,null,{"$f":"Traduction!$A$353","v":"Mercredi"},"2018-02-07",36.5833333333333,-1,{"$f":"'[2]Détail N°7'!$L$28","v":9},1]
[null,null,null,null,null,null,null,null,null,null,null,null,null,null,{"$f":"Traduction!$A$353","v":"Mercredi"},"2018-02-07",36.625,-0.4,{"$f":"'[2]Détail N°7'!$L$28","v":9},1]
[null,null,null,null,null,null,null,null,null,null,null,null,null,null,{"$f":"Traduction!$A$353","v":"Mercredi"},"2018-02-07",36.6666666666667,-0.2,{"$f":"'[2]Détail N°7'!$L$28","v":9},1]
[null,null,null,null,null,null,null,null,null,null,null,null,null,null,{"$f":"Traduction!$A$353","v":"Mercredi"},"2018-02-07",36.7083333333333,-0.2,{"$f":"'[2]Détail N°7'!$L$28","v":9},1]
[null,null,null,null,null,null,null,null,null,null,null,null,null,null,{"$f":"Traduction!$A$353","v":"Mercredi"},"2018-02-07",36.75,-0.6,{"$f":"'[2]Détail N°7'!$L$28","v":9},1]
[null,null,null,null,null,null,null,null,null,null,null,null,null,null,{"$f":"Traduction!$A$353","v":"Mercredi"},"2018-02-07",36.7916666666667,-0.9,{"$f":"'[2]Détail N°7'!$L$28","v":9},1]
[null,null,null,null,null,null,null,null,null,null,null,null,null,null,{"$f":"Traduction!$A$353","v":"Mercredi"},"2018-02-07",36.8333333333333,-1.2,{"$f":"'[2]Détail N°7'!$L$28","v":9},1]
[null,null,null,null,null,null,null,null,null,null,null,null,null,null,{"$f":"Traduction!$A$353","v":"Mercredi"},"2018-02-07",36.875,-1.6,{"$f":"'[2]Détail N°7'!$L$28","v":9},1]
[null,null,null,null,null,null,null,null,null,null,null,null,null,null,{"$f":"Traduction!$A$353","v":"Mercredi"},"2018-02-07",36.9166666666667,-1.9,{"$f":"'[2]Détail N°7'!$L$28","v":9},1]
[null,null,null,null,null,null,null,null,null,null,null,null,null,null,{"$f":"Traduction!$A$353","v":"Mercredi"},"2018-02-07",36.9583333333333,-2.2999999999999998,{"$f":"'[2]Détail N°7'!$L$28","v":9},1]
[null,null,null,null,null,null,null,null,null,null,null,null,null,null,{"$f":"Traduction!$A$353","v":"Mercredi"},"2018-02-07",37,-2.6,{"$f":"'[2]Détail N°7'!$L$28","v":9},1]
[null,null,null,null,null,null,null,null,null,null,null,null,null,null,{"$f":"Traduction!$A$354","v":"Jeudi"},"2018-02-08",37.0416666666667,-2.9,{"$f":"'[2]Détail N°7'!$L$28","v":9},1]
[null,null,null,null,null,null,null,null,null,null,null,null,null,null,{"$f":"Traduction!$A$354","v":"Jeudi"},"2018-02-08",37.0833333333333,-3.1,{"$f":"'[2]Détail N°7'!$L$28","v":9},1]
[null,null,null,null,null,null,null,null,null,null,null,null,null,null,{"$f":"Traduction!$A$354","v":"Jeudi"},"2018-02-08",37.125,-3.4,{"$f":"'[2]Détail N°7'!$L$28","v":9},1]
[null,null,null,null,null,null,null,null,null,null,null,null,null,null,{"$f":"Traduction!$A$354","v":"Jeudi"},"2018-02-08",37.1666666666667,-3.6,{"$f":"'[2]Détail N°7'!$L$28","v":9},1]
[null,null,null,null,null,null,null,null,null,null,null,null,null,null,{"$f":"Traduction!$A$354","v":"Jeudi"},"2018-02-08",37.2083333333333,-3.7,{"$f":"'[2]Détail N°7'!$L$28","v":9},1]
[null,null,null,null,null,null,null,null,null,null,null,null,null,null,{"$f":"Traduction!$A$354","v":"Jeudi"},"2018-02-08",37.25,-3.8,{"$f":"'[2]Détail N°7'!$L$28","v":9},1]
[null,null,null,null,null,null,null,null,null,null,null,null,null,null,{"$f":"Traduction!$A$354","v":"Jeudi"},"2018-02-08",37.2916666666667,-3.9,{"$f":"'[2]Détail N°7'!$L$28","v":9},1]
[null,null,null,null,null,null,null,null,null,null,null,null,null,null,{"$f":"Traduction!$A$354","v":"Jeudi"},"2018-02-08",37.3333333333333,-3.9,{"$f":"'[2]Détail N°7'!$L$28","v":9},1]
[null,null,null,null,null,null,null,null,null,null,null,null,null,null,{"$f":"Traduction!$A$354","v":"Jeudi"},"2018-02-08",37.375,-3.2,{"$f":"'[2]Détail N°7'!$L$28","v":9},1]
[null,null,null,null,null,null,null,null,null,null,null,null,null,null,{"$f":"Traduction!$A$354","v":"Jeudi"},"2018-02-08",37.4166666666667,-2.2999999999999998,{"$f":"'[2]Détail N°7'!$L$28","v":9},1]
[null,null,null,null,null,null,null,null,null,null,null,null,null,null,{"$f":"Traduction!$A$354","v":"Jeudi"},"2018-02-08",37.4583333333333,-1.4,{"$f":"'[2]Détail N°7'!$L$28","v":9},1]
[null,null,null,null,null,null,null,null,null,null,null,null,null,null,{"$f":"Traduction!$A$354","v":"Jeudi"},"2018-02-08",37.5,-0.6,{"$f":"'[2]Détail N°7'!$L$28","v":9},1]
[null,null,null,null,null,null,null,null,null,null,null,null,null,null,{"$f":"Traduction!$A$354","v":"Jeudi"},"2018-02-08",37.5416666666667,-0.1,{"$f":"'[2]Détail N°7'!$L$28","v":9},1]
[null,null,null,null,null,null,null,null,null,null,null,null,null,null,{"$f":"Traduction!$A$354","v":"Jeudi"},"2018-02-08",37.5833333333333,0.2,{"$f":"'[2]Détail N°7'!$L$28","v":9},1]
[null,null,null,null,null,null,null,null,null,null,null,null,null,null,{"$f":"Traduction!$A$354","v":"Jeudi"},"2018-02-08",37.625,0.3,{"$f":"'[2]Détail N°7'!$L$28","v":9},1]
[null,null,null,null,null,null,null,null,null,null,null,null,null,null,{"$f":"Traduction!$A$354","v":"Jeudi"},"2018-02-08",37.6666666666667,0,{"$f":"'[2]Détail N°7'!$L$28","v":9},1]
[null,null,null,null,null,null,null,null,null,null,null,null,null,null,{"$f":"Traduction!$A$354","v":"Jeudi"},"2018-02-08",37.7083333333333,-0.3,{"$f":"'[2]Détail N°7'!$L$28","v":9},1]
[null,null,null,null,null,null,null,null,null,null,null,null,null,null,{"$f":"Traduction!$A$354","v":"Jeudi"},"2018-02-08",37.75,-0.9,{"$f":"'[2]Détail N°7'!$L$28","v":9},1]
[null,null,null,null,null,null,null,null,null,null,null,null,null,null,{"$f":"Traduction!$A$354","v":"Jeudi"},"2018-02-08",37.7916666666667,-1.2,{"$f":"'[2]Détail N°7'!$L$28","v":9},1]
[null,null,null,null,null,null,null,null,null,null,null,null,null,null,{"$f":"Traduction!$A$354","v":"Jeudi"},"2018-02-08",37.8333333333333,-1.6,{"$f":"'[2]Détail N°7'!$L$28","v":9},1]
[null,null,null,null,null,null,null,null,null,null,null,null,null,null,{"$f":"Traduction!$A$354","v":"Jeudi"},"2018-02-08",37.875,-1.9,{"$f":"'[2]Détail N°7'!$L$28","v":9},1]
[null,null,null,null,null,null,null,null,null,null,null,null,null,null,{"$f":"Traduction!$A$354","v":"Jeudi"},"2018-02-08",37.9166666666667,-2.2000000000000002,{"$f":"'[2]Détail N°7'!$L$28","v":9},1]
[null,null,null,null,null,null,null,null,null,null,null,null,null,null,{"$f":"Traduction!$A$354","v":"Jeudi"},"2018-02-08",37.9583333333333,-2.6,{"$f":"'[2]Détail N°7'!$L$28","v":9},1]
[null,null,null,null,null,null,null,null,null,null,null,null,null,null,{"$f":"Traduction!$A$354","v":"Jeudi"},"2018-02-08",38,-2.9,{"$f":"'[2]Détail N°7'!$L$28","v":9},1]
[null,null,null,null,null,null,null,null,null,null,null,null,null,null,{"$f":"Traduction!$A$355","v":"Vendredi"},"2018-02-09",38.0416666666667,-3.2,{"$f":"'[2]Détail N°7'!$L$28","v":9},1]
[null,null,null,null,null,null,null,null,null,null,null,null,null,null,{"$f":"Traduction!$A$355","v":"Vendredi"},"2018-02-09",38.0833333333333,-3.6,{"$f":"'[2]Détail N°7'!$L$28","v":9},1]
[null,null,null,null,null,null,null,null,null,null,null,null,null,null,{"$f":"Traduction!$A$355","v":"Vendredi"},"2018-02-09",38.125,-4,{"$f":"'[2]Détail N°7'!$L$28","v":9},1]
[null,null,null,null,null,null,null,null,null,null,null,null,null,null,{"$f":"Traduction!$A$355","v":"Vendredi"},"2018-02-09",38.1666666666667,-4.3,{"$f":"'[2]Détail N°7'!$L$28","v":9},1]
[null,null,null,null,null,null,null,null,null,null,null,null,null,null,{"$f":"Traduction!$A$355","v":"Vendredi"},"2018-02-09",38.2083333333333,-4.5,{"$f":"'[2]Détail N°7'!$L$28","v":9},1]
[null,null,null,null,null,null,null,null,null,null,null,null,null,null,{"$f":"Traduction!$A$355","v":"Vendredi"},"2018-02-09",38.25,-4.7,{"$f":"'[2]Détail N°7'!$L$28","v":9},1]
[null,null,null,null,null,null,null,null,null,null,null,null,null,null,{"$f":"Traduction!$A$355","v":"Vendredi"},"2018-02-09",38.2916666666667,-4.9000000000000004,{"$f":"'[2]Détail N°7'!$L$28","v":9},1]
[null,null,null,null,null,null,null,null,null,null,null,null,null,null,{"$f":"Traduction!$A$355","v":"Vendredi"},"2018-02-09",38.3333333333333,-5,{"$f":"'[2]Détail N°7'!$L$28","v":9},1]
[null,null,null,null,null,null,null,null,null,null,null,null,null,null,{"$f":"Traduction!$A$355","v":"Vendredi"},"2018-02-09",38.375,-4.4000000000000004,{"$f":"'[2]Détail N°7'!$L$28","v":9},1]
[null,null,null,null,null,null,null,null,null,null,null,null,null,null,{"$f":"Traduction!$A$355","v":"Vendredi"},"2018-02-09",38.4166666666667,-3.8,{"$f":"'[2]Détail N°7'!$L$28","v":9},1]
[null,null,null,null,null,null,null,null,null,null,null,null,null,null,{"$f":"Traduction!$A$355","v":"Vendredi"},"2018-02-09",38.4583333333333,-3.4,{"$f":"'[2]Détail N°7'!$L$28","v":9},1]
[null,null,null,null,null,null,null,null,null,null,null,null,null,null,{"$f":"Traduction!$A$355","v":"Vendredi"},"2018-02-09",38.5,-3,{"$f":"'[2]Détail N°7'!$L$28","v":9},1]
[null,null,null,null,null,null,null,null,null,null,null,null,null,null,{"$f":"Traduction!$A$355","v":"Vendredi"},"2018-02-09",38.5416666666667,-2.1,{"$f":"'[2]Détail N°7'!$L$28","v":9},1]
[null,null,null,null,null,null,null,null,null,null,null,null,null,null,{"$f":"Traduction!$A$355","v":"Vendredi"},"2018-02-09",38.5833333333333,-1.9,{"$f":"'[2]Détail N°7'!$L$28","v":9},1]
[null,null,null,null,null,null,null,null,null,null,null,null,null,null,{"$f":"Traduction!$A$355","v":"Vendredi"},"2018-02-09",38.625,-1.7,{"$f":"'[2]Détail N°7'!$L$28","v":9},1]
[null,null,null,null,null,null,null,null,null,null,null,null,null,null,{"$f":"Traduction!$A$355","v":"Vendredi"},"2018-02-09",38.6666666666667,-1.8,{"$f":"'[2]Détail N°7'!$L$28","v":9},1]
[null,null,null,null,null,null,null,null,null,null,null,null,null,null,{"$f":"Traduction!$A$355","v":"Vendredi"},"2018-02-09",38.7083333333333,-2.2000000000000002,{"$f":"'[2]Détail N°7'!$L$28","v":9},1]
[null,null,null,null,null,null,null,null,null,null,null,null,null,null,{"$f":"Traduction!$A$355","v":"Vendredi"},"2018-02-09",38.75,-2.8,{"$f":"'[2]Détail N°7'!$L$28","v":9},1]
[null,null,null,null,null,null,null,null,null,null,null,null,null,null,{"$f":"Traduction!$A$355","v":"Vendredi"},"2018-02-09",38.7916666666667,-3.2,{"$f":"'[2]Détail N°7'!$L$28","v":9},1]
[null,null,null,null,null,null,null,null,null,null,null,null,null,null,{"$f":"Traduction!$A$355","v":"Vendredi"},"2018-02-09",38.8333333333333,-3.6,{"$f":"'[2]Détail N°7'!$L$28","v":9},1]
[null,null,null,null,null,null,null,null,null,null,null,null,null,null,{"$f":"Traduction!$A$355","v":"Vendredi"},"2018-02-09",38.875,-4,{"$f":"'[2]Détail N°7'!$L$28","v":9},1]
[null,null,null,null,null,null,null,null,null,null,null,null,null,null,{"$f":"Traduction!$A$355","v":"Vendredi"},"2018-02-09",38.9166666666667,-4.4000000000000004,{"$f":"'[2]Détail N°7'!$L$28","v":9},1]
[null,null,null,null,null,null,null,null,null,null,null,null,null,null,{"$f":"Traduction!$A$355","v":"Vendredi"},"2018-02-09",38.9583333333333,-4.8,{"$f":"'[2]Détail N°7'!$L$28","v":9},1]
[null,null,null,null,null,null,null,null,null,null,null,null,null,null,{"$f":"Traduction!$A$355","v":"Vendredi"},"2018-02-09",39,-5.0999999999999996,{"$f":"'[2]Détail N°7'!$L$28","v":9},1]
[null,null,null,null,null,null,null,null,null,null,null,null,null,null,{"$f":"Traduction!$A$356","v":"Samedi"},"2018-02-10",39.0416666666667,-5.0999999999999996,{"$f":"'[2]Détail N°7'!$L$28","v":9},1]
[null,null,null,null,null,null,null,null,null,null,null,null,null,null,{"$f":"Traduction!$A$356","v":"Samedi"},"2018-02-10",39.0833333333333,-5.0999999999999996,{"$f":"'[2]Détail N°7'!$L$28","v":9},{"$f":"IF(R1303<=S1303,1,0)","v":1}]
[null,null,null,null,null,null,null,null,null,null,null,null,null,null,{"$f":"Traduction!$A$356","v":"Samedi"},"2018-02-10",39.125,-5.0999999999999996,{"$f":"'[2]Détail N°7'!$L$28","v":9},1]
[null,null,null,null,null,null,null,null,null,null,null,null,null,null,{"$f":"Traduction!$A$356","v":"Samedi"},"2018-02-10",39.1666666666667,-5.0999999999999996,{"$f":"'[2]Détail N°7'!$L$28","v":9},1]
[null,null,null,null,null,null,null,null,null,null,null,null,null,null,{"$f":"Traduction!$A$356","v":"Samedi"},"2018-02-10",39.2083333333333,-5.0999999999999996,{"$f":"'[2]Détail N°7'!$L$28","v":9},1]
[null,null,null,null,null,null,null,null,null,null,null,null,null,null,{"$f":"Traduction!$A$356","v":"Samedi"},"2018-02-10",39.25,-5.0999999999999996,{"$f":"'[2]Détail N°7'!$L$28","v":9},1]
[null,null,null,null,null,null,null,null,null,null,null,null,null,null,{"$f":"Traduction!$A$356","v":"Samedi"},"2018-02-10",39.2916666666667,-5.0999999999999996,{"$f":"'[2]Détail N°7'!$L$28","v":9},1]
[null,null,null,null,null,null,null,null,null,null,null,null,null,null,{"$f":"Traduction!$A$356","v":"Samedi"},"2018-02-10",39.3333333333333,-5.0999999999999996,{"$f":"'[2]Détail N°7'!$L$28","v":9},1]
[null,null,null,null,null,null,null,null,null,null,null,null,null,null,{"$f":"Traduction!$A$356","v":"Samedi"},"2018-02-10",39.375,-4.4000000000000004,{"$f":"'[2]Détail N°7'!$L$28","v":9},1]
[null,null,null,null,null,null,null,null,null,null,null,null,null,null,{"$f":"Traduction!$A$356","v":"Samedi"},"2018-02-10",39.4166666666667,-3.5,{"$f":"'[2]Détail N°7'!$L$28","v":9},1]
[null,null,null,null,null,null,null,null,null,null,null,null,null,null,{"$f":"Traduction!$A$356","v":"Samedi"},"2018-02-10",39.4583333333333,-2.6,{"$f":"'[2]Détail N°7'!$L$28","v":9},1]
[null,null,null,null,null,null,null,null,null,null,null,null,null,null,{"$f":"Traduction!$A$356","v":"Samedi"},"2018-02-10",39.5,-1.9,{"$f":"'[2]Détail N°7'!$L$28","v":9},1]
[null,null,null,null,null,null,null,null,null,null,null,null,null,null,{"$f":"Traduction!$A$356","v":"Samedi"},"2018-02-10",39.5416666666667,-1.1000000000000001,{"$f":"'[2]Détail N°7'!$L$28","v":9},1]
[null,null,null,null,null,null,null,null,null,null,null,null,null,null,{"$f":"Traduction!$A$356","v":"Samedi"},"2018-02-10",39.5833333333333,-0.5,{"$f":"'[2]Détail N°7'!$L$28","v":9},1]
[null,null,null,null,null,null,null,null,null,null,null,null,null,null,{"$f":"Traduction!$A$356","v":"Samedi"},"2018-02-10",39.625,-0.3,{"$f":"'[2]Détail N°7'!$L$28","v":9},1]
[null,null,null,null,null,null,null,null,null,null,null,null,null,null,{"$f":"Traduction!$A$356","v":"Samedi"},"2018-02-10",39.6666666666667,-0.4,{"$f":"'[2]Détail N°7'!$L$28","v":9},1]
[null,null,null,null,null,null,null,null,null,null,null,null,null,null,{"$f":"Traduction!$A$356","v":"Samedi"},"2018-02-10",39.7083333333333,-1,{"$f":"'[2]Détail N°7'!$L$28","v":9},1]
[null,null,null,null,null,null,null,null,null,null,null,null,null,null,{"$f":"Traduction!$A$356","v":"Samedi"},"2018-02-10",39.75,-1.6,{"$f":"'[2]Détail N°7'!$L$28","v":9},1]
[null,null,null,null,null,null,null,null,null,null,null,null,null,null,{"$f":"Traduction!$A$356","v":"Samedi"},"2018-02-10",39.7916666666667,-1.6,{"$f":"'[2]Détail N°7'!$L$28","v":9},1]
[null,null,null,null,null,null,null,null,null,null,null,null,null,null,{"$f":"Traduction!$A$356","v":"Samedi"},"2018-02-10",39.8333333333333,-1.7,{"$f":"'[2]Détail N°7'!$L$28","v":9},1]
[null,null,null,null,null,null,null,null,null,null,null,null,null,null,{"$f":"Traduction!$A$356","v":"Samedi"},"2018-02-10",39.875,-1.7,{"$f":"'[2]Détail N°7'!$L$28","v":9},1]
[null,null,null,null,null,null,null,null,null,null,null,null,null,null,{"$f":"Traduction!$A$356","v":"Samedi"},"2018-02-10",39.9166666666667,-1.7,{"$f":"'[2]Détail N°7'!$L$28","v":9},1]
[null,null,null,null,null,null,null,null,null,null,null,null,null,null,{"$f":"Traduction!$A$356","v":"Samedi"},"2018-02-10",39.9583333333333,-1.8,{"$f":"'[2]Détail N°7'!$L$28","v":9},1]
[null,null,null,null,null,null,null,null,null,null,null,null,null,null,{"$f":"Traduction!$A$356","v":"Samedi"},"2018-02-10",40,-1.8,{"$f":"'[2]Détail N°7'!$L$28","v":9},1]
[null,null,null,null,null,null,null,null,null,null,null,null,null,null,{"$f":"Traduction!$A$357","v":"Dimanche"},"2018-02-11",40.0416666666667,-1.8,{"$f":"'[2]Détail N°7'!$L$28","v":9},1]
[null,null,null,null,null,null,null,null,null,null,null,null,null,null,{"$f":"Traduction!$A$357","v":"Dimanche"},"2018-02-11",40.0833333333333,-1.8,{"$f":"'[2]Détail N°7'!$L$28","v":9},1]
[null,null,null,null,null,null,null,null,null,null,null,null,null,null,{"$f":"Traduction!$A$357","v":"Dimanche"},"2018-02-11",40.125,-2,{"$f":"'[2]Détail N°7'!$L$28","v":9},1]
[null,null,null,null,null,null,null,null,null,null,null,null,null,null,{"$f":"Traduction!$A$357","v":"Dimanche"},"2018-02-11",40.1666666666667,-1.8,{"$f":"'[2]Détail N°7'!$L$28","v":9},1]
[null,null,null,null,null,null,null,null,null,null,null,null,null,null,{"$f":"Traduction!$A$357","v":"Dimanche"},"2018-02-11",40.2083333333333,-1.8,{"$f":"'[2]Détail N°7'!$L$28","v":9},1]
[null,null,null,null,null,null,null,null,null,null,null,null,null,null,{"$f":"Traduction!$A$357","v":"Dimanche"},"2018-02-11",40.25,-1.8,{"$f":"'[2]Détail N°7'!$L$28","v":9},1]
[null,null,null,null,null,null,null,null,null,null,null,null,null,null,{"$f":"Traduction!$A$357","v":"Dimanche"},"2018-02-11",40.2916666666667,-1.8,{"$f":"'[2]Détail N°7'!$L$28","v":9},1]
[null,null,null,null,null,null,null,null,null,null,null,null,null,null,{"$f":"Traduction!$A$357","v":"Dimanche"},"2018-02-11",40.3333333333333,-1.8,{"$f":"'[2]Détail N°7'!$L$28","v":9},1]
[null,null,null,null,null,null,null,null,null,null,null,null,null,null,{"$f":"Traduction!$A$357","v":"Dimanche"},"2018-02-11",40.375,-0.9,{"$f":"'[2]Détail N°7'!$L$28","v":9},1]
[null,null,null,null,null,null,null,null,null,null,null,null,null,null,{"$f":"Traduction!$A$357","v":"Dimanche"},"2018-02-11",40.4166666666667,-1,{"$f":"'[2]Détail N°7'!$L$28","v":9},1]
[null,null,null,null,null,null,null,null,null,null,null,null,null,null,{"$f":"Traduction!$A$357","v":"Dimanche"},"2018-02-11",40.4583333333333,-0.5,{"$f":"'[2]Détail N°7'!$L$28","v":9},1]
[null,null,null,null,null,null,null,null,null,null,null,null,null,null,{"$f":"Traduction!$A$357","v":"Dimanche"},"2018-02-11",40.5,-0.1,{"$f":"'[2]Détail N°7'!$L$28","v":9},1]
[null,null,null,null,null,null,null,null,null,null,null,null,null,null,{"$f":"Traduction!$A$357","v":"Dimanche"},"2018-02-11",40.5416666666667,0.6,{"$f":"'[2]Détail N°7'!$L$28","v":9},1]
[null,null,null,null,null,null,null,null,null,null,null,null,null,null,{"$f":"Traduction!$A$357","v":"Dimanche"},"2018-02-11",40.5833333333333,1.3,{"$f":"'[2]Détail N°7'!$L$28","v":9},1]
[null,null,null,null,null,null,null,null,null,null,null,null,null,null,{"$f":"Traduction!$A$357","v":"Dimanche"},"2018-02-11",40.625,2.1,{"$f":"'[2]Détail N°7'!$L$28","v":9},1]
[null,null,null,null,null,null,null,null,null,null,null,null,null,null,{"$f":"Traduction!$A$357","v":"Dimanche"},"2018-02-11",40.6666666666667,2.4,{"$f":"'[2]Détail N°7'!$L$28","v":9},1]
[null,null,null,null,null,null,null,null,null,null,null,null,null,null,{"$f":"Traduction!$A$357","v":"Dimanche"},"2018-02-11",40.7083333333333,2.2000000000000002,{"$f":"'[2]Détail N°7'!$L$28","v":9},1]
[null,null,null,null,null,null,null,null,null,null,null,null,null,null,{"$f":"Traduction!$A$357","v":"Dimanche"},"2018-02-11",40.75,1.7,{"$f":"'[2]Détail N°7'!$L$28","v":9},1]
[null,null,null,null,null,null,null,null,null,null,null,null,null,null,{"$f":"Traduction!$A$357","v":"Dimanche"},"2018-02-11",40.7916666666667,1.4,{"$f":"'[2]Détail N°7'!$L$28","v":9},1]
[null,null,null,null,null,null,null,null,null,null,null,null,null,null,{"$f":"Traduction!$A$357","v":"Dimanche"},"2018-02-11",40.8333333333333,1.1000000000000001,{"$f":"'[2]Détail N°7'!$L$28","v":9},1]
[null,null,null,null,null,null,null,null,null,null,null,null,null,null,{"$f":"Traduction!$A$357","v":"Dimanche"},"2018-02-11",40.875,0.8,{"$f":"'[2]Détail N°7'!$L$28","v":9},1]
[null,null,null,null,null,null,null,null,null,null,null,null,null,null,{"$f":"Traduction!$A$357","v":"Dimanche"},"2018-02-11",40.9166666666667,0.5,{"$f":"'[2]Détail N°7'!$L$28","v":9},1]
[null,null,null,null,null,null,null,null,null,null,null,null,null,null,{"$f":"Traduction!$A$357","v":"Dimanche"},"2018-02-11",40.9583333333333,0.2,{"$f":"'[2]Détail N°7'!$L$28","v":9},1]
[null,null,null,null,null,null,null,null,null,null,null,null,null,null,{"$f":"Traduction!$A$357","v":"Dimanche"},"2018-02-11",41,-0.1,{"$f":"'[2]Détail N°7'!$L$28","v":9},1]
[null,null,null,null,null,null,null,null,null,null,null,null,null,null,{"$f":"Traduction!$A$351","v":"Lundi "},"2018-02-12",41.0416666666667,-0.6,{"$f":"'[2]Détail N°7'!$L$28","v":9},1]
[null,null,null,null,null,null,null,null,null,null,null,null,null,null,{"$f":"Traduction!$A$351","v":"Lundi "},"2018-02-12",41.0833333333333,-1,{"$f":"'[2]Détail N°7'!$L$28","v":9},1]
[null,null,null,null,null,null,null,null,null,null,null,null,null,null,{"$f":"Traduction!$A$351","v":"Lundi "},"2018-02-12",41.125,-1.5,{"$f":"'[2]Détail N°7'!$L$28","v":9},1]
[null,null,null,null,null,null,null,null,null,null,null,null,null,null,{"$f":"Traduction!$A$351","v":"Lundi "},"2018-02-12",41.1666666666667,-1.8,{"$f":"'[2]Détail N°7'!$L$28","v":9},1]
[null,null,null,null,null,null,null,null,null,null,null,null,null,null,{"$f":"Traduction!$A$351","v":"Lundi "},"2018-02-12",41.2083333333333,-2,{"$f":"'[2]Détail N°7'!$L$28","v":9},1]
[null,null,null,null,null,null,null,null,null,null,null,null,null,null,{"$f":"Traduction!$A$351","v":"Lundi "},"2018-02-12",41.25,-2.2000000000000002,{"$f":"'[2]Détail N°7'!$L$28","v":9},1]
[null,null,null,null,null,null,null,null,null,null,null,null,null,null,{"$f":"Traduction!$A$351","v":"Lundi "},"2018-02-12",41.2916666666667,-2.4,{"$f":"'[2]Détail N°7'!$L$28","v":9},1]
[null,null,null,null,null,null,null,null,null,null,null,null,null,null,{"$f":"Traduction!$A$351","v":"Lundi "},"2018-02-12",41.3333333333333,-2.4,{"$f":"'[2]Détail N°7'!$L$28","v":9},1]
[null,null,null,null,null,null,null,null,null,null,null,null,null,null,{"$f":"Traduction!$A$351","v":"Lundi "},"2018-02-12",41.375,-2,{"$f":"'[2]Détail N°7'!$L$28","v":9},1]
[null,null,null,null,null,null,null,null,null,null,null,null,null,null,{"$f":"Traduction!$A$351","v":"Lundi "},"2018-02-12",41.4166666666667,-1.3,{"$f":"'[2]Détail N°7'!$L$28","v":9},1]
[null,null,null,null,null,null,null,null,null,null,null,null,null,null,{"$f":"Traduction!$A$351","v":"Lundi "},"2018-02-12",41.4583333333333,-0.6,{"$f":"'[2]Détail N°7'!$L$28","v":9},1]
[null,null,null,null,null,null,null,null,null,null,null,null,null,null,{"$f":"Traduction!$A$351","v":"Lundi "},"2018-02-12",41.5,0,{"$f":"'[2]Détail N°7'!$L$28","v":9},1]
[null,null,null,null,null,null,null,null,null,null,null,null,null,null,{"$f":"Traduction!$A$351","v":"Lundi "},"2018-02-12",41.5416666666667,0.4,{"$f":"'[2]Détail N°7'!$L$28","v":9},1]
[null,null,null,null,null,null,null,null,null,null,null,null,null,null,{"$f":"Traduction!$A$351","v":"Lundi "},"2018-02-12",41.5833333333333,0.6,{"$f":"'[2]Détail N°7'!$L$28","v":9},1]
[null,null,null,null,null,null,null,null,null,null,null,null,null,null,{"$f":"Traduction!$A$351","v":"Lundi "},"2018-02-12",41.625,0.7,{"$f":"'[2]Détail N°7'!$L$28","v":9},1]
[null,null,null,null,null,null,null,null,null,null,null,null,null,null,{"$f":"Traduction!$A$351","v":"Lundi "},"2018-02-12",41.6666666666667,0.6,{"$f":"'[2]Détail N°7'!$L$28","v":9},1]
[null,null,null,null,null,null,null,null,null,null,null,null,null,null,{"$f":"Traduction!$A$351","v":"Lundi "},"2018-02-12",41.7083333333333,0.1,{"$f":"'[2]Détail N°7'!$L$28","v":9},1]
[null,null,null,null,null,null,null,null,null,null,null,null,null,null,{"$f":"Traduction!$A$351","v":"Lundi "},"2018-02-12",41.75,-0.2,{"$f":"'[2]Détail N°7'!$L$28","v":9},{"$f":"IF(R1367<=S1367,1,0)","v":1}]
[null,null,null,null,null,null,null,null,null,null,null,null,null,null,{"$f":"Traduction!$A$351","v":"Lundi "},"2018-02-12",41.7916666666667,-0.6,{"$f":"'[2]Détail N°7'!$L$28","v":9},1]
[null,null,null,null,null,null,null,null,null,null,null,null,null,null,{"$f":"Traduction!$A$351","v":"Lundi "},"2018-02-12",41.8333333333333,-1,{"$f":"'[2]Détail N°7'!$L$28","v":9},1]
[null,null,null,null,null,null,null,null,null,null,null,null,null,null,{"$f":"Traduction!$A$351","v":"Lundi "},"2018-02-12",41.875,-1.4,{"$f":"'[2]Détail N°7'!$L$28","v":9},1]
[null,null,null,null,null,null,null,null,null,null,null,null,null,null,{"$f":"Traduction!$A$351","v":"Lundi "},"2018-02-12",41.9166666666667,-1.8,{"$f":"'[2]Détail N°7'!$L$28","v":9},1]
[null,null,null,null,null,null,null,null,null,null,null,null,null,null,{"$f":"Traduction!$A$351","v":"Lundi "},"2018-02-12",41.9583333333333,-2.2000000000000002,{"$f":"'[2]Détail N°7'!$L$28","v":9},1]
[null,null,null,null,null,null,null,null,null,null,null,null,null,null,{"$f":"Traduction!$A$351","v":"Lundi "},"2018-02-12",42,-2.5,{"$f":"'[2]Détail N°7'!$L$28","v":9},1]
[null,null,null,null,null,null,null,null,null,null,null,null,null,null,{"$f":"Traduction!$A$352","v":"Mardi"},"2018-02-13",42.0416666666667,-2.8,{"$f":"'[2]Détail N°7'!$L$28","v":9},1]
[null,null,null,null,null,null,null,null,null,null,null,null,null,null,{"$f":"Traduction!$A$352","v":"Mardi"},"2018-02-13",42.0833333333333,-3.1,{"$f":"'[2]Détail N°7'!$L$28","v":9},1]
[null,null,null,null,null,null,null,null,null,null,null,null,null,null,{"$f":"Traduction!$A$352","v":"Mardi"},"2018-02-13",42.125,-3.3,{"$f":"'[2]Détail N°7'!$L$28","v":9},1]
[null,null,null,null,null,null,null,null,null,null,null,null,null,null,{"$f":"Traduction!$A$352","v":"Mardi"},"2018-02-13",42.1666666666667,-3.4,{"$f":"'[2]Détail N°7'!$L$28","v":9},1]
[null,null,null,null,null,null,null,null,null,null,null,null,null,null,{"$f":"Traduction!$A$352","v":"Mardi"},"2018-02-13",42.2083333333333,-3.6,{"$f":"'[2]Détail N°7'!$L$28","v":9},1]
[null,null,null,null,null,null,null,null,null,null,null,null,null,null,{"$f":"Traduction!$A$352","v":"Mardi"},"2018-02-13",42.25,-3.7,{"$f":"'[2]Détail N°7'!$L$28","v":9},1]
[null,null,null,null,null,null,null,null,null,null,null,null,null,null,{"$f":"Traduction!$A$352","v":"Mardi"},"2018-02-13",42.2916666666667,-3.8,{"$f":"'[2]Détail N°7'!$L$28","v":9},1]
[null,null,null,null,null,null,null,null,null,null,null,null,null,null,{"$f":"Traduction!$A$352","v":"Mardi"},"2018-02-13",42.3333333333333,-3.8,{"$f":"'[2]Détail N°7'!$L$28","v":9},1]
[null,null,null,null,null,null,null,null,null,null,null,null,null,null,{"$f":"Traduction!$A$352","v":"Mardi"},"2018-02-13",42.375,-3.1,{"$f":"'[2]Détail N°7'!$L$28","v":9},1]
[null,null,null,null,null,null,null,null,null,null,null,null,null,null,{"$f":"Traduction!$A$352","v":"Mardi"},"2018-02-13",42.4166666666667,-1.7,{"$f":"'[2]Détail N°7'!$L$28","v":9},1]
[null,null,null,null,null,null,null,null,null,null,null,null,null,null,{"$f":"Traduction!$A$352","v":"Mardi"},"2018-02-13",42.4583333333333,-0.6,{"$f":"'[2]Détail N°7'!$L$28","v":9},1]
[null,null,null,null,null,null,null,null,null,null,null,null,null,null,{"$f":"Traduction!$A$352","v":"Mardi"},"2018-02-13",42.5,1,{"$f":"'[2]Détail N°7'!$L$28","v":9},1]
[null,null,null,null,null,null,null,null,null,null,null,null,null,null,{"$f":"Traduction!$A$352","v":"Mardi"},"2018-02-13",42.5416666666667,2,{"$f":"'[2]Détail N°7'!$L$28","v":9},1]
[null,null,null,null,null,null,null,null,null,null,null,null,null,null,{"$f":"Traduction!$A$352","v":"Mardi"},"2018-02-13",42.5833333333333,2.7,{"$f":"'[2]Détail N°7'!$L$28","v":9},1]
[null,null,null,null,null,null,null,null,null,null,null,null,null,null,{"$f":"Traduction!$A$352","v":"Mardi"},"2018-02-13",42.625,3.2,{"$f":"'[2]Détail N°7'!$L$28","v":9},1]
[null,null,null,null,null,null,null,null,null,null,null,null,null,null,{"$f":"Traduction!$A$352","v":"Mardi"},"2018-02-13",42.6666666666667,3.1,{"$f":"'[2]Détail N°7'!$L$28","v":9},1]
[null,null,null,null,null,null,null,null,null,null,null,null,null,null,{"$f":"Traduction!$A$352","v":"Mardi"},"2018-02-13",42.7083333333333,2.2999999999999998,{"$f":"'[2]Détail N°7'!$L$28","v":9},1]
[null,null,null,null,null,null,null,null,null,null,null,null,null,null,{"$f":"Traduction!$A$352","v":"Mardi"},"2018-02-13",42.75,1.3,{"$f":"'[2]Détail N°7'!$L$28","v":9},1]
[null,null,null,null,null,null,null,null,null,null,null,null,null,null,{"$f":"Traduction!$A$352","v":"Mardi"},"2018-02-13",42.7916666666667,1.1000000000000001,{"$f":"'[2]Détail N°7'!$L$28","v":9},1]
[null,null,null,null,null,null,null,null,null,null,null,null,null,null,{"$f":"Traduction!$A$352","v":"Mardi"},"2018-02-13",42.8333333333333,1,{"$f":"'[2]Détail N°7'!$L$28","v":9},1]
[null,null,null,null,null,null,null,null,null,null,null,null,null,null,{"$f":"Traduction!$A$352","v":"Mardi"},"2018-02-13",42.875,0.8,{"$f":"'[2]Détail N°7'!$L$28","v":9},1]
[null,null,null,null,null,null,null,null,null,null,null,null,null,null,{"$f":"Traduction!$A$352","v":"Mardi"},"2018-02-13",42.9166666666667,0.6,{"$f":"'[2]Détail N°7'!$L$28","v":9},1]
[null,null,null,null,null,null,null,null,null,null,null,null,null,null,{"$f":"Traduction!$A$352","v":"Mardi"},"2018-02-13",42.9583333333333,0.4,{"$f":"'[2]Détail N°7'!$L$28","v":9},1]
[null,null,null,null,null,null,null,null,null,null,null,null,null,null,{"$f":"Traduction!$A$352","v":"Mardi"},"2018-02-13",43,0.2,{"$f":"'[2]Détail N°7'!$L$28","v":9},1]
[null,null,null,null,null,null,null,null,null,null,null,null,null,null,{"$f":"Traduction!$A$353","v":"Mercredi"},"2018-02-14",43.0416666666667,0,{"$f":"'[2]Détail N°7'!$L$28","v":9},1]
[null,null,null,null,null,null,null,null,null,null,null,null,null,null,{"$f":"Traduction!$A$353","v":"Mercredi"},"2018-02-14",43.0833333333333,-0.1,{"$f":"'[2]Détail N°7'!$L$28","v":9},1]
[null,null,null,null,null,null,null,null,null,null,null,null,null,null,{"$f":"Traduction!$A$353","v":"Mercredi"},"2018-02-14",43.125,-0.3,{"$f":"'[2]Détail N°7'!$L$28","v":9},1]
[null,null,null,null,null,null,null,null,null,null,null,null,null,null,{"$f":"Traduction!$A$353","v":"Mercredi"},"2018-02-14",43.1666666666667,-0.4,{"$f":"'[2]Détail N°7'!$L$28","v":9},1]
[null,null,null,null,null,null,null,null,null,null,null,null,null,null,{"$f":"Traduction!$A$353","v":"Mercredi"},"2018-02-14",43.2083333333333,-0.4,{"$f":"'[2]Détail N°7'!$L$28","v":9},1]
[null,null,null,null,null,null,null,null,null,null,null,null,null,null,{"$f":"Traduction!$A$353","v":"Mercredi"},"2018-02-14",43.25,-0.5,{"$f":"'[2]Détail N°7'!$L$28","v":9},1]
[null,null,null,null,null,null,null,null,null,null,null,null,null,null,{"$f":"Traduction!$A$353","v":"Mercredi"},"2018-02-14",43.2916666666667,-0.5,{"$f":"'[2]Détail N°7'!$L$28","v":9},1]
[null,null,null,null,null,null,null,null,null,null,null,null,null,null,{"$f":"Traduction!$A$353","v":"Mercredi"},"2018-02-14",43.3333333333333,-0.5,{"$f":"'[2]Détail N°7'!$L$28","v":9},1]
[null,null,null,null,null,null,null,null,null,null,null,null,null,null,{"$f":"Traduction!$A$353","v":"Mercredi"},"2018-02-14",43.375,0.3,{"$f":"'[2]Détail N°7'!$L$28","v":9},1]
[null,null,null,null,null,null,null,null,null,null,null,null,null,null,{"$f":"Traduction!$A$353","v":"Mercredi"},"2018-02-14",43.4166666666667,2.4,{"$f":"'[2]Détail N°7'!$L$28","v":9},1]
[null,null,null,null,null,null,null,null,null,null,null,null,null,null,{"$f":"Traduction!$A$353","v":"Mercredi"},"2018-02-14",43.4583333333333,3.7,{"$f":"'[2]Détail N°7'!$L$28","v":9},1]
[null,null,null,null,null,null,null,null,null,null,null,null,null,null,{"$f":"Traduction!$A$353","v":"Mercredi"},"2018-02-14",43.5,3.5,{"$f":"'[2]Détail N°7'!$L$28","v":9},1]
[null,null,null,null,null,null,null,null,null,null,null,null,null,null,{"$f":"Traduction!$A$353","v":"Mercredi"},"2018-02-14",43.5416666666667,3.4,{"$f":"'[2]Détail N°7'!$L$28","v":9},1]
[null,null,null,null,null,null,null,null,null,null,null,null,null,null,{"$f":"Traduction!$A$353","v":"Mercredi"},"2018-02-14",43.5833333333333,3.7,{"$f":"'[2]Détail N°7'!$L$28","v":9},1]
[null,null,null,null,null,null,null,null,null,null,null,null,null,null,{"$f":"Traduction!$A$353","v":"Mercredi"},"2018-02-14",43.625,3.9,{"$f":"'[2]Détail N°7'!$L$28","v":9},1]
[null,null,null,null,null,null,null,null,null,null,null,null,null,null,{"$f":"Traduction!$A$353","v":"Mercredi"},"2018-02-14",43.6666666666667,4.4000000000000004,{"$f":"'[2]Détail N°7'!$L$28","v":9},1]
[null,null,null,null,null,null,null,null,null,null,null,null,null,null,{"$f":"Traduction!$A$353","v":"Mercredi"},"2018-02-14",43.7083333333333,3.9,{"$f":"'[2]Détail N°7'!$L$28","v":9},1]
[null,null,null,null,null,null,null,null,null,null,null,null,null,null,{"$f":"Traduction!$A$353","v":"Mercredi"},"2018-02-14",43.75,3.3,{"$f":"'[2]Détail N°7'!$L$28","v":9},1]
[null,null,null,null,null,null,null,null,null,null,null,null,null,null,{"$f":"Traduction!$A$353","v":"Mercredi"},"2018-02-14",43.7916666666667,2.9,{"$f":"'[2]Détail N°7'!$L$28","v":9},1]
[null,null,null,null,null,null,null,null,null,null,null,null,null,null,{"$f":"Traduction!$A$353","v":"Mercredi"},"2018-02-14",43.8333333333333,2.4,{"$f":"'[2]Détail N°7'!$L$28","v":9},1]
[null,null,null,null,null,null,null,null,null,null,null,null,null,null,{"$f":"Traduction!$A$353","v":"Mercredi"},"2018-02-14",43.875,1.9,{"$f":"'[2]Détail N°7'!$L$28","v":9},1]
[null,null,null,null,null,null,null,null,null,null,null,null,null,null,{"$f":"Traduction!$A$353","v":"Mercredi"},"2018-02-14",43.9166666666667,1.5,{"$f":"'[2]Détail N°7'!$L$28","v":9},1]
[null,null,null,null,null,null,null,null,null,null,null,null,null,null,{"$f":"Traduction!$A$353","v":"Mercredi"},"2018-02-14",43.9583333333333,1,{"$f":"'[2]Détail N°7'!$L$28","v":9},1]
[null,null,null,null,null,null,null,null,null,null,null,null,null,null,{"$f":"Traduction!$A$353","v":"Mercredi"},"2018-02-14",44,0.5,{"$f":"'[2]Détail N°7'!$L$28","v":9},1]
[null,null,null,null,null,null,null,null,null,null,null,null,null,null,{"$f":"Traduction!$A$354","v":"Jeudi"},"2018-02-15",44.0416666666667,0,{"$f":"'[2]Détail N°7'!$L$28","v":9},1]
[null,null,null,null,null,null,null,null,null,null,null,null,null,null,{"$f":"Traduction!$A$354","v":"Jeudi"},"2018-02-15",44.0833333333333,-0.5,{"$f":"'[2]Détail N°7'!$L$28","v":9},1]
[null,null,null,null,null,null,null,null,null,null,null,null,null,null,{"$f":"Traduction!$A$354","v":"Jeudi"},"2018-02-15",44.125,-1,{"$f":"'[2]Détail N°7'!$L$28","v":9},1]
[null,null,null,null,null,null,null,null,null,null,null,null,null,null,{"$f":"Traduction!$A$354","v":"Jeudi"},"2018-02-15",44.1666666666667,-1.2,{"$f":"'[2]Détail N°7'!$L$28","v":9},1]
[null,null,null,null,null,null,null,null,null,null,null,null,null,null,{"$f":"Traduction!$A$354","v":"Jeudi"},"2018-02-15",44.2083333333333,-1.5,{"$f":"'[2]Détail N°7'!$L$28","v":9},1]
[null,null,null,null,null,null,null,null,null,null,null,null,null,null,{"$f":"Traduction!$A$354","v":"Jeudi"},"2018-02-15",44.25,-1.7,{"$f":"'[2]Détail N°7'!$L$28","v":9},1]
[null,null,null,null,null,null,null,null,null,null,null,null,null,null,{"$f":"Traduction!$A$354","v":"Jeudi"},"2018-02-15",44.2916666666667,-1.8,{"$f":"'[2]Détail N°7'!$L$28","v":9},1]
[null,null,null,null,null,null,null,null,null,null,null,null,null,null,{"$f":"Traduction!$A$354","v":"Jeudi"},"2018-02-15",44.3333333333333,-1.8,{"$f":"'[2]Détail N°7'!$L$28","v":9},1]
[null,null,null,null,null,null,null,null,null,null,null,null,null,null,{"$f":"Traduction!$A$354","v":"Jeudi"},"2018-02-15",44.375,-0.5,{"$f":"'[2]Détail N°7'!$L$28","v":9},1]
[null,null,null,null,null,null,null,null,null,null,null,null,null,null,{"$f":"Traduction!$A$354","v":"Jeudi"},"2018-02-15",44.4166666666667,1.2,{"$f":"'[2]Détail N°7'!$L$28","v":9},{"$f":"IF(R1431<=S1431,1,0)","v":1}]
[null,null,null,null,null,null,null,null,null,null,null,null,null,null,{"$f":"Traduction!$A$354","v":"Jeudi"},"2018-02-15",44.4583333333333,3,{"$f":"'[2]Détail N°7'!$L$28","v":9},1]
[null,null,null,null,null,null,null,null,null,null,null,null,null,null,{"$f":"Traduction!$A$354","v":"Jeudi"},"2018-02-15",44.5,4.5999999999999996,{"$f":"'[2]Détail N°7'!$L$28","v":9},1]
[null,null,null,null,null,null,null,null,null,null,null,null,null,null,{"$f":"Traduction!$A$354","v":"Jeudi"},"2018-02-15",44.5416666666667,5.9,{"$f":"'[2]Détail N°7'!$L$28","v":9},1]
[null,null,null,null,null,null,null,null,null,null,null,null,null,null,{"$f":"Traduction!$A$354","v":"Jeudi"},"2018-02-15",44.5833333333333,6.7,{"$f":"'[2]Détail N°7'!$L$28","v":9},1]
[null,null,null,null,null,null,null,null,null,null,null,null,null,null,{"$f":"Traduction!$A$354","v":"Jeudi"},"2018-02-15",44.625,7.1,{"$f":"'[2]Détail N°7'!$L$28","v":9},1]
[null,null,null,null,null,null,null,null,null,null,null,null,null,null,{"$f":"Traduction!$A$354","v":"Jeudi"},"2018-02-15",44.6666666666667,7,{"$f":"'[2]Détail N°7'!$L$28","v":9},1]
[null,null,null,null,null,null,null,null,null,null,null,null,null,null,{"$f":"Traduction!$A$354","v":"Jeudi"},"2018-02-15",44.7083333333333,6.3,{"$f":"'[2]Détail N°7'!$L$28","v":9},1]
[null,null,null,null,null,null,null,null,null,null,null,null,null,null,{"$f":"Traduction!$A$354","v":"Jeudi"},"2018-02-15",44.75,5,{"$f":"'[2]Détail N°7'!$L$28","v":9},1]
[null,null,null,null,null,null,null,null,null,null,null,null,null,null,{"$f":"Traduction!$A$354","v":"Jeudi"},"2018-02-15",44.7916666666667,4.2,{"$f":"'[2]Détail N°7'!$L$28","v":9},1]
[null,null,null,null,null,null,null,null,null,null,null,null,null,null,{"$f":"Traduction!$A$354","v":"Jeudi"},"2018-02-15",44.8333333333333,3.5,{"$f":"'[2]Détail N°7'!$L$28","v":9},1]
[null,null,null,null,null,null,null,null,null,null,null,null,null,null,{"$f":"Traduction!$A$354","v":"Jeudi"},"2018-02-15",44.875,2.7,{"$f":"'[2]Détail N°7'!$L$28","v":9},1]
[null,null,null,null,null,null,null,null,null,null,null,null,null,null,{"$f":"Traduction!$A$354","v":"Jeudi"},"2018-02-15",44.9166666666667,1.9,{"$f":"'[2]Détail N°7'!$L$28","v":9},1]
[null,null,null,null,null,null,null,null,null,null,null,null,null,null,{"$f":"Traduction!$A$354","v":"Jeudi"},"2018-02-15",44.9583333333333,1.2,{"$f":"'[2]Détail N°7'!$L$28","v":9},1]
[null,null,null,null,null,null,null,null,null,null,null,null,null,null,{"$f":"Traduction!$A$354","v":"Jeudi"},"2018-02-15",45,0.4,{"$f":"'[2]Détail N°7'!$L$28","v":9},1]
[null,null,null,null,null,null,null,null,null,null,null,null,null,null,{"$f":"Traduction!$A$355","v":"Vendredi"},"2018-02-16",45.0416666666667,-0.3,{"$f":"'[2]Détail N°7'!$L$28","v":9},1]
[null,null,null,null,null,null,null,null,null,null,null,null,null,null,{"$f":"Traduction!$A$355","v":"Vendredi"},"2018-02-16",45.0833333333333,-1.1000000000000001,{"$f":"'[2]Détail N°7'!$L$28","v":9},1]
[null,null,null,null,null,null,null,null,null,null,null,null,null,null,{"$f":"Traduction!$A$355","v":"Vendredi"},"2018-02-16",45.125,-2,{"$f":"'[2]Détail N°7'!$L$28","v":9},1]
[null,null,null,null,null,null,null,null,null,null,null,null,null,null,{"$f":"Traduction!$A$355","v":"Vendredi"},"2018-02-16",45.1666666666667,-2.4,{"$f":"'[2]Détail N°7'!$L$28","v":9},1]
[null,null,null,null,null,null,null,null,null,null,null,null,null,null,{"$f":"Traduction!$A$355","v":"Vendredi"},"2018-02-16",45.2083333333333,-2.8,{"$f":"'[2]Détail N°7'!$L$28","v":9},1]
[null,null,null,null,null,null,null,null,null,null,null,null,null,null,{"$f":"Traduction!$A$355","v":"Vendredi"},"2018-02-16",45.25,-3.2,{"$f":"'[2]Détail N°7'!$L$28","v":9},1]
[null,null,null,null,null,null,null,null,null,null,null,null,null,null,{"$f":"Traduction!$A$355","v":"Vendredi"},"2018-02-16",45.2916666666667,-3.5,{"$f":"'[2]Détail N°7'!$L$28","v":9},1]
[null,null,null,null,null,null,null,null,null,null,null,null,null,null,{"$f":"Traduction!$A$355","v":"Vendredi"},"2018-02-16",45.3333333333333,-3.6,{"$f":"'[2]Détail N°7'!$L$28","v":9},1]
[null,null,null,null,null,null,null,null,null,null,null,null,null,null,{"$f":"Traduction!$A$355","v":"Vendredi"},"2018-02-16",45.375,-2.2000000000000002,{"$f":"'[2]Détail N°7'!$L$28","v":9},1]
[null,null,null,null,null,null,null,null,null,null,null,null,null,null,{"$f":"Traduction!$A$355","v":"Vendredi"},"2018-02-16",45.4166666666667,-0.4,{"$f":"'[2]Détail N°7'!$L$28","v":9},1]
[null,null,null,null,null,null,null,null,null,null,null,null,null,null,{"$f":"Traduction!$A$355","v":"Vendredi"},"2018-02-16",45.4583333333333,1.4,{"$f":"'[2]Détail N°7'!$L$28","v":9},1]
[null,null,null,null,null,null,null,null,null,null,null,null,null,null,{"$f":"Traduction!$A$355","v":"Vendredi"},"2018-02-16",45.5,2.9,{"$f":"'[2]Détail N°7'!$L$28","v":9},1]
[null,null,null,null,null,null,null,null,null,null,null,null,null,null,{"$f":"Traduction!$A$355","v":"Vendredi"},"2018-02-16",45.5416666666667,4.0999999999999996,{"$f":"'[2]Détail N°7'!$L$28","v":9},1]
[null,null,null,null,null,null,null,null,null,null,null,null,null,null,{"$f":"Traduction!$A$355","v":"Vendredi"},"2018-02-16",45.5833333333333,4.9000000000000004,{"$f":"'[2]Détail N°7'!$L$28","v":9},1]
[null,null,null,null,null,null,null,null,null,null,null,null,null,null,{"$f":"Traduction!$A$355","v":"Vendredi"},"2018-02-16",45.625,5.2,{"$f":"'[2]Détail N°7'!$L$28","v":9},1]
[null,null,null,null,null,null,null,null,null,null,null,null,null,null,{"$f":"Traduction!$A$355","v":"Vendredi"},"2018-02-16",45.6666666666667,5.0999999999999996,{"$f":"'[2]Détail N°7'!$L$28","v":9},1]
[null,null,null,null,null,null,null,null,null,null,null,null,null,null,{"$f":"Traduction!$A$355","v":"Vendredi"},"2018-02-16",45.7083333333333,4.3,{"$f":"'[2]Détail N°7'!$L$28","v":9},1]
[null,null,null,null,null,null,null,null,null,null,null,null,null,null,{"$f":"Traduction!$A$355","v":"Vendredi"},"2018-02-16",45.75,2.9,{"$f":"'[2]Détail N°7'!$L$28","v":9},1]
[null,null,null,null,null,null,null,null,null,null,null,null,null,null,{"$f":"Traduction!$A$355","v":"Vendredi"},"2018-02-16",45.7916666666667,2.6,{"$f":"'[2]Détail N°7'!$L$28","v":9},1]
[null,null,null,null,null,null,null,null,null,null,null,null,null,null,{"$f":"Traduction!$A$355","v":"Vendredi"},"2018-02-16",45.8333333333333,2.2000000000000002,{"$f":"'[2]Détail N°7'!$L$28","v":9},1]
[null,null,null,null,null,null,null,null,null,null,null,null,null,null,{"$f":"Traduction!$A$355","v":"Vendredi"},"2018-02-16",45.875,1.9,{"$f":"'[2]Détail N°7'!$L$28","v":9},1]
[null,null,null,null,null,null,null,null,null,null,null,null,null,null,{"$f":"Traduction!$A$355","v":"Vendredi"},"2018-02-16",45.9166666666667,1.6,{"$f":"'[2]Détail N°7'!$L$28","v":9},1]
[null,null,null,null,null,null,null,null,null,null,null,null,null,null,{"$f":"Traduction!$A$355","v":"Vendredi"},"2018-02-16",45.9583333333333,1.3,{"$f":"'[2]Détail N°7'!$L$28","v":9},1]
[null,null,null,null,null,null,null,null,null,null,null,null,null,null,{"$f":"Traduction!$A$355","v":"Vendredi"},"2018-02-16",46,1,{"$f":"'[2]Détail N°7'!$L$28","v":9},1]
[null,null,null,null,null,null,null,null,null,null,null,null,null,null,{"$f":"Traduction!$A$356","v":"Samedi"},"2018-02-17",46.0416666666667,1,{"$f":"'[2]Détail N°7'!$L$28","v":9},1]
[null,null,null,null,null,null,null,null,null,null,null,null,null,null,{"$f":"Traduction!$A$356","v":"Samedi"},"2018-02-17",46.0833333333333,1,{"$f":"'[2]Détail N°7'!$L$28","v":9},1]
[null,null,null,null,null,null,null,null,null,null,null,null,null,null,{"$f":"Traduction!$A$356","v":"Samedi"},"2018-02-17",46.125,1.1000000000000001,{"$f":"'[2]Détail N°7'!$L$28","v":9},1]
[null,null,null,null,null,null,null,null,null,null,null,null,null,null,{"$f":"Traduction!$A$356","v":"Samedi"},"2018-02-17",46.1666666666667,1.2,{"$f":"'[2]Détail N°7'!$L$28","v":9},1]
[null,null,null,null,null,null,null,null,null,null,null,null,null,null,{"$f":"Traduction!$A$356","v":"Samedi"},"2018-02-17",46.2083333333333,1.2,{"$f":"'[2]Détail N°7'!$L$28","v":9},1]
[null,null,null,null,null,null,null,null,null,null,null,null,null,null,{"$f":"Traduction!$A$356","v":"Samedi"},"2018-02-17",46.25,1.3,{"$f":"'[2]Détail N°7'!$L$28","v":9},1]
[null,null,null,null,null,null,null,null,null,null,null,null,null,null,{"$f":"Traduction!$A$356","v":"Samedi"},"2018-02-17",46.2916666666667,1.3,{"$f":"'[2]Détail N°7'!$L$28","v":9},1]
[null,null,null,null,null,null,null,null,null,null,null,null,null,null,{"$f":"Traduction!$A$356","v":"Samedi"},"2018-02-17",46.3333333333333,1.4,{"$f":"'[2]Détail N°7'!$L$28","v":9},1]
[null,null,null,null,null,null,null,null,null,null,null,null,null,null,{"$f":"Traduction!$A$356","v":"Samedi"},"2018-02-17",46.375,1.3,{"$f":"'[2]Détail N°7'!$L$28","v":9},1]
[null,null,null,null,null,null,null,null,null,null,null,null,null,null,{"$f":"Traduction!$A$356","v":"Samedi"},"2018-02-17",46.4166666666667,1.7,{"$f":"'[2]Détail N°7'!$L$28","v":9},1]
[null,null,null,null,null,null,null,null,null,null,null,null,null,null,{"$f":"Traduction!$A$356","v":"Samedi"},"2018-02-17",46.4583333333333,2,{"$f":"'[2]Détail N°7'!$L$28","v":9},1]
[null,null,null,null,null,null,null,null,null,null,null,null,null,null,{"$f":"Traduction!$A$356","v":"Samedi"},"2018-02-17",46.5,2.2000000000000002,{"$f":"'[2]Détail N°7'!$L$28","v":9},1]
[null,null,null,null,null,null,null,null,null,null,null,null,null,null,{"$f":"Traduction!$A$356","v":"Samedi"},"2018-02-17",46.5416666666667,2.4,{"$f":"'[2]Détail N°7'!$L$28","v":9},1]
[null,null,null,null,null,null,null,null,null,null,null,null,null,null,{"$f":"Traduction!$A$356","v":"Samedi"},"2018-02-17",46.5833333333333,3.9,{"$f":"'[2]Détail N°7'!$L$28","v":9},1]
[null,null,null,null,null,null,null,null,null,null,null,null,null,null,{"$f":"Traduction!$A$356","v":"Samedi"},"2018-02-17",46.625,4.9000000000000004,{"$f":"'[2]Détail N°7'!$L$28","v":9},1]
[null,null,null,null,null,null,null,null,null,null,null,null,null,null,{"$f":"Traduction!$A$356","v":"Samedi"},"2018-02-17",46.6666666666667,5.4,{"$f":"'[2]Détail N°7'!$L$28","v":9},1]
[null,null,null,null,null,null,null,null,null,null,null,null,null,null,{"$f":"Traduction!$A$356","v":"Samedi"},"2018-02-17",46.7083333333333,5.6,{"$f":"'[2]Détail N°7'!$L$28","v":9},1]
[null,null,null,null,null,null,null,null,null,null,null,null,null,null,{"$f":"Traduction!$A$356","v":"Samedi"},"2018-02-17",46.75,5.0999999999999996,{"$f":"'[2]Détail N°7'!$L$28","v":9},1]
[null,null,null,null,null,null,null,null,null,null,null,null,null,null,{"$f":"Traduction!$A$356","v":"Samedi"},"2018-02-17",46.7916666666667,4.9000000000000004,{"$f":"'[2]Détail N°7'!$L$28","v":9},1]
[null,null,null,null,null,null,null,null,null,null,null,null,null,null,{"$f":"Traduction!$A$356","v":"Samedi"},"2018-02-17",46.8333333333333,4.8,{"$f":"'[2]Détail N°7'!$L$28","v":9},1]
[null,null,null,null,null,null,null,null,null,null,null,null,null,null,{"$f":"Traduction!$A$356","v":"Samedi"},"2018-02-17",46.875,4.5999999999999996,{"$f":"'[2]Détail N°7'!$L$28","v":9},1]
[null,null,null,null,null,null,null,null,null,null,null,null,null,null,{"$f":"Traduction!$A$356","v":"Samedi"},"2018-02-17",46.9166666666667,4.5,{"$f":"'[2]Détail N°7'!$L$28","v":9},1]
[null,null,null,null,null,null,null,null,null,null,null,null,null,null,{"$f":"Traduction!$A$356","v":"Samedi"},"2018-02-17",46.9583333333333,4.4000000000000004,{"$f":"'[2]Détail N°7'!$L$28","v":9},1]
[null,null,null,null,null,null,null,null,null,null,null,null,null,null,{"$f":"Traduction!$A$356","v":"Samedi"},"2018-02-17",47,4.2,{"$f":"'[2]Détail N°7'!$L$28","v":9},1]
[null,null,null,null,null,null,null,null,null,null,null,null,null,null,{"$f":"Traduction!$A$357","v":"Dimanche"},"2018-02-18",47.0416666666667,3.9,{"$f":"'[2]Détail N°7'!$L$28","v":9},1]
[null,null,null,null,null,null,null,null,null,null,null,null,null,null,{"$f":"Traduction!$A$357","v":"Dimanche"},"2018-02-18",47.0833333333333,3.6,{"$f":"'[2]Détail N°7'!$L$28","v":9},{"$f":"IF(R1495<=S1495,1,0)","v":1}]
[null,null,null,null,null,null,null,null,null,null,null,null,null,null,{"$f":"Traduction!$A$357","v":"Dimanche"},"2018-02-18",47.125,3.3,{"$f":"'[2]Détail N°7'!$L$28","v":9},1]
[null,null,null,null,null,null,null,null,null,null,null,null,null,null,{"$f":"Traduction!$A$357","v":"Dimanche"},"2018-02-18",47.1666666666667,3.1,{"$f":"'[2]Détail N°7'!$L$28","v":9},1]
[null,null,null,null,null,null,null,null,null,null,null,null,null,null,{"$f":"Traduction!$A$357","v":"Dimanche"},"2018-02-18",47.2083333333333,3,{"$f":"'[2]Détail N°7'!$L$28","v":9},1]
[null,null,null,null,null,null,null,null,null,null,null,null,null,null,{"$f":"Traduction!$A$357","v":"Dimanche"},"2018-02-18",47.25,2.9,{"$f":"'[2]Détail N°7'!$L$28","v":9},1]
[null,null,null,null,null,null,null,null,null,null,null,null,null,null,{"$f":"Traduction!$A$357","v":"Dimanche"},"2018-02-18",47.2916666666667,2.8,{"$f":"'[2]Détail N°7'!$L$28","v":9},1]
[null,null,null,null,null,null,null,null,null,null,null,null,null,null,{"$f":"Traduction!$A$357","v":"Dimanche"},"2018-02-18",47.3333333333333,2.6,{"$f":"'[2]Détail N°7'!$L$28","v":9},1]
[null,null,null,null,null,null,null,null,null,null,null,null,null,null,{"$f":"Traduction!$A$357","v":"Dimanche"},"2018-02-18",47.375,3,{"$f":"'[2]Détail N°7'!$L$28","v":9},1]
[null,null,null,null,null,null,null,null,null,null,null,null,null,null,{"$f":"Traduction!$A$357","v":"Dimanche"},"2018-02-18",47.4166666666667,3.4,{"$f":"'[2]Détail N°7'!$L$28","v":9},1]
[null,null,null,null,null,null,null,null,null,null,null,null,null,null,{"$f":"Traduction!$A$357","v":"Dimanche"},"2018-02-18",47.4583333333333,4,{"$f":"'[2]Détail N°7'!$L$28","v":9},1]
[null,null,null,null,null,null,null,null,null,null,null,null,null,null,{"$f":"Traduction!$A$357","v":"Dimanche"},"2018-02-18",47.5,4.0999999999999996,{"$f":"'[2]Détail N°7'!$L$28","v":9},1]
[null,null,null,null,null,null,null,null,null,null,null,null,null,null,{"$f":"Traduction!$A$357","v":"Dimanche"},"2018-02-18",47.5416666666667,4.2,{"$f":"'[2]Détail N°7'!$L$28","v":9},1]
[null,null,null,null,null,null,null,null,null,null,null,null,null,null,{"$f":"Traduction!$A$357","v":"Dimanche"},"2018-02-18",47.5833333333333,5.2,{"$f":"'[2]Détail N°7'!$L$28","v":9},1]
[null,null,null,null,null,null,null,null,null,null,null,null,null,null,{"$f":"Traduction!$A$357","v":"Dimanche"},"2018-02-18",47.625,5.8,{"$f":"'[2]Détail N°7'!$L$28","v":9},1]
[null,null,null,null,null,null,null,null,null,null,null,null,null,null,{"$f":"Traduction!$A$357","v":"Dimanche"},"2018-02-18",47.6666666666667,6.1,{"$f":"'[2]Détail N°7'!$L$28","v":9},1]
[null,null,null,null,null,null,null,null,null,null,null,null,null,null,{"$f":"Traduction!$A$357","v":"Dimanche"},"2018-02-18",47.7083333333333,5.9,{"$f":"'[2]Détail N°7'!$L$28","v":9},1]
[null,null,null,null,null,null,null,null,null,null,null,null,null,null,{"$f":"Traduction!$A$357","v":"Dimanche"},"2018-02-18",47.75,5.5,{"$f":"'[2]Détail N°7'!$L$28","v":9},1]
[null,null,null,null,null,null,null,null,null,null,null,null,null,null,{"$f":"Traduction!$A$357","v":"Dimanche"},"2018-02-18",47.7916666666667,5,{"$f":"'[2]Détail N°7'!$L$28","v":9},1]
[null,null,null,null,null,null,null,null,null,null,null,null,null,null,{"$f":"Traduction!$A$357","v":"Dimanche"},"2018-02-18",47.8333333333333,4.5999999999999996,{"$f":"'[2]Détail N°7'!$L$28","v":9},1]
[null,null,null,null,null,null,null,null,null,null,null,null,null,null,{"$f":"Traduction!$A$357","v":"Dimanche"},"2018-02-18",47.875,4.2,{"$f":"'[2]Détail N°7'!$L$28","v":9},1]
[null,null,null,null,null,null,null,null,null,null,null,null,null,null,{"$f":"Traduction!$A$357","v":"Dimanche"},"2018-02-18",47.9166666666667,3.7,{"$f":"'[2]Détail N°7'!$L$28","v":9},1]
[null,null,null,null,null,null,null,null,null,null,null,null,null,null,{"$f":"Traduction!$A$357","v":"Dimanche"},"2018-02-18",47.9583333333333,3.3,{"$f":"'[2]Détail N°7'!$L$28","v":9},1]
[null,null,null,null,null,null,null,null,null,null,null,null,null,null,{"$f":"Traduction!$A$357","v":"Dimanche"},"2018-02-18",48,2.8,{"$f":"'[2]Détail N°7'!$L$28","v":9},1]
[null,null,null,null,null,null,null,null,null,null,null,null,null,null,{"$f":"Traduction!$A$351","v":"Lundi "},"2018-02-19",48.0416666666667,2.4,{"$f":"'[2]Détail N°7'!$L$28","v":9},1]
[null,null,null,null,null,null,null,null,null,null,null,null,null,null,{"$f":"Traduction!$A$351","v":"Lundi "},"2018-02-19",48.0833333333333,1.9,{"$f":"'[2]Détail N°7'!$L$28","v":9},1]
[null,null,null,null,null,null,null,null,null,null,null,null,null,null,{"$f":"Traduction!$A$351","v":"Lundi "},"2018-02-19",48.125,1.4,{"$f":"'[2]Détail N°7'!$L$28","v":9},1]
[null,null,null,null,null,null,null,null,null,null,null,null,null,null,{"$f":"Traduction!$A$351","v":"Lundi "},"2018-02-19",48.1666666666667,1.1000000000000001,{"$f":"'[2]Détail N°7'!$L$28","v":9},1]
[null,null,null,null,null,null,null,null,null,null,null,null,null,null,{"$f":"Traduction!$A$351","v":"Lundi "},"2018-02-19",48.2083333333333,0.8,{"$f":"'[2]Détail N°7'!$L$28","v":9},1]
[null,null,null,null,null,null,null,null,null,null,null,null,null,null,{"$f":"Traduction!$A$351","v":"Lundi "},"2018-02-19",48.25,0.6,{"$f":"'[2]Détail N°7'!$L$28","v":9},1]
[null,null,null,null,null,null,null,null,null,null,null,null,null,null,{"$f":"Traduction!$A$351","v":"Lundi "},"2018-02-19",48.2916666666667,0.4,{"$f":"'[2]Détail N°7'!$L$28","v":9},1]
[null,null,null,null,null,null,null,null,null,null,null,null,null,null,{"$f":"Traduction!$A$351","v":"Lundi "},"2018-02-19",48.3333333333333,0.4,{"$f":"'[2]Détail N°7'!$L$28","v":9},1]
[null,null,null,null,null,null,null,null,null,null,null,null,null,null,{"$f":"Traduction!$A$351","v":"Lundi "},"2018-02-19",48.375,1.2,{"$f":"'[2]Détail N°7'!$L$28","v":9},1]
[null,null,null,null,null,null,null,null,null,null,null,null,null,null,{"$f":"Traduction!$A$351","v":"Lundi "},"2018-02-19",48.4166666666667,2.6,{"$f":"'[2]Détail N°7'!$L$28","v":9},1]
[null,null,null,null,null,null,null,null,null,null,null,null,null,null,{"$f":"Traduction!$A$351","v":"Lundi "},"2018-02-19",48.4583333333333,3.8,{"$f":"'[2]Détail N°7'!$L$28","v":9},1]
[null,null,null,null,null,null,null,null,null,null,null,null,null,null,{"$f":"Traduction!$A$351","v":"Lundi "},"2018-02-19",48.5,4.9000000000000004,{"$f":"'[2]Détail N°7'!$L$28","v":9},1]
[null,null,null,null,null,null,null,null,null,null,null,null,null,null,{"$f":"Traduction!$A$351","v":"Lundi "},"2018-02-19",48.5416666666667,5.8,{"$f":"'[2]Détail N°7'!$L$28","v":9},1]
[null,null,null,null,null,null,null,null,null,null,null,null,null,null,{"$f":"Traduction!$A$351","v":"Lundi "},"2018-02-19",48.5833333333333,6.3,{"$f":"'[2]Détail N°7'!$L$28","v":9},1]
[null,null,null,null,null,null,null,null,null,null,null,null,null,null,{"$f":"Traduction!$A$351","v":"Lundi "},"2018-02-19",48.625,6.5,{"$f":"'[2]Détail N°7'!$L$28","v":9},1]
[null,null,null,null,null,null,null,null,null,null,null,null,null,null,{"$f":"Traduction!$A$351","v":"Lundi "},"2018-02-19",48.6666666666667,6.5,{"$f":"'[2]Détail N°7'!$L$28","v":9},1]
[null,null,null,null,null,null,null,null,null,null,null,null,null,null,{"$f":"Traduction!$A$351","v":"Lundi "},"2018-02-19",48.7083333333333,6,{"$f":"'[2]Détail N°7'!$L$28","v":9},1]
[null,null,null,null,null,null,null,null,null,null,null,null,null,null,{"$f":"Traduction!$A$351","v":"Lundi "},"2018-02-19",48.75,5,{"$f":"'[2]Détail N°7'!$L$28","v":9},1]
[null,null,null,null,null,null,null,null,null,null,null,null,null,null,{"$f":"Traduction!$A$351","v":"Lundi "},"2018-02-19",48.7916666666667,4.8,{"$f":"'[2]Détail N°7'!$L$28","v":9},1]
[null,null,null,null,null,null,null,null,null,null,null,null,null,null,{"$f":"Traduction!$A$351","v":"Lundi "},"2018-02-19",48.8333333333333,4.5999999999999996,{"$f":"'[2]Détail N°7'!$L$28","v":9},1]
[null,null,null,null,null,null,null,null,null,null,null,null,null,null,{"$f":"Traduction!$A$351","v":"Lundi "},"2018-02-19",48.875,4.4000000000000004,{"$f":"'[2]Détail N°7'!$L$28","v":9},1]
[null,null,null,null,null,null,null,null,null,null,null,null,null,null,{"$f":"Traduction!$A$351","v":"Lundi "},"2018-02-19",48.9166666666667,4.2,{"$f":"'[2]Détail N°7'!$L$28","v":9},1]
[null,null,null,null,null,null,null,null,null,null,null,null,null,null,{"$f":"Traduction!$A$351","v":"Lundi "},"2018-02-19",48.9583333333333,4.0999999999999996,{"$f":"'[2]Détail N°7'!$L$28","v":9},1]
[null,null,null,null,null,null,null,null,null,null,null,null,null,null,{"$f":"Traduction!$A$351","v":"Lundi "},"2018-02-19",49,3.9,{"$f":"'[2]Détail N°7'!$L$28","v":9},1]
[null,null,null,null,null,null,null,null,null,null,null,null,null,null,{"$f":"Traduction!$A$352","v":"Mardi"},"2018-02-20",49.0416666666667,3.9,{"$f":"'[2]Détail N°7'!$L$28","v":9},1]
[null,null,null,null,null,null,null,null,null,null,null,null,null,null,{"$f":"Traduction!$A$352","v":"Mardi"},"2018-02-20",49.0833333333333,3.9,{"$f":"'[2]Détail N°7'!$L$28","v":9},1]
[null,null,null,null,null,null,null,null,null,null,null,null,null,null,{"$f":"Traduction!$A$352","v":"Mardi"},"2018-02-20",49.125,4,{"$f":"'[2]Détail N°7'!$L$28","v":9},1]
[null,null,null,null,null,null,null,null,null,null,null,null,null,null,{"$f":"Traduction!$A$352","v":"Mardi"},"2018-02-20",49.1666666666667,4,{"$f":"'[2]Détail N°7'!$L$28","v":9},1]
[null,null,null,null,null,null,null,null,null,null,null,null,null,null,{"$f":"Traduction!$A$352","v":"Mardi"},"2018-02-20",49.2083333333333,4.0999999999999996,{"$f":"'[2]Détail N°7'!$L$28","v":9},1]
[null,null,null,null,null,null,null,null,null,null,null,null,null,null,{"$f":"Traduction!$A$352","v":"Mardi"},"2018-02-20",49.25,4.0999999999999996,{"$f":"'[2]Détail N°7'!$L$28","v":9},1]
[null,null,null,null,null,null,null,null,null,null,null,null,null,null,{"$f":"Traduction!$A$352","v":"Mardi"},"2018-02-20",49.2916666666667,4.0999999999999996,{"$f":"'[2]Détail N°7'!$L$28","v":9},1]
[null,null,null,null,null,null,null,null,null,null,null,null,null,null,{"$f":"Traduction!$A$352","v":"Mardi"},"2018-02-20",49.3333333333333,4.2,{"$f":"'[2]Détail N°7'!$L$28","v":9},1]
[null,null,null,null,null,null,null,null,null,null,null,null,null,null,{"$f":"Traduction!$A$352","v":"Mardi"},"2018-02-20",49.375,4.5999999999999996,{"$f":"'[2]Détail N°7'!$L$28","v":9},1]
[null,null,null,null,null,null,null,null,null,null,null,null,null,null,{"$f":"Traduction!$A$352","v":"Mardi"},"2018-02-20",49.4166666666667,5.2,{"$f":"'[2]Détail N°7'!$L$28","v":9},1]
[null,null,null,null,null,null,null,null,null,null,null,null,null,null,{"$f":"Traduction!$A$352","v":"Mardi"},"2018-02-20",49.4583333333333,5.9,{"$f":"'[2]Détail N°7'!$L$28","v":9},1]
[null,null,null,null,null,null,null,null,null,null,null,null,null,null,{"$f":"Traduction!$A$352","v":"Mardi"},"2018-02-20",49.5,6.4,{"$f":"'[2]Détail N°7'!$L$28","v":9},1]
[null,null,null,null,null,null,null,null,null,null,null,null,null,null,{"$f":"Traduction!$A$352","v":"Mardi"},"2018-02-20",49.5416666666667,6.8,{"$f":"'[2]Détail N°7'!$L$28","v":9},1]
[null,null,null,null,null,null,null,null,null,null,null,null,null,null,{"$f":"Traduction!$A$352","v":"Mardi"},"2018-02-20",49.5833333333333,6.9,{"$f":"'[2]Détail N°7'!$L$28","v":9},1]
[null,null,null,null,null,null,null,null,null,null,null,null,null,null,{"$f":"Traduction!$A$352","v":"Mardi"},"2018-02-20",49.625,7.1,{"$f":"'[2]Détail N°7'!$L$28","v":9},1]
[null,null,null,null,null,null,null,null,null,null,null,null,null,null,{"$f":"Traduction!$A$352","v":"Mardi"},"2018-02-20",49.6666666666667,7.1,{"$f":"'[2]Détail N°7'!$L$28","v":9},1]
[null,null,null,null,null,null,null,null,null,null,null,null,null,null,{"$f":"Traduction!$A$352","v":"Mardi"},"2018-02-20",49.7083333333333,6.9,{"$f":"'[2]Détail N°7'!$L$28","v":9},1]
[null,null,null,null,null,null,null,null,null,null,null,null,null,null,{"$f":"Traduction!$A$352","v":"Mardi"},"2018-02-20",49.75,6.6,{"$f":"'[2]Détail N°7'!$L$28","v":9},{"$f":"IF(R1559<=S1559,1,0)","v":1}]
[null,null,null,null,null,null,null,null,null,null,null,null,null,null,{"$f":"Traduction!$A$352","v":"Mardi"},"2018-02-20",49.7916666666667,6.2,{"$f":"'[2]Détail N°7'!$L$28","v":9},1]
[null,null,null,null,null,null,null,null,null,null,null,null,null,null,{"$f":"Traduction!$A$352","v":"Mardi"},"2018-02-20",49.8333333333333,6,{"$f":"'[2]Détail N°7'!$L$28","v":9},1]
[null,null,null,null,null,null,null,null,null,null,null,null,null,null,{"$f":"Traduction!$A$352","v":"Mardi"},"2018-02-20",49.875,5.7,{"$f":"'[2]Détail N°7'!$L$28","v":9},1]
[null,null,null,null,null,null,null,null,null,null,null,null,null,null,{"$f":"Traduction!$A$352","v":"Mardi"},"2018-02-20",49.9166666666667,5,{"$f":"'[2]Détail N°7'!$L$28","v":9},1]
[null,null,null,null,null,null,null,null,null,null,null,null,null,null,{"$f":"Traduction!$A$352","v":"Mardi"},"2018-02-20",49.9583333333333,5,{"$f":"'[2]Détail N°7'!$L$28","v":9},1]
[null,null,null,null,null,null,null,null,null,null,null,null,null,null,{"$f":"Traduction!$A$352","v":"Mardi"},"2018-02-20",50,4.8,{"$f":"'[2]Détail N°7'!$L$28","v":9},1]
[null,null,null,null,null,null,null,null,null,null,null,null,null,null,{"$f":"Traduction!$A$353","v":"Mercredi"},"2018-02-21",50.0416666666667,4.4000000000000004,{"$f":"'[2]Détail N°7'!$L$28","v":9},1]
[null,null,null,null,null,null,null,null,null,null,null,null,null,null,{"$f":"Traduction!$A$353","v":"Mercredi"},"2018-02-21",50.0833333333333,4,{"$f":"'[2]Détail N°7'!$L$28","v":9},1]
[null,null,null,null,null,null,null,null,null,null,null,null,null,null,{"$f":"Traduction!$A$353","v":"Mercredi"},"2018-02-21",50.125,3.5,{"$f":"'[2]Détail N°7'!$L$28","v":9},1]
[null,null,null,null,null,null,null,null,null,null,null,null,null,null,{"$f":"Traduction!$A$353","v":"Mercredi"},"2018-02-21",50.1666666666667,3.3,{"$f":"'[2]Détail N°7'!$L$28","v":9},1]
[null,null,null,null,null,null,null,null,null,null,null,null,null,null,{"$f":"Traduction!$A$353","v":"Mercredi"},"2018-02-21",50.2083333333333,3,{"$f":"'[2]Détail N°7'!$L$28","v":9},1]
[null,null,null,null,null,null,null,null,null,null,null,null,null,null,{"$f":"Traduction!$A$353","v":"Mercredi"},"2018-02-21",50.25,2.9,{"$f":"'[2]Détail N°7'!$L$28","v":9},1]
[null,null,null,null,null,null,null,null,null,null,null,null,null,null,{"$f":"Traduction!$A$353","v":"Mercredi"},"2018-02-21",50.2916666666667,2.7,{"$f":"'[2]Détail N°7'!$L$28","v":9},1]
[null,null,null,null,null,null,null,null,null,null,null,null,null,null,{"$f":"Traduction!$A$353","v":"Mercredi"},"2018-02-21",50.3333333333333,2.7,{"$f":"'[2]Détail N°7'!$L$28","v":9},1]
[null,null,null,null,null,null,null,null,null,null,null,null,null,null,{"$f":"Traduction!$A$353","v":"Mercredi"},"2018-02-21",50.375,3.6,{"$f":"'[2]Détail N°7'!$L$28","v":9},1]
[null,null,null,null,null,null,null,null,null,null,null,null,null,null,{"$f":"Traduction!$A$353","v":"Mercredi"},"2018-02-21",50.4166666666667,4.4000000000000004,{"$f":"'[2]Détail N°7'!$L$28","v":9},1]
[null,null,null,null,null,null,null,null,null,null,null,null,null,null,{"$f":"Traduction!$A$353","v":"Mercredi"},"2018-02-21",50.4583333333333,5.3,{"$f":"'[2]Détail N°7'!$L$28","v":9},1]
[null,null,null,null,null,null,null,null,null,null,null,null,null,null,{"$f":"Traduction!$A$353","v":"Mercredi"},"2018-02-21",50.5,6.3,{"$f":"'[2]Détail N°7'!$L$28","v":9},1]
[null,null,null,null,null,null,null,null,null,null,null,null,null,null,{"$f":"Traduction!$A$353","v":"Mercredi"},"2018-02-21",50.5416666666667,6.8,{"$f":"'[2]Détail N°7'!$L$28","v":9},1]
[null,null,null,null,null,null,null,null,null,null,null,null,null,null,{"$f":"Traduction!$A$353","v":"Mercredi"},"2018-02-21",50.5833333333333,7.3,{"$f":"'[2]Détail N°7'!$L$28","v":9},1]
[null,null,null,null,null,null,null,null,null,null,null,null,null,null,{"$f":"Traduction!$A$353","v":"Mercredi"},"2018-02-21",50.625,6.9,{"$f":"'[2]Détail N°7'!$L$28","v":9},1]
[null,null,null,null,null,null,null,null,null,null,null,null,null,null,{"$f":"Traduction!$A$353","v":"Mercredi"},"2018-02-21",50.6666666666667,6.6,{"$f":"'[2]Détail N°7'!$L$28","v":9},1]
[null,null,null,null,null,null,null,null,null,null,null,null,null,null,{"$f":"Traduction!$A$353","v":"Mercredi"},"2018-02-21",50.7083333333333,6.2,{"$f":"'[2]Détail N°7'!$L$28","v":9},1]
[null,null,null,null,null,null,null,null,null,null,null,null,null,null,{"$f":"Traduction!$A$353","v":"Mercredi"},"2018-02-21",50.75,5.5,{"$f":"'[2]Détail N°7'!$L$28","v":9},1]
[null,null,null,null,null,null,null,null,null,null,null,null,null,null,{"$f":"Traduction!$A$353","v":"Mercredi"},"2018-02-21",50.7916666666667,5.5,{"$f":"'[2]Détail N°7'!$L$28","v":9},1]
[null,null,null,null,null,null,null,null,null,null,null,null,null,null,{"$f":"Traduction!$A$353","v":"Mercredi"},"2018-02-21",50.8333333333333,5.3,{"$f":"'[2]Détail N°7'!$L$28","v":9},1]
[null,null,null,null,null,null,null,null,null,null,null,null,null,null,{"$f":"Traduction!$A$353","v":"Mercredi"},"2018-02-21",50.875,5.2,{"$f":"'[2]Détail N°7'!$L$28","v":9},1]
[null,null,null,null,null,null,null,null,null,null,null,null,null,null,{"$f":"Traduction!$A$353","v":"Mercredi"},"2018-02-21",50.9166666666667,5.0999999999999996,{"$f":"'[2]Détail N°7'!$L$28","v":9},1]
[null,null,null,null,null,null,null,null,null,null,null,null,null,null,{"$f":"Traduction!$A$353","v":"Mercredi"},"2018-02-21",50.9583333333333,5,{"$f":"'[2]Détail N°7'!$L$28","v":9},1]
[null,null,null,null,null,null,null,null,null,null,null,null,null,null,{"$f":"Traduction!$A$353","v":"Mercredi"},"2018-02-21",51,4.9000000000000004,{"$f":"'[2]Détail N°7'!$L$28","v":9},1]
[null,null,null,null,null,null,null,null,null,null,null,null,null,null,{"$f":"Traduction!$A$354","v":"Jeudi"},"2018-02-22",51.0416666666667,4.9000000000000004,{"$f":"'[2]Détail N°7'!$L$28","v":9},1]
[null,null,null,null,null,null,null,null,null,null,null,null,null,null,{"$f":"Traduction!$A$354","v":"Jeudi"},"2018-02-22",51.0833333333333,5,{"$f":"'[2]Détail N°7'!$L$28","v":9},1]
[null,null,null,null,null,null,null,null,null,null,null,null,null,null,{"$f":"Traduction!$A$354","v":"Jeudi"},"2018-02-22",51.125,5,{"$f":"'[2]Détail N°7'!$L$28","v":9},1]
[null,null,null,null,null,null,null,null,null,null,null,null,null,null,{"$f":"Traduction!$A$354","v":"Jeudi"},"2018-02-22",51.1666666666667,5,{"$f":"'[2]Détail N°7'!$L$28","v":9},1]
[null,null,null,null,null,null,null,null,null,null,null,null,null,null,{"$f":"Traduction!$A$354","v":"Jeudi"},"2018-02-22",51.2083333333333,5.0999999999999996,{"$f":"'[2]Détail N°7'!$L$28","v":9},1]
[null,null,null,null,null,null,null,null,null,null,null,null,null,null,{"$f":"Traduction!$A$354","v":"Jeudi"},"2018-02-22",51.25,5.0999999999999996,{"$f":"'[2]Détail N°7'!$L$28","v":9},1]
[null,null,null,null,null,null,null,null,null,null,null,null,null,null,{"$f":"Traduction!$A$354","v":"Jeudi"},"2018-02-22",51.2916666666667,5.0999999999999996,{"$f":"'[2]Détail N°7'!$L$28","v":9},1]
[null,null,null,null,null,null,null,null,null,null,null,null,null,null,{"$f":"Traduction!$A$354","v":"Jeudi"},"2018-02-22",51.3333333333333,5.2,{"$f":"'[2]Détail N°7'!$L$28","v":9},1]
[null,null,null,null,null,null,null,null,null,null,null,null,null,null,{"$f":"Traduction!$A$354","v":"Jeudi"},"2018-02-22",51.375,5.9,{"$f":"'[2]Détail N°7'!$L$28","v":9},1]
[null,null,null,null,null,null,null,null,null,null,null,null,null,null,{"$f":"Traduction!$A$354","v":"Jeudi"},"2018-02-22",51.4166666666667,6.3,{"$f":"'[2]Détail N°7'!$L$28","v":9},1]
[null,null,null,null,null,null,null,null,null,null,null,null,null,null,{"$f":"Traduction!$A$354","v":"Jeudi"},"2018-02-22",51.4583333333333,6.7,{"$f":"'[2]Détail N°7'!$L$28","v":9},1]
[null,null,null,null,null,null,null,null,null,null,null,null,null,null,{"$f":"Traduction!$A$354","v":"Jeudi"},"2018-02-22",51.5,7.4,{"$f":"'[2]Détail N°7'!$L$28","v":9},1]
[null,null,null,null,null,null,null,null,null,null,null,null,null,null,{"$f":"Traduction!$A$354","v":"Jeudi"},"2018-02-22",51.5416666666667,7.8,{"$f":"'[2]Détail N°7'!$L$28","v":9},1]
[null,null,null,null,null,null,null,null,null,null,null,null,null,null,{"$f":"Traduction!$A$354","v":"Jeudi"},"2018-02-22",51.5833333333333,7.8,{"$f":"'[2]Détail N°7'!$L$28","v":9},1]
[null,null,null,null,null,null,null,null,null,null,null,null,null,null,{"$f":"Traduction!$A$354","v":"Jeudi"},"2018-02-22",51.625,8.4,{"$f":"'[2]Détail N°7'!$L$28","v":9},1]
[null,null,null,null,null,null,null,null,null,null,null,null,null,null,{"$f":"Traduction!$A$354","v":"Jeudi"},"2018-02-22",51.6666666666667,8.8000000000000007,{"$f":"'[2]Détail N°7'!$L$28","v":9},1]
[null,null,null,null,null,null,null,null,null,null,null,null,null,null,{"$f":"Traduction!$A$354","v":"Jeudi"},"2018-02-22",51.7083333333333,8.6999999999999993,{"$f":"'[2]Détail N°7'!$L$28","v":9},1]
[null,null,null,null,null,null,null,null,null,null,null,null,null,null,{"$f":"Traduction!$A$354","v":"Jeudi"},"2018-02-22",51.75,8.3000000000000007,{"$f":"'[2]Détail N°7'!$L$28","v":9},1]
[null,null,null,null,null,null,null,null,null,null,null,null,null,null,{"$f":"Traduction!$A$354","v":"Jeudi"},"2018-02-22",51.7916666666667,7.9,{"$f":"'[2]Détail N°7'!$L$28","v":9},1]
[null,null,null,null,null,null,null,null,null,null,null,null,null,null,{"$f":"Traduction!$A$354","v":"Jeudi"},"2018-02-22",51.8333333333333,7.8,{"$f":"'[2]Détail N°7'!$L$28","v":9},1]
[null,null,null,null,null,null,null,null,null,null,null,null,null,null,{"$f":"Traduction!$A$354","v":"Jeudi"},"2018-02-22",51.875,7.7,{"$f":"'[2]Détail N°7'!$L$28","v":9},1]
[null,null,null,null,null,null,null,null,null,null,null,null,null,null,{"$f":"Traduction!$A$354","v":"Jeudi"},"2018-02-22",51.9166666666667,7.6,{"$f":"'[2]Détail N°7'!$L$28","v":9},1]
[null,null,null,null,null,null,null,null,null,null,null,null,null,null,{"$f":"Traduction!$A$354","v":"Jeudi"},"2018-02-22",51.9583333333333,7.5,{"$f":"'[2]Détail N°7'!$L$28","v":9},1]
[null,null,null,null,null,null,null,null,null,null,null,null,null,null,{"$f":"Traduction!$A$354","v":"Jeudi"},"2018-02-22",52,7.4,{"$f":"'[2]Détail N°7'!$L$28","v":9},1]
[null,null,null,null,null,null,null,null,null,null,null,null,null,null,{"$f":"Traduction!$A$355","v":"Vendredi"},"2018-02-23",52.0416666666667,7.2,{"$f":"'[2]Détail N°7'!$L$28","v":9},1]
[null,null,null,null,null,null,null,null,null,null,null,null,null,null,{"$f":"Traduction!$A$355","v":"Vendredi"},"2018-02-23",52.0833333333333,7,{"$f":"'[2]Détail N°7'!$L$28","v":9},1]
[null,null,null,null,null,null,null,null,null,null,null,null,null,null,{"$f":"Traduction!$A$355","v":"Vendredi"},"2018-02-23",52.125,6.9,{"$f":"'[2]Détail N°7'!$L$28","v":9},1]
[null,null,null,null,null,null,null,null,null,null,null,null,null,null,{"$f":"Traduction!$A$355","v":"Vendredi"},"2018-02-23",52.1666666666667,6.8,{"$f":"'[2]Détail N°7'!$L$28","v":9},1]
[null,null,null,null,null,null,null,null,null,null,null,null,null,null,{"$f":"Traduction!$A$355","v":"Vendredi"},"2018-02-23",52.2083333333333,6.7,{"$f":"'[2]Détail N°7'!$L$28","v":9},1]
[null,null,null,null,null,null,null,null,null,null,null,null,null,null,{"$f":"Traduction!$A$355","v":"Vendredi"},"2018-02-23",52.25,6.7,{"$f":"'[2]Détail N°7'!$L$28","v":9},1]
[null,null,null,null,null,null,null,null,null,null,null,null,null,null,{"$f":"Traduction!$A$355","v":"Vendredi"},"2018-02-23",52.2916666666667,6.6,{"$f":"'[2]Détail N°7'!$L$28","v":9},1]
[null,null,null,null,null,null,null,null,null,null,null,null,null,null,{"$f":"Traduction!$A$355","v":"Vendredi"},"2018-02-23",52.3333333333333,6.6,{"$f":"'[2]Détail N°7'!$L$28","v":9},1]
[null,null,null,null,null,null,null,null,null,null,null,null,null,null,{"$f":"Traduction!$A$355","v":"Vendredi"},"2018-02-23",52.375,6.7,{"$f":"'[2]Détail N°7'!$L$28","v":9},1]
[null,null,null,null,null,null,null,null,null,null,null,null,null,null,{"$f":"Traduction!$A$355","v":"Vendredi"},"2018-02-23",52.4166666666667,7.1,{"$f":"'[2]Détail N°7'!$L$28","v":9},{"$f":"IF(R1623<=S1623,1,0)","v":1}]
[null,null,null,null,null,null,null,null,null,null,null,null,null,null,{"$f":"Traduction!$A$355","v":"Vendredi"},"2018-02-23",52.4583333333333,7.6,{"$f":"'[2]Détail N°7'!$L$28","v":9},1]
[null,null,null,null,null,null,null,null,null,null,null,null,null,null,{"$f":"Traduction!$A$355","v":"Vendredi"},"2018-02-23",52.5,8,{"$f":"'[2]Détail N°7'!$L$28","v":9},1]
[null,null,null,null,null,null,null,null,null,null,null,null,null,null,{"$f":"Traduction!$A$355","v":"Vendredi"},"2018-02-23",52.5416666666667,8.4,{"$f":"'[2]Détail N°7'!$L$28","v":9},1]
[null,null,null,null,null,null,null,null,null,null,null,null,null,null,{"$f":"Traduction!$A$355","v":"Vendredi"},"2018-02-23",52.5833333333333,8.8000000000000007,{"$f":"'[2]Détail N°7'!$L$28","v":9},1]
[null,null,null,null,null,null,null,null,null,null,null,null,null,null,{"$f":"Traduction!$A$355","v":"Vendredi"},"2018-02-23",52.625,8.9,{"$f":"'[2]Détail N°7'!$L$28","v":9},1]
[null,null,null,null,null,null,null,null,null,null,null,null,null,null,{"$f":"Traduction!$A$355","v":"Vendredi"},"2018-02-23",52.6666666666667,8.6999999999999993,{"$f":"'[2]Détail N°7'!$L$28","v":9},1]
[null,null,null,null,null,null,null,null,null,null,null,null,null,null,{"$f":"Traduction!$A$355","v":"Vendredi"},"2018-02-23",52.7083333333333,8.3000000000000007,{"$f":"'[2]Détail N°7'!$L$28","v":9},1]
[null,null,null,null,null,null,null,null,null,null,null,null,null,null,{"$f":"Traduction!$A$355","v":"Vendredi"},"2018-02-23",52.75,8.5,{"$f":"'[2]Détail N°7'!$L$28","v":9},1]
[null,null,null,null,null,null,null,null,null,null,null,null,null,null,{"$f":"Traduction!$A$355","v":"Vendredi"},"2018-02-23",52.7916666666667,8.1999999999999993,{"$f":"'[2]Détail N°7'!$L$28","v":9},1]
[null,null,null,null,null,null,null,null,null,null,null,null,null,null,{"$f":"Traduction!$A$355","v":"Vendredi"},"2018-02-23",52.8333333333333,8.1,{"$f":"'[2]Détail N°7'!$L$28","v":9},1]
[null,null,null,null,null,null,null,null,null,null,null,null,null,null,{"$f":"Traduction!$A$355","v":"Vendredi"},"2018-02-23",52.875,7.9,{"$f":"'[2]Détail N°7'!$L$28","v":9},1]
[null,null,null,null,null,null,null,null,null,null,null,null,null,null,{"$f":"Traduction!$A$355","v":"Vendredi"},"2018-02-23",52.9166666666667,7.8,{"$f":"'[2]Détail N°7'!$L$28","v":9},1]
[null,null,null,null,null,null,null,null,null,null,null,null,null,null,{"$f":"Traduction!$A$355","v":"Vendredi"},"2018-02-23",52.9583333333333,7.7,{"$f":"'[2]Détail N°7'!$L$28","v":9},1]
[null,null,null,null,null,null,null,null,null,null,null,null,null,null,{"$f":"Traduction!$A$355","v":"Vendredi"},"2018-02-23",53,7.6,{"$f":"'[2]Détail N°7'!$L$28","v":9},1]
[null,null,null,null,null,null,null,null,null,null,null,null,null,null,{"$f":"Traduction!$A$356","v":"Samedi"},"2018-02-24",53.0416666666667,7.4,{"$f":"'[2]Détail N°7'!$L$28","v":9},1]
[null,null,null,null,null,null,null,null,null,null,null,null,null,null,{"$f":"Traduction!$A$356","v":"Samedi"},"2018-02-24",53.0833333333333,7.4,{"$f":"'[2]Détail N°7'!$L$28","v":9},1]
[null,null,null,null,null,null,null,null,null,null,null,null,null,null,{"$f":"Traduction!$A$356","v":"Samedi"},"2018-02-24",53.125,7.3,{"$f":"'[2]Détail N°7'!$L$28","v":9},1]
[null,null,null,null,null,null,null,null,null,null,null,null,null,null,{"$f":"Traduction!$A$356","v":"Samedi"},"2018-02-24",53.1666666666667,7.3,{"$f":"'[2]Détail N°7'!$L$28","v":9},1]
[null,null,null,null,null,null,null,null,null,null,null,null,null,null,{"$f":"Traduction!$A$356","v":"Samedi"},"2018-02-24",53.2083333333333,7.2,{"$f":"'[2]Détail N°7'!$L$28","v":9},1]
[null,null,null,null,null,null,null,null,null,null,null,null,null,null,{"$f":"Traduction!$A$356","v":"Samedi"},"2018-02-24",53.25,7.2,{"$f":"'[2]Détail N°7'!$L$28","v":9},1]
[null,null,null,null,null,null,null,null,null,null,null,null,null,null,{"$f":"Traduction!$A$356","v":"Samedi"},"2018-02-24",53.2916666666667,7.2,{"$f":"'[2]Détail N°7'!$L$28","v":9},1]
[null,null,null,null,null,null,null,null,null,null,null,null,null,null,{"$f":"Traduction!$A$356","v":"Samedi"},"2018-02-24",53.3333333333333,7.3,{"$f":"'[2]Détail N°7'!$L$28","v":9},1]
[null,null,null,null,null,null,null,null,null,null,null,null,null,null,{"$f":"Traduction!$A$356","v":"Samedi"},"2018-02-24",53.375,7.6,{"$f":"'[2]Détail N°7'!$L$28","v":9},1]
[null,null,null,null,null,null,null,null,null,null,null,null,null,null,{"$f":"Traduction!$A$356","v":"Samedi"},"2018-02-24",53.4166666666667,8,{"$f":"'[2]Détail N°7'!$L$28","v":9},1]
[null,null,null,null,null,null,null,null,null,null,null,null,null,null,{"$f":"Traduction!$A$356","v":"Samedi"},"2018-02-24",53.4583333333333,8.6,{"$f":"'[2]Détail N°7'!$L$28","v":9},1]
[null,null,null,null,null,null,null,null,null,null,null,null,null,null,{"$f":"Traduction!$A$356","v":"Samedi"},"2018-02-24",53.5,9,{"$f":"'[2]Détail N°7'!$L$28","v":9},1]
[null,null,null,null,null,null,null,null,null,null,null,null,null,null,{"$f":"Traduction!$A$356","v":"Samedi"},"2018-02-24",53.5416666666667,9.3000000000000007,{"$f":"'[2]Détail N°7'!$L$28","v":9},0]
[null,null,null,null,null,null,null,null,null,null,null,null,null,null,{"$f":"Traduction!$A$356","v":"Samedi"},"2018-02-24",53.5833333333333,9.5,{"$f":"'[2]Détail N°7'!$L$28","v":9},0]
[null,null,null,null,null,null,null,null,null,null,null,null,null,null,{"$f":"Traduction!$A$356","v":"Samedi"},"2018-02-24",53.625,9.6,{"$f":"'[2]Détail N°7'!$L$28","v":9},0]
[null,null,null,null,null,null,null,null,null,null,null,null,null,null,{"$f":"Traduction!$A$356","v":"Samedi"},"2018-02-24",53.6666666666667,9,{"$f":"'[2]Détail N°7'!$L$28","v":9},1]
[null,null,null,null,null,null,null,null,null,null,null,null,null,null,{"$f":"Traduction!$A$356","v":"Samedi"},"2018-02-24",53.7083333333333,9.3000000000000007,{"$f":"'[2]Détail N°7'!$L$28","v":9},0]
[null,null,null,null,null,null,null,null,null,null,null,null,null,null,{"$f":"Traduction!$A$356","v":"Samedi"},"2018-02-24",53.75,9.1,{"$f":"'[2]Détail N°7'!$L$28","v":9},0]
[null,null,null,null,null,null,null,null,null,null,null,null,null,null,{"$f":"Traduction!$A$356","v":"Samedi"},"2018-02-24",53.7916666666667,8.9,{"$f":"'[2]Détail N°7'!$L$28","v":9},1]
[null,null,null,null,null,null,null,null,null,null,null,null,null,null,{"$f":"Traduction!$A$356","v":"Samedi"},"2018-02-24",53.8333333333333,8.6,{"$f":"'[2]Détail N°7'!$L$28","v":9},1]
[null,null,null,null,null,null,null,null,null,null,null,null,null,null,{"$f":"Traduction!$A$356","v":"Samedi"},"2018-02-24",53.875,8.1999999999999993,{"$f":"'[2]Détail N°7'!$L$28","v":9},1]
[null,null,null,null,null,null,null,null,null,null,null,null,null,null,{"$f":"Traduction!$A$356","v":"Samedi"},"2018-02-24",53.9166666666667,7.9,{"$f":"'[2]Détail N°7'!$L$28","v":9},1]
[null,null,null,null,null,null,null,null,null,null,null,null,null,null,{"$f":"Traduction!$A$356","v":"Samedi"},"2018-02-24",53.9583333333333,7.5,{"$f":"'[2]Détail N°7'!$L$28","v":9},1]
[null,null,null,null,null,null,null,null,null,null,null,null,null,null,{"$f":"Traduction!$A$356","v":"Samedi"},"2018-02-24",54,7.2,{"$f":"'[2]Détail N°7'!$L$28","v":9},1]
[null,null,null,null,null,null,null,null,null,null,null,null,null,null,{"$f":"Traduction!$A$357","v":"Dimanche"},"2018-02-25",54.0416666666667,6.2,{"$f":"'[2]Détail N°7'!$L$28","v":9},1]
[null,null,null,null,null,null,null,null,null,null,null,null,null,null,{"$f":"Traduction!$A$357","v":"Dimanche"},"2018-02-25",54.0833333333333,5,{"$f":"'[2]Détail N°7'!$L$28","v":9},1]
[null,null,null,null,null,null,null,null,null,null,null,null,null,null,{"$f":"Traduction!$A$357","v":"Dimanche"},"2018-02-25",54.125,3.9,{"$f":"'[2]Détail N°7'!$L$28","v":9},1]
[null,null,null,null,null,null,null,null,null,null,null,null,null,null,{"$f":"Traduction!$A$357","v":"Dimanche"},"2018-02-25",54.1666666666667,3.2,{"$f":"'[2]Détail N°7'!$L$28","v":9},1]
[null,null,null,null,null,null,null,null,null,null,null,null,null,null,{"$f":"Traduction!$A$357","v":"Dimanche"},"2018-02-25",54.2083333333333,2.6,{"$f":"'[2]Détail N°7'!$L$28","v":9},1]
[null,null,null,null,null,null,null,null,null,null,null,null,null,null,{"$f":"Traduction!$A$357","v":"Dimanche"},"2018-02-25",54.25,2.2000000000000002,{"$f":"'[2]Détail N°7'!$L$28","v":9},1]
[null,null,null,null,null,null,null,null,null,null,null,null,null,null,{"$f":"Traduction!$A$357","v":"Dimanche"},"2018-02-25",54.2916666666667,1.7,{"$f":"'[2]Détail N°7'!$L$28","v":9},1]
[null,null,null,null,null,null,null,null,null,null,null,null,null,null,{"$f":"Traduction!$A$357","v":"Dimanche"},"2018-02-25",54.3333333333333,1.7,{"$f":"'[2]Détail N°7'!$L$28","v":9},1]
[null,null,null,null,null,null,null,null,null,null,null,null,null,null,{"$f":"Traduction!$A$357","v":"Dimanche"},"2018-02-25",54.375,3.2,{"$f":"'[2]Détail N°7'!$L$28","v":9},1]
[null,null,null,null,null,null,null,null,null,null,null,null,null,null,{"$f":"Traduction!$A$357","v":"Dimanche"},"2018-02-25",54.4166666666667,4.9000000000000004,{"$f":"'[2]Détail N°7'!$L$28","v":9},1]
[null,null,null,null,null,null,null,null,null,null,null,null,null,null,{"$f":"Traduction!$A$357","v":"Dimanche"},"2018-02-25",54.4583333333333,6.5,{"$f":"'[2]Détail N°7'!$L$28","v":9},1]
[null,null,null,null,null,null,null,null,null,null,null,null,null,null,{"$f":"Traduction!$A$357","v":"Dimanche"},"2018-02-25",54.5,7.9,{"$f":"'[2]Détail N°7'!$L$28","v":9},1]
[null,null,null,null,null,null,null,null,null,null,null,null,null,null,{"$f":"Traduction!$A$357","v":"Dimanche"},"2018-02-25",54.5416666666667,9,{"$f":"'[2]Détail N°7'!$L$28","v":9},1]
[null,null,null,null,null,null,null,null,null,null,null,null,null,null,{"$f":"Traduction!$A$357","v":"Dimanche"},"2018-02-25",54.5833333333333,9.6999999999999993,{"$f":"'[2]Détail N°7'!$L$28","v":9},0]
[null,null,null,null,null,null,null,null,null,null,null,null,null,null,{"$f":"Traduction!$A$357","v":"Dimanche"},"2018-02-25",54.625,10,{"$f":"'[2]Détail N°7'!$L$28","v":9},0]
[null,null,null,null,null,null,null,null,null,null,null,null,null,null,{"$f":"Traduction!$A$357","v":"Dimanche"},"2018-02-25",54.6666666666667,9.9,{"$f":"'[2]Détail N°7'!$L$28","v":9},0]
[null,null,null,null,null,null,null,null,null,null,null,null,null,null,{"$f":"Traduction!$A$357","v":"Dimanche"},"2018-02-25",54.7083333333333,9.1,{"$f":"'[2]Détail N°7'!$L$28","v":9},0]
[null,null,null,null,null,null,null,null,null,null,null,null,null,null,{"$f":"Traduction!$A$357","v":"Dimanche"},"2018-02-25",54.75,7.9,{"$f":"'[2]Détail N°7'!$L$28","v":9},1]
[null,null,null,null,null,null,null,null,null,null,null,null,null,null,{"$f":"Traduction!$A$357","v":"Dimanche"},"2018-02-25",54.7916666666667,6.7,{"$f":"'[2]Détail N°7'!$L$28","v":9},1]
[null,null,null,null,null,null,null,null,null,null,null,null,null,null,{"$f":"Traduction!$A$357","v":"Dimanche"},"2018-02-25",54.8333333333333,6.2,{"$f":"'[2]Détail N°7'!$L$28","v":9},1]
[null,null,null,null,null,null,null,null,null,null,null,null,null,null,{"$f":"Traduction!$A$357","v":"Dimanche"},"2018-02-25",54.875,5.7,{"$f":"'[2]Détail N°7'!$L$28","v":9},1]
[null,null,null,null,null,null,null,null,null,null,null,null,null,null,{"$f":"Traduction!$A$357","v":"Dimanche"},"2018-02-25",54.9166666666667,5.3,{"$f":"'[2]Détail N°7'!$L$28","v":9},1]
[null,null,null,null,null,null,null,null,null,null,null,null,null,null,{"$f":"Traduction!$A$357","v":"Dimanche"},"2018-02-25",54.9583333333333,4.8,{"$f":"'[2]Détail N°7'!$L$28","v":9},1]
[null,null,null,null,null,null,null,null,null,null,null,null,null,null,{"$f":"Traduction!$A$357","v":"Dimanche"},"2018-02-25",55,4.3,{"$f":"'[2]Détail N°7'!$L$28","v":9},1]
[null,null,null,null,null,null,null,null,null,null,null,null,null,null,{"$f":"Traduction!$A$351","v":"Lundi "},"2018-02-26",55.0416666666667,4.3,{"$f":"'[2]Détail N°7'!$L$28","v":9},1]
[null,null,null,null,null,null,null,null,null,null,null,null,null,null,{"$f":"Traduction!$A$351","v":"Lundi "},"2018-02-26",55.0833333333333,4.3,{"$f":"'[2]Détail N°7'!$L$28","v":9},{"$f":"IF(R1687<=S1687,1,0)","v":1}]
[null,null,null,null,null,null,null,null,null,null,null,null,null,null,{"$f":"Traduction!$A$351","v":"Lundi "},"2018-02-26",55.125,4.4000000000000004,{"$f":"'[2]Détail N°7'!$L$28","v":9},1]
[null,null,null,null,null,null,null,null,null,null,null,null,null,null,{"$f":"Traduction!$A$351","v":"Lundi "},"2018-02-26",55.1666666666667,4.4000000000000004,{"$f":"'[2]Détail N°7'!$L$28","v":9},1]
[null,null,null,null,null,null,null,null,null,null,null,null,null,null,{"$f":"Traduction!$A$351","v":"Lundi "},"2018-02-26",55.2083333333333,4.5,{"$f":"'[2]Détail N°7'!$L$28","v":9},1]
[null,null,null,null,null,null,null,null,null,null,null,null,null,null,{"$f":"Traduction!$A$351","v":"Lundi "},"2018-02-26",55.25,4.5999999999999996,{"$f":"'[2]Détail N°7'!$L$28","v":9},1]
[null,null,null,null,null,null,null,null,null,null,null,null,null,null,{"$f":"Traduction!$A$351","v":"Lundi "},"2018-02-26",55.2916666666667,4.7,{"$f":"'[2]Détail N°7'!$L$28","v":9},1]
[null,null,null,null,null,null,null,null,null,null,null,null,null,null,{"$f":"Traduction!$A$351","v":"Lundi "},"2018-02-26",55.3333333333333,4.9000000000000004,{"$f":"'[2]Détail N°7'!$L$28","v":9},1]
[null,null,null,null,null,null,null,null,null,null,null,null,null,null,{"$f":"Traduction!$A$351","v":"Lundi "},"2018-02-26",55.375,6.4,{"$f":"'[2]Détail N°7'!$L$28","v":9},1]
[null,null,null,null,null,null,null,null,null,null,null,null,null,null,{"$f":"Traduction!$A$351","v":"Lundi "},"2018-02-26",55.4166666666667,8.1,{"$f":"'[2]Détail N°7'!$L$28","v":9},1]
[null,null,null,null,null,null,null,null,null,null,null,null,null,null,{"$f":"Traduction!$A$351","v":"Lundi "},"2018-02-26",55.4583333333333,9.5,{"$f":"'[2]Détail N°7'!$L$28","v":9},0]
[null,null,null,null,null,null,null,null,null,null,null,null,null,null,{"$f":"Traduction!$A$351","v":"Lundi "},"2018-02-26",55.5,10.4,{"$f":"'[2]Détail N°7'!$L$28","v":9},0]
[null,null,null,null,null,null,null,null,null,null,null,null,null,null,{"$f":"Traduction!$A$351","v":"Lundi "},"2018-02-26",55.5416666666667,12.1,{"$f":"'[2]Détail N°7'!$L$28","v":9},0]
[null,null,null,null,null,null,null,null,null,null,null,null,null,null,{"$f":"Traduction!$A$351","v":"Lundi "},"2018-02-26",55.5833333333333,13.3,{"$f":"'[2]Détail N°7'!$L$28","v":9},0]
[null,null,null,null,null,null,null,null,null,null,null,null,null,null,{"$f":"Traduction!$A$351","v":"Lundi "},"2018-02-26",55.625,12.5,{"$f":"'[2]Détail N°7'!$L$28","v":9},0]
[null,null,null,null,null,null,null,null,null,null,null,null,null,null,{"$f":"Traduction!$A$351","v":"Lundi "},"2018-02-26",55.6666666666667,12.5,{"$f":"'[2]Détail N°7'!$L$28","v":9},0]
[null,null,null,null,null,null,null,null,null,null,null,null,null,null,{"$f":"Traduction!$A$351","v":"Lundi "},"2018-02-26",55.7083333333333,13.4,{"$f":"'[2]Détail N°7'!$L$28","v":9},0]
[null,null,null,null,null,null,null,null,null,null,null,null,null,null,{"$f":"Traduction!$A$351","v":"Lundi "},"2018-02-26",55.75,12.4,{"$f":"'[2]Détail N°7'!$L$28","v":9},0]
[null,null,null,null,null,null,null,null,null,null,null,null,null,null,{"$f":"Traduction!$A$351","v":"Lundi "},"2018-02-26",55.7916666666667,11.5,{"$f":"'[2]Détail N°7'!$L$28","v":9},0]
[null,null,null,null,null,null,null,null,null,null,null,null,null,null,{"$f":"Traduction!$A$351","v":"Lundi "},"2018-02-26",55.8333333333333,10.9,{"$f":"'[2]Détail N°7'!$L$28","v":9},0]
[null,null,null,null,null,null,null,null,null,null,null,null,null,null,{"$f":"Traduction!$A$351","v":"Lundi "},"2018-02-26",55.875,10.3,{"$f":"'[2]Détail N°7'!$L$28","v":9},0]
[null,null,null,null,null,null,null,null,null,null,null,null,null,null,{"$f":"Traduction!$A$351","v":"Lundi "},"2018-02-26",55.9166666666667,9.6999999999999993,{"$f":"'[2]Détail N°7'!$L$28","v":9},0]
[null,null,null,null,null,null,null,null,null,null,null,null,null,null,{"$f":"Traduction!$A$351","v":"Lundi "},"2018-02-26",55.9583333333333,9.1,{"$f":"'[2]Détail N°7'!$L$28","v":9},0]
[null,null,null,null,null,null,null,null,null,null,null,null,null,null,{"$f":"Traduction!$A$351","v":"Lundi "},"2018-02-26",56,8.5,{"$f":"'[2]Détail N°7'!$L$28","v":9},1]
[null,null,null,null,null,null,null,null,null,null,null,null,null,null,{"$f":"Traduction!$A$352","v":"Mardi"},"2018-02-27",56.0416666666667,7.5,{"$f":"'[2]Détail N°7'!$L$28","v":9},1]
[null,null,null,null,null,null,null,null,null,null,null,null,null,null,{"$f":"Traduction!$A$352","v":"Mardi"},"2018-02-27",56.0833333333333,6.4,{"$f":"'[2]Détail N°7'!$L$28","v":9},1]
[null,null,null,null,null,null,null,null,null,null,null,null,null,null,{"$f":"Traduction!$A$352","v":"Mardi"},"2018-02-27",56.125,5.4,{"$f":"'[2]Détail N°7'!$L$28","v":9},1]
[null,null,null,null,null,null,null,null,null,null,null,null,null,null,{"$f":"Traduction!$A$352","v":"Mardi"},"2018-02-27",56.1666666666667,4.8,{"$f":"'[2]Détail N°7'!$L$28","v":9},1]
[null,null,null,null,null,null,null,null,null,null,null,null,null,null,{"$f":"Traduction!$A$352","v":"Mardi"},"2018-02-27",56.2083333333333,4.3,{"$f":"'[2]Détail N°7'!$L$28","v":9},1]
[null,null,null,null,null,null,null,null,null,null,null,null,null,null,{"$f":"Traduction!$A$352","v":"Mardi"},"2018-02-27",56.25,3.9,{"$f":"'[2]Détail N°7'!$L$28","v":9},1]
[null,null,null,null,null,null,null,null,null,null,null,null,null,null,{"$f":"Traduction!$A$352","v":"Mardi"},"2018-02-27",56.2916666666667,3.5,{"$f":"'[2]Détail N°7'!$L$28","v":9},1]
[null,null,null,null,null,null,null,null,null,null,null,null,null,null,{"$f":"Traduction!$A$352","v":"Mardi"},"2018-02-27",56.3333333333333,3.5,{"$f":"'[2]Détail N°7'!$L$28","v":9},1]
[null,null,null,null,null,null,null,null,null,null,null,null,null,null,{"$f":"Traduction!$A$352","v":"Mardi"},"2018-02-27",56.375,4.3,{"$f":"'[2]Détail N°7'!$L$28","v":9},1]
[null,null,null,null,null,null,null,null,null,null,null,null,null,null,{"$f":"Traduction!$A$352","v":"Mardi"},"2018-02-27",56.4166666666667,5.4,{"$f":"'[2]Détail N°7'!$L$28","v":9},1]
[null,null,null,null,null,null,null,null,null,null,null,null,null,null,{"$f":"Traduction!$A$352","v":"Mardi"},"2018-02-27",56.4583333333333,6.3,{"$f":"'[2]Détail N°7'!$L$28","v":9},1]
[null,null,null,null,null,null,null,null,null,null,null,null,null,null,{"$f":"Traduction!$A$352","v":"Mardi"},"2018-02-27",56.5,6.9,{"$f":"'[2]Détail N°7'!$L$28","v":9},1]
[null,null,null,null,null,null,null,null,null,null,null,null,null,null,{"$f":"Traduction!$A$352","v":"Mardi"},"2018-02-27",56.5416666666667,7.6,{"$f":"'[2]Détail N°7'!$L$28","v":9},1]
[null,null,null,null,null,null,null,null,null,null,null,null,null,null,{"$f":"Traduction!$A$352","v":"Mardi"},"2018-02-27",56.5833333333333,8.3000000000000007,{"$f":"'[2]Détail N°7'!$L$28","v":9},1]
[null,null,null,null,null,null,null,null,null,null,null,null,null,null,{"$f":"Traduction!$A$352","v":"Mardi"},"2018-02-27",56.625,8.8000000000000007,{"$f":"'[2]Détail N°7'!$L$28","v":9},1]
[null,null,null,null,null,null,null,null,null,null,null,null,null,null,{"$f":"Traduction!$A$352","v":"Mardi"},"2018-02-27",56.6666666666667,9.1,{"$f":"'[2]Détail N°7'!$L$28","v":9},0]
[null,null,null,null,null,null,null,null,null,null,null,null,null,null,{"$f":"Traduction!$A$352","v":"Mardi"},"2018-02-27",56.7083333333333,8.9,{"$f":"'[2]Détail N°7'!$L$28","v":9},1]
[null,null,null,null,null,null,null,null,null,null,null,null,null,null,{"$f":"Traduction!$A$352","v":"Mardi"},"2018-02-27",56.75,8.1999999999999993,{"$f":"'[2]Détail N°7'!$L$28","v":9},1]
[null,null,null,null,null,null,null,null,null,null,null,null,null,null,{"$f":"Traduction!$A$352","v":"Mardi"},"2018-02-27",56.7916666666667,7.3,{"$f":"'[2]Détail N°7'!$L$28","v":9},1]
[null,null,null,null,null,null,null,null,null,null,null,null,null,null,{"$f":"Traduction!$A$352","v":"Mardi"},"2018-02-27",56.8333333333333,6.4,{"$f":"'[2]Détail N°7'!$L$28","v":9},1]
[null,null,null,null,null,null,null,null,null,null,null,null,null,null,{"$f":"Traduction!$A$352","v":"Mardi"},"2018-02-27",56.875,5.5,{"$f":"'[2]Détail N°7'!$L$28","v":9},1]
[null,null,null,null,null,null,null,null,null,null,null,null,null,null,{"$f":"Traduction!$A$352","v":"Mardi"},"2018-02-27",56.9166666666667,4.7,{"$f":"'[2]Détail N°7'!$L$28","v":9},1]
[null,null,null,null,null,null,null,null,null,null,null,null,null,null,{"$f":"Traduction!$A$352","v":"Mardi"},"2018-02-27",56.9583333333333,3.8,{"$f":"'[2]Détail N°7'!$L$28","v":9},1]
[null,null,null,null,null,null,null,null,null,null,null,null,null,null,{"$f":"Traduction!$A$352","v":"Mardi"},"2018-02-27",57,2.9,{"$f":"'[2]Détail N°7'!$L$28","v":9},1]
[null,null,null,null,null,null,null,null,null,null,null,null,null,null,{"$f":"Traduction!$A$353","v":"Mercredi"},"2018-02-28",57.0416666666667,2.4,{"$f":"'[2]Détail N°7'!$L$28","v":9},1]
[null,null,null,null,null,null,null,null,null,null,null,null,null,null,{"$f":"Traduction!$A$353","v":"Mercredi"},"2018-02-28",57.0833333333333,1.8,{"$f":"'[2]Détail N°7'!$L$28","v":9},1]
[null,null,null,null,null,null,null,null,null,null,null,null,null,null,{"$f":"Traduction!$A$353","v":"Mercredi"},"2018-02-28",57.125,1.3,{"$f":"'[2]Détail N°7'!$L$28","v":9},1]
[null,null,null,null,null,null,null,null,null,null,null,null,null,null,{"$f":"Traduction!$A$353","v":"Mercredi"},"2018-02-28",57.1666666666667,1,{"$f":"'[2]Détail N°7'!$L$28","v":9},1]
[null,null,null,null,null,null,null,null,null,null,null,null,null,null,{"$f":"Traduction!$A$353","v":"Mercredi"},"2018-02-28",57.2083333333333,0.7,{"$f":"'[2]Détail N°7'!$L$28","v":9},1]
[null,null,null,null,null,null,null,null,null,null,null,null,null,null,{"$f":"Traduction!$A$353","v":"Mercredi"},"2018-02-28",57.25,0.4,{"$f":"'[2]Détail N°7'!$L$28","v":9},1]
[null,null,null,null,null,null,null,null,null,null,null,null,null,null,{"$f":"Traduction!$A$353","v":"Mercredi"},"2018-02-28",57.2916666666667,0.2,{"$f":"'[2]Détail N°7'!$L$28","v":9},1]
[null,null,null,null,null,null,null,null,null,null,null,null,null,null,{"$f":"Traduction!$A$353","v":"Mercredi"},"2018-02-28",57.3333333333333,0.2,{"$f":"'[2]Détail N°7'!$L$28","v":9},1]
[null,null,null,null,null,null,null,null,null,null,null,null,null,null,{"$f":"Traduction!$A$353","v":"Mercredi"},"2018-02-28",57.375,0.5,{"$f":"'[2]Détail N°7'!$L$28","v":9},1]
[null,null,null,null,null,null,null,null,null,null,null,null,null,null,{"$f":"Traduction!$A$353","v":"Mercredi"},"2018-02-28",57.4166666666667,1.3,{"$f":"'[2]Détail N°7'!$L$28","v":9},1]
[null,null,null,null,null,null,null,null,null,null,null,null,null,null,{"$f":"Traduction!$A$353","v":"Mercredi"},"2018-02-28",57.4583333333333,2.4,{"$f":"'[2]Détail N°7'!$L$28","v":9},1]
[null,null,null,null,null,null,null,null,null,null,null,null,null,null,{"$f":"Traduction!$A$353","v":"Mercredi"},"2018-02-28",57.5,3.3,{"$f":"'[2]Détail N°7'!$L$28","v":9},1]
[null,null,null,null,null,null,null,null,null,null,null,null,null,null,{"$f":"Traduction!$A$353","v":"Mercredi"},"2018-02-28",57.5416666666667,4.2,{"$f":"'[2]Détail N°7'!$L$28","v":9},1]
[null,null,null,null,null,null,null,null,null,null,null,null,null,null,{"$f":"Traduction!$A$353","v":"Mercredi"},"2018-02-28",57.5833333333333,4.7,{"$f":"'[2]Détail N°7'!$L$28","v":9},1]
[null,null,null,null,null,null,null,null,null,null,null,null,null,null,{"$f":"Traduction!$A$353","v":"Mercredi"},"2018-02-28",57.625,5.2,{"$f":"'[2]Détail N°7'!$L$28","v":9},1]
[null,null,null,null,null,null,null,null,null,null,null,null,null,null,{"$f":"Traduction!$A$353","v":"Mercredi"},"2018-02-28",57.6666666666667,5.5,{"$f":"'[2]Détail N°7'!$L$28","v":9},1]
[null,null,null,null,null,null,null,null,null,null,null,null,null,null,{"$f":"Traduction!$A$353","v":"Mercredi"},"2018-02-28",57.7083333333333,5.4,{"$f":"'[2]Détail N°7'!$L$28","v":9},1]
[null,null,null,null,null,null,null,null,null,null,null,null,null,null,{"$f":"Traduction!$A$353","v":"Mercredi"},"2018-02-28",57.75,4.9000000000000004,{"$f":"'[2]Détail N°7'!$L$28","v":9},{"$f":"IF(R1751<=S1751,1,0)","v":1}]
[null,null,null,null,null,null,null,null,null,null,null,null,null,null,{"$f":"Traduction!$A$353","v":"Mercredi"},"2018-02-28",57.7916666666667,4.0999999999999996,{"$f":"'[2]Détail N°7'!$L$28","v":9},1]
[null,null,null,null,null,null,null,null,null,null,null,null,null,null,{"$f":"Traduction!$A$353","v":"Mercredi"},"2018-02-28",57.8333333333333,3.6,{"$f":"'[2]Détail N°7'!$L$28","v":9},1]
[null,null,null,null,null,null,null,null,null,null,null,null,null,null,{"$f":"Traduction!$A$353","v":"Mercredi"},"2018-02-28",57.875,3,{"$f":"'[2]Détail N°7'!$L$28","v":9},1]
[null,null,null,null,null,null,null,null,null,null,null,null,null,null,{"$f":"Traduction!$A$353","v":"Mercredi"},"2018-02-28",57.9166666666667,2.5,{"$f":"'[2]Détail N°7'!$L$28","v":9},1]
[null,null,null,null,null,null,null,null,null,null,null,null,null,null,{"$f":"Traduction!$A$353","v":"Mercredi"},"2018-02-28",57.9583333333333,2,{"$f":"'[2]Détail N°7'!$L$28","v":9},1]
[null,null,null,null,null,null,null,null,null,null,null,null,null,null,{"$f":"Traduction!$A$353","v":"Mercredi"},"2018-02-28",58,1.5,{"$f":"'[2]Détail N°7'!$L$28","v":9},1]
[null,null,null,null,null,null,null,null,null,null,null,null,null,null,{"$f":"Traduction!$A$354","v":"Jeudi"},"2018-03-01",58.0416666666667,1.1000000000000001,{"$f":"'[2]Détail N°7'!$L$28","v":9},1]
[null,null,null,null,null,null,null,null,null,null,null,null,null,null,{"$f":"Traduction!$A$354","v":"Jeudi"},"2018-03-01",58.0833333333333,0.7,{"$f":"'[2]Détail N°7'!$L$28","v":9},1]
[null,null,null,null,null,null,null,null,null,null,null,null,null,null,{"$f":"Traduction!$A$354","v":"Jeudi"},"2018-03-01",58.125,0.3,{"$f":"'[2]Détail N°7'!$L$28","v":9},1]
[null,null,null,null,null,null,null,null,null,null,null,null,null,null,{"$f":"Traduction!$A$354","v":"Jeudi"},"2018-03-01",58.1666666666667,0,{"$f":"'[2]Détail N°7'!$L$28","v":9},1]
[null,null,null,null,null,null,null,null,null,null,null,null,null,null,{"$f":"Traduction!$A$354","v":"Jeudi"},"2018-03-01",58.2083333333333,-0.2,{"$f":"'[2]Détail N°7'!$L$28","v":9},1]
[null,null,null,null,null,null,null,null,null,null,null,null,null,null,{"$f":"Traduction!$A$354","v":"Jeudi"},"2018-03-01",58.25,-0.3,{"$f":"'[2]Détail N°7'!$L$28","v":9},1]
[null,null,null,null,null,null,null,null,null,null,null,null,null,null,{"$f":"Traduction!$A$354","v":"Jeudi"},"2018-03-01",58.2916666666667,-0.5,{"$f":"'[2]Détail N°7'!$L$28","v":9},1]
[null,null,null,null,null,null,null,null,null,null,null,null,null,null,{"$f":"Traduction!$A$354","v":"Jeudi"},"2018-03-01",58.3333333333333,-0.3,{"$f":"'[2]Détail N°7'!$L$28","v":9},1]
[null,null,null,null,null,null,null,null,null,null,null,null,null,null,{"$f":"Traduction!$A$354","v":"Jeudi"},"2018-03-01",58.375,1.1000000000000001,{"$f":"'[2]Détail N°7'!$L$28","v":9},1]
[null,null,null,null,null,null,null,null,null,null,null,null,null,null,{"$f":"Traduction!$A$354","v":"Jeudi"},"2018-03-01",58.4166666666667,2.4,{"$f":"'[2]Détail N°7'!$L$28","v":9},1]
[null,null,null,null,null,null,null,null,null,null,null,null,null,null,{"$f":"Traduction!$A$354","v":"Jeudi"},"2018-03-01",58.4583333333333,3.1,{"$f":"'[2]Détail N°7'!$L$28","v":9},1]
[null,null,null,null,null,null,null,null,null,null,null,null,null,null,{"$f":"Traduction!$A$354","v":"Jeudi"},"2018-03-01",58.5,3.4,{"$f":"'[2]Détail N°7'!$L$28","v":9},1]
[null,null,null,null,null,null,null,null,null,null,null,null,null,null,{"$f":"Traduction!$A$354","v":"Jeudi"},"2018-03-01",58.5416666666667,4.2,{"$f":"'[2]Détail N°7'!$L$28","v":9},1]
[null,null,null,null,null,null,null,null,null,null,null,null,null,null,{"$f":"Traduction!$A$354","v":"Jeudi"},"2018-03-01",58.5833333333333,5,{"$f":"'[2]Détail N°7'!$L$28","v":9},1]
[null,null,null,null,null,null,null,null,null,null,null,null,null,null,{"$f":"Traduction!$A$354","v":"Jeudi"},"2018-03-01",58.625,5.5,{"$f":"'[2]Détail N°7'!$L$28","v":9},1]
[null,null,null,null,null,null,null,null,null,null,null,null,null,null,{"$f":"Traduction!$A$354","v":"Jeudi"},"2018-03-01",58.6666666666667,5.6,{"$f":"'[2]Détail N°7'!$L$28","v":9},1]
[null,null,null,null,null,null,null,null,null,null,null,null,null,null,{"$f":"Traduction!$A$354","v":"Jeudi"},"2018-03-01",58.7083333333333,5.4,{"$f":"'[2]Détail N°7'!$L$28","v":9},1]
[null,null,null,null,null,null,null,null,null,null,null,null,null,null,{"$f":"Traduction!$A$354","v":"Jeudi"},"2018-03-01",58.75,4.7,{"$f":"'[2]Détail N°7'!$L$28","v":9},1]
[null,null,null,null,null,null,null,null,null,null,null,null,null,null,{"$f":"Traduction!$A$354","v":"Jeudi"},"2018-03-01",58.7916666666667,3.9,{"$f":"'[2]Détail N°7'!$L$28","v":9},1]
[null,null,null,null,null,null,null,null,null,null,null,null,null,null,{"$f":"Traduction!$A$354","v":"Jeudi"},"2018-03-01",58.8333333333333,3.3,{"$f":"'[2]Détail N°7'!$L$28","v":9},1]
[null,null,null,null,null,null,null,null,null,null,null,null,null,null,{"$f":"Traduction!$A$354","v":"Jeudi"},"2018-03-01",58.875,2.7,{"$f":"'[2]Détail N°7'!$L$28","v":9},1]
[null,null,null,null,null,null,null,null,null,null,null,null,null,null,{"$f":"Traduction!$A$354","v":"Jeudi"},"2018-03-01",58.9166666666667,2,{"$f":"'[2]Détail N°7'!$L$28","v":9},1]
[null,null,null,null,null,null,null,null,null,null,null,null,null,null,{"$f":"Traduction!$A$354","v":"Jeudi"},"2018-03-01",58.9583333333333,1.4,{"$f":"'[2]Détail N°7'!$L$28","v":9},1]
[null,null,null,null,null,null,null,null,null,null,null,null,null,null,{"$f":"Traduction!$A$354","v":"Jeudi"},"2018-03-01",59,0.8,{"$f":"'[2]Détail N°7'!$L$28","v":9},1]
[null,null,null,null,null,null,null,null,null,null,null,null,null,null,{"$f":"Traduction!$A$355","v":"Vendredi"},"2018-03-02",59.0416666666667,0.3,{"$f":"'[2]Détail N°7'!$L$28","v":9},1]
[null,null,null,null,null,null,null,null,null,null,null,null,null,null,{"$f":"Traduction!$A$355","v":"Vendredi"},"2018-03-02",59.0833333333333,-0.4,{"$f":"'[2]Détail N°7'!$L$28","v":9},1]
[null,null,null,null,null,null,null,null,null,null,null,null,null,null,{"$f":"Traduction!$A$355","v":"Vendredi"},"2018-03-02",59.125,-1,{"$f":"'[2]Détail N°7'!$L$28","v":9},1]
[null,null,null,null,null,null,null,null,null,null,null,null,null,null,{"$f":"Traduction!$A$355","v":"Vendredi"},"2018-03-02",59.1666666666667,-1.4,{"$f":"'[2]Détail N°7'!$L$28","v":9},1]
[null,null,null,null,null,null,null,null,null,null,null,null,null,null,{"$f":"Traduction!$A$355","v":"Vendredi"},"2018-03-02",59.2083333333333,-1.7,{"$f":"'[2]Détail N°7'!$L$28","v":9},1]
[null,null,null,null,null,null,null,null,null,null,null,null,null,null,{"$f":"Traduction!$A$355","v":"Vendredi"},"2018-03-02",59.25,-2,{"$f":"'[2]Détail N°7'!$L$28","v":9},1]
[null,null,null,null,null,null,null,null,null,null,null,null,null,null,{"$f":"Traduction!$A$355","v":"Vendredi"},"2018-03-02",59.2916666666667,-2.2999999999999998,{"$f":"'[2]Détail N°7'!$L$28","v":9},1]
[null,null,null,null,null,null,null,null,null,null,null,null,null,null,{"$f":"Traduction!$A$355","v":"Vendredi"},"2018-03-02",59.3333333333333,-2.2999999999999998,{"$f":"'[2]Détail N°7'!$L$28","v":9},1]
[null,null,null,null,null,null,null,null,null,null,null,null,null,null,{"$f":"Traduction!$A$355","v":"Vendredi"},"2018-03-02",59.375,-1.6,{"$f":"'[2]Détail N°7'!$L$28","v":9},1]
[null,null,null,null,null,null,null,null,null,null,null,null,null,null,{"$f":"Traduction!$A$355","v":"Vendredi"},"2018-03-02",59.4166666666667,-0.2,{"$f":"'[2]Détail N°7'!$L$28","v":9},1]
[null,null,null,null,null,null,null,null,null,null,null,null,null,null,{"$f":"Traduction!$A$355","v":"Vendredi"},"2018-03-02",59.4583333333333,0.7,{"$f":"'[2]Détail N°7'!$L$28","v":9},1]
[null,null,null,null,null,null,null,null,null,null,null,null,null,null,{"$f":"Traduction!$A$355","v":"Vendredi"},"2018-03-02",59.5,-0.3,{"$f":"'[2]Détail N°7'!$L$28","v":9},1]
[null,null,null,null,null,null,null,null,null,null,null,null,null,null,{"$f":"Traduction!$A$355","v":"Vendredi"},"2018-03-02",59.5416666666667,0,{"$f":"'[2]Détail N°7'!$L$28","v":9},1]
[null,null,null,null,null,null,null,null,null,null,null,null,null,null,{"$f":"Traduction!$A$355","v":"Vendredi"},"2018-03-02",59.5833333333333,-0.5,{"$f":"'[2]Détail N°7'!$L$28","v":9},1]
[null,null,null,null,null,null,null,null,null,null,null,null,null,null,{"$f":"Traduction!$A$355","v":"Vendredi"},"2018-03-02",59.625,-0.6,{"$f":"'[2]Détail N°7'!$L$28","v":9},1]
[null,null,null,null,null,null,null,null,null,null,null,null,null,null,{"$f":"Traduction!$A$355","v":"Vendredi"},"2018-03-02",59.6666666666667,0,{"$f":"'[2]Détail N°7'!$L$28","v":9},1]
[null,null,null,null,null,null,null,null,null,null,null,null,null,null,{"$f":"Traduction!$A$355","v":"Vendredi"},"2018-03-02",59.7083333333333,0.1,{"$f":"'[2]Détail N°7'!$L$28","v":9},1]
[null,null,null,null,null,null,null,null,null,null,null,null,null,null,{"$f":"Traduction!$A$355","v":"Vendredi"},"2018-03-02",59.75,-0.3,{"$f":"'[2]Détail N°7'!$L$28","v":9},1]
[null,null,null,null,null,null,null,null,null,null,null,null,null,null,{"$f":"Traduction!$A$355","v":"Vendredi"},"2018-03-02",59.7916666666667,-0.8,{"$f":"'[2]Détail N°7'!$L$28","v":9},1]
[null,null,null,null,null,null,null,null,null,null,null,null,null,null,{"$f":"Traduction!$A$355","v":"Vendredi"},"2018-03-02",59.8333333333333,-1.1000000000000001,{"$f":"'[2]Détail N°7'!$L$28","v":9},1]
[null,null,null,null,null,null,null,null,null,null,null,null,null,null,{"$f":"Traduction!$A$355","v":"Vendredi"},"2018-03-02",59.875,-1.4,{"$f":"'[2]Détail N°7'!$L$28","v":9},1]
[null,null,null,null,null,null,null,null,null,null,null,null,null,null,{"$f":"Traduction!$A$355","v":"Vendredi"},"2018-03-02",59.9166666666667,-1.7,{"$f":"'[2]Détail N°7'!$L$28","v":9},1]
[null,null,null,null,null,null,null,null,null,null,null,null,null,null,{"$f":"Traduction!$A$355","v":"Vendredi"},"2018-03-02",59.9583333333333,-2,{"$f":"'[2]Détail N°7'!$L$28","v":9},1]
[null,null,null,null,null,null,null,null,null,null,null,null,null,null,{"$f":"Traduction!$A$355","v":"Vendredi"},"2018-03-02",60,-2.2999999999999998,{"$f":"'[2]Détail N°7'!$L$28","v":9},1]
[null,null,null,null,null,null,null,null,null,null,null,null,null,null,{"$f":"Traduction!$A$356","v":"Samedi"},"2018-03-03",60.0416666666667,-2.2000000000000002,{"$f":"'[2]Détail N°7'!$L$28","v":9},1]
[null,null,null,null,null,null,null,null,null,null,null,null,null,null,{"$f":"Traduction!$A$356","v":"Samedi"},"2018-03-03",60.0833333333333,-2.1,{"$f":"'[2]Détail N°7'!$L$28","v":9},1]
[null,null,null,null,null,null,null,null,null,null,null,null,null,null,{"$f":"Traduction!$A$356","v":"Samedi"},"2018-03-03",60.125,-1.9,{"$f":"'[2]Détail N°7'!$L$28","v":9},1]
[null,null,null,null,null,null,null,null,null,null,null,null,null,null,{"$f":"Traduction!$A$356","v":"Samedi"},"2018-03-03",60.1666666666667,-1.8,{"$f":"'[2]Détail N°7'!$L$28","v":9},1]
[null,null,null,null,null,null,null,null,null,null,null,null,null,null,{"$f":"Traduction!$A$356","v":"Samedi"},"2018-03-03",60.2083333333333,-1.7,{"$f":"'[2]Détail N°7'!$L$28","v":9},1]
[null,null,null,null,null,null,null,null,null,null,null,null,null,null,{"$f":"Traduction!$A$356","v":"Samedi"},"2018-03-03",60.25,-1.6,{"$f":"'[2]Détail N°7'!$L$28","v":9},1]
[null,null,null,null,null,null,null,null,null,null,null,null,null,null,{"$f":"Traduction!$A$356","v":"Samedi"},"2018-03-03",60.2916666666667,-1.5,{"$f":"'[2]Détail N°7'!$L$28","v":9},1]
[null,null,null,null,null,null,null,null,null,null,null,null,null,null,{"$f":"Traduction!$A$356","v":"Samedi"},"2018-03-03",60.3333333333333,-1.2,{"$f":"'[2]Détail N°7'!$L$28","v":9},1]
[null,null,null,null,null,null,null,null,null,null,null,null,null,null,{"$f":"Traduction!$A$356","v":"Samedi"},"2018-03-03",60.375,-0.3,{"$f":"'[2]Détail N°7'!$L$28","v":9},1]
[null,null,null,null,null,null,null,null,null,null,null,null,null,null,{"$f":"Traduction!$A$356","v":"Samedi"},"2018-03-03",60.4166666666667,1.5,{"$f":"'[2]Détail N°7'!$L$28","v":9},{"$f":"IF(R1815<=S1815,1,0)","v":1}]
[null,null,null,null,null,null,null,null,null,null,null,null,null,null,{"$f":"Traduction!$A$356","v":"Samedi"},"2018-03-03",60.4583333333333,3.6,{"$f":"'[2]Détail N°7'!$L$28","v":9},1]
[null,null,null,null,null,null,null,null,null,null,null,null,null,null,{"$f":"Traduction!$A$356","v":"Samedi"},"2018-03-03",60.5,5,{"$f":"'[2]Détail N°7'!$L$28","v":9},1]
[null,null,null,null,null,null,null,null,null,null,null,null,null,null,{"$f":"Traduction!$A$356","v":"Samedi"},"2018-03-03",60.5416666666667,6.1,{"$f":"'[2]Détail N°7'!$L$28","v":9},1]
[null,null,null,null,null,null,null,null,null,null,null,null,null,null,{"$f":"Traduction!$A$356","v":"Samedi"},"2018-03-03",60.5833333333333,6.1,{"$f":"'[2]Détail N°7'!$L$28","v":9},1]
[null,null,null,null,null,null,null,null,null,null,null,null,null,null,{"$f":"Traduction!$A$356","v":"Samedi"},"2018-03-03",60.625,6.1,{"$f":"'[2]Détail N°7'!$L$28","v":9},1]
[null,null,null,null,null,null,null,null,null,null,null,null,null,null,{"$f":"Traduction!$A$356","v":"Samedi"},"2018-03-03",60.6666666666667,5.5,{"$f":"'[2]Détail N°7'!$L$28","v":9},1]
[null,null,null,null,null,null,null,null,null,null,null,null,null,null,{"$f":"Traduction!$A$356","v":"Samedi"},"2018-03-03",60.7083333333333,4.5999999999999996,{"$f":"'[2]Détail N°7'!$L$28","v":9},1]
[null,null,null,null,null,null,null,null,null,null,null,null,null,null,{"$f":"Traduction!$A$356","v":"Samedi"},"2018-03-03",60.75,3.7,{"$f":"'[2]Détail N°7'!$L$28","v":9},1]
[null,null,null,null,null,null,null,null,null,null,null,null,null,null,{"$f":"Traduction!$A$356","v":"Samedi"},"2018-03-03",60.7916666666667,3,{"$f":"'[2]Détail N°7'!$L$28","v":9},1]
[null,null,null,null,null,null,null,null,null,null,null,null,null,null,{"$f":"Traduction!$A$356","v":"Samedi"},"2018-03-03",60.8333333333333,2.7,{"$f":"'[2]Détail N°7'!$L$28","v":9},1]
[null,null,null,null,null,null,null,null,null,null,null,null,null,null,{"$f":"Traduction!$A$356","v":"Samedi"},"2018-03-03",60.875,2.5,{"$f":"'[2]Détail N°7'!$L$28","v":9},1]
[null,null,null,null,null,null,null,null,null,null,null,null,null,null,{"$f":"Traduction!$A$356","v":"Samedi"},"2018-03-03",60.9166666666667,2.2000000000000002,{"$f":"'[2]Détail N°7'!$L$28","v":9},1]
[null,null,null,null,null,null,null,null,null,null,null,null,null,null,{"$f":"Traduction!$A$356","v":"Samedi"},"2018-03-03",60.9583333333333,2,{"$f":"'[2]Détail N°7'!$L$28","v":9},1]
[null,null,null,null,null,null,null,null,null,null,null,null,null,null,{"$f":"Traduction!$A$356","v":"Samedi"},"2018-03-03",61,1.7,{"$f":"'[2]Détail N°7'!$L$28","v":9},1]
[null,null,null,null,null,null,null,null,null,null,null,null,null,null,{"$f":"Traduction!$A$357","v":"Dimanche"},"2018-03-04",61.0416666666667,1.2,{"$f":"'[2]Détail N°7'!$L$28","v":9},1]
[null,null,null,null,null,null,null,null,null,null,null,null,null,null,{"$f":"Traduction!$A$357","v":"Dimanche"},"2018-03-04",61.0833333333333,0.6,{"$f":"'[2]Détail N°7'!$L$28","v":9},1]
[null,null,null,null,null,null,null,null,null,null,null,null,null,null,{"$f":"Traduction!$A$357","v":"Dimanche"},"2018-03-04",61.125,0,{"$f":"'[2]Détail N°7'!$L$28","v":9},1]
[null,null,null,null,null,null,null,null,null,null,null,null,null,null,{"$f":"Traduction!$A$357","v":"Dimanche"},"2018-03-04",61.1666666666667,-0.3,{"$f":"'[2]Détail N°7'!$L$28","v":9},1]
[null,null,null,null,null,null,null,null,null,null,null,null,null,null,{"$f":"Traduction!$A$357","v":"Dimanche"},"2018-03-04",61.2083333333333,-0.6,{"$f":"'[2]Détail N°7'!$L$28","v":9},1]
[null,null,null,null,null,null,null,null,null,null,null,null,null,null,{"$f":"Traduction!$A$357","v":"Dimanche"},"2018-03-04",61.25,-0.8,{"$f":"'[2]Détail N°7'!$L$28","v":9},1]
[null,null,null,null,null,null,null,null,null,null,null,null,null,null,{"$f":"Traduction!$A$357","v":"Dimanche"},"2018-03-04",61.2916666666667,-1,{"$f":"'[2]Détail N°7'!$L$28","v":9},1]
[null,null,null,null,null,null,null,null,null,null,null,null,null,null,{"$f":"Traduction!$A$357","v":"Dimanche"},"2018-03-04",61.3333333333333,-1,{"$f":"'[2]Détail N°7'!$L$28","v":9},1]
[null,null,null,null,null,null,null,null,null,null,null,null,null,null,{"$f":"Traduction!$A$357","v":"Dimanche"},"2018-03-04",61.375,-0.8,{"$f":"'[2]Détail N°7'!$L$28","v":9},1]
[null,null,null,null,null,null,null,null,null,null,null,null,null,null,{"$f":"Traduction!$A$357","v":"Dimanche"},"2018-03-04",61.4166666666667,-0.8,{"$f":"'[2]Détail N°7'!$L$28","v":9},1]
[null,null,null,null,null,null,null,null,null,null,null,null,null,null,{"$f":"Traduction!$A$357","v":"Dimanche"},"2018-03-04",61.4583333333333,-0.4,{"$f":"'[2]Détail N°7'!$L$28","v":9},1]
[null,null,null,null,null,null,null,null,null,null,null,null,null,null,{"$f":"Traduction!$A$357","v":"Dimanche"},"2018-03-04",61.5,0.6,{"$f":"'[2]Détail N°7'!$L$28","v":9},1]
[null,null,null,null,null,null,null,null,null,null,null,null,null,null,{"$f":"Traduction!$A$357","v":"Dimanche"},"2018-03-04",61.5416666666667,1.4,{"$f":"'[2]Détail N°7'!$L$28","v":9},1]
[null,null,null,null,null,null,null,null,null,null,null,null,null,null,{"$f":"Traduction!$A$357","v":"Dimanche"},"2018-03-04",61.5833333333333,2.1,{"$f":"'[2]Détail N°7'!$L$28","v":9},1]
[null,null,null,null,null,null,null,null,null,null,null,null,null,null,{"$f":"Traduction!$A$357","v":"Dimanche"},"2018-03-04",61.625,2.1,{"$f":"'[2]Détail N°7'!$L$28","v":9},1]
[null,null,null,null,null,null,null,null,null,null,null,null,null,null,{"$f":"Traduction!$A$357","v":"Dimanche"},"2018-03-04",61.6666666666667,1.6,{"$f":"'[2]Détail N°7'!$L$28","v":9},1]
[null,null,null,null,null,null,null,null,null,null,null,null,null,null,{"$f":"Traduction!$A$357","v":"Dimanche"},"2018-03-04",61.7083333333333,1.1000000000000001,{"$f":"'[2]Détail N°7'!$L$28","v":9},1]
[null,null,null,null,null,null,null,null,null,null,null,null,null,null,{"$f":"Traduction!$A$357","v":"Dimanche"},"2018-03-04",61.75,0.6,{"$f":"'[2]Détail N°7'!$L$28","v":9},1]
[null,null,null,null,null,null,null,null,null,null,null,null,null,null,{"$f":"Traduction!$A$357","v":"Dimanche"},"2018-03-04",61.7916666666667,0.3,{"$f":"'[2]Détail N°7'!$L$28","v":9},1]
[null,null,null,null,null,null,null,null,null,null,null,null,null,null,{"$f":"Traduction!$A$357","v":"Dimanche"},"2018-03-04",61.8333333333333,0,{"$f":"'[2]Détail N°7'!$L$28","v":9},1]
[null,null,null,null,null,null,null,null,null,null,null,null,null,null,{"$f":"Traduction!$A$357","v":"Dimanche"},"2018-03-04",61.875,-0.3,{"$f":"'[2]Détail N°7'!$L$28","v":9},1]
[null,null,null,null,null,null,null,null,null,null,null,null,null,null,{"$f":"Traduction!$A$357","v":"Dimanche"},"2018-03-04",61.9166666666667,-0.9,{"$f":"'[2]Détail N°7'!$L$28","v":9},1]
[null,null,null,null,null,null,null,null,null,null,null,null,null,null,{"$f":"Traduction!$A$357","v":"Dimanche"},"2018-03-04",61.9583333333333,-0.7,{"$f":"'[2]Détail N°7'!$L$28","v":9},1]
[null,null,null,null,null,null,null,null,null,null,null,null,null,null,{"$f":"Traduction!$A$357","v":"Dimanche"},"2018-03-04",62,-0.9,{"$f":"'[2]Détail N°7'!$L$28","v":9},1]
[null,null,null,null,null,null,null,null,null,null,null,null,null,null,{"$f":"Traduction!$A$351","v":"Lundi "},"2018-03-05",62.0416666666667,-1,{"$f":"'[2]Détail N°7'!$L$28","v":9},1]
[null,null,null,null,null,null,null,null,null,null,null,null,null,null,{"$f":"Traduction!$A$351","v":"Lundi "},"2018-03-05",62.0833333333333,-1.2,{"$f":"'[2]Détail N°7'!$L$28","v":9},1]
[null,null,null,null,null,null,null,null,null,null,null,null,null,null,{"$f":"Traduction!$A$351","v":"Lundi "},"2018-03-05",62.125,-1.3,{"$f":"'[2]Détail N°7'!$L$28","v":9},1]
[null,null,null,null,null,null,null,null,null,null,null,null,null,null,{"$f":"Traduction!$A$351","v":"Lundi "},"2018-03-05",62.1666666666667,-1.4,{"$f":"'[2]Détail N°7'!$L$28","v":9},1]
[null,null,null,null,null,null,null,null,null,null,null,null,null,null,{"$f":"Traduction!$A$351","v":"Lundi "},"2018-03-05",62.2083333333333,-1.5,{"$f":"'[2]Détail N°7'!$L$28","v":9},1]
[null,null,null,null,null,null,null,null,null,null,null,null,null,null,{"$f":"Traduction!$A$351","v":"Lundi "},"2018-03-05",62.25,-1.5,{"$f":"'[2]Détail N°7'!$L$28","v":9},1]
[null,null,null,null,null,null,null,null,null,null,null,null,null,null,{"$f":"Traduction!$A$351","v":"Lundi "},"2018-03-05",62.2916666666667,-1.6,{"$f":"'[2]Détail N°7'!$L$28","v":9},1]
[null,null,null,null,null,null,null,null,null,null,null,null,null,null,{"$f":"Traduction!$A$351","v":"Lundi "},"2018-03-05",62.3333333333333,-1.4,{"$f":"'[2]Détail N°7'!$L$28","v":9},1]
[null,null,null,null,null,null,null,null,null,null,null,null,null,null,{"$f":"Traduction!$A$351","v":"Lundi "},"2018-03-05",62.375,-0.2,{"$f":"'[2]Détail N°7'!$L$28","v":9},1]
[null,null,null,null,null,null,null,null,null,null,null,null,null,null,{"$f":"Traduction!$A$351","v":"Lundi "},"2018-03-05",62.4166666666667,1,{"$f":"'[2]Détail N°7'!$L$28","v":9},1]
[null,null,null,null,null,null,null,null,null,null,null,null,null,null,{"$f":"Traduction!$A$351","v":"Lundi "},"2018-03-05",62.4583333333333,2,{"$f":"'[2]Détail N°7'!$L$28","v":9},1]
[null,null,null,null,null,null,null,null,null,null,null,null,null,null,{"$f":"Traduction!$A$351","v":"Lundi "},"2018-03-05",62.5,2.8,{"$f":"'[2]Détail N°7'!$L$28","v":9},1]
[null,null,null,null,null,null,null,null,null,null,null,null,null,null,{"$f":"Traduction!$A$351","v":"Lundi "},"2018-03-05",62.5416666666667,3.4,{"$f":"'[2]Détail N°7'!$L$28","v":9},1]
[null,null,null,null,null,null,null,null,null,null,null,null,null,null,{"$f":"Traduction!$A$351","v":"Lundi "},"2018-03-05",62.5833333333333,3.9,{"$f":"'[2]Détail N°7'!$L$28","v":9},1]
[null,null,null,null,null,null,null,null,null,null,null,null,null,null,{"$f":"Traduction!$A$351","v":"Lundi "},"2018-03-05",62.625,4.2,{"$f":"'[2]Détail N°7'!$L$28","v":9},1]
[null,null,null,null,null,null,null,null,null,null,null,null,null,null,{"$f":"Traduction!$A$351","v":"Lundi "},"2018-03-05",62.6666666666667,4.0999999999999996,{"$f":"'[2]Détail N°7'!$L$28","v":9},1]
[null,null,null,null,null,null,null,null,null,null,null,null,null,null,{"$f":"Traduction!$A$351","v":"Lundi "},"2018-03-05",62.7083333333333,3.7,{"$f":"'[2]Détail N°7'!$L$28","v":9},1]
[null,null,null,null,null,null,null,null,null,null,null,null,null,null,{"$f":"Traduction!$A$351","v":"Lundi "},"2018-03-05",62.75,3,{"$f":"'[2]Détail N°7'!$L$28","v":9},1]
[null,null,null,null,null,null,null,null,null,null,null,null,null,null,{"$f":"Traduction!$A$351","v":"Lundi "},"2018-03-05",62.7916666666667,2.2000000000000002,{"$f":"'[2]Détail N°7'!$L$28","v":9},1]
[null,null,null,null,null,null,null,null,null,null,null,null,null,null,{"$f":"Traduction!$A$351","v":"Lundi "},"2018-03-05",62.8333333333333,2.2999999999999998,{"$f":"'[2]Détail N°7'!$L$28","v":9},1]
[null,null,null,null,null,null,null,null,null,null,null,null,null,null,{"$f":"Traduction!$A$351","v":"Lundi "},"2018-03-05",62.875,2.2999999999999998,{"$f":"'[2]Détail N°7'!$L$28","v":9},1]
[null,null,null,null,null,null,null,null,null,null,null,null,null,null,{"$f":"Traduction!$A$351","v":"Lundi "},"2018-03-05",62.9166666666667,2.2999999999999998,{"$f":"'[2]Détail N°7'!$L$28","v":9},1]
[null,null,null,null,null,null,null,null,null,null,null,null,null,null,{"$f":"Traduction!$A$351","v":"Lundi "},"2018-03-05",62.9583333333333,2.4,{"$f":"'[2]Détail N°7'!$L$28","v":9},1]
[null,null,null,null,null,null,null,null,null,null,null,null,null,null,{"$f":"Traduction!$A$351","v":"Lundi "},"2018-03-05",63,2.4,{"$f":"'[2]Détail N°7'!$L$28","v":9},1]
[null,null,null,null,null,null,null,null,null,null,null,null,null,null,{"$f":"Traduction!$A$352","v":"Mardi"},"2018-03-06",63.0416666666667,0.4,{"$f":"'[2]Détail N°7'!$L$28","v":9},1]
[null,null,null,null,null,null,null,null,null,null,null,null,null,null,{"$f":"Traduction!$A$352","v":"Mardi"},"2018-03-06",63.0833333333333,2.4,{"$f":"'[2]Détail N°7'!$L$28","v":9},{"$f":"IF(R1879<=S1879,1,0)","v":1}]
[null,null,null,null,null,null,null,null,null,null,null,null,null,null,{"$f":"Traduction!$A$352","v":"Mardi"},"2018-03-06",63.125,2.4,{"$f":"'[2]Détail N°7'!$L$28","v":9},1]
[null,null,null,null,null,null,null,null,null,null,null,null,null,null,{"$f":"Traduction!$A$352","v":"Mardi"},"2018-03-06",63.1666666666667,1.9,{"$f":"'[2]Détail N°7'!$L$28","v":9},1]
[null,null,null,null,null,null,null,null,null,null,null,null,null,null,{"$f":"Traduction!$A$352","v":"Mardi"},"2018-03-06",63.2083333333333,1.6,{"$f":"'[2]Détail N°7'!$L$28","v":9},1]
[null,null,null,null,null,null,null,null,null,null,null,null,null,null,{"$f":"Traduction!$A$352","v":"Mardi"},"2018-03-06",63.25,2.5,{"$f":"'[2]Détail N°7'!$L$28","v":9},1]
[null,null,null,null,null,null,null,null,null,null,null,null,null,null,{"$f":"Traduction!$A$352","v":"Mardi"},"2018-03-06",63.2916666666667,2.6,{"$f":"'[2]Détail N°7'!$L$28","v":9},1]
[null,null,null,null,null,null,null,null,null,null,null,null,null,null,{"$f":"Traduction!$A$352","v":"Mardi"},"2018-03-06",63.3333333333333,2.6,{"$f":"'[2]Détail N°7'!$L$28","v":9},1]
[null,null,null,null,null,null,null,null,null,null,null,null,null,null,{"$f":"Traduction!$A$352","v":"Mardi"},"2018-03-06",63.375,3,{"$f":"'[2]Détail N°7'!$L$28","v":9},1]
[null,null,null,null,null,null,null,null,null,null,null,null,null,null,{"$f":"Traduction!$A$352","v":"Mardi"},"2018-03-06",63.4166666666667,3.1,{"$f":"'[2]Détail N°7'!$L$28","v":9},1]
[null,null,null,null,null,null,null,null,null,null,null,null,null,null,{"$f":"Traduction!$A$352","v":"Mardi"},"2018-03-06",63.4583333333333,3.4,{"$f":"'[2]Détail N°7'!$L$28","v":9},1]
[null,null,null,null,null,null,null,null,null,null,null,null,null,null,{"$f":"Traduction!$A$352","v":"Mardi"},"2018-03-06",63.5,3.6,{"$f":"'[2]Détail N°7'!$L$28","v":9},1]
[null,null,null,null,null,null,null,null,null,null,null,null,null,null,{"$f":"Traduction!$A$352","v":"Mardi"},"2018-03-06",63.5416666666667,3.7,{"$f":"'[2]Détail N°7'!$L$28","v":9},1]
[null,null,null,null,null,null,null,null,null,null,null,null,null,null,{"$f":"Traduction!$A$352","v":"Mardi"},"2018-03-06",63.5833333333333,3.8,{"$f":"'[2]Détail N°7'!$L$28","v":9},1]
[null,null,null,null,null,null,null,null,null,null,null,null,null,null,{"$f":"Traduction!$A$352","v":"Mardi"},"2018-03-06",63.625,3.8,{"$f":"'[2]Détail N°7'!$L$28","v":9},1]
[null,null,null,null,null,null,null,null,null,null,null,null,null,null,{"$f":"Traduction!$A$352","v":"Mardi"},"2018-03-06",63.6666666666667,3.7,{"$f":"'[2]Détail N°7'!$L$28","v":9},1]
[null,null,null,null,null,null,null,null,null,null,null,null,null,null,{"$f":"Traduction!$A$352","v":"Mardi"},"2018-03-06",63.7083333333333,3.5,{"$f":"'[2]Détail N°7'!$L$28","v":9},1]
[null,null,null,null,null,null,null,null,null,null,null,null,null,null,{"$f":"Traduction!$A$352","v":"Mardi"},"2018-03-06",63.75,3.7,{"$f":"'[2]Détail N°7'!$L$28","v":9},1]
[null,null,null,null,null,null,null,null,null,null,null,null,null,null,{"$f":"Traduction!$A$352","v":"Mardi"},"2018-03-06",63.7916666666667,3.5,{"$f":"'[2]Détail N°7'!$L$28","v":9},1]
[null,null,null,null,null,null,null,null,null,null,null,null,null,null,{"$f":"Traduction!$A$352","v":"Mardi"},"2018-03-06",63.8333333333333,3.4,{"$f":"'[2]Détail N°7'!$L$28","v":9},1]
[null,null,null,null,null,null,null,null,null,null,null,null,null,null,{"$f":"Traduction!$A$352","v":"Mardi"},"2018-03-06",63.875,3.3,{"$f":"'[2]Détail N°7'!$L$28","v":9},1]
[null,null,null,null,null,null,null,null,null,null,null,null,null,null,{"$f":"Traduction!$A$352","v":"Mardi"},"2018-03-06",63.9166666666667,2.8,{"$f":"'[2]Détail N°7'!$L$28","v":9},1]
[null,null,null,null,null,null,null,null,null,null,null,null,null,null,{"$f":"Traduction!$A$352","v":"Mardi"},"2018-03-06",63.9583333333333,2.6,{"$f":"'[2]Détail N°7'!$L$28","v":9},1]
[null,null,null,null,null,null,null,null,null,null,null,null,null,null,{"$f":"Traduction!$A$352","v":"Mardi"},"2018-03-06",64,2.7,{"$f":"'[2]Détail N°7'!$L$28","v":9},1]
[null,null,null,null,null,null,null,null,null,null,null,null,null,null,{"$f":"Traduction!$A$353","v":"Mercredi"},"2018-03-07",64.0416666666667,2.6,{"$f":"'[2]Détail N°7'!$L$28","v":9},1]
[null,null,null,null,null,null,null,null,null,null,null,null,null,null,{"$f":"Traduction!$A$353","v":"Mercredi"},"2018-03-07",64.0833333333333,2.2000000000000002,{"$f":"'[2]Détail N°7'!$L$28","v":9},1]
[null,null,null,null,null,null,null,null,null,null,null,null,null,null,{"$f":"Traduction!$A$353","v":"Mercredi"},"2018-03-07",64.125,1.8,{"$f":"'[2]Détail N°7'!$L$28","v":9},1]
[null,null,null,null,null,null,null,null,null,null,null,null,null,null,{"$f":"Traduction!$A$353","v":"Mercredi"},"2018-03-07",64.1666666666667,1.5,{"$f":"'[2]Détail N°7'!$L$28","v":9},1]
[null,null,null,null,null,null,null,null,null,null,null,null,null,null,{"$f":"Traduction!$A$353","v":"Mercredi"},"2018-03-07",64.2083333333333,1.3,{"$f":"'[2]Détail N°7'!$L$28","v":9},1]
[null,null,null,null,null,null,null,null,null,null,null,null,null,null,{"$f":"Traduction!$A$353","v":"Mercredi"},"2018-03-07",64.25,0.9,{"$f":"'[2]Détail N°7'!$L$28","v":9},1]
[null,null,null,null,null,null,null,null,null,null,null,null,null,null,{"$f":"Traduction!$A$353","v":"Mercredi"},"2018-03-07",64.2916666666667,0.9,{"$f":"'[2]Détail N°7'!$L$28","v":9},1]
[null,null,null,null,null,null,null,null,null,null,null,null,null,null,{"$f":"Traduction!$A$353","v":"Mercredi"},"2018-03-07",64.3333333333333,1.1000000000000001,{"$f":"'[2]Détail N°7'!$L$28","v":9},1]
[null,null,null,null,null,null,null,null,null,null,null,null,null,null,{"$f":"Traduction!$A$353","v":"Mercredi"},"2018-03-07",64.375,1.8,{"$f":"'[2]Détail N°7'!$L$28","v":9},1]
[null,null,null,null,null,null,null,null,null,null,null,null,null,null,{"$f":"Traduction!$A$353","v":"Mercredi"},"2018-03-07",64.4166666666667,2.6,{"$f":"'[2]Détail N°7'!$L$28","v":9},1]
[null,null,null,null,null,null,null,null,null,null,null,null,null,null,{"$f":"Traduction!$A$353","v":"Mercredi"},"2018-03-07",64.4583333333333,3.3,{"$f":"'[2]Détail N°7'!$L$28","v":9},1]
[null,null,null,null,null,null,null,null,null,null,null,null,null,null,{"$f":"Traduction!$A$353","v":"Mercredi"},"2018-03-07",64.5,3.9,{"$f":"'[2]Détail N°7'!$L$28","v":9},1]
[null,null,null,null,null,null,null,null,null,null,null,null,null,null,{"$f":"Traduction!$A$353","v":"Mercredi"},"2018-03-07",64.5416666666667,4.4000000000000004,{"$f":"'[2]Détail N°7'!$L$28","v":9},1]
[null,null,null,null,null,null,null,null,null,null,null,null,null,null,{"$f":"Traduction!$A$353","v":"Mercredi"},"2018-03-07",64.5833333333333,4.7,{"$f":"'[2]Détail N°7'!$L$28","v":9},1]
[null,null,null,null,null,null,null,null,null,null,null,null,null,null,{"$f":"Traduction!$A$353","v":"Mercredi"},"2018-03-07",64.625,4.8,{"$f":"'[2]Détail N°7'!$L$28","v":9},1]
[null,null,null,null,null,null,null,null,null,null,null,null,null,null,{"$f":"Traduction!$A$353","v":"Mercredi"},"2018-03-07",64.6666666666667,4.5999999999999996,{"$f":"'[2]Détail N°7'!$L$28","v":9},1]
[null,null,null,null,null,null,null,null,null,null,null,null,null,null,{"$f":"Traduction!$A$353","v":"Mercredi"},"2018-03-07",64.7083333333333,4.3,{"$f":"'[2]Détail N°7'!$L$28","v":9},1]
[null,null,null,null,null,null,null,null,null,null,null,null,null,null,{"$f":"Traduction!$A$353","v":"Mercredi"},"2018-03-07",64.75,3.8,{"$f":"'[2]Détail N°7'!$L$28","v":9},1]
[null,null,null,null,null,null,null,null,null,null,null,null,null,null,{"$f":"Traduction!$A$353","v":"Mercredi"},"2018-03-07",64.7916666666667,3.3,{"$f":"'[2]Détail N°7'!$L$28","v":9},1]
[null,null,null,null,null,null,null,null,null,null,null,null,null,null,{"$f":"Traduction!$A$353","v":"Mercredi"},"2018-03-07",64.8333333333333,3.1,{"$f":"'[2]Détail N°7'!$L$28","v":9},1]
[null,null,null,null,null,null,null,null,null,null,null,null,null,null,{"$f":"Traduction!$A$353","v":"Mercredi"},"2018-03-07",64.875,2.9,{"$f":"'[2]Détail N°7'!$L$28","v":9},1]
[null,null,null,null,null,null,null,null,null,null,null,null,null,null,{"$f":"Traduction!$A$353","v":"Mercredi"},"2018-03-07",64.9166666666667,2.7,{"$f":"'[2]Détail N°7'!$L$28","v":9},1]
[null,null,null,null,null,null,null,null,null,null,null,null,null,null,{"$f":"Traduction!$A$353","v":"Mercredi"},"2018-03-07",64.9583333333333,2.5,{"$f":"'[2]Détail N°7'!$L$28","v":9},1]
[null,null,null,null,null,null,null,null,null,null,null,null,null,null,{"$f":"Traduction!$A$353","v":"Mercredi"},"2018-03-07",65,2.2000000000000002,{"$f":"'[2]Détail N°7'!$L$28","v":9},1]
[null,null,null,null,null,null,null,null,null,null,null,null,null,null,{"$f":"Traduction!$A$354","v":"Jeudi"},"2018-03-08",65.0416666666667,2.1,{"$f":"'[2]Détail N°7'!$L$28","v":9},1]
[null,null,null,null,null,null,null,null,null,null,null,null,null,null,{"$f":"Traduction!$A$354","v":"Jeudi"},"2018-03-08",65.0833333333333,2.1,{"$f":"'[2]Détail N°7'!$L$28","v":9},1]
[null,null,null,null,null,null,null,null,null,null,null,null,null,null,{"$f":"Traduction!$A$354","v":"Jeudi"},"2018-03-08",65.125,2.2000000000000002,{"$f":"'[2]Détail N°7'!$L$28","v":9},1]
[null,null,null,null,null,null,null,null,null,null,null,null,null,null,{"$f":"Traduction!$A$354","v":"Jeudi"},"2018-03-08",65.1666666666667,2.1,{"$f":"'[2]Détail N°7'!$L$28","v":9},1]
[null,null,null,null,null,null,null,null,null,null,null,null,null,null,{"$f":"Traduction!$A$354","v":"Jeudi"},"2018-03-08",65.2083333333333,1.4,{"$f":"'[2]Détail N°7'!$L$28","v":9},1]
[null,null,null,null,null,null,null,null,null,null,null,null,null,null,{"$f":"Traduction!$A$354","v":"Jeudi"},"2018-03-08",65.25,2,{"$f":"'[2]Détail N°7'!$L$28","v":9},1]
[null,null,null,null,null,null,null,null,null,null,null,null,null,null,{"$f":"Traduction!$A$354","v":"Jeudi"},"2018-03-08",65.2916666666667,2.4,{"$f":"'[2]Détail N°7'!$L$28","v":9},1]
[null,null,null,null,null,null,null,null,null,null,null,null,null,null,{"$f":"Traduction!$A$354","v":"Jeudi"},"2018-03-08",65.3333333333333,2.6,{"$f":"'[2]Détail N°7'!$L$28","v":9},1]
[null,null,null,null,null,null,null,null,null,null,null,null,null,null,{"$f":"Traduction!$A$354","v":"Jeudi"},"2018-03-08",65.375,2.8,{"$f":"'[2]Détail N°7'!$L$28","v":9},1]
[null,null,null,null,null,null,null,null,null,null,null,null,null,null,{"$f":"Traduction!$A$354","v":"Jeudi"},"2018-03-08",65.4166666666667,3.1,{"$f":"'[2]Détail N°7'!$L$28","v":9},1]
[null,null,null,null,null,null,null,null,null,null,null,null,null,null,{"$f":"Traduction!$A$354","v":"Jeudi"},"2018-03-08",65.4583333333333,3.3,{"$f":"'[2]Détail N°7'!$L$28","v":9},1]
[null,null,null,null,null,null,null,null,null,null,null,null,null,null,{"$f":"Traduction!$A$354","v":"Jeudi"},"2018-03-08",65.5,3.5,{"$f":"'[2]Détail N°7'!$L$28","v":9},1]
[null,null,null,null,null,null,null,null,null,null,null,null,null,null,{"$f":"Traduction!$A$354","v":"Jeudi"},"2018-03-08",65.5416666666667,3.6,{"$f":"'[2]Détail N°7'!$L$28","v":9},1]
[null,null,null,null,null,null,null,null,null,null,null,null,null,null,{"$f":"Traduction!$A$354","v":"Jeudi"},"2018-03-08",65.5833333333333,4.7,{"$f":"'[2]Détail N°7'!$L$28","v":9},1]
[null,null,null,null,null,null,null,null,null,null,null,null,null,null,{"$f":"Traduction!$A$354","v":"Jeudi"},"2018-03-08",65.625,5.7,{"$f":"'[2]Détail N°7'!$L$28","v":9},1]
[null,null,null,null,null,null,null,null,null,null,null,null,null,null,{"$f":"Traduction!$A$354","v":"Jeudi"},"2018-03-08",65.6666666666667,6.3,{"$f":"'[2]Détail N°7'!$L$28","v":9},1]
[null,null,null,null,null,null,null,null,null,null,null,null,null,null,{"$f":"Traduction!$A$354","v":"Jeudi"},"2018-03-08",65.7083333333333,6.5,{"$f":"'[2]Détail N°7'!$L$28","v":9},1]
[null,null,null,null,null,null,null,null,null,null,null,null,null,null,{"$f":"Traduction!$A$354","v":"Jeudi"},"2018-03-08",65.75,6.3,{"$f":"'[2]Détail N°7'!$L$28","v":9},{"$f":"IF(R1943<=S1943,1,0)","v":1}]
[null,null,null,null,null,null,null,null,null,null,null,null,null,null,{"$f":"Traduction!$A$354","v":"Jeudi"},"2018-03-08",65.7916666666667,5.9,{"$f":"'[2]Détail N°7'!$L$28","v":9},1]
[null,null,null,null,null,null,null,null,null,null,null,null,null,null,{"$f":"Traduction!$A$354","v":"Jeudi"},"2018-03-08",65.8333333333333,5.4,{"$f":"'[2]Détail N°7'!$L$28","v":9},1]
[null,null,null,null,null,null,null,null,null,null,null,null,null,null,{"$f":"Traduction!$A$354","v":"Jeudi"},"2018-03-08",65.875,5,{"$f":"'[2]Détail N°7'!$L$28","v":9},1]
[null,null,null,null,null,null,null,null,null,null,null,null,null,null,{"$f":"Traduction!$A$354","v":"Jeudi"},"2018-03-08",65.9166666666667,4.5999999999999996,{"$f":"'[2]Détail N°7'!$L$28","v":9},1]
[null,null,null,null,null,null,null,null,null,null,null,null,null,null,{"$f":"Traduction!$A$354","v":"Jeudi"},"2018-03-08",65.9583333333333,4.2,{"$f":"'[2]Détail N°7'!$L$28","v":9},1]
[null,null,null,null,null,null,null,null,null,null,null,null,null,null,{"$f":"Traduction!$A$354","v":"Jeudi"},"2018-03-08",66,3.7,{"$f":"'[2]Détail N°7'!$L$28","v":9},1]
[null,null,null,null,null,null,null,null,null,null,null,null,null,null,{"$f":"Traduction!$A$355","v":"Vendredi"},"2018-03-09",66.0416666666667,3.1,{"$f":"'[2]Détail N°7'!$L$28","v":9},1]
[null,null,null,null,null,null,null,null,null,null,null,null,null,null,{"$f":"Traduction!$A$355","v":"Vendredi"},"2018-03-09",66.0833333333333,2.4,{"$f":"'[2]Détail N°7'!$L$28","v":9},1]
[null,null,null,null,null,null,null,null,null,null,null,null,null,null,{"$f":"Traduction!$A$355","v":"Vendredi"},"2018-03-09",66.125,1.7,{"$f":"'[2]Détail N°7'!$L$28","v":9},1]
[null,null,null,null,null,null,null,null,null,null,null,null,null,null,{"$f":"Traduction!$A$355","v":"Vendredi"},"2018-03-09",66.1666666666667,1.4,{"$f":"'[2]Détail N°7'!$L$28","v":9},1]
[null,null,null,null,null,null,null,null,null,null,null,null,null,null,{"$f":"Traduction!$A$355","v":"Vendredi"},"2018-03-09",66.2083333333333,1,{"$f":"'[2]Détail N°7'!$L$28","v":9},1]
[null,null,null,null,null,null,null,null,null,null,null,null,null,null,{"$f":"Traduction!$A$355","v":"Vendredi"},"2018-03-09",66.25,0.7,{"$f":"'[2]Détail N°7'!$L$28","v":9},1]
[null,null,null,null,null,null,null,null,null,null,null,null,null,null,{"$f":"Traduction!$A$355","v":"Vendredi"},"2018-03-09",66.2916666666667,0.4,{"$f":"'[2]Détail N°7'!$L$28","v":9},1]
[null,null,null,null,null,null,null,null,null,null,null,null,null,null,{"$f":"Traduction!$A$355","v":"Vendredi"},"2018-03-09",66.3333333333333,0.8,{"$f":"'[2]Détail N°7'!$L$28","v":9},1]
[null,null,null,null,null,null,null,null,null,null,null,null,null,null,{"$f":"Traduction!$A$355","v":"Vendredi"},"2018-03-09",66.375,2.5,{"$f":"'[2]Détail N°7'!$L$28","v":9},1]
[null,null,null,null,null,null,null,null,null,null,null,null,null,null,{"$f":"Traduction!$A$355","v":"Vendredi"},"2018-03-09",66.4166666666667,4.0999999999999996,{"$f":"'[2]Détail N°7'!$L$28","v":9},1]
[null,null,null,null,null,null,null,null,null,null,null,null,null,null,{"$f":"Traduction!$A$355","v":"Vendredi"},"2018-03-09",66.4583333333333,5.5,{"$f":"'[2]Détail N°7'!$L$28","v":9},1]
[null,null,null,null,null,null,null,null,null,null,null,null,null,null,{"$f":"Traduction!$A$355","v":"Vendredi"},"2018-03-09",66.5,6.7,{"$f":"'[2]Détail N°7'!$L$28","v":9},1]
[null,null,null,null,null,null,null,null,null,null,null,null,null,null,{"$f":"Traduction!$A$355","v":"Vendredi"},"2018-03-09",66.5416666666667,7.6,{"$f":"'[2]Détail N°7'!$L$28","v":9},1]
[null,null,null,null,null,null,null,null,null,null,null,null,null,null,{"$f":"Traduction!$A$355","v":"Vendredi"},"2018-03-09",66.5833333333333,8.1999999999999993,{"$f":"'[2]Détail N°7'!$L$28","v":9},1]
[null,null,null,null,null,null,null,null,null,null,null,null,null,null,{"$f":"Traduction!$A$355","v":"Vendredi"},"2018-03-09",66.625,8.5,{"$f":"'[2]Détail N°7'!$L$28","v":9},1]
[null,null,null,null,null,null,null,null,null,null,null,null,null,null,{"$f":"Traduction!$A$355","v":"Vendredi"},"2018-03-09",66.6666666666667,8.5,{"$f":"'[2]Détail N°7'!$L$28","v":9},1]
[null,null,null,null,null,null,null,null,null,null,null,null,null,null,{"$f":"Traduction!$A$355","v":"Vendredi"},"2018-03-09",66.7083333333333,7.9,{"$f":"'[2]Détail N°7'!$L$28","v":9},1]
[null,null,null,null,null,null,null,null,null,null,null,null,null,null,{"$f":"Traduction!$A$355","v":"Vendredi"},"2018-03-09",66.75,6.9,{"$f":"'[2]Détail N°7'!$L$28","v":9},1]
[null,null,null,null,null,null,null,null,null,null,null,null,null,null,{"$f":"Traduction!$A$355","v":"Vendredi"},"2018-03-09",66.7916666666667,5.8,{"$f":"'[2]Détail N°7'!$L$28","v":9},1]
[null,null,null,null,null,null,null,null,null,null,null,null,null,null,{"$f":"Traduction!$A$355","v":"Vendredi"},"2018-03-09",66.8333333333333,5.2,{"$f":"'[2]Détail N°7'!$L$28","v":9},1]
[null,null,null,null,null,null,null,null,null,null,null,null,null,null,{"$f":"Traduction!$A$355","v":"Vendredi"},"2018-03-09",66.875,4.5999999999999996,{"$f":"'[2]Détail N°7'!$L$28","v":9},1]
[null,null,null,null,null,null,null,null,null,null,null,null,null,null,{"$f":"Traduction!$A$355","v":"Vendredi"},"2018-03-09",66.9166666666667,4,{"$f":"'[2]Détail N°7'!$L$28","v":9},1]
[null,null,null,null,null,null,null,null,null,null,null,null,null,null,{"$f":"Traduction!$A$355","v":"Vendredi"},"2018-03-09",66.9583333333333,3.5,{"$f":"'[2]Détail N°7'!$L$28","v":9},1]
[null,null,null,null,null,null,null,null,null,null,null,null,null,null,{"$f":"Traduction!$A$355","v":"Vendredi"},"2018-03-09",67,2.9,{"$f":"'[2]Détail N°7'!$L$28","v":9},1]
[null,null,null,null,null,null,null,null,null,null,null,null,null,null,{"$f":"Traduction!$A$356","v":"Samedi"},"2018-03-10",67.0416666666667,2.5,{"$f":"'[2]Détail N°7'!$L$28","v":9},1]
[null,null,null,null,null,null,null,null,null,null,null,null,null,null,{"$f":"Traduction!$A$356","v":"Samedi"},"2018-03-10",67.0833333333333,2.2000000000000002,{"$f":"'[2]Détail N°7'!$L$28","v":9},1]
[null,null,null,null,null,null,null,null,null,null,null,null,null,null,{"$f":"Traduction!$A$356","v":"Samedi"},"2018-03-10",67.125,1.8,{"$f":"'[2]Détail N°7'!$L$28","v":9},1]
[null,null,null,null,null,null,null,null,null,null,null,null,null,null,{"$f":"Traduction!$A$356","v":"Samedi"},"2018-03-10",67.1666666666667,1.6,{"$f":"'[2]Détail N°7'!$L$28","v":9},1]
[null,null,null,null,null,null,null,null,null,null,null,null,null,null,{"$f":"Traduction!$A$356","v":"Samedi"},"2018-03-10",67.2083333333333,1.5,{"$f":"'[2]Détail N°7'!$L$28","v":9},1]
[null,null,null,null,null,null,null,null,null,null,null,null,null,null,{"$f":"Traduction!$A$356","v":"Samedi"},"2018-03-10",67.25,1.3,{"$f":"'[2]Détail N°7'!$L$28","v":9},1]
[null,null,null,null,null,null,null,null,null,null,null,null,null,null,{"$f":"Traduction!$A$356","v":"Samedi"},"2018-03-10",67.2916666666667,1.2,{"$f":"'[2]Détail N°7'!$L$28","v":9},1]
[null,null,null,null,null,null,null,null,null,null,null,null,null,null,{"$f":"Traduction!$A$356","v":"Samedi"},"2018-03-10",67.3333333333333,1.7,{"$f":"'[2]Détail N°7'!$L$28","v":9},1]
[null,null,null,null,null,null,null,null,null,null,null,null,null,null,{"$f":"Traduction!$A$356","v":"Samedi"},"2018-03-10",67.375,3.6,{"$f":"'[2]Détail N°7'!$L$28","v":9},1]
[null,null,null,null,null,null,null,null,null,null,null,null,null,null,{"$f":"Traduction!$A$356","v":"Samedi"},"2018-03-10",67.4166666666667,5.4,{"$f":"'[2]Détail N°7'!$L$28","v":9},1]
[null,null,null,null,null,null,null,null,null,null,null,null,null,null,{"$f":"Traduction!$A$356","v":"Samedi"},"2018-03-10",67.4583333333333,7,{"$f":"'[2]Détail N°7'!$L$28","v":9},1]
[null,null,null,null,null,null,null,null,null,null,null,null,null,null,{"$f":"Traduction!$A$356","v":"Samedi"},"2018-03-10",67.5,8.1999999999999993,{"$f":"'[2]Détail N°7'!$L$28","v":9},1]
[null,null,null,null,null,null,null,null,null,null,null,null,null,null,{"$f":"Traduction!$A$356","v":"Samedi"},"2018-03-10",67.5416666666667,9.1999999999999993,{"$f":"'[2]Détail N°7'!$L$28","v":9},0]
[null,null,null,null,null,null,null,null,null,null,null,null,null,null,{"$f":"Traduction!$A$356","v":"Samedi"},"2018-03-10",67.5833333333333,9.9,{"$f":"'[2]Détail N°7'!$L$28","v":9},0]
[null,null,null,null,null,null,null,null,null,null,null,null,null,null,{"$f":"Traduction!$A$356","v":"Samedi"},"2018-03-10",67.625,10.199999999999999,{"$f":"'[2]Détail N°7'!$L$28","v":9},0]
[null,null,null,null,null,null,null,null,null,null,null,null,null,null,{"$f":"Traduction!$A$356","v":"Samedi"},"2018-03-10",67.6666666666667,10.199999999999999,{"$f":"'[2]Détail N°7'!$L$28","v":9},0]
[null,null,null,null,null,null,null,null,null,null,null,null,null,null,{"$f":"Traduction!$A$356","v":"Samedi"},"2018-03-10",67.7083333333333,9.6,{"$f":"'[2]Détail N°7'!$L$28","v":9},0]
[null,null,null,null,null,null,null,null,null,null,null,null,null,null,{"$f":"Traduction!$A$356","v":"Samedi"},"2018-03-10",67.75,8.6,{"$f":"'[2]Détail N°7'!$L$28","v":9},1]
[null,null,null,null,null,null,null,null,null,null,null,null,null,null,{"$f":"Traduction!$A$356","v":"Samedi"},"2018-03-10",67.7916666666667,7.5,{"$f":"'[2]Détail N°7'!$L$28","v":9},1]
[null,null,null,null,null,null,null,null,null,null,null,null,null,null,{"$f":"Traduction!$A$356","v":"Samedi"},"2018-03-10",67.8333333333333,6.8,{"$f":"'[2]Détail N°7'!$L$28","v":9},1]
[null,null,null,null,null,null,null,null,null,null,null,null,null,null,{"$f":"Traduction!$A$356","v":"Samedi"},"2018-03-10",67.875,6.2,{"$f":"'[2]Détail N°7'!$L$28","v":9},1]
[null,null,null,null,null,null,null,null,null,null,null,null,null,null,{"$f":"Traduction!$A$356","v":"Samedi"},"2018-03-10",67.9166666666667,5.5,{"$f":"'[2]Détail N°7'!$L$28","v":9},1]
[null,null,null,null,null,null,null,null,null,null,null,null,null,null,{"$f":"Traduction!$A$356","v":"Samedi"},"2018-03-10",67.9583333333333,4.9000000000000004,{"$f":"'[2]Détail N°7'!$L$28","v":9},1]
[null,null,null,null,null,null,null,null,null,null,null,null,null,null,{"$f":"Traduction!$A$356","v":"Samedi"},"2018-03-10",68,4.2,{"$f":"'[2]Détail N°7'!$L$28","v":9},1]
[null,null,null,null,null,null,null,null,null,null,null,null,null,null,{"$f":"Traduction!$A$357","v":"Dimanche"},"2018-03-11",68.0416666666667,3.6,{"$f":"'[2]Détail N°7'!$L$28","v":9},1]
[null,null,null,null,null,null,null,null,null,null,null,null,null,null,{"$f":"Traduction!$A$357","v":"Dimanche"},"2018-03-11",68.0833333333333,3,{"$f":"'[2]Détail N°7'!$L$28","v":9},1]
[null,null,null,null,null,null,null,null,null,null,null,null,null,null,{"$f":"Traduction!$A$357","v":"Dimanche"},"2018-03-11",68.125,2.4,{"$f":"'[2]Détail N°7'!$L$28","v":9},1]
[null,null,null,null,null,null,null,null,null,null,null,null,null,null,{"$f":"Traduction!$A$357","v":"Dimanche"},"2018-03-11",68.1666666666667,2,{"$f":"'[2]Détail N°7'!$L$28","v":9},1]
[null,null,null,null,null,null,null,null,null,null,null,null,null,null,{"$f":"Traduction!$A$357","v":"Dimanche"},"2018-03-11",68.3333333333333,1.7,{"$f":"'[2]Détail N°7'!$L$28","v":9},1]
[null,null,null,null,null,null,null,null,null,null,null,null,null,null,{"$f":"Traduction!$A$357","v":"Dimanche"},"2018-03-11",68.4583333333333,7.4,{"$f":"'[2]Détail N°7'!$L$28","v":9},1]
[null,null,null,null,null,null,null,null,null,null,null,null,null,null,{"$f":"Traduction!$A$357","v":"Dimanche"},"2018-03-11",68.5416666666667,9.9,{"$f":"'[2]Détail N°7'!$L$28","v":9},0]
[null,null,null,null,null,null,null,null,null,null,null,null,null,null,{"$f":"Traduction!$A$357","v":"Dimanche"},"2018-03-11",68.7916666666667,7.8,{"$f":"'[2]Détail N°7'!$L$28","v":9},1]
[null,null,null,null,null,null,null,null,null,null,null,null,null,null,{"$f":"Traduction!$A$357","v":"Dimanche"},"2018-03-11",68.9166666666667,5.6,{"$f":"'[2]Détail N°7'!$L$28","v":9},1]
[null,null,null,null,null,null,null,null,null,null,null,null,null,null,{"$f":"Traduction!$A$351","v":"Lundi "},"2018-03-12",69.0833333333333,3,{"$f":"'[2]Détail N°7'!$L$28","v":9},1]
[null,null,null,null,null,null,null,null,null,null,null,null,null,null,{"$f":"Traduction!$A$351","v":"Lundi "},"2018-03-12",69.125,2.2999999999999998,{"$f":"'[2]Détail N°7'!$L$28","v":9},1]
[null,null,null,null,null,null,null,null,null,null,null,null,null,null,{"$f":"Traduction!$A$351","v":"Lundi "},"2018-03-12",69.2916666666667,1.4,{"$f":"'[2]Détail N°7'!$L$28","v":9},1]
[null,null,null,null,null,null,null,null,null,null,null,null,null,null,{"$f":"Traduction!$A$351","v":"Lundi "},"2018-03-12",69.4583333333333,6,{"$f":"'[2]Détail N°7'!$L$28","v":9},1]
[null,null,null,null,null,null,null,null,null,null,null,null,null,null,{"$f":"Traduction!$A$351","v":"Lundi "},"2018-03-12",69.5833333333333,8.6999999999999993,{"$f":"'[2]Détail N°7'!$L$28","v":9},1]
[null,null,null,null,null,null,null,null,null,null,null,null,null,null,{"$f":"Traduction!$A$351","v":"Lundi "},"2018-03-12",69.75,7.9,{"$f":"'[2]Détail N°7'!$L$28","v":9},1]
[null,null,null,null,null,null,null,null,null,null,null,null,null,null,{"$f":"Traduction!$A$351","v":"Lundi "},"2018-03-12",69.875,5.7,{"$f":"'[2]Détail N°7'!$L$28","v":9},1]
[null,null,null,null,null,null,null,null,null,null,null,null,null,null,{"$f":"Traduction!$A$351","v":"Lundi "},"2018-03-12",70,4,{"$f":"'[2]Détail N°7'!$L$28","v":9},1]
[null,null,null,null,null,null,null,null,null,null,null,null,null,null,{"$f":"Traduction!$A$352","v":"Mardi"},"2018-03-13",70.0833333333333,3.2,{"$f":"'[2]Détail N°7'!$L$28","v":9},1]
[null,null,null,null,null,null,null,null,null,null,null,null,null,null,{"$f":"Traduction!$A$352","v":"Mardi"},"2018-03-13",70.2083333333333,2.2999999999999998,{"$f":"'[2]Détail N°7'!$L$28","v":9},1]
[null,null,null,null,null,null,null,null,null,null,null,null,null,null,{"$f":"Traduction!$A$352","v":"Mardi"},"2018-03-13",70.375,4.5999999999999996,{"$f":"'[2]Détail N°7'!$L$28","v":9},1]
[null,null,null,null,null,null,null,null,null,null,null,null,null,null,{"$f":"Traduction!$A$352","v":"Mardi"},"2018-03-13",70.5416666666667,5.4,{"$f":"'[2]Détail N°7'!$L$28","v":9},1]
[null,null,null,null,null,null,null,null,null,null,null,null,null,null,{"$f":"Traduction!$A$352","v":"Mardi"},"2018-03-13",70.6666666666667,7.1,{"$f":"'[2]Détail N°7'!$L$28","v":9},1]
[null,null,null,null,null,null,null,null,null,null,null,null,null,null,{"$f":"Traduction!$A$352","v":"Mardi"},"2018-03-13",70.75,7.1,{"$f":"'[2]Détail N°7'!$L$28","v":9},1]
[null,null,null,null,null,null,null,null,null,null,null,null,null,null,{"$f":"Traduction!$A$352","v":"Mardi"},"2018-03-13",71,3.1,{"$f":"'[2]Détail N°7'!$L$28","v":9},1]
[null,null,null,null,null,null,null,null,null,null,null,null,null,null,{"$f":"Traduction!$A$353","v":"Mercredi"},"2018-03-14",71.0416666666667,2.6,{"$f":"'[2]Détail N°7'!$L$28","v":9},1]
[null,null,null,null,null,null,null,null,null,null,null,null,null,null,{"$f":"Traduction!$A$353","v":"Mercredi"},"2018-03-14",71.1666666666667,1.2,{"$f":"'[2]Détail N°7'!$L$28","v":9},1]
[null,null,null,null,null,null,null,null,null,null,null,null,null,null,{"$f":"Traduction!$A$353","v":"Mercredi"},"2018-03-14",71.2916666666667,0.6,{"$f":"'[2]Détail N°7'!$L$28","v":9},1]
[null,null,null,null,null,null,null,null,null,null,null,null,null,null,{"$f":"Traduction!$A$353","v":"Mercredi"},"2018-03-14",71.5,3.9,{"$f":"'[2]Détail N°7'!$L$28","v":9},1]
[null,null,null,null,null,null,null,null,null,null,null,null,null,null,{"$f":"Traduction!$A$353","v":"Mercredi"},"2018-03-14",71.625,6.2,{"$f":"'[2]Détail N°7'!$L$28","v":9},1]
[null,null,null,null,null,null,null,null,null,null,null,null,null,null,{"$f":"Traduction!$A$353","v":"Mercredi"},"2018-03-14",71.8333333333333,5.0999999999999996,{"$f":"'[2]Détail N°7'!$L$28","v":9},1]
[null,null,null,null,null,null,null,null,null,null,null,null,null,null,{"$f":"Traduction!$A$353","v":"Mercredi"},"2018-03-14",71.9583333333333,4,{"$f":"'[2]Détail N°7'!$L$28","v":9},1]
[null,null,null,null,null,null,null,null,null,null,null,null,null,null,{"$f":"Traduction!$A$354","v":"Jeudi"},"2018-03-15",72.0833333333333,3.2,{"$f":"'[2]Détail N°7'!$L$28","v":9},1]
[null,null,null,null,null,null,null,null,null,null,null,null,null,null,{"$f":"Traduction!$A$354","v":"Jeudi"},"2018-03-15",72.2083333333333,2.8,{"$f":"'[2]Détail N°7'!$L$28","v":9},1]
[null,null,null,null,null,null,null,null,null,null,null,null,null,null,{"$f":"Traduction!$A$354","v":"Jeudi"},"2018-03-15",72.2916666666667,2.8,{"$f":"'[2]Détail N°7'!$L$28","v":9},1]
[null,null,null,null,null,null,null,null,null,null,null,null,null,null,{"$f":"Traduction!$A$354","v":"Jeudi"},"2018-03-15",72.4166666666667,5.8,{"$f":"'[2]Détail N°7'!$L$28","v":9},1]
[null,null,null,null,null,null,null,null,null,null,null,null,null,null,{"$f":"Traduction!$A$354","v":"Jeudi"},"2018-03-15",72.5833333333333,9.6,{"$f":"'[2]Détail N°7'!$L$28","v":9},0]
[null,null,null,null,null,null,null,null,null,null,null,null,null,null,{"$f":"Traduction!$A$354","v":"Jeudi"},"2018-03-15",72.75,9,{"$f":"'[2]Détail N°7'!$L$28","v":9},1]
[null,null,null,null,null,null,null,null,null,null,null,null,null,null,{"$f":"Traduction!$A$354","v":"Jeudi"},"2018-03-15",72.875,7.2,{"$f":"'[2]Détail N°7'!$L$28","v":9},1]
[null,null,null,null,null,null,null,null,null,null,null,null,null,null,{"$f":"Traduction!$A$355","v":"Vendredi"},"2018-03-16",73.0416666666667,5.2,{"$f":"'[2]Détail N°7'!$L$28","v":9},1]
[null,null,null,null,null,null,null,null,null,null,null,null,null,null,{"$f":"Traduction!$A$355","v":"Vendredi"},"2018-03-16",73.125,4.2,{"$f":"'[2]Détail N°7'!$L$28","v":9},1]
[null,null,null,null,null,null,null,null,null,null,null,null,null,null,{"$f":"Traduction!$A$355","v":"Vendredi"},"2018-03-16",73.25,3.4,{"$f":"'[2]Détail N°7'!$L$28","v":9},1]
[null,null,null,null,null,null,null,null,null,null,null,null,null,null,{"$f":"Traduction!$A$355","v":"Vendredi"},"2018-03-16",73.375,5.7,{"$f":"'[2]Détail N°7'!$L$28","v":9},1]
[null,null,null,null,null,null,null,null,null,null,null,null,null,null,{"$f":"Traduction!$A$355","v":"Vendredi"},"2018-03-16",73.5,10.199999999999999,{"$f":"'[2]Détail N°7'!$L$28","v":9},0]
[null,null,null,null,null,null,null,null,null,null,null,null,null,null,{"$f":"Traduction!$A$355","v":"Vendredi"},"2018-03-16",73.7083333333333,12.2,{"$f":"'[2]Détail N°7'!$L$28","v":9},0]
[null,null,null,null,null,null,null,null,null,null,null,null,null,null,{"$f":"Traduction!$A$355","v":"Vendredi"},"2018-03-16",73.8333333333333,9.5,{"$f":"'[2]Détail N°7'!$L$28","v":9},0]
[null,null,null,null,null,null,null,null,null,null,null,null,null,null,{"$f":"Traduction!$A$355","v":"Vendredi"},"2018-03-16",74,7,{"$f":"'[2]Détail N°7'!$L$28","v":9},1]
[null,null,null,null,null,null,null,null,null,null,null,null,null,null,{"$f":"Traduction!$A$356","v":"Samedi"},"2018-03-17",74.0416666666667,6.5,{"$f":"'[2]Détail N°7'!$L$28","v":9},1]
[null,null,null,null,null,null,null,null,null,null,null,null,null,null,{"$f":"Traduction!$A$356","v":"Samedi"},"2018-03-17",74.2916666666667,4.4000000000000004,{"$f":"'[2]Détail N°7'!$L$28","v":9},1]
[null,null,null,null,null,null,null,null,null,null,null,null,null,null,{"$f":"Traduction!$A$356","v":"Samedi"},"2018-03-17",74.3333333333333,4.9000000000000004,{"$f":"'[2]Détail N°7'!$L$28","v":9},1]
[null,null,null,null,null,null,null,null,null,null,null,null,null,null,{"$f":"Traduction!$A$356","v":"Samedi"},"2018-03-17",74.5833333333333,9,{"$f":"'[2]Détail N°7'!$L$28","v":9},1]
[null,null,null,null,null,null,null,null,null,null,null,null,null,null,{"$f":"Traduction!$A$356","v":"Samedi"},"2018-03-17",74.625,9.3000000000000007,{"$f":"'[2]Détail N°7'!$L$28","v":9},0]
[null,null,null,null,null,null,null,null,null,null,null,null,null,null,{"$f":"Traduction!$A$356","v":"Samedi"},"2018-03-17",74.7916666666667,7.7,{"$f":"'[2]Détail N°7'!$L$28","v":9},1]
[null,null,null,null,null,null,null,null,null,null,null,null,null,null,{"$f":"Traduction!$A$356","v":"Samedi"},"2018-03-17",74.9583333333333,7.2,{"$f":"'[2]Détail N°7'!$L$28","v":9},1]
[null,null,null,null,null,null,null,null,null,null,null,null,null,null,{"$f":"Traduction!$A$357","v":"Dimanche"},"2018-03-18",75.125,7.6,{"$f":"'[2]Détail N°7'!$L$28","v":9},1]
[null,null,null,null,null,null,null,null,null,null,null,null,null,null,{"$f":"Traduction!$A$357","v":"Dimanche"},"2018-03-18",75.25,7.9,{"$f":"'[2]Détail N°7'!$L$28","v":9},1]
[null,null,null,null,null,null,null,null,null,null,null,null,null,null,{"$f":"Traduction!$A$357","v":"Dimanche"},"2018-03-18",75.375,9.6999999999999993,{"$f":"'[2]Détail N°7'!$L$28","v":9},0]
[null,null,null,null,null,null,null,null,null,null,null,null,null,null,{"$f":"Traduction!$A$357","v":"Dimanche"},"2018-03-18",75.5,12.5,{"$f":"'[2]Détail N°7'!$L$28","v":9},0]
[null,null,null,null,null,null,null,null,null,null,null,null,null,null,{"$f":"Traduction!$A$357","v":"Dimanche"},"2018-03-18",75.5833333333333,13.9,{"$f":"'[2]Détail N°7'!$L$28","v":9},0]
[null,null,null,null,null,null,null,null,null,null,null,null,null,null,{"$f":"Traduction!$A$357","v":"Dimanche"},"2018-03-18",75.75,13.1,{"$f":"'[2]Détail N°7'!$L$28","v":9},0]
[null,null,null,null,null,null,null,null,null,null,null,null,null,null,{"$f":"Traduction!$A$357","v":"Dimanche"},"2018-03-18",75.875,11.7,{"$f":"'[2]Détail N°7'!$L$28","v":9},0]
[null,null,null,null,null,null,null,null,null,null,null,null,null,null,{"$f":"Traduction!$A$351","v":"Lundi "},"2018-03-19",76.0416666666667,10.1,{"$f":"'[2]Détail N°7'!$L$28","v":9},0]
[null,null,null,null,null,null,null,null,null,null,null,null,null,null,{"$f":"Traduction!$A$351","v":"Lundi "},"2018-03-19",76.2083333333333,8.5,{"$f":"'[2]Détail N°7'!$L$28","v":9},1]
[null,null,null,null,null,null,null,null,null,null,null,null,null,null,{"$f":"Traduction!$A$351","v":"Lundi "},"2018-03-19",76.25,8.3000000000000007,{"$f":"'[2]Détail N°7'!$L$28","v":9},1]
[null,null,null,null,null,null,null,null,null,null,null,null,null,null,{"$f":"Traduction!$A$351","v":"Lundi "},"2018-03-19",76.5,14.8,{"$f":"'[2]Détail N°7'!$L$28","v":9},0]
[null,null,null,null,null,null,null,null,null,null,null,null,null,null,{"$f":"Traduction!$A$351","v":"Lundi "},"2018-03-19",76.5416666666667,15.8,{"$f":"'[2]Détail N°7'!$L$28","v":9},0]
[null,null,null,null,null,null,null,null,null,null,null,null,null,null,{"$f":"Traduction!$A$351","v":"Lundi "},"2018-03-19",76.6666666666667,16.899999999999999,{"$f":"'[2]Détail N°7'!$L$28","v":9},0]
[null,null,null,null,null,null,null,null,null,null,null,null,null,null,{"$f":"Traduction!$A$351","v":"Lundi "},"2018-03-19",76.7916666666667,14.4,{"$f":"'[2]Détail N°7'!$L$28","v":9},0]
[null,null,null,null,null,null,null,null,null,null,null,null,null,null,{"$f":"Traduction!$A$351","v":"Lundi "},"2018-03-19",77,11.3,{"$f":"'[2]Détail N°7'!$L$28","v":9},0]
[null,null,null,null,null,null,null,null,null,null,null,null,null,null,{"$f":"Traduction!$A$352","v":"Mardi"},"2018-03-20",77.125,10.1,{"$f":"'[2]Détail N°7'!$L$28","v":9},0]
[null,null,null,null,null,null,null,null,null,null,null,null,null,null,{"$f":"Traduction!$A$352","v":"Mardi"},"2018-03-20",77.3333333333333,10.3,{"$f":"'[2]Détail N°7'!$L$28","v":9},0]
[null,null,null,null,null,null,null,null,null,null,null,null,null,null,{"$f":"Traduction!$A$352","v":"Mardi"},"2018-03-20",77.4583333333333,12.6,{"$f":"'[2]Détail N°7'!$L$28","v":9},0]
[null,null,null,null,null,null,null,null,null,null,null,null,null,null,{"$f":"Traduction!$A$352","v":"Mardi"},"2018-03-20",77.5833333333333,14,{"$f":"'[2]Détail N°7'!$L$28","v":9},0]
[null,null,null,null,null,null,null,null,null,null,null,null,null,null,{"$f":"Traduction!$A$352","v":"Mardi"},"2018-03-20",77.7083333333333,13.8,{"$f":"'[2]Détail N°7'!$L$28","v":9},0]
[null,null,null,null,null,null,null,null,null,null,null,null,null,null,{"$f":"Traduction!$A$352","v":"Mardi"},"2018-03-20",77.7916666666667,12.7,{"$f":"'[2]Détail N°7'!$L$28","v":9},0]
[null,null,null,null,null,null,null,null,null,null,null,null,null,null,{"$f":"Traduction!$A$352","v":"Mardi"},"2018-03-20",77.9583333333333,9.9,{"$f":"'[2]Détail N°7'!$L$28","v":9},0]
[null,null,null,null,null,null,null,null,null,null,null,null,null,null,{"$f":"Traduction!$A$353","v":"Mercredi"},"2018-03-21",78.0833333333333,7.8,{"$f":"'[2]Détail N°7'!$L$28","v":9},1]
[null,null,null,null,null,null,null,null,null,null,null,null,null,null,{"$f":"Traduction!$A$353","v":"Mercredi"},"2018-03-21",78.25,5.9,{"$f":"'[2]Détail N°7'!$L$28","v":9},1]
[null,null,null,null,null,null,null,null,null,null,null,null,null,null,{"$f":"Traduction!$A$353","v":"Mercredi"},"2018-03-21",78.4166666666667,8.8000000000000007,{"$f":"'[2]Détail N°7'!$L$28","v":9},1]
[null,null,null,null,null,null,null,null,null,null,null,null,null,null,{"$f":"Traduction!$A$353","v":"Mercredi"},"2018-03-21",78.5416666666667,11.4,{"$f":"'[2]Détail N°7'!$L$28","v":9},0]
[null,null,null,null,null,null,null,null,null,null,null,null,null,null,{"$f":"Traduction!$A$353","v":"Mercredi"},"2018-03-21",78.625,12.3,{"$f":"'[2]Détail N°7'!$L$28","v":9},0]
[null,null,null,null,null,null,null,null,null,null,null,null,null,null,{"$f":"Traduction!$A$353","v":"Mercredi"},"2018-03-21",78.75,11.5,{"$f":"'[2]Détail N°7'!$L$28","v":9},0]
[null,null,null,null,null,null,null,null,null,null,null,null,null,null,{"$f":"Traduction!$A$353","v":"Mercredi"},"2018-03-21",78.875,9.5,{"$f":"'[2]Détail N°7'!$L$28","v":9},0]
[null,null,null,null,null,null,null,null,null,null,null,null,null,null,{"$f":"Traduction!$A$353","v":"Mercredi"},"2018-03-21",79,7.8,{"$f":"'[2]Détail N°7'!$L$28","v":9},1]
[null,null,null,null,null,null,null,null,null,null,null,null,null,null,{"$f":"Traduction!$A$354","v":"Jeudi"},"2018-03-22",79.2083333333333,6.6,{"$f":"'[2]Détail N°7'!$L$28","v":9},1]
[null,null,null,null,null,null,null,null,null,null,null,null,null,null,{"$f":"Traduction!$A$354","v":"Jeudi"},"2018-03-22",79.3333333333333,7.9,{"$f":"'[2]Détail N°7'!$L$28","v":9},1]
[null,null,null,null,null,null,null,null,null,null,null,null,null,null,{"$f":"Traduction!$A$354","v":"Jeudi"},"2018-03-22",79.5,13.3,{"$f":"'[2]Détail N°7'!$L$28","v":9},0]
[null,null,null,null,null,null,null,null,null,null,null,null,null,null,{"$f":"Traduction!$A$354","v":"Jeudi"},"2018-03-22",79.5416666666667,13.8,{"$f":"'[2]Détail N°7'!$L$28","v":9},0]
[null,null,null,null,null,null,null,null,null,null,null,null,null,null,{"$f":"Traduction!$A$354","v":"Jeudi"},"2018-03-22",79.7083333333333,11.6,{"$f":"'[2]Détail N°7'!$L$28","v":9},0]
[null,null,null,null,null,null,null,null,null,null,null,null,null,null,{"$f":"Traduction!$A$354","v":"Jeudi"},"2018-03-22",79.8333333333333,9.6999999999999993,{"$f":"'[2]Détail N°7'!$L$28","v":9},0]
[null,null,null,null,null,null,null,null,null,null,null,null,null,null,{"$f":"Traduction!$A$355","v":"Vendredi"},"2018-03-23",80.0833333333333,6.3,{"$f":"'[2]Détail N°7'!$L$28","v":9},1]
[null,null,null,null,null,null,null,null,null,null,null,null,null,null,{"$f":"Traduction!$A$355","v":"Vendredi"},"2018-03-23",80.1666666666667,5.2,{"$f":"'[2]Détail N°7'!$L$28","v":9},1]
[null,null,null,null,null,null,null,null,null,null,null,null,null,null,{"$f":"Traduction!$A$355","v":"Vendredi"},"2018-03-23",80.2916666666667,4.5999999999999996,{"$f":"'[2]Détail N°7'!$L$28","v":9},1]
[null,null,null,null,null,null,null,null,null,null,null,null,null,null,{"$f":"Traduction!$A$355","v":"Vendredi"},"2018-03-23",80.4583333333333,11.7,{"$f":"'[2]Détail N°7'!$L$28","v":9},0]
[null,null,null,null,null,null,null,null,null,null,null,null,null,null,{"$f":"Traduction!$A$355","v":"Vendredi"},"2018-03-23",80.625,15.7,{"$f":"'[2]Détail N°7'!$L$28","v":9},0]
[null,null,null,null,null,null,null,null,null,null,null,null,null,null,{"$f":"Traduction!$A$355","v":"Vendredi"},"2018-03-23",80.75,14.2,{"$f":"'[2]Détail N°7'!$L$28","v":9},0]
[null,null,null,null,null,null,null,null,null,null,null,null,null,null,{"$f":"Traduction!$A$355","v":"Vendredi"},"2018-03-23",80.7916666666667,12.8,{"$f":"'[2]Détail N°7'!$L$28","v":9},0]
[null,null,null,null,null,null,null,null,null,null,null,null,null,null,{"$f":"Traduction!$A$355","v":"Vendredi"},"2018-03-23",81,8.5,{"$f":"'[2]Détail N°7'!$L$28","v":9},1]
[null,null,null,null,null,null,null,null,null,null,null,null,null,null,{"$f":"Traduction!$A$356","v":"Samedi"},"2018-03-24",81.0833333333333,7.2,{"$f":"'[2]Détail N°7'!$L$28","v":9},1]
[null,null,null,null,null,null,null,null,null,null,null,null,null,null,{"$f":"Traduction!$A$356","v":"Samedi"},"2018-03-24",81.25,5.6,{"$f":"'[2]Détail N°7'!$L$28","v":9},1]
[null,null,null,null,null,null,null,null,null,null,null,null,null,null,{"$f":"Traduction!$A$356","v":"Samedi"},"2018-03-24",81.375,6.1,{"$f":"'[2]Détail N°7'!$L$28","v":9},1]
[null,null,null,null,null,null,null,null,null,null,null,null,null,null,{"$f":"Traduction!$A$356","v":"Samedi"},"2018-03-24",81.5833333333333,8.6999999999999993,{"$f":"'[2]Détail N°7'!$L$28","v":9},1]
[null,null,null,null,null,null,null,null,null,null,null,null,null,null,{"$f":"Traduction!$A$356","v":"Samedi"},"2018-03-24",81.7083333333333,9.6999999999999993,{"$f":"'[2]Détail N°7'!$L$28","v":9},0]
[null,null,null,null,null,null,null,null,null,null,null,null,null,null,{"$f":"Traduction!$A$356","v":"Samedi"},"2018-03-24",81.75,9.5,{"$f":"'[2]Détail N°7'!$L$28","v":9},{"$f":"IF(R2327<=S2327,1,0)","v":0}]
[null,null,null,null,null,null,null,null,null,null,null,null,null,null,{"$f":"Traduction!$A$356","v":"Samedi"},"2018-03-24",81.9166666666667,7.5,{"$f":"'[2]Détail N°7'!$L$28","v":9},1]
[null,null,null,null,null,null,null,null,null,null,null,null,null,null,{"$f":"Traduction!$A$357","v":"Dimanche"},"2018-03-25",82.0416666666667,6.2,{"$f":"'[2]Détail N°7'!$L$28","v":9},1]
[null,null,null,null,null,null,null,null,null,null,null,null,null,null,{"$f":"Traduction!$A$357","v":"Dimanche"},"2018-03-25",82.1666666666667,5.7,{"$f":"'[2]Détail N°7'!$L$28","v":9},1]
[null,null,null,null,null,null,null,null,null,null,null,null,null,null,{"$f":"Traduction!$A$357","v":"Dimanche"},"2018-03-25",82.2916666666667,5.6,{"$f":"'[2]Détail N°7'!$L$28","v":9},1]
[null,null,null,null,null,null,null,null,null,null,null,null,null,null,{"$f":"Traduction!$A$357","v":"Dimanche"},"2018-03-25",82.5,10,{"$f":"'[2]Détail N°7'!$L$28","v":9},0]
[null,null,null,null,null,null,null,null,null,null,null,null,null,null,{"$f":"Traduction!$A$357","v":"Dimanche"},"2018-03-25",82.6666666666667,12.7,{"$f":"'[2]Détail N°7'!$L$28","v":9},0]
[null,null,null,null,null,null,null,null,null,null,null,null,null,null,{"$f":"Traduction!$A$357","v":"Dimanche"},"2018-03-25",82.8333333333333,9.8000000000000007,{"$f":"'[2]Détail N°7'!$L$28","v":9},0]
[null,null,null,null,null,null,null,null,null,null,null,null,null,null,{"$f":"Traduction!$A$357","v":"Dimanche"},"2018-03-25",82.9583333333333,8.4,{"$f":"'[2]Détail N°7'!$L$28","v":9},1]
[null,null,null,null,null,null,null,null,null,null,null,null,null,null,{"$f":"Traduction!$A$357","v":"Dimanche"},"2018-03-25",83,7.9,{"$f":"'[2]Détail N°7'!$L$28","v":9},1]
[null,null,null,null,null,null,null,null,null,null,null,null,null,null,{"$f":"Traduction!$A$351","v":"Lundi "},"2018-03-26",83.2083333333333,5,{"$f":"'[2]Détail N°7'!$L$28","v":9},1]
[null,null,null,null,null,null,null,null,null,null,null,null,null,null,{"$f":"Traduction!$A$351","v":"Lundi "},"2018-03-26",83.3333333333333,5.5,{"$f":"'[2]Détail N°7'!$L$28","v":9},1]
[null,null,null,null,null,null,null,null,null,null,null,null,null,null,{"$f":"Traduction!$A$351","v":"Lundi "},"2018-03-26",83.4583333333333,9.6,{"$f":"'[2]Détail N°7'!$L$28","v":9},0]
[null,null,null,null,null,null,null,null,null,null,null,null,null,null,{"$f":"Traduction!$A$351","v":"Lundi "},"2018-03-26",83.5833333333333,12.1,{"$f":"'[2]Détail N°7'!$L$28","v":9},0]
[null,null,null,null,null,null,null,null,null,null,null,null,null,null,{"$f":"Traduction!$A$351","v":"Lundi "},"2018-03-26",83.75,10.5,{"$f":"'[2]Détail N°7'!$L$28","v":9},0]
[null,null,null,null,null,null,null,null,null,null,null,null,null,null,{"$f":"Traduction!$A$351","v":"Lundi "},"2018-03-26",83.9166666666667,8.8000000000000007,{"$f":"'[2]Détail N°7'!$L$28","v":9},1]
[null,null,null,null,null,null,null,null,null,null,null,null,null,null,{"$f":"Traduction!$A$352","v":"Mardi"},"2018-03-27",84.0416666666667,8.3000000000000007,{"$f":"'[2]Détail N°7'!$L$28","v":9},1]
[null,null,null,null,null,null,null,null,null,null,null,null,null,null,{"$f":"Traduction!$A$352","v":"Mardi"},"2018-03-27",84.125,7.9,{"$f":"'[2]Détail N°7'!$L$28","v":9},1]
[null,null,null,null,null,null,null,null,null,null,null,null,null,null,{"$f":"Traduction!$A$352","v":"Mardi"},"2018-03-27",84.25,8.4,{"$f":"'[2]Détail N°7'!$L$28","v":9},1]
[null,null,null,null,null,null,null,null,null,null,null,null,null,null,{"$f":"Traduction!$A$352","v":"Mardi"},"2018-03-27",84.4166666666667,10.3,{"$f":"'[2]Détail N°7'!$L$28","v":9},{"$f":"IF(R2391<=S2391,1,0)","v":0}]
[null,null,null,null,null,null,null,null,null,null,null,null,null,null,{"$f":"Traduction!$A$352","v":"Mardi"},"2018-03-27",84.5,11.3,{"$f":"'[2]Détail N°7'!$L$28","v":9},0]
[null,null,null,null,null,null,null,null,null,null,null,null,null,null,{"$f":"Traduction!$A$352","v":"Mardi"},"2018-03-27",84.7083333333333,12.7,{"$f":"'[2]Détail N°7'!$L$28","v":9},0]
[null,null,null,null,null,null,null,null,null,null,null,null,null,null,{"$f":"Traduction!$A$352","v":"Mardi"},"2018-03-27",84.875,10.8,{"$f":"'[2]Détail N°7'!$L$28","v":9},0]
[null,null,null,null,null,null,null,null,null,null,null,null,null,null,{"$f":"Traduction!$A$352","v":"Mardi"},"2018-03-27",85,9.5,{"$f":"'[2]Détail N°7'!$L$28","v":9},0]
[null,null,null,null,null,null,null,null,null,null,null,null,null,null,{"$f":"Traduction!$A$353","v":"Mercredi"},"2018-03-28",85.0416666666667,8.8000000000000007,{"$f":"'[2]Détail N°7'!$L$28","v":9},1]
[null,null,null,null,null,null,null,null,null,null,null,null,null,null,{"$f":"Traduction!$A$353","v":"Mercredi"},"2018-03-28",85.2083333333333,6.8,{"$f":"'[2]Détail N°7'!$L$28","v":9},1]
[null,null,null,null,null,null,null,null,null,null,null,null,null,null,{"$f":"Traduction!$A$353","v":"Mercredi"},"2018-03-28",85.3333333333333,7.3,{"$f":"'[2]Détail N°7'!$L$28","v":9},1]
[null,null,null,null,null,null,null,null,null,null,null,null,null,null,{"$f":"Traduction!$A$353","v":"Mercredi"},"2018-03-28",85.5833333333333,9.4,{"$f":"'[2]Détail N°7'!$L$28","v":9},0]
[null,null,null,null,null,null,null,null,null,null,null,null,null,null,{"$f":"Traduction!$A$353","v":"Mercredi"},"2018-03-28",85.6666666666667,10.199999999999999,{"$f":"'[2]Détail N°7'!$L$28","v":9},0]
[null,null,null,null,null,null,null,null,null,null,null,null,null,null,{"$f":"Traduction!$A$353","v":"Mercredi"},"2018-03-28",85.7916666666667,8.8000000000000007,{"$f":"'[2]Détail N°7'!$L$28","v":9},1]
[null,null,null,null,null,null,null,null,null,null,null,null,null,null,{"$f":"Traduction!$A$353","v":"Mercredi"},"2018-03-28",85.9583333333333,6.5,{"$f":"'[2]Détail N°7'!$L$28","v":9},1]
[null,null,null,null,null,null,null,null,null,null,null,null,null,null,{"$f":"Traduction!$A$354","v":"Jeudi"},"2018-03-29",86.125,4.2,{"$f":"'[2]Détail N°7'!$L$28","v":9},1]
[null,null,null,null,null,null,null,null,null,null,null,null,null,null,{"$f":"Traduction!$A$354","v":"Jeudi"},"2018-03-29",86.1666666666667,4,{"$f":"'[2]Détail N°7'!$L$28","v":9},1]
[null,null,null,null,null,null,null,null,null,null,null,null,null,null,{"$f":"Traduction!$A$354","v":"Jeudi"},"2018-03-29",86.2916666666667,3.6,{"$f":"'[2]Détail N°7'!$L$28","v":9},1]
[null,null,null,null,null,null,null,null,null,null,null,null,null,null,{"$f":"Traduction!$A$354","v":"Jeudi"},"2018-03-29",86.5,9,{"$f":"'[2]Détail N°7'!$L$28","v":9},1]
[null,null,null,null,null,null,null,null,null,null,null,null,null,null,{"$f":"Traduction!$A$354","v":"Jeudi"},"2018-03-29",86.625,10.199999999999999,{"$f":"'[2]Détail N°7'!$L$28","v":9},0]
[null,null,null,null,null,null,null,null,null,null,null,null,null,null,{"$f":"Traduction!$A$354","v":"Jeudi"},"2018-03-29",86.75,8.8000000000000007,{"$f":"'[2]Détail N°7'!$L$28","v":9},1]
[null,null,null,null,null,null,null,null,null,null,null,null,null,null,{"$f":"Traduction!$A$354","v":"Jeudi"},"2018-03-29",86.875,6.5,{"$f":"'[2]Détail N°7'!$L$28","v":9},1]
[null,null,null,null,null,null,null,null,null,null,null,null,null,null,{"$f":"Traduction!$A$355","v":"Vendredi"},"2018-03-30",87.0833333333333,2.8,{"$f":"'[2]Détail N°7'!$L$28","v":9},{"$f":"IF(R2455<=S2455,1,0)","v":1}]
[null,null,null,null,null,null,null,null,null,null,null,null,null,null,{"$f":"Traduction!$A$355","v":"Vendredi"},"2018-03-30",87.2083333333333,1.3,{"$f":"'[2]Détail N°7'!$L$28","v":9},1]
[null,null,null,null,null,null,null,null,null,null,null,null,null,null,{"$f":"Traduction!$A$355","v":"Vendredi"},"2018-03-30",87.25,1,{"$f":"'[2]Détail N°7'!$L$28","v":9},1]
[null,null,null,null,null,null,null,null,null,null,null,null,null,null,{"$f":"Traduction!$A$355","v":"Vendredi"},"2018-03-30",87.4166666666667,7,{"$f":"'[2]Détail N°7'!$L$28","v":9},1]
[null,null,null,null,null,null,null,null,null,null,null,null,null,null,{"$f":"Traduction!$A$355","v":"Vendredi"},"2018-03-30",87.5416666666667,11.8,{"$f":"'[2]Détail N°7'!$L$28","v":9},0]
[null,null,null,null,null,null,null,null,null,null,null,null,null,null,{"$f":"Traduction!$A$355","v":"Vendredi"},"2018-03-30",87.7083333333333,12.6,{"$f":"'[2]Détail N°7'!$L$28","v":9},0]
[null,null,null,null,null,null,null,null,null,null,null,null,null,null,{"$f":"Traduction!$A$355","v":"Vendredi"},"2018-03-30",87.7916666666667,9.9,{"$f":"'[2]Détail N°7'!$L$28","v":9},0]
[null,null,null,null,null,null,null,null,null,null,null,null,null,null,{"$f":"Traduction!$A$356","v":"Samedi"},"2018-03-31",88.0416666666667,7.1,{"$f":"'[2]Détail N°7'!$L$28","v":9},1]
[null,null,null,null,null,null,null,null,null,null,null,null,null,null,{"$f":"Traduction!$A$356","v":"Samedi"},"2018-03-31",88.1666666666667,6.5,{"$f":"'[2]Détail N°7'!$L$28","v":9},1]
[null,null,null,null,null,null,null,null,null,null,null,null,null,null,{"$f":"Traduction!$A$356","v":"Samedi"},"2018-03-31",88.3333333333333,7,{"$f":"'[2]Détail N°7'!$L$28","v":9},1]
[null,null,null,null,null,null,null,null,null,null,null,null,null,null,{"$f":"Traduction!$A$356","v":"Samedi"},"2018-03-31",88.375,8.1,{"$f":"'[2]Détail N°7'!$L$28","v":9},1]
[null,null,null,null,null,null,null,null,null,null,null,null,null,null,{"$f":"Traduction!$A$356","v":"Samedi"},"2018-03-31",88.5,11,{"$f":"'[2]Détail N°7'!$L$28","v":9},0]
[null,null,null,null,null,null,null,null,null,null,null,null,null,null,{"$f":"Traduction!$A$356","v":"Samedi"},"2018-03-31",88.7083333333333,11.7,{"$f":"'[2]Détail N°7'!$L$28","v":9},0]
[null,null,null,null,null,null,null,null,null,null,null,null,null,null,{"$f":"Traduction!$A$356","v":"Samedi"},"2018-03-31",88.8333333333333,10.5,{"$f":"'[2]Détail N°7'!$L$28","v":9},0]
[null,null,null,null,null,null,null,null,null,null,null,null,null,null,{"$f":"Traduction!$A$356","v":"Samedi"},"2018-03-31",88.9583333333333,10.8,{"$f":"'[2]Détail N°7'!$L$28","v":9},0]
[null,null,null,null,null,null,null,null,null,null,null,null,null,null,{"$f":"Traduction!$A$357","v":"Dimanche"},"2018-04-01",89.125,11.4,{"$f":"'[2]Détail N°7'!$L$28","v":9},0]
[null,null,null,null,null,null,null,null,null,null,null,null,null,null,{"$f":"Traduction!$A$357","v":"Dimanche"},"2018-04-01",89.25,11.6,{"$f":"'[2]Détail N°7'!$L$28","v":9},0]
[null,null,null,null,null,null,null,null,null,null,null,null,null,null,{"$f":"Traduction!$A$357","v":"Dimanche"},"2018-04-01",89.4166666666667,15.5,{"$f":"'[2]Détail N°7'!$L$28","v":9},0]
[null,null,null,null,null,null,null,null,null,null,null,null,null,null,{"$f":"Traduction!$A$357","v":"Dimanche"},"2018-04-01",89.4583333333333,16.3,{"$f":"'[2]Détail N°7'!$L$28","v":9},0]
[null,null,null,null,null,null,null,null,null,null,null,null,null,null,{"$f":"Traduction!$A$357","v":"Dimanche"},"2018-04-01",89.625,17.5,{"$f":"'[2]Détail N°7'!$L$28","v":9},0]
[null,null,null,null,null,null,null,null,null,null,null,null,null,null,{"$f":"Traduction!$A$357","v":"Dimanche"},"2018-04-01",89.75,17,{"$f":"'[2]Détail N°7'!$L$28","v":9},{"$f":"IF(R2519<=S2519,1,0)","v":0}]
[null,null,null,null,null,null,null,null,null,null,null,null,null,null,{"$f":"Traduction!$A$357","v":"Dimanche"},"2018-04-01",89.9166666666667,14.7,{"$f":"'[2]Détail N°7'!$L$28","v":9},0]
[null,null,null,null,null,null,null,null,null,null,null,null,null,null,{"$f":"Traduction!$A$357","v":"Dimanche"},"2018-04-01",90,13.2,{"$f":"'[2]Détail N°7'!$L$28","v":9},0]
[null,null,null,null,null,null,null,null,null,null,null,null,null,null,{"$f":"Traduction!$A$351","v":"Lundi "},"2018-04-02",90.25,11.2,{"$f":"'[2]Détail N°7'!$L$28","v":9},0]
[null,null,null,null,null,null,null,null,null,null,null,null,null,null,{"$f":"Traduction!$A$351","v":"Lundi "},"2018-04-02",90.375,12.7,{"$f":"'[2]Détail N°7'!$L$28","v":9},0]
[null,null,null,null,null,null,null,null,null,null,null,null,null,null,{"$f":"Traduction!$A$351","v":"Lundi "},"2018-04-02",90.5,15,{"$f":"'[2]Détail N°7'!$L$28","v":9},0]
[null,null,null,null,null,null,null,null,null,null,null,null,null,null,{"$f":"Traduction!$A$351","v":"Lundi "},"2018-04-02",90.5416666666667,15.4,{"$f":"'[2]Détail N°7'!$L$28","v":9},0]
[null,null,null,null,null,null,null,null,null,null,null,null,null,null,{"$f":"Traduction!$A$351","v":"Lundi "},"2018-04-02",90.7083333333333,15.4,{"$f":"'[2]Détail N°7'!$L$28","v":9},0]
[null,null,null,null,null,null,null,null,null,null,null,null,null,null,{"$f":"Traduction!$A$351","v":"Lundi "},"2018-04-02",90.875,12.7,{"$f":"'[2]Détail N°7'!$L$28","v":9},0]
[null,null,null,null,null,null,null,null,null,null,null,null,null,null,{"$f":"Traduction!$A$352","v":"Mardi"},"2018-04-03",91.0833333333333,8.4,{"$f":"'[2]Détail N°7'!$L$28","v":9},1]
[null,null,null,null,null,null,null,null,null,null,null,null,null,null,{"$f":"Traduction!$A$352","v":"Mardi"},"2018-04-03",91.1666666666667,7,{"$f":"'[2]Détail N°7'!$L$28","v":9},1]
[null,null,null,null,null,null,null,null,null,null,null,null,null,null,{"$f":"Traduction!$A$352","v":"Mardi"},"2018-04-03",91.3333333333333,7.1,{"$f":"'[2]Détail N°7'!$L$28","v":9},1]
[null,null,null,null,null,null,null,null,null,null,null,null,null,null,{"$f":"Traduction!$A$352","v":"Mardi"},"2018-04-03",91.4583333333333,8.1,{"$f":"'[2]Détail N°7'!$L$28","v":9},1]
[null,null,null,null,null,null,null,null,null,null,null,null,null,null,{"$f":"Traduction!$A$352","v":"Mardi"},"2018-04-03",91.625,10.8,{"$f":"'[2]Détail N°7'!$L$28","v":9},0]
[null,null,null,null,null,null,null,null,null,null,null,null,null,null,{"$f":"Traduction!$A$352","v":"Mardi"},"2018-04-03",91.6666666666667,11.2,{"$f":"'[2]Détail N°7'!$L$28","v":9},0]
[null,null,null,null,null,null,null,null,null,null,null,null,null,null,{"$f":"Traduction!$A$352","v":"Mardi"},"2018-04-03",91.7916666666667,10.5,{"$f":"'[2]Détail N°7'!$L$28","v":9},0]
[null,null,null,null,null,null,null,null,null,null,null,null,null,null,{"$f":"Traduction!$A$352","v":"Mardi"},"2018-04-03",92,7.3,{"$f":"'[2]Détail N°7'!$L$28","v":9},1]
[null,null,null,null,null,null,null,null,null,null,null,null,null,null,{"$f":"Traduction!$A$353","v":"Mercredi"},"2018-04-04",92.125,6.2,{"$f":"'[2]Détail N°7'!$L$28","v":9},1]
[null,null,null,null,null,null,null,null,null,null,null,null,null,null,{"$f":"Traduction!$A$353","v":"Mercredi"},"2018-04-04",92.25,5.8,{"$f":"'[2]Détail N°7'!$L$28","v":9},1]
[null,null,null,null,null,null,null,null,null,null,null,null,null,null,{"$f":"Traduction!$A$353","v":"Mercredi"},"2018-04-04",92.375,7.6,{"$f":"'[2]Détail N°7'!$L$28","v":9},1]
[null,null,null,null,null,null,null,null,null,null,null,null,null,null,{"$f":"Traduction!$A$353","v":"Mercredi"},"2018-04-04",92.5833333333333,13,{"$f":"'[2]Détail N°7'!$L$28","v":9},0]
[null,null,null,null,null,null,null,null,null,null,null,null,null,null,{"$f":"Traduction!$A$353","v":"Mercredi"},"2018-04-04",92.7083333333333,14.5,{"$f":"'[2]Détail N°7'!$L$28","v":9},0]
[null,null,null,null,null,null,null,null,null,null,null,null,null,null,{"$f":"Traduction!$A$353","v":"Mercredi"},"2018-04-04",92.75,14,{"$f":"'[2]Détail N°7'!$L$28","v":9},0]
[null,null,null,null,null,null,null,null,null,null,null,null,null,null,{"$f":"Traduction!$A$353","v":"Mercredi"},"2018-04-04",92.9166666666667,11.1,{"$f":"'[2]Détail N°7'!$L$28","v":9},0]
[null,null,null,null,null,null,null,null,null,null,null,null,null,null,{"$f":"Traduction!$A$354","v":"Jeudi"},"2018-04-05",93.0833333333333,8.5,{"$f":"'[2]Détail N°7'!$L$28","v":9},1]
[null,null,null,null,null,null,null,null,null,null,null,null,null,null,{"$f":"Traduction!$A$354","v":"Jeudi"},"2018-04-05",93.2083333333333,7.2,{"$f":"'[2]Détail N°7'!$L$28","v":9},1]
[null,null,null,null,null,null,null,null,null,null,null,null,null,null,{"$f":"Traduction!$A$354","v":"Jeudi"},"2018-04-05",93.2916666666667,7,{"$f":"'[2]Détail N°7'!$L$28","v":9},1]
[null,null,null,null,null,null,null,null,null,null,null,null,null,null,{"$f":"Traduction!$A$354","v":"Jeudi"},"2018-04-05",93.5416666666667,11,{"$f":"'[2]Détail N°7'!$L$28","v":9},0]
[null,null,null,null,null,null,null,null,null,null,null,null,null,null,{"$f":"Traduction!$A$354","v":"Jeudi"},"2018-04-05",93.6666666666667,11.2,{"$f":"'[2]Détail N°7'!$L$28","v":9},0]
[null,null,null,null,null,null,null,null,null,null,null,null,null,null,{"$f":"Traduction!$A$354","v":"Jeudi"},"2018-04-05",93.8333333333333,9.5,{"$f":"'[2]Détail N°7'!$L$28","v":9},0]
[null,null,null,null,null,null,null,null,null,null,null,null,null,null,{"$f":"Traduction!$A$354","v":"Jeudi"},"2018-04-05",93.875,9.1,{"$f":"'[2]Détail N°7'!$L$28","v":9},0]
[null,null,null,null,null,null,null,null,null,null,null,null,null,null,{"$f":"Traduction!$A$354","v":"Jeudi"},"2018-04-05",94,8,{"$f":"'[2]Détail N°7'!$L$28","v":9},1]
[null,null,null,null,null,null,null,null,null,null,null,null,null,null,{"$f":"Traduction!$A$355","v":"Vendredi"},"2018-04-06",94.2083333333333,7.2,{"$f":"'[2]Détail N°7'!$L$28","v":9},1]
[null,null,null,null,null,null,null,null,null,null,null,null,null,null,{"$f":"Traduction!$A$355","v":"Vendredi"},"2018-04-06",94.3333333333333,8.4,{"$f":"'[2]Détail N°7'!$L$28","v":9},1]
[null,null,null,null,null,null,null,null,null,null,null,null,null,null,{"$f":"Traduction!$A$355","v":"Vendredi"},"2018-04-06",94.4583333333333,8.5,{"$f":"'[2]Détail N°7'!$L$28","v":9},1]
[null,null,null,null,null,null,null,null,null,null,null,null,null,null,{"$f":"Traduction!$A$355","v":"Vendredi"},"2018-04-06",94.625,12.4,{"$f":"'[2]Détail N°7'!$L$28","v":9},0]
[null,null,null,null,null,null,null,null,null,null,null,null,null,null,{"$f":"Traduction!$A$355","v":"Vendredi"},"2018-04-06",94.75,12.9,{"$f":"'[2]Détail N°7'!$L$28","v":9},0]
[null,null,null,null,null,null,null,null,null,null,null,null,null,null,{"$f":"Traduction!$A$355","v":"Vendredi"},"2018-04-06",94.8333333333333,11.7,{"$f":"'[2]Détail N°7'!$L$28","v":9},0]
[null,null,null,null,null,null,null,null,null,null,null,null,null,null,{"$f":"Traduction!$A$355","v":"Vendredi"},"2018-04-06",94.9583333333333,10.7,{"$f":"'[2]Détail N°7'!$L$28","v":9},0]
[null,null,null,null,null,null,null,null,null,null,null,null,null,null,{"$f":"Traduction!$A$356","v":"Samedi"},"2018-04-07",95.125,8.6999999999999993,{"$f":"'[2]Détail N°7'!$L$28","v":9},1]
[null,null,null,null,null,null,null,null,null,null,null,null,null,null,{"$f":"Traduction!$A$356","v":"Samedi"},"2018-04-07",95.2916666666667,8.1999999999999993,{"$f":"'[2]Détail N°7'!$L$28","v":9},1]
[null,null,null,null,null,null,null,null,null,null,null,null,null,null,{"$f":"Traduction!$A$356","v":"Samedi"},"2018-04-07",95.4166666666667,12.1,{"$f":"'[2]Détail N°7'!$L$28","v":9},0]
[null,null,null,null,null,null,null,null,null,null,null,null,null,null,{"$f":"Traduction!$A$356","v":"Samedi"},"2018-04-07",95.5,13,{"$f":"'[2]Détail N°7'!$L$28","v":9},0]
[null,null,null,null,null,null,null,null,null,null,null,null,null,null,{"$f":"Traduction!$A$356","v":"Samedi"},"2018-04-07",95.75,11.1,{"$f":"'[2]Détail N°7'!$L$28","v":9},0]
[null,null,null,null,null,null,null,null,null,null,null,null,null,null,{"$f":"Traduction!$A$356","v":"Samedi"},"2018-04-07",95.875,9.6999999999999993,{"$f":"'[2]Détail N°7'!$L$28","v":9},0]
[null,null,null,null,null,null,null,null,null,null,null,null,null,null,{"$f":"Traduction!$A$357","v":"Dimanche"},"2018-04-08",96.0416666666667,8.3000000000000007,{"$f":"'[2]Détail N°7'!$L$28","v":9},1]
[null,null,null,null,null,null,null,null,null,null,null,null,null,null,{"$f":"Traduction!$A$357","v":"Dimanche"},"2018-04-08",96.0833333333333,7.7,{"$f":"'[2]Détail N°7'!$L$28","v":9},1]
[null,null,null,null,null,null,null,null,null,null,null,null,null,null,{"$f":"Traduction!$A$357","v":"Dimanche"},"2018-04-08",96.2083333333333,7.9,{"$f":"'[2]Détail N°7'!$L$28","v":9},1]
[null,null,null,null,null,null,null,null,null,null,null,null,null,null,{"$f":"Traduction!$A$357","v":"Dimanche"},"2018-04-08",96.375,10.3,{"$f":"'[2]Détail N°7'!$L$28","v":9},0]
[null,null,null,null,null,null,null,null,null,null,null,null,null,null,{"$f":"Traduction!$A$357","v":"Dimanche"},"2018-04-08",96.5833333333333,13.4,{"$f":"'[2]Détail N°7'!$L$28","v":9},0]
[null,null,null,null,null,null,null,null,null,null,null,null,null,null,{"$f":"Traduction!$A$357","v":"Dimanche"},"2018-04-08",96.7083333333333,12.7,{"$f":"'[2]Détail N°7'!$L$28","v":9},0]
[null,null,null,null,null,null,null,null,null,null,null,null,null,null,{"$f":"Traduction!$A$357","v":"Dimanche"},"2018-04-08",96.8333333333333,10.9,{"$f":"'[2]Détail N°7'!$L$28","v":9},0]
[null,null,null,null,null,null,null,null,null,null,null,null,null,null,{"$f":"Traduction!$A$357","v":"Dimanche"},"2018-04-08",96.9583333333333,9,{"$f":"'[2]Détail N°7'!$L$28","v":9},1]
[null,null,null,null,null,null,null,null,null,null,null,null,null,null,{"$f":"Traduction!$A$351","v":"Lundi "},"2018-04-09",97.0416666666667,7.7,{"$f":"'[2]Détail N°7'!$L$28","v":9},1]
[null,null,null,null,null,null,null,null,null,null,null,null,null,null,{"$f":"Traduction!$A$351","v":"Lundi "},"2018-04-09",97.1666666666667,5.6,{"$f":"'[2]Détail N°7'!$L$28","v":9},1]
[null,null,null,null,null,null,null,null,null,null,null,null,null,null,{"$f":"Traduction!$A$351","v":"Lundi "},"2018-04-09",97.3333333333333,6.6,{"$f":"'[2]Détail N°7'!$L$28","v":9},1]
[null,null,null,null,null,null,null,null,null,null,null,null,null,null,{"$f":"Traduction!$A$351","v":"Lundi "},"2018-04-09",97.5,8.8000000000000007,{"$f":"'[2]Détail N°7'!$L$28","v":9},1]
[null,null,null,null,null,null,null,null,null,null,null,null,null,null,{"$f":"Traduction!$A$351","v":"Lundi "},"2018-04-09",97.625,10.4,{"$f":"'[2]Détail N°7'!$L$28","v":9},0]
[null,null,null,null,null,null,null,null,null,null,null,null,null,null,{"$f":"Traduction!$A$351","v":"Lundi "},"2018-04-09",97.7916666666667,9.4,{"$f":"'[2]Détail N°7'!$L$28","v":9},0]
[null,null,null,null,null,null,null,null,null,null,null,null,null,null,{"$f":"Traduction!$A$351","v":"Lundi "},"2018-04-09",97.875,8.6,{"$f":"'[2]Détail N°7'!$L$28","v":9},1]
[null,null,null,null,null,null,null,null,null,null,null,null,null,null,{"$f":"Traduction!$A$352","v":"Mardi"},"2018-04-10",98.0833333333333,9.4,{"$f":"'[2]Détail N°7'!$L$28","v":9},0]
[null,null,null,null,null,null,null,null,null,null,null,null,null,null,{"$f":"Traduction!$A$352","v":"Mardi"},"2018-04-10",98.125,9.8000000000000007,{"$f":"'[2]Détail N°7'!$L$28","v":9},0]
[null,null,null,null,null,null,null,null,null,null,null,null,null,null,{"$f":"Traduction!$A$352","v":"Mardi"},"2018-04-10",98.25,10.5,{"$f":"'[2]Détail N°7'!$L$28","v":9},0]
[null,null,null,null,null,null,null,null,null,null,null,null,null,null,{"$f":"Traduction!$A$352","v":"Mardi"},"2018-04-10",98.4583333333333,14.2,{"$f":"'[2]Détail N°7'!$L$28","v":9},0]
[null,null,null,null,null,null,null,null,null,null,null,null,null,null,{"$f":"Traduction!$A$352","v":"Mardi"},"2018-04-10",98.5833333333333,17.100000000000001,{"$f":"'[2]Détail N°7'!$L$28","v":9},0]
[null,null,null,null,null,null,null,null,null,null,null,null,null,null,{"$f":"Traduction!$A$352","v":"Mardi"},"2018-04-10",98.7916666666667,17,{"$f":"'[2]Détail N°7'!$L$28","v":9},0]
[null,null,null,null,null,null,null,null,null,null,null,null,null,null,{"$f":"Traduction!$A$352","v":"Mardi"},"2018-04-10",98.9166666666667,14.5,{"$f":"'[2]Détail N°7'!$L$28","v":9},0]
[null,null,null,null,null,null,null,null,null,null,null,null,null,null,{"$f":"Traduction!$A$353","v":"Mercredi"},"2018-04-11",99.0416666666667,11.2,{"$f":"'[2]Détail N°7'!$L$28","v":9},0]
[null,null,null,null,null,null,null,null,null,null,null,null,null,null,{"$f":"Traduction!$A$353","v":"Mercredi"},"2018-04-11",99.1666666666667,7.7,{"$f":"'[2]Détail N°7'!$L$28","v":9},1]
[null,null,null,null,null,null,null,null,null,null,null,null,null,null,{"$f":"Traduction!$A$353","v":"Mercredi"},"2018-04-11",99.3333333333333,8.9,{"$f":"'[2]Détail N°7'!$L$28","v":9},1]
[null,null,null,null,null,null,null,null,null,null,null,null,null,null,{"$f":"Traduction!$A$353","v":"Mercredi"},"2018-04-11",99.375,10.1,{"$f":"'[2]Détail N°7'!$L$28","v":9},0]
[null,null,null,null,null,null,null,null,null,null,null,null,null,null,{"$f":"Traduction!$A$353","v":"Mercredi"},"2018-04-11",99.5416666666667,15,{"$f":"'[2]Détail N°7'!$L$28","v":9},0]
[null,null,null,null,null,null,null,null,null,null,null,null,null,null,{"$f":"Traduction!$A$353","v":"Mercredi"},"2018-04-11",99.7083333333333,16.3,{"$f":"'[2]Détail N°7'!$L$28","v":9},0]
[null,null,null,null,null,null,null,null,null,null,null,null,null,null,{"$f":"Traduction!$A$353","v":"Mercredi"},"2018-04-11",99.8333333333333,13,{"$f":"'[2]Détail N°7'!$L$28","v":9},0]
[null,null,null,null,null,null,null,null,null,null,null,null,null,null,{"$f":"Traduction!$A$353","v":"Mercredi"},"2018-04-11",100,11.1,{"$f":"'[2]Détail N°7'!$L$28","v":9},0]
[null,null,null,null,null,null,null,null,null,null,null,null,null,null,{"$f":"Traduction!$A$354","v":"Jeudi"},"2018-04-12",100.083333333333,11.7,{"$f":"'[2]Détail N°7'!$L$28","v":9},0]
[null,null,null,null,null,null,null,null,null,null,null,null,null,null,{"$f":"Traduction!$A$354","v":"Jeudi"},"2018-04-12",100.291666666667,12.4,{"$f":"'[2]Détail N°7'!$L$28","v":9},0]
[null,null,null,null,null,null,null,null,null,null,null,null,null,null,{"$f":"Traduction!$A$354","v":"Jeudi"},"2018-04-12",100.333333333333,13.1,{"$f":"'[2]Détail N°7'!$L$28","v":9},0]
[null,null,null,null,null,null,null,null,null,null,null,null,null,null,{"$f":"Traduction!$A$354","v":"Jeudi"},"2018-04-12",100.458333333333,17,{"$f":"'[2]Détail N°7'!$L$28","v":9},0]
[null,null,null,null,null,null,null,null,null,null,null,null,null,null,{"$f":"Traduction!$A$354","v":"Jeudi"},"2018-04-12",100.625,18.399999999999999,{"$f":"'[2]Détail N°7'!$L$28","v":9},0]
[null,null,null,null,null,null,null,null,null,null,null,null,null,null,{"$f":"Traduction!$A$354","v":"Jeudi"},"2018-04-12",100.791666666667,17,{"$f":"'[2]Détail N°7'!$L$28","v":9},0]
[null,null,null,null,null,null,null,null,null,null,null,null,null,null,{"$f":"Traduction!$A$354","v":"Jeudi"},"2018-04-12",100.916666666667,13.5,{"$f":"'[2]Détail N°7'!$L$28","v":9},0]
[null,null,null,null,null,null,null,null,null,null,null,null,null,null,{"$f":"Traduction!$A$354","v":"Jeudi"},"2018-04-12",101,12.7,{"$f":"'[2]Détail N°7'!$L$28","v":9},0]
[null,null,null,null,null,null,null,null,null,null,null,null,null,null,{"$f":"Traduction!$A$355","v":"Vendredi"},"2018-04-13",101.25,8.1999999999999993,{"$f":"'[2]Détail N°7'!$L$28","v":9},1]
[null,null,null,null,null,null,null,null,null,null,null,null,null,null,{"$f":"Traduction!$A$355","v":"Vendredi"},"2018-04-13",101.291666666667,8.1999999999999993,{"$f":"'[2]Détail N°7'!$L$28","v":9},1]
[null,null,null,null,null,null,null,null,null,null,null,null,null,null,{"$f":"Traduction!$A$355","v":"Vendredi"},"2018-04-13",101.541666666667,10.1,{"$f":"'[2]Détail N°7'!$L$28","v":9},0]
[null,null,null,null,null,null,null,null,null,null,null,null,null,null,{"$f":"Traduction!$A$355","v":"Vendredi"},"2018-04-13",101.583333333333,11.3,{"$f":"'[2]Détail N°7'!$L$28","v":9},0]
[null,null,null,null,null,null,null,null,null,null,null,null,null,null,{"$f":"Traduction!$A$355","v":"Vendredi"},"2018-04-13",101.75,13.1,{"$f":"'[2]Détail N°7'!$L$28","v":9},0]
[null,null,null,null,null,null,null,null,null,null,null,null,null,null,{"$f":"Traduction!$A$355","v":"Vendredi"},"2018-04-13",101.875,10.7,{"$f":"'[2]Détail N°7'!$L$28","v":9},0]
[null,null,null,null,null,null,null,null,null,null,null,null,null,null,{"$f":"Traduction!$A$356","v":"Samedi"},"2018-04-14",102.083333333333,5.3,{"$f":"'[2]Détail N°7'!$L$28","v":9},1]
[null,null,null,null,null,null,null,null,null,null,null,null,null,null,{"$f":"Traduction!$A$356","v":"Samedi"},"2018-04-14",102.208333333333,4,{"$f":"'[2]Détail N°7'!$L$28","v":9},1]
[null,null,null,null,null,null,null,null,null,null,null,null,null,null,{"$f":"Traduction!$A$356","v":"Samedi"},"2018-04-14",102.333333333333,5.2,{"$f":"'[2]Détail N°7'!$L$28","v":9},1]
[null,null,null,null,null,null,null,null,null,null,null,null,null,null,{"$f":"Traduction!$A$356","v":"Samedi"},"2018-04-14",102.458333333333,8.6999999999999993,{"$f":"'[2]Détail N°7'!$L$28","v":9},1]
[null,null,null,null,null,null,null,null,null,null,null,null,null,null,{"$f":"Traduction!$A$356","v":"Samedi"},"2018-04-14",102.541666666667,10.7,{"$f":"'[2]Détail N°7'!$L$28","v":9},0]
[null,null,null,null,null,null,null,null,null,null,null,null,null,null,{"$f":"Traduction!$A$356","v":"Samedi"},"2018-04-14",102.666666666667,11.7,{"$f":"'[2]Détail N°7'!$L$28","v":9},0]
[null,null,null,null,null,null,null,null,null,null,null,null,null,null,{"$f":"Traduction!$A$356","v":"Samedi"},"2018-04-14",102.833333333333,9.4,{"$f":"'[2]Détail N°7'!$L$28","v":9},0]
[null,null,null,null,null,null,null,null,null,null,null,null,null,null,{"$f":"Traduction!$A$356","v":"Samedi"},"2018-04-14",103,4.8,{"$f":"'[2]Détail N°7'!$L$28","v":9},1]
[null,null,null,null,null,null,null,null,null,null,null,null,null,null,{"$f":"Traduction!$A$357","v":"Dimanche"},"2018-04-15",103.166666666667,2,{"$f":"'[2]Détail N°7'!$L$28","v":9},1]
[null,null,null,null,null,null,null,null,null,null,null,null,null,null,{"$f":"Traduction!$A$357","v":"Dimanche"},"2018-04-15",103.291666666667,2.1,{"$f":"'[2]Détail N°7'!$L$28","v":9},1]
[null,null,null,null,null,null,null,null,null,null,null,null,null,null,{"$f":"Traduction!$A$357","v":"Dimanche"},"2018-04-15",103.375,4.9000000000000004,{"$f":"'[2]Détail N°7'!$L$28","v":9},1]
[null,null,null,null,null,null,null,null,null,null,null,null,null,null,{"$f":"Traduction!$A$357","v":"Dimanche"},"2018-04-15",103.5,9.1,{"$f":"'[2]Détail N°7'!$L$28","v":9},0]
[null,null,null,null,null,null,null,null,null,null,null,null,null,null,{"$f":"Traduction!$A$357","v":"Dimanche"},"2018-04-15",103.625,11,{"$f":"'[2]Détail N°7'!$L$28","v":9},0]
[null,null,null,null,null,null,null,null,null,null,null,null,null,null,{"$f":"Traduction!$A$357","v":"Dimanche"},"2018-04-15",103.75,9.9,{"$f":"'[2]Détail N°7'!$L$28","v":9},0]
[null,null,null,null,null,null,null,null,null,null,null,null,null,null,{"$f":"Traduction!$A$357","v":"Dimanche"},"2018-04-15",103.958333333333,4,{"$f":"'[2]Détail N°7'!$L$28","v":9},1]
[null,null,null,null,null,null,null,null,null,null,null,null,null,null,{"$f":"Traduction!$A$351","v":"Lundi "},"2018-04-16",104.083333333333,1.9,{"$f":"'[2]Détail N°7'!$L$28","v":9},1]
[null,null,null,null,null,null,null,null,null,null,null,null,null,null,{"$f":"Traduction!$A$351","v":"Lundi "},"2018-04-16",104.291666666667,1.6,{"$f":"'[2]Détail N°7'!$L$28","v":9},1]
[null,null,null,null,null,null,null,null,null,null,null,null,null,null,{"$f":"Traduction!$A$351","v":"Lundi "},"2018-04-16",104.416666666667,5.7,{"$f":"'[2]Détail N°7'!$L$28","v":9},1]
[null,null,null,null,null,null,null,null,null,null,null,null,null,null,{"$f":"Traduction!$A$351","v":"Lundi "},"2018-04-16",104.541666666667,9.1999999999999993,{"$f":"'[2]Détail N°7'!$L$28","v":9},0]
[null,null,null,null,null,null,null,null,null,null,null,null,null,null,{"$f":"Traduction!$A$351","v":"Lundi "},"2018-04-16",104.583333333333,9.9,{"$f":"'[2]Détail N°7'!$L$28","v":9},0]
[null,null,null,null,null,null,null,null,null,null,null,null,null,null,{"$f":"Traduction!$A$351","v":"Lundi "},"2018-04-16",104.833333333333,7.2,{"$f":"'[2]Détail N°7'!$L$28","v":9},1]
[null,null,null,null,null,null,null,null,null,null,null,null,null,null,{"$f":"Traduction!$A$351","v":"Lundi "},"2018-04-16",104.875,6.4,{"$f":"'[2]Détail N°7'!$L$28","v":9},1]
[null,null,null,null,null,null,null,null,null,null,null,null,null,null,{"$f":"Traduction!$A$352","v":"Mardi"},"2018-04-17",105.041666666667,3.7,{"$f":"'[2]Détail N°7'!$L$28","v":9},1]
[null,null,null,null,null,null,null,null,null,null,null,null,null,null,{"$f":"Traduction!$A$352","v":"Mardi"},"2018-04-17",105.208333333333,2.9,{"$f":"'[2]Détail N°7'!$L$28","v":9},1]
[null,null,null,null,null,null,null,null,null,null,null,null,null,null,{"$f":"Traduction!$A$352","v":"Mardi"},"2018-04-17",105.375,6.9,{"$f":"'[2]Détail N°7'!$L$28","v":9},1]
[null,null,null,null,null,null,null,null,null,null,null,null,null,null,{"$f":"Traduction!$A$352","v":"Mardi"},"2018-04-17",105.5,10.1,{"$f":"'[2]Détail N°7'!$L$28","v":9},0]
[null,null,null,null,null,null,null,null,null,null,null,null,null,null,{"$f":"Traduction!$A$352","v":"Mardi"},"2018-04-17",105.583333333333,11,{"$f":"'[2]Détail N°7'!$L$28","v":9},0]
[null,null,null,null,null,null,null,null,null,null,null,null,null,null,{"$f":"Traduction!$A$352","v":"Mardi"},"2018-04-17",105.708333333333,10.1,{"$f":"'[2]Détail N°7'!$L$28","v":9},0]
[null,null,null,null,null,null,null,null,null,null,null,null,null,null,{"$f":"Traduction!$A$352","v":"Mardi"},"2018-04-17",105.833333333333,7.7,{"$f":"'[2]Détail N°7'!$L$28","v":9},1]
[null,null,null,null,null,null,null,null,null,null,null,null,null,null,{"$f":"Traduction!$A$352","v":"Mardi"},"2018-04-17",106,5.5,{"$f":"'[2]Détail N°7'!$L$28","v":9},1]
[null,null,null,null,null,null,null,null,null,null,null,null,null,null,{"$f":"Traduction!$A$353","v":"Mercredi"},"2018-04-18",106.125,4.3,{"$f":"'[2]Détail N°7'!$L$28","v":9},1]
[null,null,null,null,null,null,null,null,null,null,null,null,null,null,{"$f":"Traduction!$A$353","v":"Mercredi"},"2018-04-18",106.291666666667,4.5,{"$f":"'[2]Détail N°7'!$L$28","v":9},1]
[null,null,null,null,null,null,null,null,null,null,null,null,null,null,{"$f":"Traduction!$A$353","v":"Mercredi"},"2018-04-18",106.458333333333,8,{"$f":"'[2]Détail N°7'!$L$28","v":9},1]
[null,null,null,null,null,null,null,null,null,null,null,null,null,null,{"$f":"Traduction!$A$353","v":"Mercredi"},"2018-04-18",106.5,8.6999999999999993,{"$f":"'[2]Détail N°7'!$L$28","v":9},1]
[null,null,null,null,null,null,null,null,null,null,null,null,null,null,{"$f":"Traduction!$A$353","v":"Mercredi"},"2018-04-18",106.75,8.1,{"$f":"'[2]Détail N°7'!$L$28","v":9},1]
[null,null,null,null,null,null,null,null,null,null,null,null,null,null,{"$f":"Traduction!$A$353","v":"Mercredi"},"2018-04-18",106.791666666667,7.3,{"$f":"'[2]Détail N°7'!$L$28","v":9},1]
[null,null,null,null,null,null,null,null,null,null,null,null,null,null,{"$f":"Traduction!$A$354","v":"Jeudi"},"2018-04-19",107.041666666667,3.5,{"$f":"'[2]Détail N°7'!$L$28","v":9},1]
[null,null,null,null,null,null,null,null,null,null,null,null,null,null,{"$f":"Traduction!$A$354","v":"Jeudi"},"2018-04-19",107.125,2.2000000000000002,{"$f":"'[2]Détail N°7'!$L$28","v":9},1]
[null,null,null,null,null,null,null,null,null,null,null,null,null,null,{"$f":"Traduction!$A$354","v":"Jeudi"},"2018-04-19",107.25,1.3,{"$f":"'[2]Détail N°7'!$L$28","v":9},1]
[null,null,null,null,null,null,null,null,null,null,null,null,null,null,{"$f":"Traduction!$A$354","v":"Jeudi"},"2018-04-19",107.375,3.2,{"$f":"'[2]Détail N°7'!$L$28","v":9},1]
[null,null,null,null,null,null,null,null,null,null,null,null,null,null,{"$f":"Traduction!$A$354","v":"Jeudi"},"2018-04-19",107.583333333333,5.7,{"$f":"'[2]Détail N°7'!$L$28","v":9},1]
[null,null,null,null,null,null,null,null,null,null,null,null,null,null,{"$f":"Traduction!$A$354","v":"Jeudi"},"2018-04-19",107.708333333333,5.4,{"$f":"'[2]Détail N°7'!$L$28","v":9},1]
[null,null,null,null,null,null,null,null,null,null,null,null,null,null,{"$f":"Traduction!$A$354","v":"Jeudi"},"2018-04-19",107.75,4.9000000000000004,{"$f":"'[2]Détail N°7'!$L$28","v":9},1]
[null,null,null,null,null,null,null,null,null,null,null,null,null,null,{"$f":"Traduction!$A$354","v":"Jeudi"},"2018-04-19",107.958333333333,1.5,{"$f":"'[2]Détail N°7'!$L$28","v":9},1]
[null,null,null,null,null,null,null,null,null,null,null,null,null,null,{"$f":"Traduction!$A$355","v":"Vendredi"},"2018-04-20",108.041666666667,0.8,{"$f":"'[2]Détail N°7'!$L$28","v":9},1]
[null,null,null,null,null,null,null,null,null,null,null,null,null,null,{"$f":"Traduction!$A$355","v":"Vendredi"},"2018-04-20",108.208333333333,0.6,{"$f":"'[2]Détail N°7'!$L$28","v":9},1]
[null,null,null,null,null,null,null,null,null,null,null,null,null,null,{"$f":"Traduction!$A$355","v":"Vendredi"},"2018-04-20",108.333333333333,2.2999999999999998,{"$f":"'[2]Détail N°7'!$L$28","v":9},1]
[null,null,null,null,null,null,null,null,null,null,null,null,null,null,{"$f":"Traduction!$A$355","v":"Vendredi"},"2018-04-20",108.5,5.7,{"$f":"'[2]Détail N°7'!$L$28","v":9},1]
[null,null,null,null,null,null,null,null,null,null,null,null,null,null,{"$f":"Traduction!$A$355","v":"Vendredi"},"2018-04-20",108.666666666667,8.1999999999999993,{"$f":"'[2]Détail N°7'!$L$28","v":9},1]
[null,null,null,null,null,null,null,null,null,null,null,null,null,null,{"$f":"Traduction!$A$355","v":"Vendredi"},"2018-04-20",108.791666666667,7.7,{"$f":"'[2]Détail N°7'!$L$28","v":9},1]
[null,null,null,null,null,null,null,null,null,null,null,null,null,null,{"$f":"Traduction!$A$355","v":"Vendredi"},"2018-04-20",108.875,6.3,{"$f":"'[2]Détail N°7'!$L$28","v":9},1]
[null,null,null,null,null,null,null,null,null,null,null,null,null,null,{"$f":"Traduction!$A$355","v":"Vendredi"},"2018-04-20",109,4.5,{"$f":"'[2]Détail N°7'!$L$28","v":9},1]
[null,null,null,null,null,null,null,null,null,null,null,null,null,null,{"$f":"Traduction!$A$356","v":"Samedi"},"2018-04-21",109.125,3.2,{"$f":"'[2]Détail N°7'!$L$28","v":9},1]
[null,null,null,null,null,null,null,null,null,null,null,null,null,null,{"$f":"Traduction!$A$356","v":"Samedi"},"2018-04-21",109.25,2.6,{"$f":"'[2]Détail N°7'!$L$28","v":9},1]
[null,null,null,null,null,null,null,null,null,null,null,null,null,null,{"$f":"Traduction!$A$356","v":"Samedi"},"2018-04-21",109.458333333333,10.5,{"$f":"'[2]Détail N°7'!$L$28","v":9},0]
[null,null,null,null,null,null,null,null,null,null,null,null,null,null,{"$f":"Traduction!$A$356","v":"Samedi"},"2018-04-21",109.583333333333,10.9,{"$f":"'[2]Détail N°7'!$L$28","v":9},0]
[null,null,null,null,null,null,null,null,null,null,null,null,null,null,{"$f":"Traduction!$A$356","v":"Samedi"},"2018-04-21",109.791666666667,9,{"$f":"'[2]Détail N°7'!$L$28","v":9},1]
[null,null,null,null,null,null,null,null,null,null,null,null,null,null,{"$f":"Traduction!$A$356","v":"Samedi"},"2018-04-21",109.916666666667,7.7,{"$f":"'[2]Détail N°7'!$L$28","v":9},1]
[null,null,null,null,null,null,null,null,null,null,null,null,null,null,{"$f":"Traduction!$A$356","v":"Samedi"},"2018-04-21",109.958333333333,7.6,{"$f":"'[2]Détail N°7'!$L$28","v":9},1]
[null,null,null,null,null,null,null,null,null,null,null,null,null,null,{"$f":"Traduction!$A$357","v":"Dimanche"},"2018-04-22",110.083333333333,8.1999999999999993,{"$f":"'[2]Détail N°7'!$L$28","v":9},1]
[null,null,null,null,null,null,null,null,null,null,null,null,null,null,{"$f":"Traduction!$A$357","v":"Dimanche"},"2018-04-22",110.333333333333,9.6,{"$f":"'[2]Détail N°7'!$L$28","v":9},0]
[null,null,null,null,null,null,null,null,null,null,null,null,null,null,{"$f":"Traduction!$A$357","v":"Dimanche"},"2018-04-22",110.416666666667,12.6,{"$f":"'[2]Détail N°7'!$L$28","v":9},0]
[null,null,null,null,null,null,null,null,null,null,null,null,null,null,{"$f":"Traduction!$A$357","v":"Dimanche"},"2018-04-22",110.541666666667,15,{"$f":"'[2]Détail N°7'!$L$28","v":9},0]
[null,null,null,null,null,null,null,null,null,null,null,null,null,null,{"$f":"Traduction!$A$357","v":"Dimanche"},"2018-04-22",110.708333333333,15.9,{"$f":"'[2]Détail N°7'!$L$28","v":9},0]
[null,null,null,null,null,null,null,null,null,null,null,null,null,null,{"$f":"Traduction!$A$357","v":"Dimanche"},"2018-04-22",110.875,13.5,{"$f":"'[2]Détail N°7'!$L$28","v":9},0]
[null,null,null,null,null,null,null,null,null,null,null,null,null,null,{"$f":"Traduction!$A$357","v":"Dimanche"},"2018-04-22",111,11,{"$f":"'[2]Détail N°7'!$L$28","v":9},0]
[null,null,null,null,null,null,null,null,null,null,null,null,null,null,{"$f":"Traduction!$A$351","v":"Lundi "},"2018-04-23",111.083333333333,8.8000000000000007,{"$f":"'[2]Détail N°7'!$L$28","v":9},{"$f":"IF(R3031<=S3031,1,0)","v":1}]
[null,null,null,null,null,null,null,null,null,null,null,null,null,null,{"$f":"Traduction!$A$351","v":"Lundi "},"2018-04-23",111.208333333333,7.2,{"$f":"'[2]Détail N°7'!$L$28","v":9},1]
[null,null,null,null,null,null,null,null,null,null,null,null,null,null,{"$f":"Traduction!$A$351","v":"Lundi "},"2018-04-23",111.333333333333,9.8000000000000007,{"$f":"'[2]Détail N°7'!$L$28","v":9},0]
[null,null,null,null,null,null,null,null,null,null,null,null,null,null,{"$f":"Traduction!$A$351","v":"Lundi "},"2018-04-23",111.5,16.399999999999999,{"$f":"'[2]Détail N°7'!$L$28","v":9},0]
[null,null,null,null,null,null,null,null,null,null,null,null,null,null,{"$f":"Traduction!$A$351","v":"Lundi "},"2018-04-23",111.625,18.600000000000001,{"$f":"'[2]Détail N°7'!$L$28","v":9},0]
[null,null,null,null,null,null,null,null,null,null,null,null,null,null,{"$f":"Traduction!$A$351","v":"Lundi "},"2018-04-23",111.833333333333,14.8,{"$f":"'[2]Détail N°7'!$L$28","v":9},0]
[null,null,null,null,null,null,null,null,null,null,null,null,null,null,{"$f":"Traduction!$A$351","v":"Lundi "},"2018-04-23",111.958333333333,10.7,{"$f":"'[2]Détail N°7'!$L$28","v":9},0]
[null,null,null,null,null,null,null,null,null,null,null,null,null,null,{"$f":"Traduction!$A$351","v":"Lundi "},"2018-04-23",112,9.3000000000000007,{"$f":"'[2]Détail N°7'!$L$28","v":9},0]
[null,null,null,null,null,null,null,null,null,null,null,null,null,null,{"$f":"Traduction!$A$352","v":"Mardi"},"2018-04-24",112.166666666667,6.3,{"$f":"'[2]Détail N°7'!$L$28","v":9},1]
[null,null,null,null,null,null,null,null,null,null,null,null,null,null,{"$f":"Traduction!$A$352","v":"Mardi"},"2018-04-24",112.291666666667,6.3,{"$f":"'[2]Détail N°7'!$L$28","v":9},1]
[null,null,null,null,null,null,null,null,null,null,null,null,null,null,{"$f":"Traduction!$A$352","v":"Mardi"},"2018-04-24",112.541666666667,10.3,{"$f":"'[2]Détail N°7'!$L$28","v":9},0]
[null,null,null,null,null,null,null,null,null,null,null,null,null,null,{"$f":"Traduction!$A$352","v":"Mardi"},"2018-04-24",112.625,10.8,{"$f":"'[2]Détail N°7'!$L$28","v":9},0]
[null,null,null,null,null,null,null,null,null,null,null,null,null,null,{"$f":"Traduction!$A$352","v":"Mardi"},"2018-04-24",112.75,10.199999999999999,{"$f":"'[2]Détail N°7'!$L$28","v":9},0]
[null,null,null,null,null,null,null,null,null,null,null,null,null,null,{"$f":"Traduction!$A$352","v":"Mardi"},"2018-04-24",112.916666666667,7.7,{"$f":"'[2]Détail N°7'!$L$28","v":9},1]
[null,null,null,null,null,null,null,null,null,null,null,null,null,null,{"$f":"Traduction!$A$353","v":"Mercredi"},"2018-04-25",113.083333333333,6.7,{"$f":"'[2]Détail N°7'!$L$28","v":9},1]
[null,null,null,null,null,null,null,null,null,null,null,null,null,null,{"$f":"Traduction!$A$353","v":"Mercredi"},"2018-04-25",113.208333333333,6.7,{"$f":"'[2]Détail N°7'!$L$28","v":9},1]
[null,null,null,null,null,null,null,null,null,null,null,null,null,null,{"$f":"Traduction!$A$353","v":"Mercredi"},"2018-04-25",113.25,6.8,{"$f":"'[2]Détail N°7'!$L$28","v":9},1]
[null,null,null,null,null,null,null,null,null,null,null,null,null,null,{"$f":"Traduction!$A$353","v":"Mercredi"},"2018-04-25",113.458333333333,10.199999999999999,{"$f":"'[2]Détail N°7'!$L$28","v":9},0]
[null,null,null,null,null,null,null,null,null,null,null,null,null,null,{"$f":"Traduction!$A$353","v":"Mercredi"},"2018-04-25",113.583333333333,13.9,{"$f":"'[2]Détail N°7'!$L$28","v":9},0]
[null,null,null,null,null,null,null,null,null,null,null,null,null,null,{"$f":"Traduction!$A$353","v":"Mercredi"},"2018-04-25",113.708333333333,16.2,{"$f":"'[2]Détail N°7'!$L$28","v":9},0]
[null,null,null,null,null,null,null,null,null,null,null,null,null,null,{"$f":"Traduction!$A$353","v":"Mercredi"},"2018-04-25",113.833333333333,14.1,{"$f":"'[2]Détail N°7'!$L$28","v":9},0]
[null,null,null,null,null,null,null,null,null,null,null,null,null,null,{"$f":"Traduction!$A$354","v":"Jeudi"},"2018-04-26",114.041666666667,10.199999999999999,{"$f":"'[2]Détail N°7'!$L$28","v":9},0]
[null,null,null,null,null,null,null,null,null,null,null,null,null,null,{"$f":"Traduction!$A$354","v":"Jeudi"},"2018-04-26",114.166666666667,8.1,{"$f":"'[2]Détail N°7'!$L$28","v":9},1]
[null,null,null,null,null,null,null,null,null,null,null,null,null,null,{"$f":"Traduction!$A$354","v":"Jeudi"},"2018-04-26",114.291666666667,7.1,{"$f":"'[2]Détail N°7'!$L$28","v":9},1]
[null,null,null,null,null,null,null,null,null,null,null,null,null,null,{"$f":"Traduction!$A$354","v":"Jeudi"},"2018-04-26",114.375,9.1999999999999993,{"$f":"'[2]Détail N°7'!$L$28","v":9},0]
[null,null,null,null,null,null,null,null,null,null,null,null,null,null,{"$f":"Traduction!$A$354","v":"Jeudi"},"2018-04-26",114.5,10.7,{"$f":"'[2]Détail N°7'!$L$28","v":9},0]
[null,null,null,null,null,null,null,null,null,null,null,null,null,null,{"$f":"Traduction!$A$354","v":"Jeudi"},"2018-04-26",114.666666666667,11.1,{"$f":"'[2]Détail N°7'!$L$28","v":9},0]
[null,null,null,null,null,null,null,null,null,null,null,null,null,null,{"$f":"Traduction!$A$354","v":"Jeudi"},"2018-04-26",114.75,10.4,{"$f":"'[2]Détail N°7'!$L$28","v":9},0]
[null,null,null,null,null,null,null,null,null,null,null,null,null,null,{"$f":"Traduction!$A$354","v":"Jeudi"},"2018-04-26",114.958333333333,7.9,{"$f":"'[2]Détail N°7'!$L$28","v":9},1]
[null,null,null,null,null,null,null,null,null,null,null,null,null,null,{"$f":"Traduction!$A$355","v":"Vendredi"},"2018-04-27",115.125,7.1,{"$f":"'[2]Détail N°7'!$L$28","v":9},1]
[null,null,null,null,null,null,null,null,null,null,null,null,null,null,{"$f":"Traduction!$A$355","v":"Vendredi"},"2018-04-27",115.291666666667,8.3000000000000007,{"$f":"'[2]Détail N°7'!$L$28","v":9},1]
[null,null,null,null,null,null,null,null,null,null,null,null,null,null,{"$f":"Traduction!$A$355","v":"Vendredi"},"2018-04-27",115.333333333333,10,{"$f":"'[2]Détail N°7'!$L$28","v":9},0]
[null,null,null,null,null,null,null,null,null,null,null,null,null,null,{"$f":"Traduction!$A$355","v":"Vendredi"},"2018-04-27",115.458333333333,14.8,{"$f":"'[2]Détail N°7'!$L$28","v":9},0]
[null,null,null,null,null,null,null,null,null,null,null,null,null,null,{"$f":"Traduction!$A$355","v":"Vendredi"},"2018-04-27",115.583333333333,15.7,{"$f":"'[2]Détail N°7'!$L$28","v":9},0]
[null,null,null,null,null,null,null,null,null,null,null,null,null,null,{"$f":"Traduction!$A$355","v":"Vendredi"},"2018-04-27",115.833333333333,11.7,{"$f":"'[2]Détail N°7'!$L$28","v":9},0]
[null,null,null,null,null,null,null,null,null,null,null,null,null,null,{"$f":"Traduction!$A$355","v":"Vendredi"},"2018-04-27",115.916666666667,10.9,{"$f":"'[2]Détail N°7'!$L$28","v":9},0]
[null,null,null,null,null,null,null,null,null,null,null,null,null,null,{"$f":"Traduction!$A$356","v":"Samedi"},"2018-04-28",116.041666666667,9.5,{"$f":"'[2]Détail N°7'!$L$28","v":9},0]
[null,null,null,null,null,null,null,null,null,null,null,null,null,null,{"$f":"Traduction!$A$356","v":"Samedi"},"2018-04-28",116.208333333333,8.1,{"$f":"'[2]Détail N°7'!$L$28","v":9},1]
[null,null,null,null,null,null,null,null,null,null,null,null,null,null,{"$f":"Traduction!$A$356","v":"Samedi"},"2018-04-28",116.375,12.9,{"$f":"'[2]Détail N°7'!$L$28","v":9},0]
[null,null,null,null,null,null,null,null,null,null,null,null,null,null,{"$f":"Traduction!$A$356","v":"Samedi"},"2018-04-28",116.416666666667,14.7,{"$f":"'[2]Détail N°7'!$L$28","v":9},{"$f":"IF(R3159<=S3159,1,0)","v":0}]
[null,null,null,null,null,null,null,null,null,null,null,null,null,null,{"$f":"Traduction!$A$356","v":"Samedi"},"2018-04-28",116.583333333333,19.7,{"$f":"'[2]Détail N°7'!$L$28","v":9},0]
[null,null,null,null,null,null,null,null,null,null,null,null,null,null,{"$f":"Traduction!$A$356","v":"Samedi"},"2018-04-28",116.708333333333,19.8,{"$f":"'[2]Détail N°7'!$L$28","v":9},0]
[null,null,null,null,null,null,null,null,null,null,null,null,null,null,{"$f":"Traduction!$A$356","v":"Samedi"},"2018-04-28",116.875,15.5,{"$f":"'[2]Détail N°7'!$L$28","v":9},0]
[null,null,null,null,null,null,null,null,null,null,null,null,null,null,{"$f":"Traduction!$A$356","v":"Samedi"},"2018-04-28",117,12.7,{"$f":"'[2]Détail N°7'!$L$28","v":9},0]
[null,null,null,null,null,null,null,null,null,null,null,null,null,null,{"$f":"Traduction!$A$357","v":"Dimanche"},"2018-04-29",117.125,11,{"$f":"'[2]Détail N°7'!$L$28","v":9},0]
[null,null,null,null,null,null,null,null,null,null,null,null,null,null,{"$f":"Traduction!$A$357","v":"Dimanche"},"2018-04-29",117.333333333333,13.2,{"$f":"'[2]Détail N°7'!$L$28","v":9},0]
[null,null,null,null,null,null,null,null,null,null,null,null,null,null,{"$f":"Traduction!$A$357","v":"Dimanche"},"2018-04-29",117.458333333333,18,{"$f":"'[2]Détail N°7'!$L$28","v":9},0]
[null,null,null,null,null,null,null,null,null,null,null,null,null,null,{"$f":"Traduction!$A$357","v":"Dimanche"},"2018-04-29",117.5,19.3,{"$f":"'[2]Détail N°7'!$L$28","v":9},0]
[null,null,null,null,null,null,null,null,null,null,null,null,null,null,{"$f":"Traduction!$A$357","v":"Dimanche"},"2018-04-29",117.666666666667,21.4,{"$f":"'[2]Détail N°7'!$L$28","v":9},0]
[null,null,null,null,null,null,null,null,null,null,null,null,null,null,{"$f":"Traduction!$A$357","v":"Dimanche"},"2018-04-29",117.791666666667,19.3,{"$f":"'[2]Détail N°7'!$L$28","v":9},0]
[null,null,null,null,null,null,null,null,null,null,null,null,null,null,{"$f":"Traduction!$A$351","v":"Lundi "},"2018-04-30",118.041666666667,14,{"$f":"'[2]Détail N°7'!$L$28","v":9},0]
[null,null,null,null,null,null,null,null,null,null,null,null,null,null,{"$f":"Traduction!$A$351","v":"Lundi "},"2018-04-30",118.125,13,{"$f":"'[2]Détail N°7'!$L$28","v":9},0]
[null,null,null,null,null,null,null,null,null,null,null,null,null,null,{"$f":"Traduction!$A$351","v":"Lundi "},"2018-04-30",118.291666666667,14,{"$f":"'[2]Détail N°7'!$L$28","v":9},0]
[null,null,null,null,null,null,null,null,null,null,null,null,null,null,{"$f":"Traduction!$A$351","v":"Lundi "},"2018-04-30",118.416666666667,17.5,{"$f":"'[2]Détail N°7'!$L$28","v":9},0]
[null,null,null,null,null,null,null,null,null,null,null,null,null,null,{"$f":"Traduction!$A$351","v":"Lundi "},"2018-04-30",118.583333333333,20.6,{"$f":"'[2]Détail N°7'!$L$28","v":9},0]
[null,null,null,null,null,null,null,null,null,null,null,null,null,null,{"$f":"Traduction!$A$351","v":"Lundi "},"2018-04-30",118.625,21.1,{"$f":"'[2]Détail N°7'!$L$28","v":9},0]
[null,null,null,null,null,null,null,null,null,null,null,null,null,null,{"$f":"Traduction!$A$351","v":"Lundi "},"2018-04-30",118.75,21,{"$f":"'[2]Détail N°7'!$L$28","v":9},0]
[null,null,null,null,null,null,null,null,null,null,null,null,null,null,{"$f":"Traduction!$A$351","v":"Lundi "},"2018-04-30",118.958333333333,15,{"$f":"'[2]Détail N°7'!$L$28","v":9},0]
[null,null,null,null,null,null,null,null,null,null,null,null,null,null,{"$f":"Traduction!$A$352","v":"Mardi"},"2018-05-01",119.083333333333,11.2,{"$f":"'[2]Détail N°7'!$L$28","v":9},{"$f":"IF(R3223<=S3223,1,0)","v":0}]
[null,null,null,null,null,null,null,null,null,null,null,null,null,null,{"$f":"Traduction!$A$352","v":"Mardi"},"2018-05-01",119.208333333333,8.6999999999999993,{"$f":"'[2]Détail N°7'!$L$28","v":9},1]
[null,null,null,null,null,null,null,null,null,null,null,null,null,null,{"$f":"Traduction!$A$352","v":"Mardi"},"2018-05-01",119.333333333333,9.3000000000000007,{"$f":"'[2]Détail N°7'!$L$28","v":9},0]
[null,null,null,null,null,null,null,null,null,null,null,null,null,null,{"$f":"Traduction!$A$352","v":"Mardi"},"2018-05-01",119.541666666667,11.9,{"$f":"'[2]Détail N°7'!$L$28","v":9},0]
[null,null,null,null,null,null,null,null,null,null,null,null,null,null,{"$f":"Traduction!$A$352","v":"Mardi"},"2018-05-01",119.666666666667,12.1,{"$f":"'[2]Détail N°7'!$L$28","v":9},0]
[null,null,null,null,null,null,null,null,null,null,null,null,null,null,{"$f":"Traduction!$A$352","v":"Mardi"},"2018-05-01",119.708333333333,11.9,{"$f":"'[2]Détail N°7'!$L$28","v":9},0]
[null,null,null,null,null,null,null,null,null,null,null,null,null,null,{"$f":"Traduction!$A$352","v":"Mardi"},"2018-05-01",119.875,9.9,{"$f":"'[2]Détail N°7'!$L$28","v":9},0]
[null,null,null,null,null,null,null,null,null,null,null,null,null,null,{"$f":"Traduction!$A$353","v":"Mercredi"},"2018-05-02",120.041666666667,8.4,{"$f":"'[2]Détail N°7'!$L$28","v":9},1]
[null,null,null,null,null,null,null,null,null,null,null,null,null,null,{"$f":"Traduction!$A$353","v":"Mercredi"},"2018-05-02",120.166666666667,8.6999999999999993,{"$f":"'[2]Détail N°7'!$L$28","v":9},1]
[null,null,null,null,null,null,null,null,null,null,null,null,null,null,{"$f":"Traduction!$A$353","v":"Mercredi"},"2018-05-02",120.25,8.9,{"$f":"'[2]Détail N°7'!$L$28","v":9},1]
[null,null,null,null,null,null,null,null,null,null,null,null,null,null,{"$f":"Traduction!$A$353","v":"Mercredi"},"2018-05-02",120.5,15.1,{"$f":"'[2]Détail N°7'!$L$28","v":9},0]
[null,null,null,null,null,null,null,null,null,null,null,null,null,null,{"$f":"Traduction!$A$353","v":"Mercredi"},"2018-05-02",120.625,16.5,{"$f":"'[2]Détail N°7'!$L$28","v":9},0]
[null,null,null,null,null,null,null,null,null,null,null,null,null,null,{"$f":"Traduction!$A$353","v":"Mercredi"},"2018-05-02",120.791666666667,15,{"$f":"'[2]Détail N°7'!$L$28","v":9},0]
[null,null,null,null,null,null,null,null,null,null,null,null,null,null,{"$f":"Traduction!$A$353","v":"Mercredi"},"2018-05-02",120.833333333333,14.3,{"$f":"'[2]Détail N°7'!$L$28","v":9},0]
[null,null,null,null,null,null,null,null,null,null,null,null,null,null,{"$f":"Traduction!$A$353","v":"Mercredi"},"2018-05-02",120.958333333333,12.9,{"$f":"'[2]Détail N°7'!$L$28","v":9},0]
[null,null,null,null,null,null,null,null,null,null,null,null,null,null,{"$f":"Traduction!$A$354","v":"Jeudi"},"2018-05-03",121.125,11.4,{"$f":"'[2]Détail N°7'!$L$28","v":9},0]
[null,null,null,null,null,null,null,null,null,null,null,null,null,null,{"$f":"Traduction!$A$354","v":"Jeudi"},"2018-05-03",121.333333333333,13.2,{"$f":"'[2]Détail N°7'!$L$28","v":9},0]
[null,null,null,null,null,null,null,null,null,null,null,null,null,null,{"$f":"Traduction!$A$354","v":"Jeudi"},"2018-05-03",121.416666666667,16.100000000000001,{"$f":"'[2]Détail N°7'!$L$28","v":9},0]
[null,null,null,null,null,null,null,null,null,null,null,null,null,null,{"$f":"Traduction!$A$354","v":"Jeudi"},"2018-05-03",121.583333333333,16.2,{"$f":"'[2]Détail N°7'!$L$28","v":9},0]
[null,null,null,null,null,null,null,null,null,null,null,null,null,null,{"$f":"Traduction!$A$354","v":"Jeudi"},"2018-05-03",121.708333333333,14.4,{"$f":"'[2]Détail N°7'!$L$28","v":9},0]
[null,null,null,null,null,null,null,null,null,null,null,null,null,null,{"$f":"Traduction!$A$354","v":"Jeudi"},"2018-05-03",121.875,13,{"$f":"'[2]Détail N°7'!$L$28","v":9},0]
[null,null,null,null,null,null,null,null,null,null,null,null,null,null,{"$f":"Traduction!$A$354","v":"Jeudi"},"2018-05-03",121.916666666667,13,{"$f":"'[2]Détail N°7'!$L$28","v":9},0]
[null,null,null,null,null,null,null,null,null,null,null,null,null,null,{"$f":"Traduction!$A$355","v":"Vendredi"},"2018-05-04",122.083333333333,12.5,{"$f":"'[2]Détail N°7'!$L$28","v":9},0]
[null,null,null,null,null,null,null,null,null,null,null,null,null,null,{"$f":"Traduction!$A$355","v":"Vendredi"},"2018-05-04",122.25,12.2,{"$f":"'[2]Détail N°7'!$L$28","v":9},0]
[null,null,null,null,null,null,null,null,null,null,null,null,null,null,{"$f":"Traduction!$A$355","v":"Vendredi"},"2018-05-04",122.375,14.3,{"$f":"'[2]Détail N°7'!$L$28","v":9},0]
[null,null,null,null,null,null,null,null,null,null,null,null,null,null,{"$f":"Traduction!$A$355","v":"Vendredi"},"2018-05-04",122.5,16.100000000000001,{"$f":"'[2]Détail N°7'!$L$28","v":9},0]
[null,null,null,null,null,null,null,null,null,null,null,null,null,null,{"$f":"Traduction!$A$355","v":"Vendredi"},"2018-05-04",122.625,17.5,{"$f":"'[2]Détail N°7'!$L$28","v":9},0]
[null,null,null,null,null,null,null,null,null,null,null,null,null,null,{"$f":"Traduction!$A$355","v":"Vendredi"},"2018-05-04",122.833333333333,16.3,{"$f":"'[2]Détail N°7'!$L$28","v":9},0]
[null,null,null,null,null,null,null,null,null,null,null,null,null,null,{"$f":"Traduction!$A$355","v":"Vendredi"},"2018-05-04",122.875,15.6,{"$f":"'[2]Détail N°7'!$L$28","v":9},0]
[null,null,null,null,null,null,null,null,null,null,null,null,null,null,{"$f":"Traduction!$A$355","v":"Vendredi"},"2018-05-04",123,13.8,{"$f":"'[2]Détail N°7'!$L$28","v":9},0]
[null,null,null,null,null,null,null,null,null,null,null,null,null,null,{"$f":"Traduction!$A$356","v":"Samedi"},"2018-05-05",123.166666666667,12.1,{"$f":"'[2]Détail N°7'!$L$28","v":9},0]
[null,null,null,null,null,null,null,null,null,null,null,null,null,null,{"$f":"Traduction!$A$356","v":"Samedi"},"2018-05-05",123.333333333333,12.2,{"$f":"'[2]Détail N°7'!$L$28","v":9},0]
[null,null,null,null,null,null,null,null,null,null,null,null,null,null,{"$f":"Traduction!$A$356","v":"Samedi"},"2018-05-05",123.541666666667,16,{"$f":"'[2]Détail N°7'!$L$28","v":9},0]
[null,null,null,null,null,null,null,null,null,null,null,null,null,null,{"$f":"Traduction!$A$356","v":"Samedi"},"2018-05-05",123.625,16.600000000000001,{"$f":"'[2]Détail N°7'!$L$28","v":9},0]
[null,null,null,null,null,null,null,null,null,null,null,null,null,null,{"$f":"Traduction!$A$356","v":"Samedi"},"2018-05-05",123.791666666667,16.3,{"$f":"'[2]Détail N°7'!$L$28","v":9},0]
[null,null,null,null,null,null,null,null,null,null,null,null,null,null,{"$f":"Traduction!$A$356","v":"Samedi"},"2018-05-05",123.916666666667,14.6,{"$f":"'[2]Détail N°7'!$L$28","v":9},0]
[null,null,null,null,null,null,null,null,null,null,null,null,null,null,{"$f":"Traduction!$A$356","v":"Samedi"},"2018-05-05",124,13.5,{"$f":"'[2]Détail N°7'!$L$28","v":9},0]
[null,null,null,null,null,null,null,null,null,null,null,null,null,null,{"$f":"Traduction!$A$357","v":"Dimanche"},"2018-05-06",124.125,12.5,{"$f":"'[2]Détail N°7'!$L$28","v":9},0]
[null,null,null,null,null,null,null,null,null,null,null,null,null,null,{"$f":"Traduction!$A$357","v":"Dimanche"},"2018-05-06",124.25,12.2,{"$f":"'[2]Détail N°7'!$L$28","v":9},0]
[null,null,null,null,null,null,null,null,null,null,null,null,null,null,{"$f":"Traduction!$A$357","v":"Dimanche"},"2018-05-06",124.458333333333,16.399999999999999,{"$f":"'[2]Détail N°7'!$L$28","v":9},0]
[null,null,null,null,null,null,null,null,null,null,null,null,null,null,{"$f":"Traduction!$A$357","v":"Dimanche"},"2018-05-06",124.583333333333,18,{"$f":"'[2]Détail N°7'!$L$28","v":9},0]
[null,null,null,null,null,null,null,null,null,null,null,null,null,null,{"$f":"Traduction!$A$357","v":"Dimanche"},"2018-05-06",124.708333333333,17.8,{"$f":"'[2]Détail N°7'!$L$28","v":9},0]
[null,null,null,null,null,null,null,null,null,null,null,null,null,null,{"$f":"Traduction!$A$357","v":"Dimanche"},"2018-05-06",124.833333333333,16,{"$f":"'[2]Détail N°7'!$L$28","v":9},0]
[null,null,null,null,null,null,null,null,null,null,null,null,null,null,{"$f":"Traduction!$A$351","v":"Lundi "},"2018-05-07",125.041666666667,13.4,{"$f":"'[2]Détail N°7'!$L$28","v":9},0]
[null,null,null,null,null,null,null,null,null,null,null,null,null,null,{"$f":"Traduction!$A$351","v":"Lundi "},"2018-05-07",125.083333333333,13.2,{"$f":"'[2]Détail N°7'!$L$28","v":9},0]
[null,null,null,null,null,null,null,null,null,null,null,null,null,null,{"$f":"Traduction!$A$351","v":"Lundi "},"2018-05-07",125.208333333333,12.8,{"$f":"'[2]Détail N°7'!$L$28","v":9},0]
[null,null,null,null,null,null,null,null,null,null,null,null,null,null,{"$f":"Traduction!$A$351","v":"Lundi "},"2018-05-07",125.375,15.4,{"$f":"'[2]Détail N°7'!$L$28","v":9},0]
[null,null,null,null,null,null,null,null,null,null,null,null,null,null,{"$f":"Traduction!$A$351","v":"Lundi "},"2018-05-07",125.541666666667,18.5,{"$f":"'[2]Détail N°7'!$L$28","v":9},0]
[null,null,null,null,null,null,null,null,null,null,null,null,null,null,{"$f":"Traduction!$A$351","v":"Lundi "},"2018-05-07",125.666666666667,19.3,{"$f":"'[2]Détail N°7'!$L$28","v":9},0]
[null,null,null,null,null,null,null,null,null,null,null,null,null,null,{"$f":"Traduction!$A$351","v":"Lundi "},"2018-05-07",125.75,18.5,{"$f":"'[2]Détail N°7'!$L$28","v":9},0]
[null,null,null,null,null,null,null,null,null,null,null,null,null,null,{"$f":"Traduction!$A$351","v":"Lundi "},"2018-05-07",126,14.2,{"$f":"'[2]Détail N°7'!$L$28","v":9},0]
[null,null,null,null,null,null,null,null,null,null,null,null,null,null,{"$f":"Traduction!$A$352","v":"Mardi"},"2018-05-08",126.125,12.6,{"$f":"'[2]Détail N°7'!$L$28","v":9},0]
[null,null,null,null,null,null,null,null,null,null,null,null,null,null,{"$f":"Traduction!$A$352","v":"Mardi"},"2018-05-08",126.291666666667,13.2,{"$f":"'[2]Détail N°7'!$L$28","v":9},0]
[null,null,null,null,null,null,null,null,null,null,null,null,null,null,{"$f":"Traduction!$A$352","v":"Mardi"},"2018-05-08",126.333333333333,14.3,{"$f":"'[2]Détail N°7'!$L$28","v":9},0]
[null,null,null,null,null,null,null,null,null,null,null,null,null,null,{"$f":"Traduction!$A$352","v":"Mardi"},"2018-05-08",126.458333333333,18.7,{"$f":"'[2]Détail N°7'!$L$28","v":9},0]
[null,null,null,null,null,null,null,null,null,null,null,null,null,null,{"$f":"Traduction!$A$352","v":"Mardi"},"2018-05-08",126.666666666667,21.5,{"$f":"'[2]Détail N°7'!$L$28","v":9},0]
[null,null,null,null,null,null,null,null,null,null,null,null,null,null,{"$f":"Traduction!$A$352","v":"Mardi"},"2018-05-08",126.791666666667,19.5,{"$f":"'[2]Détail N°7'!$L$28","v":9},0]
[null,null,null,null,null,null,null,null,null,null,null,null,null,null,{"$f":"Traduction!$A$352","v":"Mardi"},"2018-05-08",126.958333333333,15.6,{"$f":"'[2]Détail N°7'!$L$28","v":9},0]
[null,null,null,null,null,null,null,null,null,null,null,null,null,null,{"$f":"Traduction!$A$353","v":"Mercredi"},"2018-05-09",127.083333333333,13.5,{"$f":"'[2]Détail N°7'!$L$28","v":9},{"$f":"IF(R3415<=S3415,1,0)","v":0}]
[null,null,null,null,null,null,null,null,null,null,null,null,null,null,{"$f":"Traduction!$A$353","v":"Mercredi"},"2018-05-09",127.208333333333,12.5,{"$f":"'[2]Détail N°7'!$L$28","v":9},0]
[null,null,null,null,null,null,null,null,null,null,null,null,null,null,{"$f":"Traduction!$A$353","v":"Mercredi"},"2018-05-09",127.291666666667,14.1,{"$f":"'[2]Détail N°7'!$L$28","v":9},0]
[null,null,null,null,null,null,null,null,null,null,null,null,null,null,{"$f":"Traduction!$A$353","v":"Mercredi"},"2018-05-09",127.416666666667,18.5,{"$f":"'[2]Détail N°7'!$L$28","v":9},0]
[null,null,null,null,null,null,null,null,null,null,null,null,null,null,{"$f":"Traduction!$A$353","v":"Mercredi"},"2018-05-09",127.583333333333,22.1,{"$f":"'[2]Détail N°7'!$L$28","v":9},0]
[null,null,null,null,null,null,null,null,null,null,null,null,null,null,{"$f":"Traduction!$A$353","v":"Mercredi"},"2018-05-09",127.75,21.3,{"$f":"'[2]Détail N°7'!$L$28","v":9},0]
[null,null,null,null,null,null,null,null,null,null,null,null,null,null,{"$f":"Traduction!$A$353","v":"Mercredi"},"2018-05-09",127.875,18.2,{"$f":"'[2]Détail N°7'!$L$28","v":9},0]
[null,null,null,null,null,null,null,null,null,null,null,null,null,null,{"$f":"Traduction!$A$353","v":"Mercredi"},"2018-05-09",127.958333333333,16.2,{"$f":"'[2]Détail N°7'!$L$28","v":9},0]
[null,null,null,null,null,null,null,null,null,null,null,null,null,null,{"$f":"Traduction!$A$354","v":"Jeudi"},"2018-05-10",128.208333333333,12.7,{"$f":"'[2]Détail N°7'!$L$28","v":9},0]
[null,null,null,null,null,null,null,null,null,null,null,null,null,null,{"$f":"Traduction!$A$354","v":"Jeudi"},"2018-05-10",128.333333333333,14.5,{"$f":"'[2]Détail N°7'!$L$28","v":9},0]
[null,null,null,null,null,null,null,null,null,null,null,null,null,null,{"$f":"Traduction!$A$354","v":"Jeudi"},"2018-05-10",128.375,15.2,{"$f":"'[2]Détail N°7'!$L$28","v":9},0]
[null,null,null,null,null,null,null,null,null,null,null,null,null,null,{"$f":"Traduction!$A$354","v":"Jeudi"},"2018-05-10",128.5,17.5,{"$f":"'[2]Détail N°7'!$L$28","v":9},0]
[null,null,null,null,null,null,null,null,null,null,null,null,null,null,{"$f":"Traduction!$A$354","v":"Jeudi"},"2018-05-10",128.708333333333,19.7,{"$f":"'[2]Détail N°7'!$L$28","v":9},0]
[null,null,null,null,null,null,null,null,null,null,null,null,null,null,{"$f":"Traduction!$A$354","v":"Jeudi"},"2018-05-10",128.833333333333,18.2,{"$f":"'[2]Détail N°7'!$L$28","v":9},0]
[null,null,null,null,null,null,null,null,null,null,null,null,null,null,{"$f":"Traduction!$A$355","v":"Vendredi"},"2018-05-11",129.041666666667,13.4,{"$f":"'[2]Détail N°7'!$L$28","v":9},0]
[null,null,null,null,null,null,null,null,null,null,null,null,null,null,{"$f":"Traduction!$A$355","v":"Vendredi"},"2018-05-11",129.166666666667,11.8,{"$f":"'[2]Détail N°7'!$L$28","v":9},0]
[null,null,null,null,null,null,null,null,null,null,null,null,null,null,{"$f":"Traduction!$A$355","v":"Vendredi"},"2018-05-11",129.291666666667,13,{"$f":"'[2]Détail N°7'!$L$28","v":9},0]
[null,null,null,null,null,null,null,null,null,null,null,null,null,null,{"$f":"Traduction!$A$355","v":"Vendredi"},"2018-05-11",129.416666666667,17,{"$f":"'[2]Détail N°7'!$L$28","v":9},0]
[null,null,null,null,null,null,null,null,null,null,null,null,null,null,{"$f":"Traduction!$A$355","v":"Vendredi"},"2018-05-11",129.5,19.2,{"$f":"'[2]Détail N°7'!$L$28","v":9},0]
[null,null,null,null,null,null,null,null,null,null,null,null,null,null,{"$f":"Traduction!$A$355","v":"Vendredi"},"2018-05-11",129.625,21.2,{"$f":"'[2]Détail N°7'!$L$28","v":9},0]
[null,null,null,null,null,null,null,null,null,null,null,null,null,null,{"$f":"Traduction!$A$355","v":"Vendredi"},"2018-05-11",129.791666666667,19.5,{"$f":"'[2]Détail N°7'!$L$28","v":9},0]
[null,null,null,null,null,null,null,null,null,null,null,null,null,null,{"$f":"Traduction!$A$355","v":"Vendredi"},"2018-05-11",129.958333333333,15.4,{"$f":"'[2]Détail N°7'!$L$28","v":9},0]
[null,null,null,null,null,null,null,null,null,null,null,null,null,null,{"$f":"Traduction!$A$356","v":"Samedi"},"2018-05-12",130.083333333333,13.1,{"$f":"'[2]Détail N°7'!$L$28","v":9},0]
[null,null,null,null,null,null,null,null,null,null,null,null,null,null,{"$f":"Traduction!$A$356","v":"Samedi"},"2018-05-12",130.25,12.3,{"$f":"'[2]Détail N°7'!$L$28","v":9},0]
[null,null,null,null,null,null,null,null,null,null,null,null,null,null,{"$f":"Traduction!$A$356","v":"Samedi"},"2018-05-12",130.333333333333,14.8,{"$f":"'[2]Détail N°7'!$L$28","v":9},0]
[null,null,null,null,null,null,null,null,null,null,null,null,null,null,{"$f":"Traduction!$A$356","v":"Samedi"},"2018-05-12",130.458333333333,18.100000000000001,{"$f":"'[2]Détail N°7'!$L$28","v":9},0]
[null,null,null,null,null,null,null,null,null,null,null,null,null,null,{"$f":"Traduction!$A$356","v":"Samedi"},"2018-05-12",130.583333333333,20.9,{"$f":"'[2]Détail N°7'!$L$28","v":9},0]
[null,null,null,null,null,null,null,null,null,null,null,null,null,null,{"$f":"Traduction!$A$356","v":"Samedi"},"2018-05-12",130.708333333333,21.3,{"$f":"'[2]Détail N°7'!$L$28","v":9},0]
[null,null,null,null,null,null,null,null,null,null,null,null,null,null,{"$f":"Traduction!$A$356","v":"Samedi"},"2018-05-12",130.916666666667,17.8,{"$f":"'[2]Détail N°7'!$L$28","v":9},0]
[null,null,null,null,null,null,null,null,null,null,null,null,null,null,{"$f":"Traduction!$A$357","v":"Dimanche"},"2018-05-13",131.041666666667,16.8,{"$f":"'[2]Détail N°7'!$L$28","v":9},0]
[null,null,null,null,null,null,null,null,null,null,null,null,null,null,{"$f":"Traduction!$A$357","v":"Dimanche"},"2018-05-13",131.166666666667,16.8,{"$f":"'[2]Détail N°7'!$L$28","v":9},0]
[null,null,null,null,null,null,null,null,null,null,null,null,null,null,{"$f":"Traduction!$A$357","v":"Dimanche"},"2018-05-13",131.25,17.3,{"$f":"'[2]Détail N°7'!$L$28","v":9},0]
[null,null,null,null,null,null,null,null,null,null,null,null,null,null,{"$f":"Traduction!$A$357","v":"Dimanche"},"2018-05-13",131.5,19.7,{"$f":"'[2]Détail N°7'!$L$28","v":9},0]
[null,null,null,null,null,null,null,null,null,null,null,null,null,null,{"$f":"Traduction!$A$357","v":"Dimanche"},"2018-05-13",131.541666666667,19.2,{"$f":"'[2]Détail N°7'!$L$28","v":9},0]
[null,null,null,null,null,null,null,null,null,null,null,null,null,null,{"$f":"Traduction!$A$357","v":"Dimanche"},"2018-05-13",131.791666666667,23.4,{"$f":"'[2]Détail N°7'!$L$28","v":9},0]
[null,null,null,null,null,null,null,null,null,null,null,null,null,null,{"$f":"Traduction!$A$357","v":"Dimanche"},"2018-05-13",131.833333333333,22.8,{"$f":"'[2]Détail N°7'!$L$28","v":9},0]
[null,null,null,null,null,null,null,null,null,null,null,null,null,null,{"$f":"Traduction!$A$357","v":"Dimanche"},"2018-05-13",132,19.3,{"$f":"'[2]Détail N°7'!$L$28","v":9},0]
[null,null,null,null,null,null,null,null,null,null,null,null,null,null,{"$f":"Traduction!$A$351","v":"Lundi "},"2018-05-14",132.166666666667,16.100000000000001,{"$f":"'[2]Détail N°7'!$L$28","v":9},0]
[null,null,null,null,null,null,null,null,null,null,null,null,null,null,{"$f":"Traduction!$A$351","v":"Lundi "},"2018-05-14",132.291666666667,16,{"$f":"'[2]Détail N°7'!$L$28","v":9},0]
[null,null,null,null,null,null,null,null,null,null,null,null,null,null,{"$f":"Traduction!$A$351","v":"Lundi "},"2018-05-14",132.458333333333,21.7,{"$f":"'[2]Détail N°7'!$L$28","v":9},0]
[null,null,null,null,null,null,null,null,null,null,null,null,null,null,{"$f":"Traduction!$A$351","v":"Lundi "},"2018-05-14",132.583333333333,21.4,{"$f":"'[2]Détail N°7'!$L$28","v":9},0]
[null,null,null,null,null,null,null,null,null,null,null,null,null,null,{"$f":"Traduction!$A$351","v":"Lundi "},"2018-05-14",132.708333333333,19.7,{"$f":"'[2]Détail N°7'!$L$28","v":9},0]
[null,null,null,null,null,null,null,null,null,null,null,null,null,null,{"$f":"Traduction!$A$351","v":"Lundi "},"2018-05-14",132.791666666667,18.5,{"$f":"'[2]Détail N°7'!$L$28","v":9},0]
[null,null,null,null,null,null,null,null,null,null,null,null,null,null,{"$f":"Traduction!$A$351","v":"Lundi "},"2018-05-14",132.916666666667,17.2,{"$f":"'[2]Détail N°7'!$L$28","v":9},0]
[null,null,null,null,null,null,null,null,null,null,null,null,null,null,{"$f":"Traduction!$A$352","v":"Mardi"},"2018-05-15",133.083333333333,16.8,{"$f":"'[2]Détail N°7'!$L$28","v":9},0]
[null,null,null,null,null,null,null,null,null,null,null,null,null,null,{"$f":"Traduction!$A$352","v":"Mardi"},"2018-05-15",133.25,17.2,{"$f":"'[2]Détail N°7'!$L$28","v":9},0]
[null,null,null,null,null,null,null,null,null,null,null,null,null,null,{"$f":"Traduction!$A$352","v":"Mardi"},"2018-05-15",133.416666666667,19.5,{"$f":"'[2]Détail N°7'!$L$28","v":9},0]
[null,null,null,null,null,null,null,null,null,null,null,null,null,null,{"$f":"Traduction!$A$352","v":"Mardi"},"2018-05-15",133.458333333333,20.100000000000001,{"$f":"'[2]Détail N°7'!$L$28","v":9},0]
[null,null,null,null,null,null,null,null,null,null,null,null,null,null,{"$f":"Traduction!$A$352","v":"Mardi"},"2018-05-15",133.708333333333,26.5,{"$f":"'[2]Détail N°7'!$L$28","v":9},0]
[null,null,null,null,null,null,null,null,null,null,null,null,null,null,{"$f":"Traduction!$A$352","v":"Mardi"},"2018-05-15",133.75,26.6,{"$f":"'[2]Détail N°7'!$L$28","v":9},0]
[null,null,null,null,null,null,null,null,null,null,null,null,null,null,{"$f":"Traduction!$A$352","v":"Mardi"},"2018-05-15",133.875,23.8,{"$f":"'[2]Détail N°7'!$L$28","v":9},0]
[null,null,null,null,null,null,null,null,null,null,null,null,null,null,{"$f":"Traduction!$A$352","v":"Mardi"},"2018-05-15",134,19.7,{"$f":"'[2]Détail N°7'!$L$28","v":9},0]
[null,null,null,null,null,null,null,null,null,null,null,null,null,null,{"$f":"Traduction!$A$353","v":"Mercredi"},"2018-05-16",134.208333333333,14.8,{"$f":"'[2]Détail N°7'!$L$28","v":9},0]
[null,null,null,null,null,null,null,null,null,null,null,null,null,null,{"$f":"Traduction!$A$353","v":"Mercredi"},"2018-05-16",134.333333333333,17.2,{"$f":"'[2]Détail N°7'!$L$28","v":9},0]
[null,null,null,null,null,null,null,null,null,null,null,null,null,null,{"$f":"Traduction!$A$353","v":"Mercredi"},"2018-05-16",134.541666666667,22.1,{"$f":"'[2]Détail N°7'!$L$28","v":9},0]
[null,null,null,null,null,null,null,null,null,null,null,null,null,null,{"$f":"Traduction!$A$353","v":"Mercredi"},"2018-05-16",134.666666666667,22.8,{"$f":"'[2]Détail N°7'!$L$28","v":9},0]
[null,null,null,null,null,null,null,null,null,null,null,null,null,null,{"$f":"Traduction!$A$353","v":"Mercredi"},"2018-05-16",134.791666666667,20.7,{"$f":"'[2]Détail N°7'!$L$28","v":9},0]
[null,null,null,null,null,null,null,null,null,null,null,null,null,null,{"$f":"Traduction!$A$353","v":"Mercredi"},"2018-05-16",134.916666666667,17.899999999999999,{"$f":"'[2]Détail N°7'!$L$28","v":9},0]
[null,null,null,null,null,null,null,null,null,null,null,null,null,null,{"$f":"Traduction!$A$353","v":"Mercredi"},"2018-05-16",135,16.2,{"$f":"'[2]Détail N°7'!$L$28","v":9},0]
[null,null,null,null,null,null,null,null,null,null,null,null,null,null,{"$f":"Traduction!$A$354","v":"Jeudi"},"2018-05-17",135.166666666667,14.9,{"$f":"'[2]Détail N°7'!$L$28","v":9},0]
[null,null,null,null,null,null,null,null,null,null,null,null,null,null,{"$f":"Traduction!$A$354","v":"Jeudi"},"2018-05-17",135.291666666667,16.899999999999999,{"$f":"'[2]Détail N°7'!$L$28","v":9},0]
[null,null,null,null,null,null,null,null,null,null,null,null,null,null,{"$f":"Traduction!$A$354","v":"Jeudi"},"2018-05-17",135.458333333333,17.899999999999999,{"$f":"'[2]Détail N°7'!$L$28","v":9},0]
[null,null,null,null,null,null,null,null,null,null,null,null,null,null,{"$f":"Traduction!$A$354","v":"Jeudi"},"2018-05-17",135.625,19.2,{"$f":"'[2]Détail N°7'!$L$28","v":9},0]
[null,null,null,null,null,null,null,null,null,null,null,null,null,null,{"$f":"Traduction!$A$354","v":"Jeudi"},"2018-05-17",135.75,20.7,{"$f":"'[2]Détail N°7'!$L$28","v":9},0]
[null,null,null,null,null,null,null,null,null,null,null,null,null,null,{"$f":"Traduction!$A$354","v":"Jeudi"},"2018-05-17",135.833333333333,20.100000000000001,{"$f":"'[2]Détail N°7'!$L$28","v":9},0]
[null,null,null,null,null,null,null,null,null,null,null,null,null,null,{"$f":"Traduction!$A$354","v":"Jeudi"},"2018-05-17",135.958333333333,18.5,{"$f":"'[2]Détail N°7'!$L$28","v":9},0]
[null,null,null,null,null,null,null,null,null,null,null,null,null,null,{"$f":"Traduction!$A$355","v":"Vendredi"},"2018-05-18",136.083333333333,16.7,{"$f":"'[2]Détail N°7'!$L$28","v":9},0]
[null,null,null,null,null,null,null,null,null,null,null,null,null,null,{"$f":"Traduction!$A$355","v":"Vendredi"},"2018-05-18",136.208333333333,16.100000000000001,{"$f":"'[2]Détail N°7'!$L$28","v":9},0]
[null,null,null,null,null,null,null,null,null,null,null,null,null,null,{"$f":"Traduction!$A$355","v":"Vendredi"},"2018-05-18",136.416666666667,17.8,{"$f":"'[2]Détail N°7'!$L$28","v":9},0]
[null,null,null,null,null,null,null,null,null,null,null,null,null,null,{"$f":"Traduction!$A$355","v":"Vendredi"},"2018-05-18",136.541666666667,18.5,{"$f":"'[2]Détail N°7'!$L$28","v":9},0]
[null,null,null,null,null,null,null,null,null,null,null,null,null,null,{"$f":"Traduction!$A$355","v":"Vendredi"},"2018-05-18",136.708333333333,18.100000000000001,{"$f":"'[2]Détail N°7'!$L$28","v":9},0]
[null,null,null,null,null,null,null,null,null,null,null,null,null,null,{"$f":"Traduction!$A$355","v":"Vendredi"},"2018-05-18",136.75,17.399999999999999,{"$f":"'[2]Détail N°7'!$L$28","v":9},0]
[null,null,null,null,null,null,null,null,null,null,null,null,null,null,{"$f":"Traduction!$A$355","v":"Vendredi"},"2018-05-18",137,14.8,{"$f":"'[2]Détail N°7'!$L$28","v":9},0]
[null,null,null,null,null,null,null,null,null,null,null,null,null,null,{"$f":"Traduction!$A$356","v":"Samedi"},"2018-05-19",137.041666666667,13.9,{"$f":"'[2]Détail N°7'!$L$28","v":9},0]
[null,null,null,null,null,null,null,null,null,null,null,null,null,null,{"$f":"Traduction!$A$356","v":"Samedi"},"2018-05-19",137.291666666667,13.2,{"$f":"'[2]Détail N°7'!$L$28","v":9},0]
[null,null,null,null,null,null,null,null,null,null,null,null,null,null,{"$f":"Traduction!$A$356","v":"Samedi"},"2018-05-19",137.375,14.3,{"$f":"'[2]Détail N°7'!$L$28","v":9},0]
[null,null,null,null,null,null,null,null,null,null,null,null,null,null,{"$f":"Traduction!$A$356","v":"Samedi"},"2018-05-19",137.5,14.9,{"$f":"'[2]Détail N°7'!$L$28","v":9},0]
[null,null,null,null,null,null,null,null,null,null,null,null,null,null,{"$f":"Traduction!$A$356","v":"Samedi"},"2018-05-19",137.666666666667,15.4,{"$f":"'[2]Détail N°7'!$L$28","v":9},0]
[null,null,null,null,null,null,null,null,null,null,null,null,null,null,{"$f":"Traduction!$A$356","v":"Samedi"},"2018-05-19",137.833333333333,14.9,{"$f":"'[2]Détail N°7'!$L$28","v":9},0]
[null,null,null,null,null,null,null,null,null,null,null,null,null,null,{"$f":"Traduction!$A$356","v":"Samedi"},"2018-05-19",137.958333333333,12.2,{"$f":"'[2]Détail N°7'!$L$28","v":9},0]
[null,null,null,null,null,null,null,null,null,null,null,null,null,null,{"$f":"Traduction!$A$356","v":"Samedi"},"2018-05-19",138,11.3,{"$f":"'[2]Détail N°7'!$L$28","v":9},0]
[null,null,null,null,null,null,null,null,null,null,null,null,null,null,{"$f":"Traduction!$A$357","v":"Dimanche"},"2018-05-20",138.208333333333,9.4,{"$f":"'[2]Détail N°7'!$L$28","v":9},0]
[null,null,null,null,null,null,null,null,null,null,null,null,null,null,{"$f":"Traduction!$A$357","v":"Dimanche"},"2018-05-20",138.291666666667,11.2,{"$f":"'[2]Détail N°7'!$L$28","v":9},0]
[null,null,null,null,null,null,null,null,null,null,null,null,null,null,{"$f":"Traduction!$A$357","v":"Dimanche"},"2018-05-20",138.458333333333,17.7,{"$f":"'[2]Détail N°7'!$L$28","v":9},0]
[null,null,null,null,null,null,null,null,null,null,null,null,null,null,{"$f":"Traduction!$A$357","v":"Dimanche"},"2018-05-20",138.583333333333,21,{"$f":"'[2]Détail N°7'!$L$28","v":9},0]
[null,null,null,null,null,null,null,null,null,null,null,null,null,null,{"$f":"Traduction!$A$357","v":"Dimanche"},"2018-05-20",138.75,21.1,{"$f":"'[2]Détail N°7'!$L$28","v":9},0]
[null,null,null,null,null,null,null,null,null,null,null,null,null,null,{"$f":"Traduction!$A$357","v":"Dimanche"},"2018-05-20",138.916666666667,15.8,{"$f":"'[2]Détail N°7'!$L$28","v":9},0]
[null,null,null,null,null,null,null,null,null,null,null,null,null,null,{"$f":"Traduction!$A$357","v":"Dimanche"},"2018-05-20",138.958333333333,14.2,{"$f":"'[2]Détail N°7'!$L$28","v":9},0]
[null,null,null,null,null,null,null,null,null,null,null,null,null,null,{"$f":"Traduction!$A$351","v":"Lundi "},"2018-05-21",139.125,9.4,{"$f":"'[2]Détail N°7'!$L$28","v":9},0]
[null,null,null,null,null,null,null,null,null,null,null,null,null,null,{"$f":"Traduction!$A$351","v":"Lundi "},"2018-05-21",139.25,9.4,{"$f":"'[2]Détail N°7'!$L$28","v":9},0]
[null,null,null,null,null,null,null,null,null,null,null,null,null,null,{"$f":"Traduction!$A$351","v":"Lundi "},"2018-05-21",139.375,13.5,{"$f":"'[2]Détail N°7'!$L$28","v":9},0]
[null,null,null,null,null,null,null,null,null,null,null,null,null,null,{"$f":"Traduction!$A$351","v":"Lundi "},"2018-05-21",139.5,17.8,{"$f":"'[2]Détail N°7'!$L$28","v":9},0]
[null,null,null,null,null,null,null,null,null,null,null,null,null,null,{"$f":"Traduction!$A$351","v":"Lundi "},"2018-05-21",139.708333333333,20,{"$f":"'[2]Détail N°7'!$L$28","v":9},0]
[null,null,null,null,null,null,null,null,null,null,null,null,null,null,{"$f":"Traduction!$A$351","v":"Lundi "},"2018-05-21",139.875,16.100000000000001,{"$f":"'[2]Détail N°7'!$L$28","v":9},0]
[null,null,null,null,null,null,null,null,null,null,null,null,null,null,{"$f":"Traduction!$A$352","v":"Mardi"},"2018-05-22",140.041666666667,9.6,{"$f":"'[2]Détail N°7'!$L$28","v":9},0]
[null,null,null,null,null,null,null,null,null,null,null,null,null,null,{"$f":"Traduction!$A$352","v":"Mardi"},"2018-05-22",140.166666666667,7.1,{"$f":"'[2]Détail N°7'!$L$28","v":9},1]
[null,null,null,null,null,null,null,null,null,null,null,null,null,null,{"$f":"Traduction!$A$352","v":"Mardi"},"2018-05-22",140.208333333333,7,{"$f":"'[2]Détail N°7'!$L$28","v":9},1]
[null,null,null,null,null,null,null,null,null,null,null,null,null,null,{"$f":"Traduction!$A$352","v":"Mardi"},"2018-05-22",140.416666666667,13.5,{"$f":"'[2]Détail N°7'!$L$28","v":9},{"$f":"IF(R3735<=S3735,1,0)","v":0}]
[null,null,null,null,null,null,null,null,null,null,null,null,null,null,{"$f":"Traduction!$A$352","v":"Mardi"},"2018-05-22",140.5,16.399999999999999,{"$f":"'[2]Détail N°7'!$L$28","v":9},0]
[null,null,null,null,null,null,null,null,null,null,null,null,null,null,{"$f":"Traduction!$A$352","v":"Mardi"},"2018-05-22",140.666666666667,18.8,{"$f":"'[2]Détail N°7'!$L$28","v":9},0]
[null,null,null,null,null,null,null,null,null,null,null,null,null,null,{"$f":"Traduction!$A$352","v":"Mardi"},"2018-05-22",140.791666666667,16.899999999999999,{"$f":"'[2]Détail N°7'!$L$28","v":9},0]
[null,null,null,null,null,null,null,null,null,null,null,null,null,null,{"$f":"Traduction!$A$352","v":"Mardi"},"2018-05-22",140.958333333333,11.9,{"$f":"'[2]Détail N°7'!$L$28","v":9},0]
[null,null,null,null,null,null,null,null,null,null,null,null,null,null,{"$f":"Traduction!$A$353","v":"Mercredi"},"2018-05-23",141.125,9.1,{"$f":"'[2]Détail N°7'!$L$28","v":9},0]
[null,null,null,null,null,null,null,null,null,null,null,null,null,null,{"$f":"Traduction!$A$353","v":"Mercredi"},"2018-05-23",141.25,9,{"$f":"'[2]Détail N°7'!$L$28","v":9},1]
[null,null,null,null,null,null,null,null,null,null,null,null,null,null,{"$f":"Traduction!$A$353","v":"Mercredi"},"2018-05-23",141.333333333333,9.8000000000000007,{"$f":"'[2]Détail N°7'!$L$28","v":9},0]
[null,null,null,null,null,null,null,null,null,null,null,null,null,null,{"$f":"Traduction!$A$353","v":"Mercredi"},"2018-05-23",141.458333333333,12,{"$f":"'[2]Détail N°7'!$L$28","v":9},0]
[null,null,null,null,null,null,null,null,null,null,null,null,null,null,{"$f":"Traduction!$A$353","v":"Mercredi"},"2018-05-23",141.583333333333,13.9,{"$f":"'[2]Détail N°7'!$L$28","v":9},0]
[null,null,null,null,null,null,null,null,null,null,null,null,null,null,{"$f":"Traduction!$A$353","v":"Mercredi"},"2018-05-23",141.708333333333,14.2,{"$f":"'[2]Détail N°7'!$L$28","v":9},0]
[null,null,null,null,null,null,null,null,null,null,null,null,null,null,{"$f":"Traduction!$A$353","v":"Mercredi"},"2018-05-23",141.916666666667,11.2,{"$f":"'[2]Détail N°7'!$L$28","v":9},0]
[null,null,null,null,null,null,null,null,null,null,null,null,null,null,{"$f":"Traduction!$A$354","v":"Jeudi"},"2018-05-24",142.083333333333,7.3,{"$f":"'[2]Détail N°7'!$L$28","v":9},1]
[null,null,null,null,null,null,null,null,null,null,null,null,null,null,{"$f":"Traduction!$A$354","v":"Jeudi"},"2018-05-24",142.208333333333,6.3,{"$f":"'[2]Détail N°7'!$L$28","v":9},1]
[null,null,null,null,null,null,null,null,null,null,null,null,null,null,{"$f":"Traduction!$A$354","v":"Jeudi"},"2018-05-24",142.25,7,{"$f":"'[2]Détail N°7'!$L$28","v":9},1]
[null,null,null,null,null,null,null,null,null,null,null,null,null,null,{"$f":"Traduction!$A$354","v":"Jeudi"},"2018-05-24",142.416666666667,13.4,{"$f":"'[2]Détail N°7'!$L$28","v":9},0]
[null,null,null,null,null,null,null,null,null,null,null,null,null,null,{"$f":"Traduction!$A$354","v":"Jeudi"},"2018-05-24",142.541666666667,15,{"$f":"'[2]Détail N°7'!$L$28","v":9},0]
[null,null,null,null,null,null,null,null,null,null,null,null,null,null,{"$f":"Traduction!$A$354","v":"Jeudi"},"2018-05-24",142.791666666667,12.4,{"$f":"'[2]Détail N°7'!$L$28","v":9},0]
[null,null,null,null,null,null,null,null,null,null,null,null,null,null,{"$f":"Traduction!$A$354","v":"Jeudi"},"2018-05-24",142.875,10.6,{"$f":"'[2]Détail N°7'!$L$28","v":9},0]
[null,null,null,null,null,null,null,null,null,null,null,null,null,null,{"$f":"Traduction!$A$354","v":"Jeudi"},"2018-05-24",143,7.7,{"$f":"'[2]Détail N°7'!$L$28","v":9},1]
[null,null,null,null,null,null,null,null,null,null,null,null,null,null,{"$f":"Traduction!$A$355","v":"Vendredi"},"2018-05-25",143.166666666667,6.5,{"$f":"'[2]Détail N°7'!$L$28","v":9},1]
[null,null,null,null,null,null,null,null,null,null,null,null,null,null,{"$f":"Traduction!$A$355","v":"Vendredi"},"2018-05-25",143.333333333333,9.6999999999999993,{"$f":"'[2]Détail N°7'!$L$28","v":9},0]
[null,null,null,null,null,null,null,null,null,null,null,null,null,null,{"$f":"Traduction!$A$355","v":"Vendredi"},"2018-05-25",143.458333333333,14.3,{"$f":"'[2]Détail N°7'!$L$28","v":9},0]
[null,null,null,null,null,null,null,null,null,null,null,null,null,null,{"$f":"Traduction!$A$355","v":"Vendredi"},"2018-05-25",143.5,15.6,{"$f":"'[2]Détail N°7'!$L$28","v":9},0]
[null,null,null,null,null,null,null,null,null,null,null,null,null,null,{"$f":"Traduction!$A$355","v":"Vendredi"},"2018-05-25",143.708333333333,18.100000000000001,{"$f":"'[2]Détail N°7'!$L$28","v":9},0]
[null,null,null,null,null,null,null,null,null,null,null,null,null,null,{"$f":"Traduction!$A$355","v":"Vendredi"},"2018-05-25",143.833333333333,15.6,{"$f":"'[2]Détail N°7'!$L$28","v":9},0]
[null,null,null,null,null,null,null,null,null,null,null,null,null,null,{"$f":"Traduction!$A$355","v":"Vendredi"},"2018-05-25",143.958333333333,11.5,{"$f":"'[2]Détail N°7'!$L$28","v":9},0]
[null,null,null,null,null,null,null,null,null,null,null,null,null,null,{"$f":"Traduction!$A$356","v":"Samedi"},"2018-05-26",144.083333333333,7.5,{"$f":"'[2]Détail N°7'!$L$28","v":9},1]
[null,null,null,null,null,null,null,null,null,null,null,null,null,null,{"$f":"Traduction!$A$356","v":"Samedi"},"2018-05-26",144.291666666667,8,{"$f":"'[2]Détail N°7'!$L$28","v":9},1]
[null,null,null,null,null,null,null,null,null,null,null,null,null,null,{"$f":"Traduction!$A$356","v":"Samedi"},"2018-05-26",144.416666666667,12.7,{"$f":"'[2]Détail N°7'!$L$28","v":9},0]
[null,null,null,null,null,null,null,null,null,null,null,null,null,null,{"$f":"Traduction!$A$356","v":"Samedi"},"2018-05-26",144.458333333333,14.1,{"$f":"'[2]Détail N°7'!$L$28","v":9},0]
[null,null,null,null,null,null,null,null,null,null,null,null,null,null,{"$f":"Traduction!$A$356","v":"Samedi"},"2018-05-26",144.625,17.3,{"$f":"'[2]Détail N°7'!$L$28","v":9},0]
[null,null,null,null,null,null,null,null,null,null,null,null,null,null,{"$f":"Traduction!$A$356","v":"Samedi"},"2018-05-26",144.75,16.600000000000001,{"$f":"'[2]Détail N°7'!$L$28","v":9},0]
[null,null,null,null,null,null,null,null,null,null,null,null,null,null,{"$f":"Traduction!$A$356","v":"Samedi"},"2018-05-26",144.916666666667,12.6,{"$f":"'[2]Détail N°7'!$L$28","v":9},0]
[null,null,null,null,null,null,null,null,null,null,null,null,null,null,{"$f":"Traduction!$A$356","v":"Samedi"},"2018-05-26",145,11.4,{"$f":"'[2]Détail N°7'!$L$28","v":9},0]
[null,null,null,null,null,null,null,null,null,null,null,null,null,null,{"$f":"Traduction!$A$357","v":"Dimanche"},"2018-05-27",145.208333333333,12.1,{"$f":"'[2]Détail N°7'!$L$28","v":9},0]
[null,null,null,null,null,null,null,null,null,null,null,null,null,null,{"$f":"Traduction!$A$357","v":"Dimanche"},"2018-05-27",145.375,13.1,{"$f":"'[2]Détail N°7'!$L$28","v":9},0]
[null,null,null,null,null,null,null,null,null,null,null,null,null,null,{"$f":"Traduction!$A$357","v":"Dimanche"},"2018-05-27",145.541666666667,14.3,{"$f":"'[2]Détail N°7'!$L$28","v":9},0]
[null,null,null,null,null,null,null,null,null,null,null,null,null,null,{"$f":"Traduction!$A$357","v":"Dimanche"},"2018-05-27",145.583333333333,12.8,{"$f":"'[2]Détail N°7'!$L$28","v":9},0]
[null,null,null,null,null,null,null,null,null,null,null,null,null,null,{"$f":"Traduction!$A$357","v":"Dimanche"},"2018-05-27",145.708333333333,14.6,{"$f":"'[2]Détail N°7'!$L$28","v":9},0]
[null,null,null,null,null,null,null,null,null,null,null,null,null,null,{"$f":"Traduction!$A$357","v":"Dimanche"},"2018-05-27",145.916666666667,13.4,{"$f":"'[2]Détail N°7'!$L$28","v":9},0]
[null,null,null,null,null,null,null,null,null,null,null,null,null,null,{"$f":"Traduction!$A$351","v":"Lundi "},"2018-05-28",146.041666666667,10.7,{"$f":"'[2]Détail N°7'!$L$28","v":9},0]
[null,null,null,null,null,null,null,null,null,null,null,null,null,null,{"$f":"Traduction!$A$351","v":"Lundi "},"2018-05-28",146.166666666667,6.8,{"$f":"'[2]Détail N°7'!$L$28","v":9},1]
[null,null,null,null,null,null,null,null,null,null,null,null,null,null,{"$f":"Traduction!$A$351","v":"Lundi "},"2018-05-28",146.291666666667,7.4,{"$f":"'[2]Détail N°7'!$L$28","v":9},1]
[null,null,null,null,null,null,null,null,null,null,null,null,null,null,{"$f":"Traduction!$A$351","v":"Lundi "},"2018-05-28",146.458333333333,10.3,{"$f":"'[2]Détail N°7'!$L$28","v":9},0]
[null,null,null,null,null,null,null,null,null,null,null,null,null,null,{"$f":"Traduction!$A$351","v":"Lundi "},"2018-05-28",146.625,11.8,{"$f":"'[2]Détail N°7'!$L$28","v":9},0]
[null,null,null,null,null,null,null,null,null,null,null,null,null,null,{"$f":"Traduction!$A$351","v":"Lundi "},"2018-05-28",146.666666666667,11.9,{"$f":"'[2]Détail N°7'!$L$28","v":9},0]
[null,null,null,null,null,null,null,null,null,null,null,null,null,null,{"$f":"Traduction!$A$351","v":"Lundi "},"2018-05-28",146.833333333333,9.9,{"$f":"'[2]Détail N°7'!$L$28","v":9},0]
[null,null,null,null,null,null,null,null,null,null,null,null,null,null,{"$f":"Traduction!$A$351","v":"Lundi "},"2018-05-28",146.958333333333,6.6,{"$f":"'[2]Détail N°7'!$L$28","v":9},1]
[null,null,null,null,null,null,null,null,null,null,null,null,null,null,{"$f":"Traduction!$A$352","v":"Mardi"},"2018-05-29",147.125,5,{"$f":"'[2]Détail N°7'!$L$28","v":9},1]
[null,null,null,null,null,null,null,null,null,null,null,null,null,null,{"$f":"Traduction!$A$352","v":"Mardi"},"2018-05-29",147.208333333333,4.7,{"$f":"'[2]Détail N°7'!$L$28","v":9},1]
[null,null,null,null,null,null,null,null,null,null,null,null,null,null,{"$f":"Traduction!$A$352","v":"Mardi"},"2018-05-29",147.458333333333,10.199999999999999,{"$f":"'[2]Détail N°7'!$L$28","v":9},0]
[null,null,null,null,null,null,null,null,null,null,null,null,null,null,{"$f":"Traduction!$A$352","v":"Mardi"},"2018-05-29",147.583333333333,11.2,{"$f":"'[2]Détail N°7'!$L$28","v":9},0]
[null,null,null,null,null,null,null,null,null,null,null,null,null,null,{"$f":"Traduction!$A$352","v":"Mardi"},"2018-05-29",147.708333333333,10.4,{"$f":"'[2]Détail N°7'!$L$28","v":9},0]
[null,null,null,null,null,null,null,null,null,null,null,null,null,null,{"$f":"Traduction!$A$352","v":"Mardi"},"2018-05-29",147.75,9.9,{"$f":"'[2]Détail N°7'!$L$28","v":9},0]
[null,null,null,null,null,null,null,null,null,null,null,null,null,null,{"$f":"Traduction!$A$352","v":"Mardi"},"2018-05-29",147.916666666667,6.8,{"$f":"'[2]Détail N°7'!$L$28","v":9},1]
[null,null,null,null,null,null,null,null,null,null,null,null,null,null,{"$f":"Traduction!$A$353","v":"Mercredi"},"2018-05-30",148.041666666667,5.3,{"$f":"'[2]Détail N°7'!$L$28","v":9},1]
[null,null,null,null,null,null,null,null,null,null,null,null,null,null,{"$f":"Traduction!$A$353","v":"Mercredi"},"2018-05-30",148.291666666667,7.2,{"$f":"'[2]Détail N°7'!$L$28","v":9},1]
[null,null,null,null,null,null,null,null,null,null,null,null,null,null,{"$f":"Traduction!$A$353","v":"Mercredi"},"2018-05-30",148.375,10.5,{"$f":"'[2]Détail N°7'!$L$28","v":9},0]
[null,null,null,null,null,null,null,null,null,null,null,null,null,null,{"$f":"Traduction!$A$353","v":"Mercredi"},"2018-05-30",148.541666666667,16.100000000000001,{"$f":"'[2]Détail N°7'!$L$28","v":9},0]
[null,null,null,null,null,null,null,null,null,null,null,null,null,null,{"$f":"Traduction!$A$353","v":"Mercredi"},"2018-05-30",148.666666666667,17.7,{"$f":"'[2]Détail N°7'!$L$28","v":9},0]
[null,null,null,null,null,null,null,null,null,null,null,null,null,null,{"$f":"Traduction!$A$353","v":"Mercredi"},"2018-05-30",148.833333333333,14.9,{"$f":"'[2]Détail N°7'!$L$28","v":9},0]
[null,null,null,null,null,null,null,null,null,null,null,null,null,null,{"$f":"Traduction!$A$353","v":"Mercredi"},"2018-05-30",148.875,13.7,{"$f":"'[2]Détail N°7'!$L$28","v":9},0]
[null,null,null,null,null,null,null,null,null,null,null,null,null,null,{"$f":"Traduction!$A$353","v":"Mercredi"},"2018-05-30",149,12.3,{"$f":"'[2]Détail N°7'!$L$28","v":9},0]
[null,null,null,null,null,null,null,null,null,null,null,null,null,null,{"$f":"Traduction!$A$354","v":"Jeudi"},"2018-05-31",149.208333333333,11.8,{"$f":"'[2]Détail N°7'!$L$28","v":9},0]
[null,null,null,null,null,null,null,null,null,null,null,null,null,null,{"$f":"Traduction!$A$354","v":"Jeudi"},"2018-05-31",149.333333333333,13.7,{"$f":"'[2]Détail N°7'!$L$28","v":9},0]
[null,null,null,null,null,null,null,null,null,null,null,null,null,null,{"$f":"Traduction!$A$354","v":"Jeudi"},"2018-05-31",149.458333333333,14.8,{"$f":"'[2]Détail N°7'!$L$28","v":9},0]
[null,null,null,null,null,null,null,null,null,null,null,null,null,null,{"$f":"Traduction!$A$354","v":"Jeudi"},"2018-05-31",149.583333333333,17.100000000000001,{"$f":"'[2]Détail N°7'!$L$28","v":9},0]
[null,null,null,null,null,null,null,null,null,null,null,null,null,null,{"$f":"Traduction!$A$354","v":"Jeudi"},"2018-05-31",149.791666666667,19.600000000000001,{"$f":"'[2]Détail N°7'!$L$28","v":9},0]
[null,null,null,null,null,null,null,null,null,null,null,null,null,null,{"$f":"Traduction!$A$354","v":"Jeudi"},"2018-05-31",149.916666666667,17.100000000000001,{"$f":"'[2]Détail N°7'!$L$28","v":9},0]
[null,null,null,null,null,null,null,null,null,null,null,null,null,null,{"$f":"Traduction!$A$354","v":"Jeudi"},"2018-05-31",149.958333333333,15.8,{"$f":"'[2]Détail N°7'!$L$28","v":9},0]
[null,null,null,null,null,null,null,null,null,null,null,null,null,null,{"$f":"Traduction!$A$355","v":"Vendredi"},"2018-06-01",150.125,10.7,{"$f":"'[2]Détail N°7'!$L$28","v":9},0]
[null,null,null,null,null,null,null,null,null,null,null,null,null,null,{"$f":"Traduction!$A$355","v":"Vendredi"},"2018-06-01",150.291666666667,10.8,{"$f":"'[2]Détail N°7'!$L$28","v":9},0]
[null,null,null,null,null,null,null,null,null,null,null,null,null,null,{"$f":"Traduction!$A$355","v":"Vendredi"},"2018-06-01",150.416666666667,12.3,{"$f":"'[2]Détail N°7'!$L$28","v":9},0]
[null,null,null,null,null,null,null,null,null,null,null,null,null,null,{"$f":"Traduction!$A$355","v":"Vendredi"},"2018-06-01",150.5,13.9,{"$f":"'[2]Détail N°7'!$L$28","v":9},0]
[null,null,null,null,null,null,null,null,null,null,null,null,null,null,{"$f":"Traduction!$A$355","v":"Vendredi"},"2018-06-01",150.75,14.6,{"$f":"'[2]Détail N°7'!$L$28","v":9},0]
[null,null,null,null,null,null,null,null,null,null,null,null,null,null,{"$f":"Traduction!$A$355","v":"Vendredi"},"2018-06-01",150.875,13,{"$f":"'[2]Détail N°7'!$L$28","v":9},0]
[null,null,null,null,null,null,null,null,null,null,null,null,null,null,{"$f":"Traduction!$A$356","v":"Samedi"},"2018-06-02",151.041666666667,9.4,{"$f":"'[2]Détail N°7'!$L$28","v":9},0]
[null,null,null,null,null,null,null,null,null,null,null,null,null,null,{"$f":"Traduction!$A$356","v":"Samedi"},"2018-06-02",151.083333333333,8.8000000000000007,{"$f":"'[2]Détail N°7'!$L$28","v":9},{"$f":"IF(R3991<=S3991,1,0)","v":1}]
[null,null,null,null,null,null,null,null,null,null,null,null,null,null,{"$f":"Traduction!$A$356","v":"Samedi"},"2018-06-02",151.208333333333,8.1999999999999993,{"$f":"'[2]Détail N°7'!$L$28","v":9},1]
[null,null,null,null,null,null,null,null,null,null,null,null,null,null,{"$f":"Traduction!$A$356","v":"Samedi"},"2018-06-02",151.416666666667,15.4,{"$f":"'[2]Détail N°7'!$L$28","v":9},0]
[null,null,null,null,null,null,null,null,null,null,null,null,null,null,{"$f":"Traduction!$A$356","v":"Samedi"},"2018-06-02",151.541666666667,16.5,{"$f":"'[2]Détail N°7'!$L$28","v":9},0]
[null,null,null,null,null,null,null,null,null,null,null,null,null,null,{"$f":"Traduction!$A$356","v":"Samedi"},"2018-06-02",151.666666666667,16.600000000000001,{"$f":"'[2]Détail N°7'!$L$28","v":9},0]
[null,null,null,null,null,null,null,null,null,null,null,null,null,null,{"$f":"Traduction!$A$356","v":"Samedi"},"2018-06-02",151.791666666667,14.9,{"$f":"'[2]Détail N°7'!$L$28","v":9},0]
[null,null,null,null,null,null,null,null,null,null,null,null,null,null,{"$f":"Traduction!$A$356","v":"Samedi"},"2018-06-02",152,10.7,{"$f":"'[2]Détail N°7'!$L$28","v":9},0]
[null,null,null,null,null,null,null,null,null,null,null,null,null,null,{"$f":"Traduction!$A$357","v":"Dimanche"},"2018-06-03",152.125,10,{"$f":"'[2]Détail N°7'!$L$28","v":9},0]
[null,null,null,null,null,null,null,null,null,null,null,null,null,null,{"$f":"Traduction!$A$357","v":"Dimanche"},"2018-06-03",152.166666666667,9.9,{"$f":"'[2]Détail N°7'!$L$28","v":9},0]
[null,null,null,null,null,null,null,null,null,null,null,null,null,null,{"$f":"Traduction!$A$357","v":"Dimanche"},"2018-06-03",152.333333333333,12.7,{"$f":"'[2]Détail N°7'!$L$28","v":9},0]
[null,null,null,null,null,null,null,null,null,null,null,null,null,null,{"$f":"Traduction!$A$357","v":"Dimanche"},"2018-06-03",152.5,15,{"$f":"'[2]Détail N°7'!$L$28","v":9},0]
[null,null,null,null,null,null,null,null,null,null,null,null,null,null,{"$f":"Traduction!$A$357","v":"Dimanche"},"2018-06-03",152.625,15.8,{"$f":"'[2]Détail N°7'!$L$28","v":9},0]
[null,null,null,null,null,null,null,null,null,null,null,null,null,null,{"$f":"Traduction!$A$357","v":"Dimanche"},"2018-06-03",152.708333333333,16,{"$f":"'[2]Détail N°7'!$L$28","v":9},0]
[null,null,null,null,null,null,null,null,null,null,null,null,null,null,{"$f":"Traduction!$A$357","v":"Dimanche"},"2018-06-03",152.958333333333,14.3,{"$f":"'[2]Détail N°7'!$L$28","v":9},0]
[null,null,null,null,null,null,null,null,null,null,null,null,null,null,{"$f":"Traduction!$A$351","v":"Lundi "},"2018-06-04",153.083333333333,15.1,{"$f":"'[2]Détail N°7'!$L$28","v":9},0]
[null,null,null,null,null,null,null,null,null,null,null,null,null,null,{"$f":"Traduction!$A$351","v":"Lundi "},"2018-06-04",153.25,16,{"$f":"'[2]Détail N°7'!$L$28","v":9},0]
[null,null,null,null,null,null,null,null,null,null,null,null,null,null,{"$f":"Traduction!$A$351","v":"Lundi "},"2018-06-04",153.291666666667,16.3,{"$f":"'[2]Détail N°7'!$L$28","v":9},0]
[null,null,null,null,null,null,null,null,null,null,null,null,null,null,{"$f":"Traduction!$A$351","v":"Lundi "},"2018-06-04",153.416666666667,17.399999999999999,{"$f":"'[2]Détail N°7'!$L$28","v":9},0]
[null,null,null,null,null,null,null,null,null,null,null,null,null,null,{"$f":"Traduction!$A$351","v":"Lundi "},"2018-06-04",153.583333333333,18.600000000000001,{"$f":"'[2]Détail N°7'!$L$28","v":9},0]
[null,null,null,null,null,null,null,null,null,null,null,null,null,null,{"$f":"Traduction!$A$351","v":"Lundi "},"2018-06-04",153.791666666667,17.899999999999999,{"$f":"'[2]Détail N°7'!$L$28","v":9},0]
[null,null,null,null,null,null,null,null,null,null,null,null,null,null,{"$f":"Traduction!$A$351","v":"Lundi "},"2018-06-04",153.875,17.8,{"$f":"'[2]Détail N°7'!$L$28","v":9},0]
[null,null,null,null,null,null,null,null,null,null,null,null,null,null,{"$f":"Traduction!$A$352","v":"Mardi"},"2018-06-05",154.041666666667,15.2,{"$f":"'[2]Détail N°7'!$L$28","v":9},0]
[null,null,null,null,null,null,null,null,null,null,null,null,null,null,{"$f":"Traduction!$A$352","v":"Mardi"},"2018-06-05",154.166666666667,12.4,{"$f":"'[2]Détail N°7'!$L$28","v":9},0]
[null,null,null,null,null,null,null,null,null,null,null,null,null,null,{"$f":"Traduction!$A$352","v":"Mardi"},"2018-06-05",154.25,12.7,{"$f":"'[2]Détail N°7'!$L$28","v":9},0]
[null,null,null,null,null,null,null,null,null,null,null,null,null,null,{"$f":"Traduction!$A$352","v":"Mardi"},"2018-06-05",154.375,15.5,{"$f":"'[2]Détail N°7'!$L$28","v":9},0]
[null,null,null,null,null,null,null,null,null,null,null,null,null,null,{"$f":"Traduction!$A$352","v":"Mardi"},"2018-06-05",154.541666666667,18.2,{"$f":"'[2]Détail N°7'!$L$28","v":9},0]
[null,null,null,null,null,null,null,null,null,null,null,null,null,null,{"$f":"Traduction!$A$352","v":"Mardi"},"2018-06-05",154.708333333333,18.7,{"$f":"'[2]Détail N°7'!$L$28","v":9},0]
[null,null,null,null,null,null,null,null,null,null,null,null,null,null,{"$f":"Traduction!$A$352","v":"Mardi"},"2018-06-05",154.833333333333,16.899999999999999,{"$f":"'[2]Détail N°7'!$L$28","v":9},0]
[null,null,null,null,null,null,null,null,null,null,null,null,null,null,{"$f":"Traduction!$A$352","v":"Mardi"},"2018-06-05",155,12.8,{"$f":"'[2]Détail N°7'!$L$28","v":9},0]
[null,null,null,null,null,null,null,null,null,null,null,null,null,null,{"$f":"Traduction!$A$353","v":"Mercredi"},"2018-06-06",155.083333333333,11.8,{"$f":"'[2]Détail N°7'!$L$28","v":9},0]
[null,null,null,null,null,null,null,null,null,null,null,null,null,null,{"$f":"Traduction!$A$353","v":"Mercredi"},"2018-06-06",155.291666666667,13,{"$f":"'[2]Détail N°7'!$L$28","v":9},0]
[null,null,null,null,null,null,null,null,null,null,null,null,null,null,{"$f":"Traduction!$A$353","v":"Mercredi"},"2018-06-06",155.333333333333,14.3,{"$f":"'[2]Détail N°7'!$L$28","v":9},0]
[null,null,null,null,null,null,null,null,null,null,null,null,null,null,{"$f":"Traduction!$A$353","v":"Mercredi"},"2018-06-06",155.458333333333,18.2,{"$f":"'[2]Détail N°7'!$L$28","v":9},0]
[null,null,null,null,null,null,null,null,null,null,null,null,null,null,{"$f":"Traduction!$A$353","v":"Mercredi"},"2018-06-06",155.625,21.3,{"$f":"'[2]Détail N°7'!$L$28","v":9},0]
[null,null,null,null,null,null,null,null,null,null,null,null,null,null,{"$f":"Traduction!$A$353","v":"Mercredi"},"2018-06-06",155.791666666667,20.100000000000001,{"$f":"'[2]Détail N°7'!$L$28","v":9},0]
[null,null,null,null,null,null,null,null,null,null,null,null,null,null,{"$f":"Traduction!$A$353","v":"Mercredi"},"2018-06-06",156,13.7,{"$f":"'[2]Détail N°7'!$L$28","v":9},0]
[null,null,null,null,null,null,null,null,null,null,null,null,null,null,{"$f":"Traduction!$A$354","v":"Jeudi"},"2018-06-07",156.125,10.6,{"$f":"'[2]Détail N°7'!$L$28","v":9},0]
[null,null,null,null,null,null,null,null,null,null,null,null,null,null,{"$f":"Traduction!$A$354","v":"Jeudi"},"2018-06-07",156.25,10.4,{"$f":"'[2]Détail N°7'!$L$28","v":9},0]
[null,null,null,null,null,null,null,null,null,null,null,null,null,null,{"$f":"Traduction!$A$354","v":"Jeudi"},"2018-06-07",156.375,13.1,{"$f":"'[2]Détail N°7'!$L$28","v":9},0]
[null,null,null,null,null,null,null,null,null,null,null,null,null,null,{"$f":"Traduction!$A$354","v":"Jeudi"},"2018-06-07",156.541666666667,16.5,{"$f":"'[2]Détail N°7'!$L$28","v":9},0]
[null,null,null,null,null,null,null,null,null,null,null,null,null,null,{"$f":"Traduction!$A$354","v":"Jeudi"},"2018-06-07",156.583333333333,16.899999999999999,{"$f":"'[2]Détail N°7'!$L$28","v":9},0]
[null,null,null,null,null,null,null,null,null,null,null,null,null,null,{"$f":"Traduction!$A$354","v":"Jeudi"},"2018-06-07",156.708333333333,17,{"$f":"'[2]Détail N°7'!$L$28","v":9},0]
[null,null,null,null,null,null,null,null,null,null,null,null,null,null,{"$f":"Traduction!$A$354","v":"Jeudi"},"2018-06-07",156.916666666667,14,{"$f":"'[2]Détail N°7'!$L$28","v":9},0]
[null,null,null,null,null,null,null,null,null,null,null,null,null,null,{"$f":"Traduction!$A$355","v":"Vendredi"},"2018-06-08",157.041666666667,13.9,{"$f":"'[2]Détail N°7'!$L$28","v":9},0]
[null,null,null,null,null,null,null,null,null,null,null,null,null,null,{"$f":"Traduction!$A$355","v":"Vendredi"},"2018-06-08",157.208333333333,14.9,{"$f":"'[2]Détail N°7'!$L$28","v":9},0]
[null,null,null,null,null,null,null,null,null,null,null,null,null,null,{"$f":"Traduction!$A$355","v":"Vendredi"},"2018-06-08",157.291666666667,15.4,{"$f":"'[2]Détail N°7'!$L$28","v":9},0]
[null,null,null,null,null,null,null,null,null,null,null,null,null,null,{"$f":"Traduction!$A$355","v":"Vendredi"},"2018-06-08",157.5,18.5,{"$f":"'[2]Détail N°7'!$L$28","v":9},0]
[null,null,null,null,null,null,null,null,null,null,null,null,null,null,{"$f":"Traduction!$A$355","v":"Vendredi"},"2018-06-08",157.541666666667,19.100000000000001,{"$f":"'[2]Détail N°7'!$L$28","v":9},0]
[null,null,null,null,null,null,null,null,null,null,null,null,null,null,{"$f":"Traduction!$A$355","v":"Vendredi"},"2018-06-08",157.666666666667,20.5,{"$f":"'[2]Détail N°7'!$L$28","v":9},0]
[null,null,null,null,null,null,null,null,null,null,null,null,null,null,{"$f":"Traduction!$A$355","v":"Vendredi"},"2018-06-08",157.833333333333,19.899999999999999,{"$f":"'[2]Détail N°7'!$L$28","v":9},0]
[null,null,null,null,null,null,null,null,null,null,null,null,null,null,{"$f":"Traduction!$A$355","v":"Vendredi"},"2018-06-08",158,17.2,{"$f":"'[2]Détail N°7'!$L$28","v":9},0]
[null,null,null,null,null,null,null,null,null,null,null,null,null,null,{"$f":"Traduction!$A$356","v":"Samedi"},"2018-06-09",158.125,14.4,{"$f":"'[2]Détail N°7'!$L$28","v":9},0]
[null,null,null,null,null,null,null,null,null,null,null,null,null,null,{"$f":"Traduction!$A$356","v":"Samedi"},"2018-06-09",158.208333333333,13.9,{"$f":"'[2]Détail N°7'!$L$28","v":9},0]
[null,null,null,null,null,null,null,null,null,null,null,null,null,null,{"$f":"Traduction!$A$356","v":"Samedi"},"2018-06-09",158.458333333333,19,{"$f":"'[2]Détail N°7'!$L$28","v":9},0]
[null,null,null,null,null,null,null,null,null,null,null,null,null,null,{"$f":"Traduction!$A$356","v":"Samedi"},"2018-06-09",158.583333333333,20.9,{"$f":"'[2]Détail N°7'!$L$28","v":9},0]
[null,null,null,null,null,null,null,null,null,null,null,null,null,null,{"$f":"Traduction!$A$356","v":"Samedi"},"2018-06-09",158.75,20.8,{"$f":"'[2]Détail N°7'!$L$28","v":9},0]
[null,null,null,null,null,null,null,null,null,null,null,null,null,null,{"$f":"Traduction!$A$356","v":"Samedi"},"2018-06-09",158.791666666667,20.100000000000001,{"$f":"'[2]Détail N°7'!$L$28","v":9},0]
[null,null,null,null,null,null,null,null,null,null,null,null,null,null,{"$f":"Traduction!$A$356","v":"Samedi"},"2018-06-09",158.958333333333,16.600000000000001,{"$f":"'[2]Détail N°7'!$L$28","v":9},0]
[null,null,null,null,null,null,null,null,null,null,null,null,null,null,{"$f":"Traduction!$A$357","v":"Dimanche"},"2018-06-10",159.083333333333,14.7,{"$f":"'[2]Détail N°7'!$L$28","v":9},{"$f":"IF(R4183<=S4183,1,0)","v":0}]
[null,null,null,null,null,null,null,null,null,null,null,null,null,null,{"$f":"Traduction!$A$357","v":"Dimanche"},"2018-06-10",159.291666666667,16.100000000000001,{"$f":"'[2]Détail N°7'!$L$28","v":9},0]
[null,null,null,null,null,null,null,null,null,null,null,null,null,null,{"$f":"Traduction!$A$357","v":"Dimanche"},"2018-06-10",159.416666666667,21.4,{"$f":"'[2]Détail N°7'!$L$28","v":9},0]
[null,null,null,null,null,null,null,null,null,null,null,null,null,null,{"$f":"Traduction!$A$357","v":"Dimanche"},"2018-06-10",159.541666666667,23.3,{"$f":"'[2]Détail N°7'!$L$28","v":9},0]
[null,null,null,null,null,null,null,null,null,null,null,null,null,null,{"$f":"Traduction!$A$357","v":"Dimanche"},"2018-06-10",159.666666666667,22.6,{"$f":"'[2]Détail N°7'!$L$28","v":9},0]
[null,null,null,null,null,null,null,null,null,null,null,null,null,null,{"$f":"Traduction!$A$357","v":"Dimanche"},"2018-06-10",159.75,21.3,{"$f":"'[2]Détail N°7'!$L$28","v":9},0]
[null,null,null,null,null,null,null,null,null,null,null,null,null,null,{"$f":"Traduction!$A$357","v":"Dimanche"},"2018-06-10",159.875,18.899999999999999,{"$f":"'[2]Détail N°7'!$L$28","v":9},0]
[null,null,null,null,null,null,null,null,null,null,null,null,null,null,{"$f":"Traduction!$A$351","v":"Lundi "},"2018-06-11",160.041666666667,17.3,{"$f":"'[2]Détail N°7'!$L$28","v":9},0]
[null,null,null,null,null,null,null,null,null,null,null,null,null,null,{"$f":"Traduction!$A$351","v":"Lundi "},"2018-06-11",160.208333333333,17,{"$f":"'[2]Détail N°7'!$L$28","v":9},0]
[null,null,null,null,null,null,null,null,null,null,null,null,null,null,{"$f":"Traduction!$A$351","v":"Lundi "},"2018-06-11",160.333333333333,20.399999999999999,{"$f":"'[2]Détail N°7'!$L$28","v":9},0]
[null,null,null,null,null,null,null,null,null,null,null,null,null,null,{"$f":"Traduction!$A$351","v":"Lundi "},"2018-06-11",160.5,26,{"$f":"'[2]Détail N°7'!$L$28","v":9},0]
[null,null,null,null,null,null,null,null,null,null,null,null,null,null,{"$f":"Traduction!$A$351","v":"Lundi "},"2018-06-11",160.583333333333,27.7,{"$f":"'[2]Détail N°7'!$L$28","v":9},0]
[null,null,null,null,null,null,null,null,null,null,null,null,null,null,{"$f":"Traduction!$A$351","v":"Lundi "},"2018-06-11",160.708333333333,28.2,{"$f":"'[2]Détail N°7'!$L$28","v":9},0]
[null,null,null,null,null,null,null,null,null,null,null,null,null,null,{"$f":"Traduction!$A$351","v":"Lundi "},"2018-06-11",160.833333333333,25.8,{"$f":"'[2]Détail N°7'!$L$28","v":9},0]
[null,null,null,null,null,null,null,null,null,null,null,null,null,null,{"$f":"Traduction!$A$351","v":"Lundi "},"2018-06-11",160.958333333333,21.7,{"$f":"'[2]Détail N°7'!$L$28","v":9},0]
[null,null,null,null,null,null,null,null,null,null,null,null,null,null,{"$f":"Traduction!$A$352","v":"Mardi"},"2018-06-12",161.166666666667,16.100000000000001,{"$f":"'[2]Détail N°7'!$L$28","v":9},0]
[null,null,null,null,null,null,null,null,null,null,null,null,null,null,{"$f":"Traduction!$A$352","v":"Mardi"},"2018-06-12",161.291666666667,17,{"$f":"'[2]Détail N°7'!$L$28","v":9},0]
[null,null,null,null,null,null,null,null,null,null,null,null,null,null,{"$f":"Traduction!$A$352","v":"Mardi"},"2018-06-12",161.5,19.5,{"$f":"'[2]Détail N°7'!$L$28","v":9},0]
[null,null,null,null,null,null,null,null,null,null,null,null,null,null,{"$f":"Traduction!$A$352","v":"Mardi"},"2018-06-12",161.625,19.899999999999999,{"$f":"'[2]Détail N°7'!$L$28","v":9},0]
[null,null,null,null,null,null,null,null,null,null,null,null,null,null,{"$f":"Traduction!$A$352","v":"Mardi"},"2018-06-12",161.75,20.3,{"$f":"'[2]Détail N°7'!$L$28","v":9},{"$f":"IF(R4247<=S4247,1,0)","v":0}]
[null,null,null,null,null,null,null,null,null,null,null,null,null,null,{"$f":"Traduction!$A$352","v":"Mardi"},"2018-06-12",161.791666666667,20.2,{"$f":"'[2]Détail N°7'!$L$28","v":9},0]
[null,null,null,null,null,null,null,null,null,null,null,null,null,null,{"$f":"Traduction!$A$353","v":"Mercredi"},"2018-06-13",162.041666666667,12.8,{"$f":"'[2]Détail N°7'!$L$28","v":9},0]
[null,null,null,null,null,null,null,null,null,null,null,null,null,null,{"$f":"Traduction!$A$353","v":"Mercredi"},"2018-06-13",162.083333333333,11.6,{"$f":"'[2]Détail N°7'!$L$28","v":9},0]
[null,null,null,null,null,null,null,null,null,null,null,null,null,null,{"$f":"Traduction!$A$353","v":"Mercredi"},"2018-06-13",162.25,11,{"$f":"'[2]Détail N°7'!$L$28","v":9},0]
[null,null,null,null,null,null,null,null,null,null,null,null,null,null,{"$f":"Traduction!$A$353","v":"Mercredi"},"2018-06-13",162.416666666667,15.6,{"$f":"'[2]Détail N°7'!$L$28","v":9},0]
[null,null,null,null,null,null,null,null,null,null,null,null,null,null,{"$f":"Traduction!$A$353","v":"Mercredi"},"2018-06-13",162.583333333333,19.3,{"$f":"'[2]Détail N°7'!$L$28","v":9},0]
[null,null,null,null,null,null,null,null,null,null,null,null,null,null,{"$f":"Traduction!$A$353","v":"Mercredi"},"2018-06-13",162.708333333333,19.8,{"$f":"'[2]Détail N°7'!$L$28","v":9},0]
[null,null,null,null,null,null,null,null,null,null,null,null,null,null,{"$f":"Traduction!$A$353","v":"Mercredi"},"2018-06-13",162.791666666667,18.7,{"$f":"'[2]Détail N°7'!$L$28","v":9},0]
[null,null,null,null,null,null,null,null,null,null,null,null,null,null,{"$f":"Traduction!$A$353","v":"Mercredi"},"2018-06-13",162.916666666667,15.2,{"$f":"'[2]Détail N°7'!$L$28","v":9},0]
[null,null,null,null,null,null,null,null,null,null,null,null,null,null,{"$f":"Traduction!$A$354","v":"Jeudi"},"2018-06-14",163.041666666667,11.3,{"$f":"'[2]Détail N°7'!$L$28","v":9},0]
[null,null,null,null,null,null,null,null,null,null,null,null,null,null,{"$f":"Traduction!$A$354","v":"Jeudi"},"2018-06-14",163.166666666667,9.3000000000000007,{"$f":"'[2]Détail N°7'!$L$28","v":9},0]
[null,null,null,null,null,null,null,null,null,null,null,null,null,null,{"$f":"Traduction!$A$354","v":"Jeudi"},"2018-06-14",163.333333333333,12.1,{"$f":"'[2]Détail N°7'!$L$28","v":9},0]
[null,null,null,null,null,null,null,null,null,null,null,null,null,null,{"$f":"Traduction!$A$354","v":"Jeudi"},"2018-06-14",163.5,17,{"$f":"'[2]Détail N°7'!$L$28","v":9},0]
[null,null,null,null,null,null,null,null,null,null,null,null,null,null,{"$f":"Traduction!$A$354","v":"Jeudi"},"2018-06-14",163.666666666667,18.899999999999999,{"$f":"'[2]Détail N°7'!$L$28","v":9},0]
[null,null,null,null,null,null,null,null,null,null,null,null,null,null,{"$f":"Traduction!$A$354","v":"Jeudi"},"2018-06-14",163.708333333333,18.7,{"$f":"'[2]Détail N°7'!$L$28","v":9},0]
[null,null,null,null,null,null,null,null,null,null,null,null,null,null,{"$f":"Traduction!$A$354","v":"Jeudi"},"2018-06-14",163.958333333333,14.2,{"$f":"'[2]Détail N°7'!$L$28","v":9},0]
[null,null,null,null,null,null,null,null,null,null,null,null,null,null,{"$f":"Traduction!$A$354","v":"Jeudi"},"2018-06-14",164,13.6,{"$f":"'[2]Détail N°7'!$L$28","v":9},0]
[null,null,null,null,null,null,null,null,null,null,null,null,null,null,{"$f":"Traduction!$A$355","v":"Vendredi"},"2018-06-15",164.25,13.7,{"$f":"'[2]Détail N°7'!$L$28","v":9},0]
[null,null,null,null,null,null,null,null,null,null,null,null,null,null,{"$f":"Traduction!$A$355","v":"Vendredi"},"2018-06-15",164.291666666667,14.6,{"$f":"'[2]Détail N°7'!$L$28","v":9},0]
[null,null,null,null,null,null,null,null,null,null,null,null,null,null,{"$f":"Traduction!$A$355","v":"Vendredi"},"2018-06-15",164.458333333333,17.8,{"$f":"'[2]Détail N°7'!$L$28","v":9},0]
[null,null,null,null,null,null,null,null,null,null,null,null,null,null,{"$f":"Traduction!$A$355","v":"Vendredi"},"2018-06-15",164.583333333333,19.3,{"$f":"'[2]Détail N°7'!$L$28","v":9},0]
[null,null,null,null,null,null,null,null,null,null,null,null,null,null,{"$f":"Traduction!$A$355","v":"Vendredi"},"2018-06-15",164.791666666667,19.100000000000001,{"$f":"'[2]Détail N°7'!$L$28","v":9},0]
[null,null,null,null,null,null,null,null,null,null,null,null,null,null,{"$f":"Traduction!$A$355","v":"Vendredi"},"2018-06-15",164.916666666667,17.5,{"$f":"'[2]Détail N°7'!$L$28","v":9},0]
[null,null,null,null,null,null,null,null,null,null,null,null,null,null,{"$f":"Traduction!$A$356","v":"Samedi"},"2018-06-16",165.041666666667,16.600000000000001,{"$f":"'[2]Détail N°7'!$L$28","v":9},0]
[null,null,null,null,null,null,null,null,null,null,null,null,null,null,{"$f":"Traduction!$A$356","v":"Samedi"},"2018-06-16",165.166666666667,15.9,{"$f":"'[2]Détail N°7'!$L$28","v":9},0]
[null,null,null,null,null,null,null,null,null,null,null,null,null,null,{"$f":"Traduction!$A$356","v":"Samedi"},"2018-06-16",165.25,16.399999999999999,{"$f":"'[2]Détail N°7'!$L$28","v":9},0]
[null,null,null,null,null,null,null,null,null,null,null,null,null,null,{"$f":"Traduction!$A$356","v":"Samedi"},"2018-06-16",165.416666666667,19.5,{"$f":"'[2]Détail N°7'!$L$28","v":9},0]
[null,null,null,null,null,null,null,null,null,null,null,null,null,null,{"$f":"Traduction!$A$356","v":"Samedi"},"2018-06-16",165.541666666667,21.5,{"$f":"'[2]Détail N°7'!$L$28","v":9},0]
[null,null,null,null,null,null,null,null,null,null,null,null,null,null,{"$f":"Traduction!$A$356","v":"Samedi"},"2018-06-16",165.708333333333,22.6,{"$f":"'[2]Détail N°7'!$L$28","v":9},0]
[null,null,null,null,null,null,null,null,null,null,null,null,null,null,{"$f":"Traduction!$A$356","v":"Samedi"},"2018-06-16",165.875,20.6,{"$f":"'[2]Détail N°7'!$L$28","v":9},0]
[null,null,null,null,null,null,null,null,null,null,null,null,null,null,{"$f":"Traduction!$A$356","v":"Samedi"},"2018-06-16",166,18.600000000000001,{"$f":"'[2]Détail N°7'!$L$28","v":9},0]
[null,null,null,null,null,null,null,null,null,null,null,null,null,null,{"$f":"Traduction!$A$357","v":"Dimanche"},"2018-06-17",166.083333333333,17.600000000000001,{"$f":"'[2]Détail N°7'!$L$28","v":9},0]
[null,null,null,null,null,null,null,null,null,null,null,null,null,null,{"$f":"Traduction!$A$357","v":"Dimanche"},"2018-06-17",166.208333333333,17.2,{"$f":"'[2]Détail N°7'!$L$28","v":9},0]
[null,null,null,null,null,null,null,null,null,null,null,null,null,null,{"$f":"Traduction!$A$357","v":"Dimanche"},"2018-06-17",166.333333333333,19.100000000000001,{"$f":"'[2]Détail N°7'!$L$28","v":9},0]
[null,null,null,null,null,null,null,null,null,null,null,null,null,null,{"$f":"Traduction!$A$357","v":"Dimanche"},"2018-06-17",166.458333333333,21.7,{"$f":"'[2]Détail N°7'!$L$28","v":9},0]
[null,null,null,null,null,null,null,null,null,null,null,null,null,null,{"$f":"Traduction!$A$357","v":"Dimanche"},"2018-06-17",166.666666666667,24.2,{"$f":"'[2]Détail N°7'!$L$28","v":9},0]
[null,null,null,null,null,null,null,null,null,null,null,null,null,null,{"$f":"Traduction!$A$357","v":"Dimanche"},"2018-06-17",166.791666666667,23.5,{"$f":"'[2]Détail N°7'!$L$28","v":9},0]
[null,null,null,null,null,null,null,null,null,null,null,null,null,null,{"$f":"Traduction!$A$357","v":"Dimanche"},"2018-06-17",167,16.399999999999999,{"$f":"'[2]Détail N°7'!$L$28","v":9},0]
[null,null,null,null,null,null,null,null,null,null,null,null,null,null,{"$f":"Traduction!$A$351","v":"Lundi "},"2018-06-18",167.125,11.5,{"$f":"'[2]Détail N°7'!$L$28","v":9},0]
[null,null,null,null,null,null,null,null,null,null,null,null,null,null,{"$f":"Traduction!$A$351","v":"Lundi "},"2018-06-18",167.166666666667,10.8,{"$f":"'[2]Détail N°7'!$L$28","v":9},0]
[null,null,null,null,null,null,null,null,null,null,null,null,null,null,{"$f":"Traduction!$A$351","v":"Lundi "},"2018-06-18",167.291666666667,11.8,{"$f":"'[2]Détail N°7'!$L$28","v":9},0]
[null,null,null,null,null,null,null,null,null,null,null,null,null,null,{"$f":"Traduction!$A$351","v":"Lundi "},"2018-06-18",167.541666666667,17.600000000000001,{"$f":"'[2]Détail N°7'!$L$28","v":9},0]
[null,null,null,null,null,null,null,null,null,null,null,null,null,null,{"$f":"Traduction!$A$351","v":"Lundi "},"2018-06-18",167.625,18.600000000000001,{"$f":"'[2]Détail N°7'!$L$28","v":9},0]
[null,null,null,null,null,null,null,null,null,null,null,null,null,null,{"$f":"Traduction!$A$351","v":"Lundi "},"2018-06-18",167.75,18.3,{"$f":"'[2]Détail N°7'!$L$28","v":9},0]
[null,null,null,null,null,null,null,null,null,null,null,null,null,null,{"$f":"Traduction!$A$351","v":"Lundi "},"2018-06-18",167.916666666667,14.8,{"$f":"'[2]Détail N°7'!$L$28","v":9},0]
[null,null,null,null,null,null,null,null,null,null,null,null,null,null,{"$f":"Traduction!$A$352","v":"Mardi"},"2018-06-19",168.083333333333,12.6,{"$f":"'[2]Détail N°7'!$L$28","v":9},0]
[null,null,null,null,null,null,null,null,null,null,null,null,null,null,{"$f":"Traduction!$A$352","v":"Mardi"},"2018-06-19",168.208333333333,12.4,{"$f":"'[2]Détail N°7'!$L$28","v":9},0]
[null,null,null,null,null,null,null,null,null,null,null,null,null,null,{"$f":"Traduction!$A$352","v":"Mardi"},"2018-06-19",168.291666666667,14.1,{"$f":"'[2]Détail N°7'!$L$28","v":9},0]
[null,null,null,null,null,null,null,null,null,null,null,null,null,null,{"$f":"Traduction!$A$352","v":"Mardi"},"2018-06-19",168.416666666667,18.2,{"$f":"'[2]Détail N°7'!$L$28","v":9},0]
[null,null,null,null,null,null,null,null,null,null,null,null,null,null,{"$f":"Traduction!$A$352","v":"Mardi"},"2018-06-19",168.541666666667,21.9,{"$f":"'[2]Détail N°7'!$L$28","v":9},0]
[null,null,null,null,null,null,null,null,null,null,null,null,null,null,{"$f":"Traduction!$A$352","v":"Mardi"},"2018-06-19",168.708333333333,23.2,{"$f":"'[2]Détail N°7'!$L$28","v":9},0]
[null,null,null,null,null,null,null,null,null,null,null,null,null,null,{"$f":"Traduction!$A$352","v":"Mardi"},"2018-06-19",168.833333333333,20.9,{"$f":"'[2]Détail N°7'!$L$28","v":9},0]
[null,null,null,null,null,null,null,null,null,null,null,null,null,null,{"$f":"Traduction!$A$352","v":"Mardi"},"2018-06-19",169,18.100000000000001,{"$f":"'[2]Détail N°7'!$L$28","v":9},0]
[null,null,null,null,null,null,null,null,null,null,null,null,null,null,{"$f":"Traduction!$A$353","v":"Mercredi"},"2018-06-20",169.166666666667,17,{"$f":"'[2]Détail N°7'!$L$28","v":9},0]
[null,null,null,null,null,null,null,null,null,null,null,null,null,null,{"$f":"Traduction!$A$353","v":"Mercredi"},"2018-06-20",169.208333333333,17,{"$f":"'[2]Détail N°7'!$L$28","v":9},0]
[null,null,null,null,null,null,null,null,null,null,null,null,null,null,{"$f":"Traduction!$A$353","v":"Mercredi"},"2018-06-20",169.375,19.5,{"$f":"'[2]Détail N°7'!$L$28","v":9},0]
[null,null,null,null,null,null,null,null,null,null,null,null,null,null,{"$f":"Traduction!$A$353","v":"Mercredi"},"2018-06-20",169.5,21.7,{"$f":"'[2]Détail N°7'!$L$28","v":9},0]
[null,null,null,null,null,null,null,null,null,null,null,null,null,null,{"$f":"Traduction!$A$353","v":"Mercredi"},"2018-06-20",169.75,22.6,{"$f":"'[2]Détail N°7'!$L$28","v":9},{"$f":"IF(R4439<=S4439,1,0)","v":0}]
[null,null,null,null,null,null,null,null,null,null,null,null,null,null,{"$f":"Traduction!$A$353","v":"Mercredi"},"2018-06-20",169.833333333333,21.7,{"$f":"'[2]Détail N°7'!$L$28","v":9},0]
[null,null,null,null,null,null,null,null,null,null,null,null,null,null,{"$f":"Traduction!$A$353","v":"Mercredi"},"2018-06-20",169.958333333333,19,{"$f":"'[2]Détail N°7'!$L$28","v":9},0]
[null,null,null,null,null,null,null,null,null,null,null,null,null,null,{"$f":"Traduction!$A$354","v":"Jeudi"},"2018-06-21",170.125,15.9,{"$f":"'[2]Détail N°7'!$L$28","v":9},0]
[null,null,null,null,null,null,null,null,null,null,null,null,null,null,{"$f":"Traduction!$A$354","v":"Jeudi"},"2018-06-21",170.291666666667,16.3,{"$f":"'[2]Détail N°7'!$L$28","v":9},0]
[null,null,null,null,null,null,null,null,null,null,null,null,null,null,{"$f":"Traduction!$A$354","v":"Jeudi"},"2018-06-21",170.416666666667,16.5,{"$f":"'[2]Détail N°7'!$L$28","v":9},0]
[null,null,null,null,null,null,null,null,null,null,null,null,null,null,{"$f":"Traduction!$A$354","v":"Jeudi"},"2018-06-21",170.458333333333,17.3,{"$f":"'[2]Détail N°7'!$L$28","v":9},0]
[null,null,null,null,null,null,null,null,null,null,null,null,null,null,{"$f":"Traduction!$A$354","v":"Jeudi"},"2018-06-21",170.666666666667,22.4,{"$f":"'[2]Détail N°7'!$L$28","v":9},0]
[null,null,null,null,null,null,null,null,null,null,null,null,null,null,{"$f":"Traduction!$A$354","v":"Jeudi"},"2018-06-21",170.75,22.6,{"$f":"'[2]Détail N°7'!$L$28","v":9},0]
[null,null,null,null,null,null,null,null,null,null,null,null,null,null,{"$f":"Traduction!$A$354","v":"Jeudi"},"2018-06-21",170.916666666667,20.5,{"$f":"'[2]Détail N°7'!$L$28","v":9},0]
[null,null,null,null,null,null,null,null,null,null,null,null,null,null,{"$f":"Traduction!$A$355","v":"Vendredi"},"2018-06-22",171.041666666667,18.5,{"$f":"'[2]Détail N°7'!$L$28","v":9},0]
[null,null,null,null,null,null,null,null,null,null,null,null,null,null,{"$f":"Traduction!$A$355","v":"Vendredi"},"2018-06-22",171.25,17.8,{"$f":"'[2]Détail N°7'!$L$28","v":9},0]
[null,null,null,null,null,null,null,null,null,null,null,null,null,null,{"$f":"Traduction!$A$355","v":"Vendredi"},"2018-06-22",171.375,21.9,{"$f":"'[2]Détail N°7'!$L$28","v":9},0]
[null,null,null,null,null,null,null,null,null,null,null,null,null,null,{"$f":"Traduction!$A$355","v":"Vendredi"},"2018-06-22",171.5,26.2,{"$f":"'[2]Détail N°7'!$L$28","v":9},0]
[null,null,null,null,null,null,null,null,null,null,null,null,null,null,{"$f":"Traduction!$A$355","v":"Vendredi"},"2018-06-22",171.583333333333,28,{"$f":"'[2]Détail N°7'!$L$28","v":9},0]
[null,null,null,null,null,null,null,null,null,null,null,null,null,null,{"$f":"Traduction!$A$355","v":"Vendredi"},"2018-06-22",171.708333333333,28.6,{"$f":"'[2]Détail N°7'!$L$28","v":9},0]
[null,null,null,null,null,null,null,null,null,null,null,null,null,null,{"$f":"Traduction!$A$355","v":"Vendredi"},"2018-06-22",171.875,24.9,{"$f":"'[2]Détail N°7'!$L$28","v":9},0]
[null,null,null,null,null,null,null,null,null,null,null,null,null,null,{"$f":"Traduction!$A$355","v":"Vendredi"},"2018-06-22",171.958333333333,23.3,{"$f":"'[2]Détail N°7'!$L$28","v":9},0]
[null,null,null,null,null,null,null,null,null,null,null,null,null,null,{"$f":"Traduction!$A$356","v":"Samedi"},"2018-06-23",172.166666666667,21.8,{"$f":"'[2]Détail N°7'!$L$28","v":9},0]
[null,null,null,null,null,null,null,null,null,null,null,null,null,null,{"$f":"Traduction!$A$356","v":"Samedi"},"2018-06-23",172.333333333333,22.3,{"$f":"'[2]Détail N°7'!$L$28","v":9},0]
[null,null,null,null,null,null,null,null,null,null,null,null,null,null,{"$f":"Traduction!$A$356","v":"Samedi"},"2018-06-23",172.5,25.3,{"$f":"'[2]Détail N°7'!$L$28","v":9},0]
[null,null,null,null,null,null,null,null,null,null,null,null,null,null,{"$f":"Traduction!$A$356","v":"Samedi"},"2018-06-23",172.625,28.4,{"$f":"'[2]Détail N°7'!$L$28","v":9},0]
[null,null,null,null,null,null,null,null,null,null,null,null,null,null,{"$f":"Traduction!$A$356","v":"Samedi"},"2018-06-23",172.666666666667,28.8,{"$f":"'[2]Détail N°7'!$L$28","v":9},0]
[null,null,null,null,null,null,null,null,null,null,null,null,null,null,{"$f":"Traduction!$A$356","v":"Samedi"},"2018-06-23",172.791666666667,28.6,{"$f":"'[2]Détail N°7'!$L$28","v":9},0]
[null,null,null,null,null,null,null,null,null,null,null,null,null,null,{"$f":"Traduction!$A$357","v":"Dimanche"},"2018-06-24",173.041666666667,22.3,{"$f":"'[2]Détail N°7'!$L$28","v":9},0]
[null,null,null,null,null,null,null,null,null,null,null,null,null,null,{"$f":"Traduction!$A$357","v":"Dimanche"},"2018-06-24",173.125,20.100000000000001,{"$f":"'[2]Détail N°7'!$L$28","v":9},0]
[null,null,null,null,null,null,null,null,null,null,null,null,null,null,{"$f":"Traduction!$A$357","v":"Dimanche"},"2018-06-24",173.25,20.2,{"$f":"'[2]Détail N°7'!$L$28","v":9},0]
[null,null,null,null,null,null,null,null,null,null,null,null,null,null,{"$f":"Traduction!$A$357","v":"Dimanche"},"2018-06-24",173.416666666667,24.8,{"$f":"'[2]Détail N°7'!$L$28","v":9},0]
[null,null,null,null,null,null,null,null,null,null,null,null,null,null,{"$f":"Traduction!$A$357","v":"Dimanche"},"2018-06-24",173.583333333333,28.6,{"$f":"'[2]Détail N°7'!$L$28","v":9},0]
[null,null,null,null,null,null,null,null,null,null,null,null,null,null,{"$f":"Traduction!$A$357","v":"Dimanche"},"2018-06-24",173.708333333333,28.8,{"$f":"'[2]Détail N°7'!$L$28","v":9},0]
[null,null,null,null,null,null,null,null,null,null,null,null,null,null,{"$f":"Traduction!$A$357","v":"Dimanche"},"2018-06-24",173.791666666667,27.5,{"$f":"'[2]Détail N°7'!$L$28","v":9},0]
[null,null,null,null,null,null,null,null,null,null,null,null,null,null,{"$f":"Traduction!$A$357","v":"Dimanche"},"2018-06-24",173.916666666667,23.9,{"$f":"'[2]Détail N°7'!$L$28","v":9},0]
[null,null,null,null,null,null,null,null,null,null,null,null,null,null,{"$f":"Traduction!$A$351","v":"Lundi "},"2018-06-25",174.083333333333,18.7,{"$f":"'[2]Détail N°7'!$L$28","v":9},0]
[null,null,null,null,null,null,null,null,null,null,null,null,null,null,{"$f":"Traduction!$A$351","v":"Lundi "},"2018-06-25",174.208333333333,17.600000000000001,{"$f":"'[2]Détail N°7'!$L$28","v":9},0]
[null,null,null,null,null,null,null,null,null,null,null,null,null,null,{"$f":"Traduction!$A$351","v":"Lundi "},"2018-06-25",174.333333333333,21.1,{"$f":"'[2]Détail N°7'!$L$28","v":9},0]
[null,null,null,null,null,null,null,null,null,null,null,null,null,null,{"$f":"Traduction!$A$351","v":"Lundi "},"2018-06-25",174.541666666667,28,{"$f":"'[2]Détail N°7'!$L$28","v":9},0]
[null,null,null,null,null,null,null,null,null,null,null,null,null,null,{"$f":"Traduction!$A$351","v":"Lundi "},"2018-06-25",174.666666666667,29.3,{"$f":"'[2]Détail N°7'!$L$28","v":9},0]
[null,null,null,null,null,null,null,null,null,null,null,null,null,null,{"$f":"Traduction!$A$351","v":"Lundi "},"2018-06-25",174.708333333333,29.2,{"$f":"'[2]Détail N°7'!$L$28","v":9},0]
[null,null,null,null,null,null,null,null,null,null,null,null,null,null,{"$f":"Traduction!$A$351","v":"Lundi "},"2018-06-25",174.875,25.4,{"$f":"'[2]Détail N°7'!$L$28","v":9},0]
[null,null,null,null,null,null,null,null,null,null,null,null,null,null,{"$f":"Traduction!$A$351","v":"Lundi "},"2018-06-25",175,20.5,{"$f":"'[2]Détail N°7'!$L$28","v":9},0]
[null,null,null,null,null,null,null,null,null,null,null,null,null,null,{"$f":"Traduction!$A$352","v":"Mardi"},"2018-06-26",175.25,17.8,{"$f":"'[2]Détail N°7'!$L$28","v":9},0]
[null,null,null,null,null,null,null,null,null,null,null,null,null,null,{"$f":"Traduction!$A$352","v":"Mardi"},"2018-06-26",175.333333333333,20.100000000000001,{"$f":"'[2]Détail N°7'!$L$28","v":9},0]
[null,null,null,null,null,null,null,null,null,null,null,null,null,null,{"$f":"Traduction!$A$352","v":"Mardi"},"2018-06-26",175.458333333333,24.1,{"$f":"'[2]Détail N°7'!$L$28","v":9},0]
[null,null,null,null,null,null,null,null,null,null,null,null,null,null,{"$f":"Traduction!$A$352","v":"Mardi"},"2018-06-26",175.625,27.2,{"$f":"'[2]Détail N°7'!$L$28","v":9},0]
[null,null,null,null,null,null,null,null,null,null,null,null,null,null,{"$f":"Traduction!$A$352","v":"Mardi"},"2018-06-26",175.791666666667,25.9,{"$f":"'[2]Détail N°7'!$L$28","v":9},0]
[null,null,null,null,null,null,null,null,null,null,null,null,null,null,{"$f":"Traduction!$A$352","v":"Mardi"},"2018-06-26",175.833333333333,24.9,{"$f":"'[2]Détail N°7'!$L$28","v":9},0]
[null,null,null,null,null,null,null,null,null,null,null,null,null,null,{"$f":"Traduction!$A$352","v":"Mardi"},"2018-06-26",175.958333333333,20.7,{"$f":"'[2]Détail N°7'!$L$28","v":9},0]
[null,null,null,null,null,null,null,null,null,null,null,null,null,null,{"$f":"Traduction!$A$353","v":"Mercredi"},"2018-06-27",176.166666666667,16.100000000000001,{"$f":"'[2]Détail N°7'!$L$28","v":9},0]
[null,null,null,null,null,null,null,null,null,null,null,null,null,null,{"$f":"Traduction!$A$353","v":"Mercredi"},"2018-06-27",176.291666666667,17.8,{"$f":"'[2]Détail N°7'!$L$28","v":9},0]
[null,null,null,null,null,null,null,null,null,null,null,null,null,null,{"$f":"Traduction!$A$353","v":"Mercredi"},"2018-06-27",176.416666666667,22.2,{"$f":"'[2]Détail N°7'!$L$28","v":9},0]
[null,null,null,null,null,null,null,null,null,null,null,null,null,null,{"$f":"Traduction!$A$353","v":"Mercredi"},"2018-06-27",176.541666666667,25.8,{"$f":"'[2]Détail N°7'!$L$28","v":9},0]
[null,null,null,null,null,null,null,null,null,null,null,null,null,null,{"$f":"Traduction!$A$353","v":"Mercredi"},"2018-06-27",176.75,26.6,{"$f":"'[2]Détail N°7'!$L$28","v":9},0]
[null,null,null,null,null,null,null,null,null,null,null,null,null,null,{"$f":"Traduction!$A$353","v":"Mercredi"},"2018-06-27",176.875,23.5,{"$f":"'[2]Détail N°7'!$L$28","v":9},0]
[null,null,null,null,null,null,null,null,null,null,null,null,null,null,{"$f":"Traduction!$A$353","v":"Mercredi"},"2018-06-27",176.916666666667,21.9,{"$f":"'[2]Détail N°7'!$L$28","v":9},0]
[null,null,null,null,null,null,null,null,null,null,null,null,null,null,{"$f":"Traduction!$A$354","v":"Jeudi"},"2018-06-28",177.083333333333,16.399999999999999,{"$f":"'[2]Détail N°7'!$L$28","v":9},0]
[null,null,null,null,null,null,null,null,null,null,null,null,null,null,{"$f":"Traduction!$A$354","v":"Jeudi"},"2018-06-28",177.208333333333,15.3,{"$f":"'[2]Détail N°7'!$L$28","v":9},0]
[null,null,null,null,null,null,null,null,null,null,null,null,null,null,{"$f":"Traduction!$A$354","v":"Jeudi"},"2018-06-28",177.375,20.3,{"$f":"'[2]Détail N°7'!$L$28","v":9},0]
[null,null,null,null,null,null,null,null,null,null,null,null,null,null,{"$f":"Traduction!$A$354","v":"Jeudi"},"2018-06-28",177.458333333333,23.1,{"$f":"'[2]Détail N°7'!$L$28","v":9},0]
[null,null,null,null,null,null,null,null,null,null,null,null,null,null,{"$f":"Traduction!$A$354","v":"Jeudi"},"2018-06-28",177.708333333333,26.5,{"$f":"'[2]Détail N°7'!$L$28","v":9},0]
[null,null,null,null,null,null,null,null,null,null,null,null,null,null,{"$f":"Traduction!$A$354","v":"Jeudi"},"2018-06-28",177.833333333333,24,{"$f":"'[2]Détail N°7'!$L$28","v":9},0]
[null,null,null,null,null,null,null,null,null,null,null,null,null,null,{"$f":"Traduction!$A$354","v":"Jeudi"},"2018-06-28",178,18.100000000000001,{"$f":"'[2]Détail N°7'!$L$28","v":9},0]
[null,null,null,null,null,null,null,null,null,null,null,null,null,null,{"$f":"Traduction!$A$355","v":"Vendredi"},"2018-06-29",178.041666666667,17.100000000000001,{"$f":"'[2]Détail N°7'!$L$28","v":9},0]
[null,null,null,null,null,null,null,null,null,null,null,null,null,null,{"$f":"Traduction!$A$355","v":"Vendredi"},"2018-06-29",178.166666666667,15.2,{"$f":"'[2]Détail N°7'!$L$28","v":9},0]
[null,null,null,null,null,null,null,null,null,null,null,null,null,null,{"$f":"Traduction!$A$355","v":"Vendredi"},"2018-06-29",178.375,18.399999999999999,{"$f":"'[2]Détail N°7'!$L$28","v":9},0]
[null,null,null,null,null,null,null,null,null,null,null,null,null,null,{"$f":"Traduction!$A$355","v":"Vendredi"},"2018-06-29",178.5,21.3,{"$f":"'[2]Détail N°7'!$L$28","v":9},0]
[null,null,null,null,null,null,null,null,null,null,null,null,null,null,{"$f":"Traduction!$A$355","v":"Vendredi"},"2018-06-29",178.625,21.7,{"$f":"'[2]Détail N°7'!$L$28","v":9},0]
[null,null,null,null,null,null,null,null,null,null,null,null,null,null,{"$f":"Traduction!$A$355","v":"Vendredi"},"2018-06-29",178.791666666667,20.2,{"$f":"'[2]Détail N°7'!$L$28","v":9},0]
[null,null,null,null,null,null,null,null,null,null,null,null,null,null,{"$f":"Traduction!$A$355","v":"Vendredi"},"2018-06-29",178.916666666667,17.399999999999999,{"$f":"'[2]Détail N°7'!$L$28","v":9},0]
[null,null,null,null,null,null,null,null,null,null,null,null,null,null,{"$f":"Traduction!$A$356","v":"Samedi"},"2018-06-30",179.083333333333,11.9,{"$f":"'[2]Détail N°7'!$L$28","v":9},0]
[null,null,null,null,null,null,null,null,null,null,null,null,null,null,{"$f":"Traduction!$A$356","v":"Samedi"},"2018-06-30",179.125,11.2,{"$f":"'[2]Détail N°7'!$L$28","v":9},0]
[null,null,null,null,null,null,null,null,null,null,null,null,null,null,{"$f":"Traduction!$A$356","v":"Samedi"},"2018-06-30",179.291666666667,12.2,{"$f":"'[2]Détail N°7'!$L$28","v":9},0]
[null,null,null,null,null,null,null,null,null,null,null,null,null,null,{"$f":"Traduction!$A$356","v":"Samedi"},"2018-06-30",179.458333333333,17.7,{"$f":"'[2]Détail N°7'!$L$28","v":9},0]
[null,null,null,null,null,null,null,null,null,null,null,null,null,null,{"$f":"Traduction!$A$356","v":"Samedi"},"2018-06-30",179.583333333333,20.399999999999999,{"$f":"'[2]Détail N°7'!$L$28","v":9},0]
[null,null,null,null,null,null,null,null,null,null,null,null,null,null,{"$f":"Traduction!$A$356","v":"Samedi"},"2018-06-30",179.666666666667,20.9,{"$f":"'[2]Détail N°7'!$L$28","v":9},0]
[null,null,null,null,null,null,null,null,null,null,null,null,null,null,{"$f":"Traduction!$A$356","v":"Samedi"},"2018-06-30",179.916666666667,16.5,{"$f":"'[2]Détail N°7'!$L$28","v":9},0]
[null,null,null,null,null,null,null,null,null,null,null,null,null,null,{"$f":"Traduction!$A$357","v":"Dimanche"},"2018-07-01",180.041666666667,15.1,{"$f":"'[2]Détail N°7'!$L$28","v":9},0]
[null,null,null,null,null,null,null,null,null,null,null,null,null,null,{"$f":"Traduction!$A$357","v":"Dimanche"},"2018-07-01",180.166666666667,14.9,{"$f":"'[2]Détail N°7'!$L$28","v":9},0]
[null,null,null,null,null,null,null,null,null,null,null,null,null,null,{"$f":"Traduction!$A$357","v":"Dimanche"},"2018-07-01",180.208333333333,14.9,{"$f":"'[2]Détail N°7'!$L$28","v":9},0]
[null,null,null,null,null,null,null,null,null,null,null,null,null,null,{"$f":"Traduction!$A$357","v":"Dimanche"},"2018-07-01",180.375,20,{"$f":"'[2]Détail N°7'!$L$28","v":9},0]
[null,null,null,null,null,null,null,null,null,null,null,null,null,null,{"$f":"Traduction!$A$357","v":"Dimanche"},"2018-07-01",180.541666666667,25.8,{"$f":"'[2]Détail N°7'!$L$28","v":9},0]
[null,null,null,null,null,null,null,null,null,null,null,null,null,null,{"$f":"Traduction!$A$357","v":"Dimanche"},"2018-07-01",180.75,27.1,{"$f":"'[2]Détail N°7'!$L$28","v":9},0]
[null,null,null,null,null,null,null,null,null,null,null,null,null,null,{"$f":"Traduction!$A$357","v":"Dimanche"},"2018-07-01",180.833333333333,25.1,{"$f":"'[2]Détail N°7'!$L$28","v":9},0]
[null,null,null,null,null,null,null,null,null,null,null,null,null,null,{"$f":"Traduction!$A$357","v":"Dimanche"},"2018-07-01",181,20.8,{"$f":"'[2]Détail N°7'!$L$28","v":9},0]
[null,null,null,null,null,null,null,null,null,null,null,null,null,null,{"$f":"Traduction!$A$351","v":"Lundi "},"2018-07-02",181.125,18.600000000000001,{"$f":"'[2]Détail N°7'!$L$28","v":9},0]
[null,null,null,null,null,null,null,null,null,null,null,null,null,null,{"$f":"Traduction!$A$351","v":"Lundi "},"2018-07-02",181.291666666667,20.100000000000001,{"$f":"'[2]Détail N°7'!$L$28","v":9},0]
[null,null,null,null,null,null,null,null,null,null,null,null,null,null,{"$f":"Traduction!$A$351","v":"Lundi "},"2018-07-02",181.333333333333,21.6,{"$f":"'[2]Détail N°7'!$L$28","v":9},0]
[null,null,null,null,null,null,null,null,null,null,null,null,null,null,{"$f":"Traduction!$A$351","v":"Lundi "},"2018-07-02",181.458333333333,25.9,{"$f":"'[2]Détail N°7'!$L$28","v":9},0]
[null,null,null,null,null,null,null,null,null,null,null,null,null,null,{"$f":"Traduction!$A$351","v":"Lundi "},"2018-07-02",181.666666666667,27.3,{"$f":"'[2]Détail N°7'!$L$28","v":9},0]
[null,null,null,null,null,null,null,null,null,null,null,null,null,null,{"$f":"Traduction!$A$351","v":"Lundi "},"2018-07-02",181.791666666667,26.4,{"$f":"'[2]Détail N°7'!$L$28","v":9},0]
[null,null,null,null,null,null,null,null,null,null,null,null,null,null,{"$f":"Traduction!$A$351","v":"Lundi "},"2018-07-02",181.916666666667,22.7,{"$f":"'[2]Détail N°7'!$L$28","v":9},0]
[null,null,null,null,null,null,null,null,null,null,null,null,null,null,{"$f":"Traduction!$A$352","v":"Mardi"},"2018-07-03",182.041666666667,17.8,{"$f":"'[2]Détail N°7'!$L$28","v":9},0]
[null,null,null,null,null,null,null,null,null,null,null,null,null,null,{"$f":"Traduction!$A$352","v":"Mardi"},"2018-07-03",182.25,15.8,{"$f":"'[2]Détail N°7'!$L$28","v":9},0]
[null,null,null,null,null,null,null,null,null,null,null,null,null,null,{"$f":"Traduction!$A$352","v":"Mardi"},"2018-07-03",182.291666666667,16.3,{"$f":"'[2]Détail N°7'!$L$28","v":9},0]
[null,null,null,null,null,null,null,null,null,null,null,null,null,null,{"$f":"Traduction!$A$352","v":"Mardi"},"2018-07-03",182.416666666667,16.899999999999999,{"$f":"'[2]Détail N°7'!$L$28","v":9},0]
[null,null,null,null,null,null,null,null,null,null,null,null,null,null,{"$f":"Traduction!$A$352","v":"Mardi"},"2018-07-03",182.583333333333,19.2,{"$f":"'[2]Détail N°7'!$L$28","v":9},0]
[null,null,null,null,null,null,null,null,null,null,null,null,null,null,{"$f":"Traduction!$A$352","v":"Mardi"},"2018-07-03",182.75,21.3,{"$f":"'[2]Détail N°7'!$L$28","v":9},0]
[null,null,null,null,null,null,null,null,null,null,null,null,null,null,{"$f":"Traduction!$A$352","v":"Mardi"},"2018-07-03",182.875,19.7,{"$f":"'[2]Détail N°7'!$L$28","v":9},0]
[null,null,null,null,null,null,null,null,null,null,null,null,null,null,{"$f":"Traduction!$A$352","v":"Mardi"},"2018-07-03",182.958333333333,17,{"$f":"'[2]Détail N°7'!$L$28","v":9},0]
[null,null,null,null,null,null,null,null,null,null,null,null,null,null,{"$f":"Traduction!$A$353","v":"Mercredi"},"2018-07-04",183.208333333333,12.4,{"$f":"'[2]Détail N°7'!$L$28","v":9},0]
[null,null,null,null,null,null,null,null,null,null,null,null,null,null,{"$f":"Traduction!$A$353","v":"Mercredi"},"2018-07-04",183.333333333333,12.4,{"$f":"'[2]Détail N°7'!$L$28","v":9},0]
[null,null,null,null,null,null,null,null,null,null,null,null,null,null,{"$f":"Traduction!$A$353","v":"Mercredi"},"2018-07-04",183.5,14,{"$f":"'[2]Détail N°7'!$L$28","v":9},0]
[null,null,null,null,null,null,null,null,null,null,null,null,null,null,{"$f":"Traduction!$A$353","v":"Mercredi"},"2018-07-04",183.541666666667,15.2,{"$f":"'[2]Détail N°7'!$L$28","v":9},0]
[null,null,null,null,null,null,null,null,null,null,null,null,null,null,{"$f":"Traduction!$A$353","v":"Mercredi"},"2018-07-04",183.666666666667,14.9,{"$f":"'[2]Détail N°7'!$L$28","v":9},0]
[null,null,null,null,null,null,null,null,null,null,null,null,null,null,{"$f":"Traduction!$A$353","v":"Mercredi"},"2018-07-04",183.875,15.6,{"$f":"'[2]Détail N°7'!$L$28","v":9},0]
[null,null,null,null,null,null,null,null,null,null,null,null,null,null,{"$f":"Traduction!$A$353","v":"Mercredi"},"2018-07-04",184,14.6,{"$f":"'[2]Détail N°7'!$L$28","v":9},0]
[null,null,null,null,null,null,null,null,null,null,null,null,null,null,{"$f":"Traduction!$A$354","v":"Jeudi"},"2018-07-05",184.125,14.5,{"$f":"'[2]Détail N°7'!$L$28","v":9},0]
[null,null,null,null,null,null,null,null,null,null,null,null,null,null,{"$f":"Traduction!$A$354","v":"Jeudi"},"2018-07-05",184.291666666667,15.2,{"$f":"'[2]Détail N°7'!$L$28","v":9},0]
[null,null,null,null,null,null,null,null,null,null,null,null,null,null,{"$f":"Traduction!$A$354","v":"Jeudi"},"2018-07-05",184.416666666667,17.8,{"$f":"'[2]Détail N°7'!$L$28","v":9},0]
[null,null,null,null,null,null,null,null,null,null,null,null,null,null,{"$f":"Traduction!$A$354","v":"Jeudi"},"2018-07-05",184.5,19.2,{"$f":"'[2]Détail N°7'!$L$28","v":9},0]
[null,null,null,null,null,null,null,null,null,null,null,null,null,null,{"$f":"Traduction!$A$354","v":"Jeudi"},"2018-07-05",184.625,21.7,{"$f":"'[2]Détail N°7'!$L$28","v":9},0]
[null,null,null,null,null,null,null,null,null,null,null,null,null,null,{"$f":"Traduction!$A$354","v":"Jeudi"},"2018-07-05",184.791666666667,22.2,{"$f":"'[2]Détail N°7'!$L$28","v":9},0]
[null,null,null,null,null,null,null,null,null,null,null,null,null,null,{"$f":"Traduction!$A$354","v":"Jeudi"},"2018-07-05",184.958333333333,20.100000000000001,{"$f":"'[2]Détail N°7'!$L$28","v":9},0]
[null,null,null,null,null,null,null,null,null,null,null,null,null,null,{"$f":"Traduction!$A$355","v":"Vendredi"},"2018-07-06",185.083333333333,19.2,{"$f":"'[2]Détail N°7'!$L$28","v":9},0]
[null,null,null,null,null,null,null,null,null,null,null,null,null,null,{"$f":"Traduction!$A$355","v":"Vendredi"},"2018-07-06",185.166666666667,18.899999999999999,{"$f":"'[2]Détail N°7'!$L$28","v":9},0]
[null,null,null,null,null,null,null,null,null,null,null,null,null,null,{"$f":"Traduction!$A$355","v":"Vendredi"},"2018-07-06",185.416666666667,23.5,{"$f":"'[2]Détail N°7'!$L$28","v":9},0]
[null,null,null,null,null,null,null,null,null,null,null,null,null,null,{"$f":"Traduction!$A$355","v":"Vendredi"},"2018-07-06",185.541666666667,24,{"$f":"'[2]Détail N°7'!$L$28","v":9},0]
[null,null,null,null,null,null,null,null,null,null,null,null,null,null,{"$f":"Traduction!$A$355","v":"Vendredi"},"2018-07-06",185.583333333333,22.6,{"$f":"'[2]Détail N°7'!$L$28","v":9},0]
[null,null,null,null,null,null,null,null,null,null,null,null,null,null,{"$f":"Traduction!$A$355","v":"Vendredi"},"2018-07-06",185.708333333333,23.8,{"$f":"'[2]Détail N°7'!$L$28","v":9},0]
[null,null,null,null,null,null,null,null,null,null,null,null,null,null,{"$f":"Traduction!$A$355","v":"Vendredi"},"2018-07-06",185.875,22.6,{"$f":"'[2]Détail N°7'!$L$28","v":9},0]
[null,null,null,null,null,null,null,null,null,null,null,null,null,null,{"$f":"Traduction!$A$356","v":"Samedi"},"2018-07-07",186.041666666667,18.5,{"$f":"'[2]Détail N°7'!$L$28","v":9},0]
[null,null,null,null,null,null,null,null,null,null,null,null,null,null,{"$f":"Traduction!$A$356","v":"Samedi"},"2018-07-07",186.25,17.5,{"$f":"'[2]Détail N°7'!$L$28","v":9},0]
[null,null,null,null,null,null,null,null,null,null,null,null,null,null,{"$f":"Traduction!$A$356","v":"Samedi"},"2018-07-07",186.375,21.1,{"$f":"'[2]Détail N°7'!$L$28","v":9},0]
[null,null,null,null,null,null,null,null,null,null,null,null,null,null,{"$f":"Traduction!$A$356","v":"Samedi"},"2018-07-07",186.5,22.5,{"$f":"'[2]Détail N°7'!$L$28","v":9},0]
[null,null,null,null,null,null,null,null,null,null,null,null,null,null,{"$f":"Traduction!$A$356","v":"Samedi"},"2018-07-07",186.625,23.3,{"$f":"'[2]Détail N°7'!$L$28","v":9},0]
[null,null,null,null,null,null,null,null,null,null,null,null,null,null,{"$f":"Traduction!$A$356","v":"Samedi"},"2018-07-07",186.708333333333,23.5,{"$f":"'[2]Détail N°7'!$L$28","v":9},0]
[null,null,null,null,null,null,null,null,null,null,null,null,null,null,{"$f":"Traduction!$A$356","v":"Samedi"},"2018-07-07",186.833333333333,21.5,{"$f":"'[2]Détail N°7'!$L$28","v":9},0]
[null,null,null,null,null,null,null,null,null,null,null,null,null,null,{"$f":"Traduction!$A$356","v":"Samedi"},"2018-07-07",187,17.8,{"$f":"'[2]Détail N°7'!$L$28","v":9},0]
[null,null,null,null,null,null,null,null,null,null,null,null,null,null,{"$f":"Traduction!$A$357","v":"Dimanche"},"2018-07-08",187.166666666667,16.3,{"$f":"'[2]Détail N°7'!$L$28","v":9},0]
[null,null,null,null,null,null,null,null,null,null,null,null,null,null,{"$f":"Traduction!$A$357","v":"Dimanche"},"2018-07-08",187.291666666667,17.8,{"$f":"'[2]Détail N°7'!$L$28","v":9},0]
[null,null,null,null,null,null,null,null,null,null,null,null,null,null,{"$f":"Traduction!$A$357","v":"Dimanche"},"2018-07-08",187.458333333333,22.7,{"$f":"'[2]Détail N°7'!$L$28","v":9},0]
[null,null,null,null,null,null,null,null,null,null,null,null,null,null,{"$f":"Traduction!$A$357","v":"Dimanche"},"2018-07-08",187.541666666667,24.6,{"$f":"'[2]Détail N°7'!$L$28","v":9},0]
[null,null,null,null,null,null,null,null,null,null,null,null,null,null,{"$f":"Traduction!$A$357","v":"Dimanche"},"2018-07-08",187.75,25.2,{"$f":"'[2]Détail N°7'!$L$28","v":9},0]
[null,null,null,null,null,null,null,null,null,null,null,null,null,null,{"$f":"Traduction!$A$357","v":"Dimanche"},"2018-07-08",187.791666666667,24.5,{"$f":"'[2]Détail N°7'!$L$28","v":9},0]
[null,null,null,null,null,null,null,null,null,null,null,null,null,null,{"$f":"Traduction!$A$357","v":"Dimanche"},"2018-07-08",187.916666666667,21.8,{"$f":"'[2]Détail N°7'!$L$28","v":9},0]
[null,null,null,null,null,null,null,null,null,null,null,null,null,null,{"$f":"Traduction!$A$351","v":"Lundi "},"2018-07-09",188.125,19,{"$f":"'[2]Détail N°7'!$L$28","v":9},0]
[null,null,null,null,null,null,null,null,null,null,null,null,null,null,{"$f":"Traduction!$A$351","v":"Lundi "},"2018-07-09",188.25,19.100000000000001,{"$f":"'[2]Détail N°7'!$L$28","v":9},0]
[null,null,null,null,null,null,null,null,null,null,null,null,null,null,{"$f":"Traduction!$A$351","v":"Lundi "},"2018-07-09",188.375,22.2,{"$f":"'[2]Détail N°7'!$L$28","v":9},0]
[null,null,null,null,null,null,null,null,null,null,null,null,null,null,{"$f":"Traduction!$A$351","v":"Lundi "},"2018-07-09",188.458333333333,24.6,{"$f":"'[2]Détail N°7'!$L$28","v":9},0]
[null,null,null,null,null,null,null,null,null,null,null,null,null,null,{"$f":"Traduction!$A$351","v":"Lundi "},"2018-07-09",188.708333333333,27.7,{"$f":"'[2]Détail N°7'!$L$28","v":9},0]
[null,null,null,null,null,null,null,null,null,null,null,null,null,null,{"$f":"Traduction!$A$351","v":"Lundi "},"2018-07-09",188.833333333333,25.8,{"$f":"'[2]Détail N°7'!$L$28","v":9},0]
[null,null,null,null,null,null,null,null,null,null,null,null,null,null,{"$f":"Traduction!$A$351","v":"Lundi "},"2018-07-09",189,22.8,{"$f":"'[2]Détail N°7'!$L$28","v":9},0]
[null,null,null,null,null,null,null,null,null,null,null,null,null,null,{"$f":"Traduction!$A$352","v":"Mardi"},"2018-07-10",189.041666666667,22.4,{"$f":"'[2]Détail N°7'!$L$28","v":9},0]
[null,null,null,null,null,null,null,null,null,null,null,null,null,null,{"$f":"Traduction!$A$352","v":"Mardi"},"2018-07-10",189.208333333333,21.4,{"$f":"'[2]Détail N°7'!$L$28","v":9},0]
[null,null,null,null,null,null,null,null,null,null,null,null,null,null,{"$f":"Traduction!$A$352","v":"Mardi"},"2018-07-10",189.375,23.9,{"$f":"'[2]Détail N°7'!$L$28","v":9},0]
[null,null,null,null,null,null,null,null,null,null,null,null,null,null,{"$f":"Traduction!$A$352","v":"Mardi"},"2018-07-10",189.5,25.6,{"$f":"'[2]Détail N°7'!$L$28","v":9},0]
[null,null,null,null,null,null,null,null,null,null,null,null,null,null,{"$f":"Traduction!$A$352","v":"Mardi"},"2018-07-10",189.666666666667,25.5,{"$f":"'[2]Détail N°7'!$L$28","v":9},0]
[null,null,null,null,null,null,null,null,null,null,null,null,null,null,{"$f":"Traduction!$A$352","v":"Mardi"},"2018-07-10",189.791666666667,25.3,{"$f":"'[2]Détail N°7'!$L$28","v":9},0]
[null,null,null,null,null,null,null,null,null,null,null,null,null,null,{"$f":"Traduction!$A$352","v":"Mardi"},"2018-07-10",189.916666666667,23.2,{"$f":"'[2]Détail N°7'!$L$28","v":9},0]
[null,null,null,null,null,null,null,null,null,null,null,null,null,null,{"$f":"Traduction!$A$352","v":"Mardi"},"2018-07-10",190,21.1,{"$f":"'[2]Détail N°7'!$L$28","v":9},0]
[null,null,null,null,null,null,null,null,null,null,null,null,null,null,{"$f":"Traduction!$A$353","v":"Mercredi"},"2018-07-11",190.125,19.5,{"$f":"'[2]Détail N°7'!$L$28","v":9},0]
[null,null,null,null,null,null,null,null,null,null,null,null,null,null,{"$f":"Traduction!$A$353","v":"Mercredi"},"2018-07-11",190.291666666667,20,{"$f":"'[2]Détail N°7'!$L$28","v":9},0]
[null,null,null,null,null,null,null,null,null,null,null,null,null,null,{"$f":"Traduction!$A$353","v":"Mercredi"},"2018-07-11",190.458333333333,23.3,{"$f":"'[2]Détail N°7'!$L$28","v":9},0]
[null,null,null,null,null,null,null,null,null,null,null,null,null,null,{"$f":"Traduction!$A$353","v":"Mercredi"},"2018-07-11",190.583333333333,25,{"$f":"'[2]Détail N°7'!$L$28","v":9},0]
[null,null,null,null,null,null,null,null,null,null,null,null,null,null,{"$f":"Traduction!$A$353","v":"Mercredi"},"2018-07-11",190.666666666667,25.2,{"$f":"'[2]Détail N°7'!$L$28","v":9},0]
[null,null,null,null,null,null,null,null,null,null,null,null,null,null,{"$f":"Traduction!$A$353","v":"Mercredi"},"2018-07-11",190.916666666667,21.7,{"$f":"'[2]Détail N°7'!$L$28","v":9},0]
[null,null,null,null,null,null,null,null,null,null,null,null,null,null,{"$f":"Traduction!$A$353","v":"Mercredi"},"2018-07-11",190.958333333333,20.2,{"$f":"'[2]Détail N°7'!$L$28","v":9},0]
[null,null,null,null,null,null,null,null,null,null,null,null,null,null,{"$f":"Traduction!$A$354","v":"Jeudi"},"2018-07-12",191.083333333333,16.3,{"$f":"'[2]Détail N°7'!$L$28","v":9},{"$f":"IF(R4951<=S4951,1,0)","v":0}]
[null,null,null,null,null,null,null,null,null,null,null,null,null,null,{"$f":"Traduction!$A$354","v":"Jeudi"},"2018-07-12",191.208333333333,15.1,{"$f":"'[2]Détail N°7'!$L$28","v":9},0]
[null,null,null,null,null,null,null,null,null,null,null,null,null,null,{"$f":"Traduction!$A$354","v":"Jeudi"},"2018-07-12",191.416666666667,20.100000000000001,{"$f":"'[2]Détail N°7'!$L$28","v":9},0]
[null,null,null,null,null,null,null,null,null,null,null,null,null,null,{"$f":"Traduction!$A$354","v":"Jeudi"},"2018-07-12",191.541666666667,23.4,{"$f":"'[2]Détail N°7'!$L$28","v":9},0]
[null,null,null,null,null,null,null,null,null,null,null,null,null,null,{"$f":"Traduction!$A$354","v":"Jeudi"},"2018-07-12",191.75,23.8,{"$f":"'[2]Détail N°7'!$L$28","v":9},0]
[null,null,null,null,null,null,null,null,null,null,null,null,null,null,{"$f":"Traduction!$A$354","v":"Jeudi"},"2018-07-12",191.875,21.1,{"$f":"'[2]Détail N°7'!$L$28","v":9},0]
[null,null,null,null,null,null,null,null,null,null,null,null,null,null,{"$f":"Traduction!$A$354","v":"Jeudi"},"2018-07-12",192,15.9,{"$f":"'[2]Détail N°7'!$L$28","v":9},0]
[null,null,null,null,null,null,null,null,null,null,null,null,null,null,{"$f":"Traduction!$A$355","v":"Vendredi"},"2018-07-13",192.125,12.5,{"$f":"'[2]Détail N°7'!$L$28","v":9},0]
[null,null,null,null,null,null,null,null,null,null,null,null,null,null,{"$f":"Traduction!$A$355","v":"Vendredi"},"2018-07-13",192.208333333333,11.9,{"$f":"'[2]Détail N°7'!$L$28","v":9},0]
[null,null,null,null,null,null,null,null,null,null,null,null,null,null,{"$f":"Traduction!$A$355","v":"Vendredi"},"2018-07-13",192.333333333333,13.6,{"$f":"'[2]Détail N°7'!$L$28","v":9},0]
[null,null,null,null,null,null,null,null,null,null,null,null,null,null,{"$f":"Traduction!$A$355","v":"Vendredi"},"2018-07-13",192.5,16.899999999999999,{"$f":"'[2]Détail N°7'!$L$28","v":9},0]
[null,null,null,null,null,null,null,null,null,null,null,null,null,null,{"$f":"Traduction!$A$355","v":"Vendredi"},"2018-07-13",192.666666666667,18.5,{"$f":"'[2]Détail N°7'!$L$28","v":9},0]
[null,null,null,null,null,null,null,null,null,null,null,null,null,null,{"$f":"Traduction!$A$355","v":"Vendredi"},"2018-07-13",192.833333333333,16.7,{"$f":"'[2]Détail N°7'!$L$28","v":9},0]
[null,null,null,null,null,null,null,null,null,null,null,null,null,null,{"$f":"Traduction!$A$355","v":"Vendredi"},"2018-07-13",192.958333333333,15.1,{"$f":"'[2]Détail N°7'!$L$28","v":9},0]
[null,null,null,null,null,null,null,null,null,null,null,null,null,null,{"$f":"Traduction!$A$356","v":"Samedi"},"2018-07-14",193.041666666667,14.8,{"$f":"'[2]Détail N°7'!$L$28","v":9},0]
[null,null,null,null,null,null,null,null,null,null,null,null,null,null,{"$f":"Traduction!$A$356","v":"Samedi"},"2018-07-14",193.166666666667,15.2,{"$f":"'[2]Détail N°7'!$L$28","v":9},0]
[null,null,null,null,null,null,null,null,null,null,null,null,null,null,{"$f":"Traduction!$A$356","v":"Samedi"},"2018-07-14",193.291666666667,16.5,{"$f":"'[2]Détail N°7'!$L$28","v":9},0]
[null,null,null,null,null,null,null,null,null,null,null,null,null,null,{"$f":"Traduction!$A$356","v":"Samedi"},"2018-07-14",193.416666666667,19.899999999999999,{"$f":"'[2]Détail N°7'!$L$28","v":9},0]
[null,null,null,null,null,null,null,null,null,null,null,null,null,null,{"$f":"Traduction!$A$356","v":"Samedi"},"2018-07-14",193.625,23.5,{"$f":"'[2]Détail N°7'!$L$28","v":9},0]
[null,null,null,null,null,null,null,null,null,null,null,null,null,null,{"$f":"Traduction!$A$356","v":"Samedi"},"2018-07-14",193.75,23.3,{"$f":"'[2]Détail N°7'!$L$28","v":9},{"$f":"IF(R5015<=S5015,1,0)","v":0}]
[null,null,null,null,null,null,null,null,null,null,null,null,null,null,{"$f":"Traduction!$A$356","v":"Samedi"},"2018-07-14",193.916666666667,19.8,{"$f":"'[2]Détail N°7'!$L$28","v":9},0]
[null,null,null,null,null,null,null,null,null,null,null,null,null,null,{"$f":"Traduction!$A$356","v":"Samedi"},"2018-07-14",193.958333333333,18.3,{"$f":"'[2]Détail N°7'!$L$28","v":9},0]
[null,null,null,null,null,null,null,null,null,null,null,null,null,null,{"$f":"Traduction!$A$357","v":"Dimanche"},"2018-07-15",194.208333333333,11.8,{"$f":"'[2]Détail N°7'!$L$28","v":9},0]
[null,null,null,null,null,null,null,null,null,null,null,null,null,null,{"$f":"Traduction!$A$357","v":"Dimanche"},"2018-07-15",194.25,12.2,{"$f":"'[2]Détail N°7'!$L$28","v":9},0]
[null,null,null,null,null,null,null,null,null,null,null,null,null,null,{"$f":"Traduction!$A$357","v":"Dimanche"},"2018-07-15",194.5,19.5,{"$f":"'[2]Détail N°7'!$L$28","v":9},0]
[null,null,null,null,null,null,null,null,null,null,null,null,null,null,{"$f":"Traduction!$A$357","v":"Dimanche"},"2018-07-15",194.583333333333,21,{"$f":"'[2]Détail N°7'!$L$28","v":9},0]
[null,null,null,null,null,null,null,null,null,null,null,null,null,null,{"$f":"Traduction!$A$357","v":"Dimanche"},"2018-07-15",194.708333333333,21.4,{"$f":"'[2]Détail N°7'!$L$28","v":9},0]
[null,null,null,null,null,null,null,null,null,null,null,null,null,null,{"$f":"Traduction!$A$357","v":"Dimanche"},"2018-07-15",194.875,17.8,{"$f":"'[2]Détail N°7'!$L$28","v":9},0]
[null,null,null,null,null,null,null,null,null,null,null,null,null,null,{"$f":"Traduction!$A$351","v":"Lundi "},"2018-07-16",195.041666666667,13.2,{"$f":"'[2]Détail N°7'!$L$28","v":9},0]
[null,null,null,null,null,null,null,null,null,null,null,null,null,null,{"$f":"Traduction!$A$351","v":"Lundi "},"2018-07-16",195.166666666667,12.3,{"$f":"'[2]Détail N°7'!$L$28","v":9},0]
[null,null,null,null,null,null,null,null,null,null,null,null,null,null,{"$f":"Traduction!$A$351","v":"Lundi "},"2018-07-16",195.291666666667,14.1,{"$f":"'[2]Détail N°7'!$L$28","v":9},0]
[null,null,null,null,null,null,null,null,null,null,null,null,null,null,{"$f":"Traduction!$A$351","v":"Lundi "},"2018-07-16",195.416666666667,19.3,{"$f":"'[2]Détail N°7'!$L$28","v":9},0]
[null,null,null,null,null,null,null,null,null,null,null,null,null,null,{"$f":"Traduction!$A$351","v":"Lundi "},"2018-07-16",195.5,22.5,{"$f":"'[2]Détail N°7'!$L$28","v":9},0]
[null,null,null,null,null,null,null,null,null,null,null,null,null,null,{"$f":"Traduction!$A$351","v":"Lundi "},"2018-07-16",195.666666666667,25.6,{"$f":"'[2]Détail N°7'!$L$28","v":9},0]
[null,null,null,null,null,null,null,null,null,null,null,null,null,null,{"$f":"Traduction!$A$351","v":"Lundi "},"2018-07-16",195.791666666667,24.1,{"$f":"'[2]Détail N°7'!$L$28","v":9},0]
[null,null,null,null,null,null,null,null,null,null,null,null,null,null,{"$f":"Traduction!$A$351","v":"Lundi "},"2018-07-16",195.958333333333,18.5,{"$f":"'[2]Détail N°7'!$L$28","v":9},0]
[null,null,null,null,null,null,null,null,null,null,null,null,null,null,{"$f":"Traduction!$A$352","v":"Mardi"},"2018-07-17",196.125,13.9,{"$f":"'[2]Détail N°7'!$L$28","v":9},0]
[null,null,null,null,null,null,null,null,null,null,null,null,null,null,{"$f":"Traduction!$A$352","v":"Mardi"},"2018-07-17",196.166666666667,13.4,{"$f":"'[2]Détail N°7'!$L$28","v":9},0]
[null,null,null,null,null,null,null,null,null,null,null,null,null,null,{"$f":"Traduction!$A$352","v":"Mardi"},"2018-07-17",196.416666666667,12.5,{"$f":"'[2]Détail N°7'!$L$28","v":9},{"$f":"IF(R5079<=S5079,1,0)","v":0}]
[null,null,null,null,null,null,null,null,null,null,null,null,null,null,{"$f":"Traduction!$A$352","v":"Mardi"},"2018-07-17",196.458333333333,13.2,{"$f":"'[2]Détail N°7'!$L$28","v":9},0]
[null,null,null,null,null,null,null,null,null,null,null,null,null,null,{"$f":"Traduction!$A$352","v":"Mardi"},"2018-07-17",196.583333333333,13.3,{"$f":"'[2]Détail N°7'!$L$28","v":9},0]
[null,null,null,null,null,null,null,null,null,null,null,null,null,null,{"$f":"Traduction!$A$352","v":"Mardi"},"2018-07-17",196.708333333333,13.2,{"$f":"'[2]Détail N°7'!$L$28","v":9},0]
[null,null,null,null,null,null,null,null,null,null,null,null,null,null,{"$f":"Traduction!$A$352","v":"Mardi"},"2018-07-17",196.916666666667,12.2,{"$f":"'[2]Détail N°7'!$L$28","v":9},0]
[null,null,null,null,null,null,null,null,null,null,null,null,null,null,{"$f":"Traduction!$A$353","v":"Mercredi"},"2018-07-18",197.041666666667,11.4,{"$f":"'[2]Détail N°7'!$L$28","v":9},0]
[null,null,null,null,null,null,null,null,null,null,null,null,null,null,{"$f":"Traduction!$A$353","v":"Mercredi"},"2018-07-18",197.25,12.3,{"$f":"'[2]Détail N°7'!$L$28","v":9},0]
[null,null,null,null,null,null,null,null,null,null,null,null,null,null,{"$f":"Traduction!$A$353","v":"Mercredi"},"2018-07-18",197.375,14.8,{"$f":"'[2]Détail N°7'!$L$28","v":9},0]
[null,null,null,null,null,null,null,null,null,null,null,null,null,null,{"$f":"Traduction!$A$353","v":"Mercredi"},"2018-07-18",197.416666666667,16.600000000000001,{"$f":"'[2]Détail N°7'!$L$28","v":9},0]
[null,null,null,null,null,null,null,null,null,null,null,null,null,null,{"$f":"Traduction!$A$353","v":"Mercredi"},"2018-07-18",197.625,19.600000000000001,{"$f":"'[2]Détail N°7'!$L$28","v":9},0]
[null,null,null,null,null,null,null,null,null,null,null,null,null,null,{"$f":"Traduction!$A$353","v":"Mercredi"},"2018-07-18",197.708333333333,18.399999999999999,{"$f":"'[2]Détail N°7'!$L$28","v":9},0]
[null,null,null,null,null,null,null,null,null,null,null,null,null,null,{"$f":"Traduction!$A$353","v":"Mercredi"},"2018-07-18",197.875,16.2,{"$f":"'[2]Détail N°7'!$L$28","v":9},0]
[null,null,null,null,null,null,null,null,null,null,null,null,null,null,{"$f":"Traduction!$A$353","v":"Mercredi"},"2018-07-18",198,15.1,{"$f":"'[2]Détail N°7'!$L$28","v":9},0]
[null,null,null,null,null,null,null,null,null,null,null,null,null,null,{"$f":"Traduction!$A$354","v":"Jeudi"},"2018-07-19",198.166666666667,13.2,{"$f":"'[2]Détail N°7'!$L$28","v":9},0]
[null,null,null,null,null,null,null,null,null,null,null,null,null,null,{"$f":"Traduction!$A$354","v":"Jeudi"},"2018-07-19",198.333333333333,16.3,{"$f":"'[2]Détail N°7'!$L$28","v":9},0]
[null,null,null,null,null,null,null,null,null,null,null,null,null,null,{"$f":"Traduction!$A$354","v":"Jeudi"},"2018-07-19",198.458333333333,21,{"$f":"'[2]Détail N°7'!$L$28","v":9},0]
[null,null,null,null,null,null,null,null,null,null,null,null,null,null,{"$f":"Traduction!$A$354","v":"Jeudi"},"2018-07-19",198.541666666667,23.2,{"$f":"'[2]Détail N°7'!$L$28","v":9},0]
[null,null,null,null,null,null,null,null,null,null,null,null,null,null,{"$f":"Traduction!$A$354","v":"Jeudi"},"2018-07-19",198.666666666667,24.3,{"$f":"'[2]Détail N°7'!$L$28","v":9},0]
[null,null,null,null,null,null,null,null,null,null,null,null,null,null,{"$f":"Traduction!$A$354","v":"Jeudi"},"2018-07-19",198.791666666667,22.4,{"$f":"'[2]Détail N°7'!$L$28","v":9},0]
[null,null,null,null,null,null,null,null,null,null,null,null,null,null,{"$f":"Traduction!$A$354","v":"Jeudi"},"2018-07-19",198.916666666667,18.899999999999999,{"$f":"'[2]Détail N°7'!$L$28","v":9},0]
[null,null,null,null,null,null,null,null,null,null,null,null,null,null,{"$f":"Traduction!$A$355","v":"Vendredi"},"2018-07-20",199.125,15,{"$f":"'[2]Détail N°7'!$L$28","v":9},0]
[null,null,null,null,null,null,null,null,null,null,null,null,null,null,{"$f":"Traduction!$A$355","v":"Vendredi"},"2018-07-20",199.291666666667,14.7,{"$f":"'[2]Détail N°7'!$L$28","v":9},0]
[null,null,null,null,null,null,null,null,null,null,null,null,null,null,{"$f":"Traduction!$A$355","v":"Vendredi"},"2018-07-20",199.416666666667,16.3,{"$f":"'[2]Détail N°7'!$L$28","v":9},0]
[null,null,null,null,null,null,null,null,null,null,null,null,null,null,{"$f":"Traduction!$A$355","v":"Vendredi"},"2018-07-20",199.458333333333,18.100000000000001,{"$f":"'[2]Détail N°7'!$L$28","v":9},0]
[null,null,null,null,null,null,null,null,null,null,null,null,null,null,{"$f":"Traduction!$A$355","v":"Vendredi"},"2018-07-20",199.625,21.4,{"$f":"'[2]Détail N°7'!$L$28","v":9},0]
[null,null,null,null,null,null,null,null,null,null,null,null,null,null,{"$f":"Traduction!$A$355","v":"Vendredi"},"2018-07-20",199.75,18.899999999999999,{"$f":"'[2]Détail N°7'!$L$28","v":9},0]
[null,null,null,null,null,null,null,null,null,null,null,null,null,null,{"$f":"Traduction!$A$355","v":"Vendredi"},"2018-07-20",200,17,{"$f":"'[2]Détail N°7'!$L$28","v":9},0]
[null,null,null,null,null,null,null,null,null,null,null,null,null,null,{"$f":"Traduction!$A$356","v":"Samedi"},"2018-07-21",200.083333333333,16.8,{"$f":"'[2]Détail N°7'!$L$28","v":9},0]
[null,null,null,null,null,null,null,null,null,null,null,null,null,null,{"$f":"Traduction!$A$356","v":"Samedi"},"2018-07-21",200.208333333333,16.600000000000001,{"$f":"'[2]Détail N°7'!$L$28","v":9},0]
[null,null,null,null,null,null,null,null,null,null,null,null,null,null,{"$f":"Traduction!$A$356","v":"Samedi"},"2018-07-21",200.375,20.2,{"$f":"'[2]Détail N°7'!$L$28","v":9},0]
[null,null,null,null,null,null,null,null,null,null,null,null,null,null,{"$f":"Traduction!$A$356","v":"Samedi"},"2018-07-21",200.541666666667,23.5,{"$f":"'[2]Détail N°7'!$L$28","v":9},0]
[null,null,null,null,null,null,null,null,null,null,null,null,null,null,{"$f":"Traduction!$A$356","v":"Samedi"},"2018-07-21",200.666666666667,24.3,{"$f":"'[2]Détail N°7'!$L$28","v":9},0]
[null,null,null,null,null,null,null,null,null,null,null,null,null,null,{"$f":"Traduction!$A$356","v":"Samedi"},"2018-07-21",200.708333333333,24.2,{"$f":"'[2]Détail N°7'!$L$28","v":9},0]
[null,null,null,null,null,null,null,null,null,null,null,null,null,null,{"$f":"Traduction!$A$356","v":"Samedi"},"2018-07-21",200.916666666667,20.9,{"$f":"'[2]Détail N°7'!$L$28","v":9},0]
[null,null,null,null,null,null,null,null,null,null,null,null,null,null,{"$f":"Traduction!$A$356","v":"Samedi"},"2018-07-21",201,19,{"$f":"'[2]Détail N°7'!$L$28","v":9},0]
[null,null,null,null,null,null,null,null,null,null,null,null,null,null,{"$f":"Traduction!$A$357","v":"Dimanche"},"2018-07-22",201.166666666667,16.100000000000001,{"$f":"'[2]Détail N°7'!$L$28","v":9},0]
[null,null,null,null,null,null,null,null,null,null,null,null,null,null,{"$f":"Traduction!$A$357","v":"Dimanche"},"2018-07-22",201.291666666667,17.399999999999999,{"$f":"'[2]Détail N°7'!$L$28","v":9},0]
[null,null,null,null,null,null,null,null,null,null,null,null,null,null,{"$f":"Traduction!$A$357","v":"Dimanche"},"2018-07-22",201.5,23.8,{"$f":"'[2]Détail N°7'!$L$28","v":9},0]
[null,null,null,null,null,null,null,null,null,null,null,null,null,null,{"$f":"Traduction!$A$357","v":"Dimanche"},"2018-07-22",201.625,25.6,{"$f":"'[2]Détail N°7'!$L$28","v":9},0]
[null,null,null,null,null,null,null,null,null,null,null,null,null,null,{"$f":"Traduction!$A$357","v":"Dimanche"},"2018-07-22",201.666666666667,25.7,{"$f":"'[2]Détail N°7'!$L$28","v":9},0]
[null,null,null,null,null,null,null,null,null,null,null,null,null,null,{"$f":"Traduction!$A$357","v":"Dimanche"},"2018-07-22",201.833333333333,22.8,{"$f":"'[2]Détail N°7'!$L$28","v":9},0]
[null,null,null,null,null,null,null,null,null,null,null,null,null,null,{"$f":"Traduction!$A$357","v":"Dimanche"},"2018-07-22",201.958333333333,20,{"$f":"'[2]Détail N°7'!$L$28","v":9},0]
[null,null,null,null,null,null,null,null,null,null,null,null,null,null,{"$f":"Traduction!$A$351","v":"Lundi "},"2018-07-23",202.125,18.399999999999999,{"$f":"'[2]Détail N°7'!$L$28","v":9},0]
[null,null,null,null,null,null,null,null,null,null,null,null,null,null,{"$f":"Traduction!$A$351","v":"Lundi "},"2018-07-23",202.208333333333,18,{"$f":"'[2]Détail N°7'!$L$28","v":9},0]
[null,null,null,null,null,null,null,null,null,null,null,null,null,null,{"$f":"Traduction!$A$351","v":"Lundi "},"2018-07-23",202.416666666667,24.9,{"$f":"'[2]Détail N°7'!$L$28","v":9},0]
[null,null,null,null,null,null,null,null,null,null,null,null,null,null,{"$f":"Traduction!$A$351","v":"Lundi "},"2018-07-23",202.583333333333,26.6,{"$f":"'[2]Détail N°7'!$L$28","v":9},0]
[null,null,null,null,null,null,null,null,null,null,null,null,null,null,{"$f":"Traduction!$A$351","v":"Lundi "},"2018-07-23",202.75,24.4,{"$f":"'[2]Détail N°7'!$L$28","v":9},0]
[null,null,null,null,null,null,null,null,null,null,null,null,null,null,{"$f":"Traduction!$A$351","v":"Lundi "},"2018-07-23",202.875,21.8,{"$f":"'[2]Détail N°7'!$L$28","v":9},0]
[null,null,null,null,null,null,null,null,null,null,null,null,null,null,{"$f":"Traduction!$A$351","v":"Lundi "},"2018-07-23",202.916666666667,21.5,{"$f":"'[2]Détail N°7'!$L$28","v":9},0]
[null,null,null,null,null,null,null,null,null,null,null,null,null,null,{"$f":"Traduction!$A$352","v":"Mardi"},"2018-07-24",203.125,20.6,{"$f":"'[2]Détail N°7'!$L$28","v":9},0]
[null,null,null,null,null,null,null,null,null,null,null,null,null,null,{"$f":"Traduction!$A$352","v":"Mardi"},"2018-07-24",203.25,20.7,{"$f":"'[2]Détail N°7'!$L$28","v":9},0]
[null,null,null,null,null,null,null,null,null,null,null,null,null,null,{"$f":"Traduction!$A$352","v":"Mardi"},"2018-07-24",203.375,25,{"$f":"'[2]Détail N°7'!$L$28","v":9},0]
[null,null,null,null,null,null,null,null,null,null,null,null,null,null,{"$f":"Traduction!$A$352","v":"Mardi"},"2018-07-24",203.5,29,{"$f":"'[2]Détail N°7'!$L$28","v":9},0]
[null,null,null,null,null,null,null,null,null,null,null,null,null,null,{"$f":"Traduction!$A$352","v":"Mardi"},"2018-07-24",203.666666666667,31,{"$f":"'[2]Détail N°7'!$L$28","v":9},0]
[null,null,null,null,null,null,null,null,null,null,null,null,null,null,{"$f":"Traduction!$A$352","v":"Mardi"},"2018-07-24",203.833333333333,28.6,{"$f":"'[2]Détail N°7'!$L$28","v":9},0]
[null,null,null,null,null,null,null,null,null,null,null,null,null,null,{"$f":"Traduction!$A$352","v":"Mardi"},"2018-07-24",203.875,27.5,{"$f":"'[2]Détail N°7'!$L$28","v":9},0]
[null,null,null,null,null,null,null,null,null,null,null,null,null,null,{"$f":"Traduction!$A$353","v":"Mercredi"},"2018-07-25",204.041666666667,24.1,{"$f":"'[2]Détail N°7'!$L$28","v":9},0]
[null,null,null,null,null,null,null,null,null,null,null,null,null,null,{"$f":"Traduction!$A$353","v":"Mercredi"},"2018-07-25",204.166666666667,22.8,{"$f":"'[2]Détail N°7'!$L$28","v":9},0]
[null,null,null,null,null,null,null,null,null,null,null,null,null,null,{"$f":"Traduction!$A$353","v":"Mercredi"},"2018-07-25",204.333333333333,23.8,{"$f":"'[2]Détail N°7'!$L$28","v":9},0]
[null,null,null,null,null,null,null,null,null,null,null,null,null,null,{"$f":"Traduction!$A$353","v":"Mercredi"},"2018-07-25",204.416666666667,25,{"$f":"'[2]Détail N°7'!$L$28","v":9},{"$f":"IF(R5271<=S5271,1,0)","v":0}]
[null,null,null,null,null,null,null,null,null,null,null,null,null,null,{"$f":"Traduction!$A$353","v":"Mercredi"},"2018-07-25",204.625,27.3,{"$f":"'[2]Détail N°7'!$L$28","v":9},0]
[null,null,null,null,null,null,null,null,null,null,null,null,null,null,{"$f":"Traduction!$A$353","v":"Mercredi"},"2018-07-25",204.791666666667,25.5,{"$f":"'[2]Détail N°7'!$L$28","v":9},0]
[null,null,null,null,null,null,null,null,null,null,null,null,null,null,{"$f":"Traduction!$A$353","v":"Mercredi"},"2018-07-25",204.916666666667,24.3,{"$f":"'[2]Détail N°7'!$L$28","v":9},0]
[null,null,null,null,null,null,null,null,null,null,null,null,null,null,{"$f":"Traduction!$A$353","v":"Mercredi"},"2018-07-25",204.958333333333,23.4,{"$f":"'[2]Détail N°7'!$L$28","v":9},0]
[null,null,null,null,null,null,null,null,null,null,null,null,null,null,{"$f":"Traduction!$A$354","v":"Jeudi"},"2018-07-26",205.125,20.8,{"$f":"'[2]Détail N°7'!$L$28","v":9},0]
[null,null,null,null,null,null,null,null,null,null,null,null,null,null,{"$f":"Traduction!$A$354","v":"Jeudi"},"2018-07-26",205.25,20.2,{"$f":"'[2]Détail N°7'!$L$28","v":9},0]
[null,null,null,null,null,null,null,null,null,null,null,null,null,null,{"$f":"Traduction!$A$354","v":"Jeudi"},"2018-07-26",205.5,25.1,{"$f":"'[2]Détail N°7'!$L$28","v":9},0]
[null,null,null,null,null,null,null,null,null,null,null,null,null,null,{"$f":"Traduction!$A$354","v":"Jeudi"},"2018-07-26",205.583333333333,24.9,{"$f":"'[2]Détail N°7'!$L$28","v":9},0]
[null,null,null,null,null,null,null,null,null,null,null,null,null,null,{"$f":"Traduction!$A$354","v":"Jeudi"},"2018-07-26",205.708333333333,24.9,{"$f":"'[2]Détail N°7'!$L$28","v":9},0]
[null,null,null,null,null,null,null,null,null,null,null,null,null,null,{"$f":"Traduction!$A$354","v":"Jeudi"},"2018-07-26",205.875,22.6,{"$f":"'[2]Détail N°7'!$L$28","v":9},0]
[null,null,null,null,null,null,null,null,null,null,null,null,null,null,{"$f":"Traduction!$A$355","v":"Vendredi"},"2018-07-27",206.041666666667,18.5,{"$f":"'[2]Détail N°7'!$L$28","v":9},0]
[null,null,null,null,null,null,null,null,null,null,null,null,null,null,{"$f":"Traduction!$A$355","v":"Vendredi"},"2018-07-27",206.083333333333,17.7,{"$f":"'[2]Détail N°7'!$L$28","v":9},0]
[null,null,null,null,null,null,null,null,null,null,null,null,null,null,{"$f":"Traduction!$A$355","v":"Vendredi"},"2018-07-27",206.25,16.7,{"$f":"'[2]Détail N°7'!$L$28","v":9},0]
[null,null,null,null,null,null,null,null,null,null,null,null,null,null,{"$f":"Traduction!$A$355","v":"Vendredi"},"2018-07-27",206.375,19.8,{"$f":"'[2]Détail N°7'!$L$28","v":9},0]
[null,null,null,null,null,null,null,null,null,null,null,null,null,null,{"$f":"Traduction!$A$355","v":"Vendredi"},"2018-07-27",206.541666666667,22.5,{"$f":"'[2]Détail N°7'!$L$28","v":9},0]
[null,null,null,null,null,null,null,null,null,null,null,null,null,null,{"$f":"Traduction!$A$355","v":"Vendredi"},"2018-07-27",206.666666666667,23.7,{"$f":"'[2]Détail N°7'!$L$28","v":9},0]
[null,null,null,null,null,null,null,null,null,null,null,null,null,null,{"$f":"Traduction!$A$355","v":"Vendredi"},"2018-07-27",206.791666666667,22.7,{"$f":"'[2]Détail N°7'!$L$28","v":9},0]
[null,null,null,null,null,null,null,null,null,null,null,null,null,null,{"$f":"Traduction!$A$355","v":"Vendredi"},"2018-07-27",207,16.5,{"$f":"'[2]Détail N°7'!$L$28","v":9},0]
[null,null,null,null,null,null,null,null,null,null,null,null,null,null,{"$f":"Traduction!$A$356","v":"Samedi"},"2018-07-28",207.125,13.3,{"$f":"'[2]Détail N°7'!$L$28","v":9},0]
[null,null,null,null,null,null,null,null,null,null,null,null,null,null,{"$f":"Traduction!$A$356","v":"Samedi"},"2018-07-28",207.166666666667,12.6,{"$f":"'[2]Détail N°7'!$L$28","v":9},0]
[null,null,null,null,null,null,null,null,null,null,null,null,null,null,{"$f":"Traduction!$A$356","v":"Samedi"},"2018-07-28",207.333333333333,14.7,{"$f":"'[2]Détail N°7'!$L$28","v":9},0]
[null,null,null,null,null,null,null,null,null,null,null,null,null,null,{"$f":"Traduction!$A$356","v":"Samedi"},"2018-07-28",207.458333333333,18.8,{"$f":"'[2]Détail N°7'!$L$28","v":9},0]
[null,null,null,null,null,null,null,null,null,null,null,null,null,null,{"$f":"Traduction!$A$356","v":"Samedi"},"2018-07-28",207.708333333333,21.6,{"$f":"'[2]Détail N°7'!$L$28","v":9},0]
[null,null,null,null,null,null,null,null,null,null,null,null,null,null,{"$f":"Traduction!$A$356","v":"Samedi"},"2018-07-28",207.791666666667,20.100000000000001,{"$f":"'[2]Détail N°7'!$L$28","v":9},0]
[null,null,null,null,null,null,null,null,null,null,null,null,null,null,{"$f":"Traduction!$A$356","v":"Samedi"},"2018-07-28",207.958333333333,15.3,{"$f":"'[2]Détail N°7'!$L$28","v":9},0]
[null,null,null,null,null,null,null,null,null,null,null,null,null,null,{"$f":"Traduction!$A$357","v":"Dimanche"},"2018-07-29",208.083333333333,12.9,{"$f":"'[2]Détail N°7'!$L$28","v":9},0]
[null,null,null,null,null,null,null,null,null,null,null,null,null,null,{"$f":"Traduction!$A$357","v":"Dimanche"},"2018-07-29",208.25,12.1,{"$f":"'[2]Détail N°7'!$L$28","v":9},0]
[null,null,null,null,null,null,null,null,null,null,null,null,null,null,{"$f":"Traduction!$A$357","v":"Dimanche"},"2018-07-29",208.291666666667,13.5,{"$f":"'[2]Détail N°7'!$L$28","v":9},0]
[null,null,null,null,null,null,null,null,null,null,null,null,null,null,{"$f":"Traduction!$A$357","v":"Dimanche"},"2018-07-29",208.416666666667,18.3,{"$f":"'[2]Détail N°7'!$L$28","v":9},0]
[null,null,null,null,null,null,null,null,null,null,null,null,null,null,{"$f":"Traduction!$A$357","v":"Dimanche"},"2018-07-29",208.625,23,{"$f":"'[2]Détail N°7'!$L$28","v":9},0]
[null,null,null,null,null,null,null,null,null,null,null,null,null,null,{"$f":"Traduction!$A$357","v":"Dimanche"},"2018-07-29",208.75,22.3,{"$f":"'[2]Détail N°7'!$L$28","v":9},0]
[null,null,null,null,null,null,null,null,null,null,null,null,null,null,{"$f":"Traduction!$A$357","v":"Dimanche"},"2018-07-29",208.875,18.899999999999999,{"$f":"'[2]Détail N°7'!$L$28","v":9},0]
[null,null,null,null,null,null,null,null,null,null,null,null,null,null,{"$f":"Traduction!$A$357","v":"Dimanche"},"2018-07-29",209,15.1,{"$f":"'[2]Détail N°7'!$L$28","v":9},0]
[null,null,null,null,null,null,null,null,null,null,null,null,null,null,{"$f":"Traduction!$A$351","v":"Lundi "},"2018-07-30",209.208333333333,11.6,{"$f":"'[2]Détail N°7'!$L$28","v":9},0]
[null,null,null,null,null,null,null,null,null,null,null,null,null,null,{"$f":"Traduction!$A$351","v":"Lundi "},"2018-07-30",209.333333333333,14.1,{"$f":"'[2]Détail N°7'!$L$28","v":9},0]
[null,null,null,null,null,null,null,null,null,null,null,null,null,null,{"$f":"Traduction!$A$351","v":"Lundi "},"2018-07-30",209.375,15.4,{"$f":"'[2]Détail N°7'!$L$28","v":9},0]
[null,null,null,null,null,null,null,null,null,null,null,null,null,null,{"$f":"Traduction!$A$351","v":"Lundi "},"2018-07-30",209.541666666667,19.8,{"$f":"'[2]Détail N°7'!$L$28","v":9},0]
[null,null,null,null,null,null,null,null,null,null,null,null,null,null,{"$f":"Traduction!$A$351","v":"Lundi "},"2018-07-30",209.708333333333,20.6,{"$f":"'[2]Détail N°7'!$L$28","v":9},0]
[null,null,null,null,null,null,null,null,null,null,null,null,null,null,{"$f":"Traduction!$A$351","v":"Lundi "},"2018-07-30",209.833333333333,18.100000000000001,{"$f":"'[2]Détail N°7'!$L$28","v":9},0]
[null,null,null,null,null,null,null,null,null,null,null,null,null,null,{"$f":"Traduction!$A$351","v":"Lundi "},"2018-07-30",209.916666666667,15.9,{"$f":"'[2]Détail N°7'!$L$28","v":9},0]
[null,null,null,null,null,null,null,null,null,null,null,null,null,null,{"$f":"Traduction!$A$352","v":"Mardi"},"2018-07-31",210.166666666667,12.2,{"$f":"'[2]Détail N°7'!$L$28","v":9},0]
[null,null,null,null,null,null,null,null,null,null,null,null,null,null,{"$f":"Traduction!$A$352","v":"Mardi"},"2018-07-31",210.291666666667,13.6,{"$f":"'[2]Détail N°7'!$L$28","v":9},0]
[null,null,null,null,null,null,null,null,null,null,null,null,null,null,{"$f":"Traduction!$A$352","v":"Mardi"},"2018-07-31",210.458333333333,20.3,{"$f":"'[2]Détail N°7'!$L$28","v":9},0]
[null,null,null,null,null,null,null,null,null,null,null,null,null,null,{"$f":"Traduction!$A$352","v":"Mardi"},"2018-07-31",210.5,21.6,{"$f":"'[2]Détail N°7'!$L$28","v":9},0]
[null,null,null,null,null,null,null,null,null,null,null,null,null,null,{"$f":"Traduction!$A$352","v":"Mardi"},"2018-07-31",210.625,23.9,{"$f":"'[2]Détail N°7'!$L$28","v":9},0]
[null,null,null,null,null,null,null,null,null,null,null,null,null,null,{"$f":"Traduction!$A$352","v":"Mardi"},"2018-07-31",210.791666666667,22.1,{"$f":"'[2]Détail N°7'!$L$28","v":9},0]
[null,null,null,null,null,null,null,null,null,null,null,null,null,null,{"$f":"Traduction!$A$352","v":"Mardi"},"2018-07-31",211,17,{"$f":"'[2]Détail N°7'!$L$28","v":9},0]
[null,null,null,null,null,null,null,null,null,null,null,null,null,null,{"$f":"Traduction!$A$353","v":"Mercredi"},"2018-08-01",211.083333333333,15.8,{"$f":"'[2]Détail N°7'!$L$28","v":9},0]
[null,null,null,null,null,null,null,null,null,null,null,null,null,null,{"$f":"Traduction!$A$353","v":"Mercredi"},"2018-08-01",211.25,15,{"$f":"'[2]Détail N°7'!$L$28","v":9},0]
[null,null,null,null,null,null,null,null,null,null,null,null,null,null,{"$f":"Traduction!$A$353","v":"Mercredi"},"2018-08-01",211.375,20.2,{"$f":"'[2]Détail N°7'!$L$28","v":9},0]
[null,null,null,null,null,null,null,null,null,null,null,null,null,null,{"$f":"Traduction!$A$353","v":"Mercredi"},"2018-08-01",211.458333333333,21.4,{"$f":"'[2]Détail N°7'!$L$28","v":9},0]
[null,null,null,null,null,null,null,null,null,null,null,null,null,null,{"$f":"Traduction!$A$353","v":"Mercredi"},"2018-08-01",211.583333333333,21.2,{"$f":"'[2]Détail N°7'!$L$28","v":9},0]
[null,null,null,null,null,null,null,null,null,null,null,null,null,null,{"$f":"Traduction!$A$353","v":"Mercredi"},"2018-08-01",211.75,20.6,{"$f":"'[2]Détail N°7'!$L$28","v":9},0]
[null,null,null,null,null,null,null,null,null,null,null,null,null,null,{"$f":"Traduction!$A$353","v":"Mercredi"},"2018-08-01",211.916666666667,17.600000000000001,{"$f":"'[2]Détail N°7'!$L$28","v":9},0]
[null,null,null,null,null,null,null,null,null,null,null,null,null,null,{"$f":"Traduction!$A$354","v":"Jeudi"},"2018-08-02",212.041666666667,16.100000000000001,{"$f":"'[2]Détail N°7'!$L$28","v":9},0]
[null,null,null,null,null,null,null,null,null,null,null,null,null,null,{"$f":"Traduction!$A$354","v":"Jeudi"},"2018-08-02",212.166666666667,15.8,{"$f":"'[2]Détail N°7'!$L$28","v":9},0]
[null,null,null,null,null,null,null,null,null,null,null,null,null,null,{"$f":"Traduction!$A$354","v":"Jeudi"},"2018-08-02",212.291666666667,17,{"$f":"'[2]Détail N°7'!$L$28","v":9},0]
[null,null,null,null,null,null,null,null,null,null,null,null,null,null,{"$f":"Traduction!$A$354","v":"Jeudi"},"2018-08-02",212.5,23.7,{"$f":"'[2]Détail N°7'!$L$28","v":9},0]
[null,null,null,null,null,null,null,null,null,null,null,null,null,null,{"$f":"Traduction!$A$354","v":"Jeudi"},"2018-08-02",212.541666666667,24.6,{"$f":"'[2]Détail N°7'!$L$28","v":9},0]
[null,null,null,null,null,null,null,null,null,null,null,null,null,null,{"$f":"Traduction!$A$354","v":"Jeudi"},"2018-08-02",212.666666666667,26.5,{"$f":"'[2]Détail N°7'!$L$28","v":9},0]
[null,null,null,null,null,null,null,null,null,null,null,null,null,null,{"$f":"Traduction!$A$354","v":"Jeudi"},"2018-08-02",212.833333333333,24.5,{"$f":"'[2]Détail N°7'!$L$28","v":9},0]
[null,null,null,null,null,null,null,null,null,null,null,null,null,null,{"$f":"Traduction!$A$354","v":"Jeudi"},"2018-08-02",213,20,{"$f":"'[2]Détail N°7'!$L$28","v":9},0]
[null,null,null,null,null,null,null,null,null,null,null,null,null,null,{"$f":"Traduction!$A$355","v":"Vendredi"},"2018-08-03",213.208333333333,16.2,{"$f":"'[2]Détail N°7'!$L$28","v":9},0]
[null,null,null,null,null,null,null,null,null,null,null,null,null,null,{"$f":"Traduction!$A$355","v":"Vendredi"},"2018-08-03",213.291666666667,17.5,{"$f":"'[2]Détail N°7'!$L$28","v":9},0]
[null,null,null,null,null,null,null,null,null,null,null,null,null,null,{"$f":"Traduction!$A$355","v":"Vendredi"},"2018-08-03",213.458333333333,22.5,{"$f":"'[2]Détail N°7'!$L$28","v":9},0]
[null,null,null,null,null,null,null,null,null,null,null,null,null,null,{"$f":"Traduction!$A$355","v":"Vendredi"},"2018-08-03",213.583333333333,25.2,{"$f":"'[2]Détail N°7'!$L$28","v":9},0]
[null,null,null,null,null,null,null,null,null,null,null,null,null,null,{"$f":"Traduction!$A$355","v":"Vendredi"},"2018-08-03",213.75,24.8,{"$f":"'[2]Détail N°7'!$L$28","v":9},0]
[null,null,null,null,null,null,null,null,null,null,null,null,null,null,{"$f":"Traduction!$A$355","v":"Vendredi"},"2018-08-03",213.791666666667,23.9,{"$f":"'[2]Détail N°7'!$L$28","v":9},0]
[null,null,null,null,null,null,null,null,null,null,null,null,null,null,{"$f":"Traduction!$A$355","v":"Vendredi"},"2018-08-03",213.916666666667,20.5,{"$f":"'[2]Détail N°7'!$L$28","v":9},0]
[null,null,null,null,null,null,null,null,null,null,null,null,null,null,{"$f":"Traduction!$A$356","v":"Samedi"},"2018-08-04",214.125,16.7,{"$f":"'[2]Détail N°7'!$L$28","v":9},0]
[null,null,null,null,null,null,null,null,null,null,null,null,null,null,{"$f":"Traduction!$A$356","v":"Samedi"},"2018-08-04",214.25,16.2,{"$f":"'[2]Détail N°7'!$L$28","v":9},0]
[null,null,null,null,null,null,null,null,null,null,null,null,null,null,{"$f":"Traduction!$A$356","v":"Samedi"},"2018-08-04",214.416666666667,17.399999999999999,{"$f":"'[2]Détail N°7'!$L$28","v":9},0]
[null,null,null,null,null,null,null,null,null,null,null,null,null,null,{"$f":"Traduction!$A$356","v":"Samedi"},"2018-08-04",214.5,18.399999999999999,{"$f":"'[2]Détail N°7'!$L$28","v":9},0]
[null,null,null,null,null,null,null,null,null,null,null,null,null,null,{"$f":"Traduction!$A$356","v":"Samedi"},"2018-08-04",214.708333333333,22.1,{"$f":"'[2]Détail N°7'!$L$28","v":9},0]
[null,null,null,null,null,null,null,null,null,null,null,null,null,null,{"$f":"Traduction!$A$356","v":"Samedi"},"2018-08-04",214.75,22.1,{"$f":"'[2]Détail N°7'!$L$28","v":9},0]
[null,null,null,null,null,null,null,null,null,null,null,null,null,null,{"$f":"Traduction!$A$356","v":"Samedi"},"2018-08-04",214.875,20.2,{"$f":"'[2]Détail N°7'!$L$28","v":9},0]
[null,null,null,null,null,null,null,null,null,null,null,null,null,null,{"$f":"Traduction!$A$357","v":"Dimanche"},"2018-08-05",215.041666666667,16.7,{"$f":"'[2]Détail N°7'!$L$28","v":9},0]
[null,null,null,null,null,null,null,null,null,null,null,null,null,null,{"$f":"Traduction!$A$357","v":"Dimanche"},"2018-08-05",215.208333333333,14.5,{"$f":"'[2]Détail N°7'!$L$28","v":9},0]
[null,null,null,null,null,null,null,null,null,null,null,null,null,null,{"$f":"Traduction!$A$357","v":"Dimanche"},"2018-08-05",215.333333333333,17.100000000000001,{"$f":"'[2]Détail N°7'!$L$28","v":9},0]
[null,null,null,null,null,null,null,null,null,null,null,null,null,null,{"$f":"Traduction!$A$357","v":"Dimanche"},"2018-08-05",215.416666666667,20.3,{"$f":"'[2]Détail N°7'!$L$28","v":9},0]
[null,null,null,null,null,null,null,null,null,null,null,null,null,null,{"$f":"Traduction!$A$357","v":"Dimanche"},"2018-08-05",215.666666666667,24.4,{"$f":"'[2]Détail N°7'!$L$28","v":9},0]
[null,null,null,null,null,null,null,null,null,null,null,null,null,null,{"$f":"Traduction!$A$357","v":"Dimanche"},"2018-08-05",215.791666666667,22.6,{"$f":"'[2]Détail N°7'!$L$28","v":9},0]
[null,null,null,null,null,null,null,null,null,null,null,null,null,null,{"$f":"Traduction!$A$357","v":"Dimanche"},"2018-08-05",215.958333333333,18.100000000000001,{"$f":"'[2]Détail N°7'!$L$28","v":9},0]
[null,null,null,null,null,null,null,null,null,null,null,null,null,null,{"$f":"Traduction!$A$357","v":"Dimanche"},"2018-08-05",216,17,{"$f":"'[2]Détail N°7'!$L$28","v":9},0]
[null,null,null,null,null,null,null,null,null,null,null,null,null,null,{"$f":"Traduction!$A$351","v":"Lundi "},"2018-08-06",216.125,15.2,{"$f":"'[2]Détail N°7'!$L$28","v":9},0]
[null,null,null,null,null,null,null,null,null,null,null,null,null,null,{"$f":"Traduction!$A$351","v":"Lundi "},"2018-08-06",216.291666666667,15.8,{"$f":"'[2]Détail N°7'!$L$28","v":9},0]
[null,null,null,null,null,null,null,null,null,null,null,null,null,null,{"$f":"Traduction!$A$351","v":"Lundi "},"2018-08-06",216.5,23.3,{"$f":"'[2]Détail N°7'!$L$28","v":9},0]
[null,null,null,null,null,null,null,null,null,null,null,null,null,null,{"$f":"Traduction!$A$351","v":"Lundi "},"2018-08-06",216.625,25.7,{"$f":"'[2]Détail N°7'!$L$28","v":9},0]
[null,null,null,null,null,null,null,null,null,null,null,null,null,null,{"$f":"Traduction!$A$351","v":"Lundi "},"2018-08-06",216.75,25,{"$f":"'[2]Détail N°7'!$L$28","v":9},0]
[null,null,null,null,null,null,null,null,null,null,null,null,null,null,{"$f":"Traduction!$A$351","v":"Lundi "},"2018-08-06",216.875,21.9,{"$f":"'[2]Détail N°7'!$L$28","v":9},0]
[null,null,null,null,null,null,null,null,null,null,null,null,null,null,{"$f":"Traduction!$A$351","v":"Lundi "},"2018-08-06",216.958333333333,20.399999999999999,{"$f":"'[2]Détail N°7'!$L$28","v":9},0]
[null,null,null,null,null,null,null,null,null,null,null,null,null,null,{"$f":"Traduction!$A$352","v":"Mardi"},"2018-08-07",217.083333333333,19,{"$f":"'[2]Détail N°7'!$L$28","v":9},0]
[null,null,null,null,null,null,null,null,null,null,null,null,null,null,{"$f":"Traduction!$A$352","v":"Mardi"},"2018-08-07",217.25,18.5,{"$f":"'[2]Détail N°7'!$L$28","v":9},0]
[null,null,null,null,null,null,null,null,null,null,null,null,null,null,{"$f":"Traduction!$A$352","v":"Mardi"},"2018-08-07",217.416666666667,21.9,{"$f":"'[2]Détail N°7'!$L$28","v":9},0]
[null,null,null,null,null,null,null,null,null,null,null,null,null,null,{"$f":"Traduction!$A$352","v":"Mardi"},"2018-08-07",217.541666666667,24.3,{"$f":"'[2]Détail N°7'!$L$28","v":9},0]
[null,null,null,null,null,null,null,null,null,null,null,null,null,null,{"$f":"Traduction!$A$352","v":"Mardi"},"2018-08-07",217.708333333333,25.2,{"$f":"'[2]Détail N°7'!$L$28","v":9},0]
[null,null,null,null,null,null,null,null,null,null,null,null,null,null,{"$f":"Traduction!$A$352","v":"Mardi"},"2018-08-07",217.791666666667,24.2,{"$f":"'[2]Détail N°7'!$L$28","v":9},0]
[null,null,null,null,null,null,null,null,null,null,null,null,null,null,{"$f":"Traduction!$A$352","v":"Mardi"},"2018-08-07",218,19.8,{"$f":"'[2]Détail N°7'!$L$28","v":9},0]
[null,null,null,null,null,null,null,null,null,null,null,null,null,null,{"$f":"Traduction!$A$353","v":"Mercredi"},"2018-08-08",218.041666666667,19.100000000000001,{"$f":"'[2]Détail N°7'!$L$28","v":9},0]
[null,null,null,null,null,null,null,null,null,null,null,null,null,null,{"$f":"Traduction!$A$353","v":"Mercredi"},"2018-08-08",218.166666666667,17.3,{"$f":"'[2]Détail N°7'!$L$28","v":9},0]
[null,null,null,null,null,null,null,null,null,null,null,null,null,null,{"$f":"Traduction!$A$353","v":"Mercredi"},"2018-08-08",218.375,21.4,{"$f":"'[2]Détail N°7'!$L$28","v":9},0]
[null,null,null,null,null,null,null,null,null,null,null,null,null,null,{"$f":"Traduction!$A$353","v":"Mercredi"},"2018-08-08",218.5,25.8,{"$f":"'[2]Détail N°7'!$L$28","v":9},0]
[null,null,null,null,null,null,null,null,null,null,null,null,null,null,{"$f":"Traduction!$A$353","v":"Mercredi"},"2018-08-08",218.708333333333,27.8,{"$f":"'[2]Détail N°7'!$L$28","v":9},0]
[null,null,null,null,null,null,null,null,null,null,null,null,null,null,{"$f":"Traduction!$A$353","v":"Mercredi"},"2018-08-08",218.833333333333,24.8,{"$f":"'[2]Détail N°7'!$L$28","v":9},0]
[null,null,null,null,null,null,null,null,null,null,null,null,null,null,{"$f":"Traduction!$A$353","v":"Mercredi"},"2018-08-08",218.958333333333,22.1,{"$f":"'[2]Détail N°7'!$L$28","v":9},0]
[null,null,null,null,null,null,null,null,null,null,null,null,null,null,{"$f":"Traduction!$A$353","v":"Mercredi"},"2018-08-08",219,21.1,{"$f":"'[2]Détail N°7'!$L$28","v":9},0]
[null,null,null,null,null,null,null,null,null,null,null,null,null,null,{"$f":"Traduction!$A$354","v":"Jeudi"},"2018-08-09",219.25,19.7,{"$f":"'[2]Détail N°7'!$L$28","v":9},0]
[null,null,null,null,null,null,null,null,null,null,null,null,null,null,{"$f":"Traduction!$A$354","v":"Jeudi"},"2018-08-09",219.291666666667,19.899999999999999,{"$f":"'[2]Détail N°7'!$L$28","v":9},0]
[null,null,null,null,null,null,null,null,null,null,null,null,null,null,{"$f":"Traduction!$A$354","v":"Jeudi"},"2018-08-09",219.458333333333,22.3,{"$f":"'[2]Détail N°7'!$L$28","v":9},0]
[null,null,null,null,null,null,null,null,null,null,null,null,null,null,{"$f":"Traduction!$A$354","v":"Jeudi"},"2018-08-09",219.625,24.6,{"$f":"'[2]Détail N°7'!$L$28","v":9},0]
[null,null,null,null,null,null,null,null,null,null,null,null,null,null,{"$f":"Traduction!$A$354","v":"Jeudi"},"2018-08-09",219.75,25,{"$f":"'[2]Détail N°7'!$L$28","v":9},0]
[null,null,null,null,null,null,null,null,null,null,null,null,null,null,{"$f":"Traduction!$A$354","v":"Jeudi"},"2018-08-09",219.916666666667,22.8,{"$f":"'[2]Détail N°7'!$L$28","v":9},0]
[null,null,null,null,null,null,null,null,null,null,null,null,null,null,{"$f":"Traduction!$A$354","v":"Jeudi"},"2018-08-09",220,21.4,{"$f":"'[2]Détail N°7'!$L$28","v":9},0]
[null,null,null,null,null,null,null,null,null,null,null,null,null,null,{"$f":"Traduction!$A$355","v":"Vendredi"},"2018-08-10",220.125,20,{"$f":"'[2]Détail N°7'!$L$28","v":9},0]
[null,null,null,null,null,null,null,null,null,null,null,null,null,null,{"$f":"Traduction!$A$355","v":"Vendredi"},"2018-08-10",220.25,19.5,{"$f":"'[2]Détail N°7'!$L$28","v":9},0]
[null,null,null,null,null,null,null,null,null,null,null,null,null,null,{"$f":"Traduction!$A$355","v":"Vendredi"},"2018-08-10",220.375,23.4,{"$f":"'[2]Détail N°7'!$L$28","v":9},0]
[null,null,null,null,null,null,null,null,null,null,null,null,null,null,{"$f":"Traduction!$A$355","v":"Vendredi"},"2018-08-10",220.541666666667,28.3,{"$f":"'[2]Détail N°7'!$L$28","v":9},0]
[null,null,null,null,null,null,null,null,null,null,null,null,null,null,{"$f":"Traduction!$A$355","v":"Vendredi"},"2018-08-10",220.708333333333,29.4,{"$f":"'[2]Détail N°7'!$L$28","v":9},0]
[null,null,null,null,null,null,null,null,null,null,null,null,null,null,{"$f":"Traduction!$A$355","v":"Vendredi"},"2018-08-10",220.833333333333,26.9,{"$f":"'[2]Détail N°7'!$L$28","v":9},0]
[null,null,null,null,null,null,null,null,null,null,null,null,null,null,{"$f":"Traduction!$A$355","v":"Vendredi"},"2018-08-10",220.916666666667,25.9,{"$f":"'[2]Détail N°7'!$L$28","v":9},0]
[null,null,null,null,null,null,null,null,null,null,null,null,null,null,{"$f":"Traduction!$A$356","v":"Samedi"},"2018-08-11",221.166666666667,24.1,{"$f":"'[2]Détail N°7'!$L$28","v":9},0]
[null,null,null,null,null,null,null,null,null,null,null,null,null,null,{"$f":"Traduction!$A$356","v":"Samedi"},"2018-08-11",221.208333333333,24,{"$f":"'[2]Détail N°7'!$L$28","v":9},0]
[null,null,null,null,null,null,null,null,null,null,null,null,null,null,{"$f":"Traduction!$A$356","v":"Samedi"},"2018-08-11",221.458333333333,28.8,{"$f":"'[2]Détail N°7'!$L$28","v":9},0]
[null,null,null,null,null,null,null,null,null,null,null,null,null,null,{"$f":"Traduction!$A$356","v":"Samedi"},"2018-08-11",221.5,30.2,{"$f":"'[2]Détail N°7'!$L$28","v":9},0]
[null,null,null,null,null,null,null,null,null,null,null,null,null,null,{"$f":"Traduction!$A$356","v":"Samedi"},"2018-08-11",221.666666666667,28.5,{"$f":"'[2]Détail N°7'!$L$28","v":9},0]
[null,null,null,null,null,null,null,null,null,null,null,null,null,null,{"$f":"Traduction!$A$356","v":"Samedi"},"2018-08-11",221.791666666667,27.2,{"$f":"'[2]Détail N°7'!$L$28","v":9},0]
[null,null,null,null,null,null,null,null,null,null,null,null,null,null,{"$f":"Traduction!$A$356","v":"Samedi"},"2018-08-11",222,24.5,{"$f":"'[2]Détail N°7'!$L$28","v":9},0]
[null,null,null,null,null,null,null,null,null,null,null,null,null,null,{"$f":"Traduction!$A$357","v":"Dimanche"},"2018-08-12",222.125,21.3,{"$f":"'[2]Détail N°7'!$L$28","v":9},0]
[null,null,null,null,null,null,null,null,null,null,null,null,null,null,{"$f":"Traduction!$A$357","v":"Dimanche"},"2018-08-12",222.25,20,{"$f":"'[2]Détail N°7'!$L$28","v":9},0]
[null,null,null,null,null,null,null,null,null,null,null,null,null,null,{"$f":"Traduction!$A$357","v":"Dimanche"},"2018-08-12",222.375,23.5,{"$f":"'[2]Détail N°7'!$L$28","v":9},0]
[null,null,null,null,null,null,null,null,null,null,null,null,null,null,{"$f":"Traduction!$A$357","v":"Dimanche"},"2018-08-12",222.458333333333,25.8,{"$f":"'[2]Détail N°7'!$L$28","v":9},0]
[null,null,null,null,null,null,null,null,null,null,null,null,null,null,{"$f":"Traduction!$A$357","v":"Dimanche"},"2018-08-12",222.583333333333,25.7,{"$f":"'[2]Détail N°7'!$L$28","v":9},0]
[null,null,null,null,null,null,null,null,null,null,null,null,null,null,{"$f":"Traduction!$A$357","v":"Dimanche"},"2018-08-12",222.75,24.7,{"$f":"'[2]Détail N°7'!$L$28","v":9},0]
[null,null,null,null,null,null,null,null,null,null,null,null,null,null,{"$f":"Traduction!$A$357","v":"Dimanche"},"2018-08-12",222.916666666667,21.8,{"$f":"'[2]Détail N°7'!$L$28","v":9},0]
[null,null,null,null,null,null,null,null,null,null,null,null,null,null,{"$f":"Traduction!$A$351","v":"Lundi "},"2018-08-13",223.083333333333,19.600000000000001,{"$f":"'[2]Détail N°7'!$L$28","v":9},{"$f":"IF(R5719<=S5719,1,0)","v":0}]
[null,null,null,null,null,null,null,null,null,null,null,null,null,null,{"$f":"Traduction!$A$351","v":"Lundi "},"2018-08-13",223.208333333333,20.399999999999999,{"$f":"'[2]Détail N°7'!$L$28","v":9},0]
[null,null,null,null,null,null,null,null,null,null,null,null,null,null,{"$f":"Traduction!$A$351","v":"Lundi "},"2018-08-13",223.291666666667,20.399999999999999,{"$f":"'[2]Détail N°7'!$L$28","v":9},0]
[null,null,null,null,null,null,null,null,null,null,null,null,null,null,{"$f":"Traduction!$A$351","v":"Lundi "},"2018-08-13",223.416666666667,21.5,{"$f":"'[2]Détail N°7'!$L$28","v":9},0]
[null,null,null,null,null,null,null,null,null,null,null,null,null,null,{"$f":"Traduction!$A$351","v":"Lundi "},"2018-08-13",223.541666666667,22.4,{"$f":"'[2]Détail N°7'!$L$28","v":9},0]
[null,null,null,null,null,null,null,null,null,null,null,null,null,null,{"$f":"Traduction!$A$351","v":"Lundi "},"2018-08-13",223.666666666667,22.6,{"$f":"'[2]Détail N°7'!$L$28","v":9},0]
[null,null,null,null,null,null,null,null,null,null,null,null,null,null,{"$f":"Traduction!$A$351","v":"Lundi "},"2018-08-13",223.875,20.7,{"$f":"'[2]Détail N°7'!$L$28","v":9},0]
[null,null,null,null,null,null,null,null,null,null,null,null,null,null,{"$f":"Traduction!$A$351","v":"Lundi "},"2018-08-13",224,20.2,{"$f":"'[2]Détail N°7'!$L$28","v":9},0]
[null,null,null,null,null,null,null,null,null,null,null,null,null,null,{"$f":"Traduction!$A$352","v":"Mardi"},"2018-08-14",224.208333333333,17,{"$f":"'[2]Détail N°7'!$L$28","v":9},0]
[null,null,null,null,null,null,null,null,null,null,null,null,null,null,{"$f":"Traduction!$A$352","v":"Mardi"},"2018-08-14",224.333333333333,17.600000000000001,{"$f":"'[2]Détail N°7'!$L$28","v":9},0]
[null,null,null,null,null,null,null,null,null,null,null,null,null,null,{"$f":"Traduction!$A$352","v":"Mardi"},"2018-08-14",224.458333333333,18.3,{"$f":"'[2]Détail N°7'!$L$28","v":9},0]
[null,null,null,null,null,null,null,null,null,null,null,null,null,null,{"$f":"Traduction!$A$352","v":"Mardi"},"2018-08-14",224.5,18.5,{"$f":"'[2]Détail N°7'!$L$28","v":9},0]
[null,null,null,null,null,null,null,null,null,null,null,null,null,null,{"$f":"Traduction!$A$352","v":"Mardi"},"2018-08-14",224.75,18.399999999999999,{"$f":"'[2]Détail N°7'!$L$28","v":9},0]
[null,null,null,null,null,null,null,null,null,null,null,null,null,null,{"$f":"Traduction!$A$352","v":"Mardi"},"2018-08-14",224.833333333333,17.8,{"$f":"'[2]Détail N°7'!$L$28","v":9},0]
[null,null,null,null,null,null,null,null,null,null,null,null,null,null,{"$f":"Traduction!$A$352","v":"Mardi"},"2018-08-14",224.958333333333,16.7,{"$f":"'[2]Détail N°7'!$L$28","v":9},0]
[null,null,null,null,null,null,null,null,null,null,null,null,null,null,{"$f":"Traduction!$A$353","v":"Mercredi"},"2018-08-15",225.125,16.3,{"$f":"'[2]Détail N°7'!$L$28","v":9},0]
[null,null,null,null,null,null,null,null,null,null,null,null,null,null,{"$f":"Traduction!$A$353","v":"Mercredi"},"2018-08-15",225.291666666667,16.8,{"$f":"'[2]Détail N°7'!$L$28","v":9},0]
[null,null,null,null,null,null,null,null,null,null,null,null,null,null,{"$f":"Traduction!$A$353","v":"Mercredi"},"2018-08-15",225.416666666667,19.2,{"$f":"'[2]Détail N°7'!$L$28","v":9},0]
[null,null,null,null,null,null,null,null,null,null,null,null,null,null,{"$f":"Traduction!$A$353","v":"Mercredi"},"2018-08-15",225.5,21,{"$f":"'[2]Détail N°7'!$L$28","v":9},0]
[null,null,null,null,null,null,null,null,null,null,null,null,null,null,{"$f":"Traduction!$A$353","v":"Mercredi"},"2018-08-15",225.625,22.1,{"$f":"'[2]Détail N°7'!$L$28","v":9},0]
[null,null,null,null,null,null,null,null,null,null,null,null,null,null,{"$f":"Traduction!$A$353","v":"Mercredi"},"2018-08-15",225.75,21.9,{"$f":"'[2]Détail N°7'!$L$28","v":9},{"$f":"IF(R5783<=S5783,1,0)","v":0}]
[null,null,null,null,null,null,null,null,null,null,null,null,null,null,{"$f":"Traduction!$A$353","v":"Mercredi"},"2018-08-15",225.916666666667,19.100000000000001,{"$f":"'[2]Détail N°7'!$L$28","v":9},0]
[null,null,null,null,null,null,null,null,null,null,null,null,null,null,{"$f":"Traduction!$A$354","v":"Jeudi"},"2018-08-16",226.041666666667,18.100000000000001,{"$f":"'[2]Détail N°7'!$L$28","v":9},0]
[null,null,null,null,null,null,null,null,null,null,null,null,null,null,{"$f":"Traduction!$A$354","v":"Jeudi"},"2018-08-16",226.208333333333,16.7,{"$f":"'[2]Détail N°7'!$L$28","v":9},0]
[null,null,null,null,null,null,null,null,null,null,null,null,null,null,{"$f":"Traduction!$A$354","v":"Jeudi"},"2018-08-16",226.375,18.8,{"$f":"'[2]Détail N°7'!$L$28","v":9},0]
[null,null,null,null,null,null,null,null,null,null,null,null,null,null,{"$f":"Traduction!$A$354","v":"Jeudi"},"2018-08-16",226.416666666667,19.399999999999999,{"$f":"'[2]Détail N°7'!$L$28","v":9},0]
[null,null,null,null,null,null,null,null,null,null,null,null,null,null,{"$f":"Traduction!$A$354","v":"Jeudi"},"2018-08-16",226.583333333333,23.8,{"$f":"'[2]Détail N°7'!$L$28","v":9},0]
[null,null,null,null,null,null,null,null,null,null,null,null,null,null,{"$f":"Traduction!$A$354","v":"Jeudi"},"2018-08-16",226.708333333333,25.3,{"$f":"'[2]Détail N°7'!$L$28","v":9},0]
[null,null,null,null,null,null,null,null,null,null,null,null,null,null,{"$f":"Traduction!$A$354","v":"Jeudi"},"2018-08-16",226.958333333333,20,{"$f":"'[2]Détail N°7'!$L$28","v":9},0]
[null,null,null,null,null,null,null,null,null,null,null,null,null,null,{"$f":"Traduction!$A$355","v":"Vendredi"},"2018-08-17",227.041666666667,17.7,{"$f":"'[2]Détail N°7'!$L$28","v":9},0]
[null,null,null,null,null,null,null,null,null,null,null,null,null,null,{"$f":"Traduction!$A$355","v":"Vendredi"},"2018-08-17",227.166666666667,15.3,{"$f":"'[2]Détail N°7'!$L$28","v":9},0]
[null,null,null,null,null,null,null,null,null,null,null,null,null,null,{"$f":"Traduction!$A$355","v":"Vendredi"},"2018-08-17",227.291666666667,15.6,{"$f":"'[2]Détail N°7'!$L$28","v":9},0]
[null,null,null,null,null,null,null,null,null,null,null,null,null,null,{"$f":"Traduction!$A$355","v":"Vendredi"},"2018-08-17",227.5,21.7,{"$f":"'[2]Détail N°7'!$L$28","v":9},0]
[null,null,null,null,null,null,null,null,null,null,null,null,null,null,{"$f":"Traduction!$A$355","v":"Vendredi"},"2018-08-17",227.625,23.3,{"$f":"'[2]Détail N°7'!$L$28","v":9},0]
[null,null,null,null,null,null,null,null,null,null,null,null,null,null,{"$f":"Traduction!$A$355","v":"Vendredi"},"2018-08-17",227.666666666667,23.4,{"$f":"'[2]Détail N°7'!$L$28","v":9},0]
[null,null,null,null,null,null,null,null,null,null,null,null,null,null,{"$f":"Traduction!$A$355","v":"Vendredi"},"2018-08-17",227.875,19.3,{"$f":"'[2]Détail N°7'!$L$28","v":9},0]
[null,null,null,null,null,null,null,null,null,null,null,null,null,null,{"$f":"Traduction!$A$355","v":"Vendredi"},"2018-08-17",227.958333333333,16.5,{"$f":"'[2]Détail N°7'!$L$28","v":9},0]
[null,null,null,null,null,null,null,null,null,null,null,null,null,null,{"$f":"Traduction!$A$356","v":"Samedi"},"2018-08-18",228.125,12.7,{"$f":"'[2]Détail N°7'!$L$28","v":9},0]
[null,null,null,null,null,null,null,null,null,null,null,null,null,null,{"$f":"Traduction!$A$356","v":"Samedi"},"2018-08-18",228.25,11.7,{"$f":"'[2]Détail N°7'!$L$28","v":9},0]
[null,null,null,null,null,null,null,null,null,null,null,null,null,null,{"$f":"Traduction!$A$356","v":"Samedi"},"2018-08-18",228.416666666667,17.8,{"$f":"'[2]Détail N°7'!$L$28","v":9},{"$f":"IF(R5847<=S5847,1,0)","v":0}]
[null,null,null,null,null,null,null,null,null,null,null,null,null,null,{"$f":"Traduction!$A$356","v":"Samedi"},"2018-08-18",228.583333333333,22.5,{"$f":"'[2]Détail N°7'!$L$28","v":9},0]
[null,null,null,null,null,null,null,null,null,null,null,null,null,null,{"$f":"Traduction!$A$356","v":"Samedi"},"2018-08-18",228.708333333333,22.7,{"$f":"'[2]Détail N°7'!$L$28","v":9},0]
[null,null,null,null,null,null,null,null,null,null,null,null,null,null,{"$f":"Traduction!$A$356","v":"Samedi"},"2018-08-18",228.791666666667,20.7,{"$f":"'[2]Détail N°7'!$L$28","v":9},0]
[null,null,null,null,null,null,null,null,null,null,null,null,null,null,{"$f":"Traduction!$A$356","v":"Samedi"},"2018-08-18",228.916666666667,17.8,{"$f":"'[2]Détail N°7'!$L$28","v":9},0]
[null,null,null,null,null,null,null,null,null,null,null,null,null,null,{"$f":"Traduction!$A$357","v":"Dimanche"},"2018-08-19",229.041666666667,15.9,{"$f":"'[2]Détail N°7'!$L$28","v":9},0]
[null,null,null,null,null,null,null,null,null,null,null,null,null,null,{"$f":"Traduction!$A$357","v":"Dimanche"},"2018-08-19",229.166666666667,15.2,{"$f":"'[2]Détail N°7'!$L$28","v":9},0]
[null,null,null,null,null,null,null,null,null,null,null,null,null,null,{"$f":"Traduction!$A$357","v":"Dimanche"},"2018-08-19",229.375,17.100000000000001,{"$f":"'[2]Détail N°7'!$L$28","v":9},0]
[null,null,null,null,null,null,null,null,null,null,null,null,null,null,{"$f":"Traduction!$A$357","v":"Dimanche"},"2018-08-19",229.541666666667,19.7,{"$f":"'[2]Détail N°7'!$L$28","v":9},0]
[null,null,null,null,null,null,null,null,null,null,null,null,null,null,{"$f":"Traduction!$A$357","v":"Dimanche"},"2018-08-19",229.708333333333,19.5,{"$f":"'[2]Détail N°7'!$L$28","v":9},0]
[null,null,null,null,null,null,null,null,null,null,null,null,null,null,{"$f":"Traduction!$A$357","v":"Dimanche"},"2018-08-19",229.833333333333,19,{"$f":"'[2]Détail N°7'!$L$28","v":9},0]
[null,null,null,null,null,null,null,null,null,null,null,null,null,null,{"$f":"Traduction!$A$357","v":"Dimanche"},"2018-08-19",229.875,18.3,{"$f":"'[2]Détail N°7'!$L$28","v":9},0]
[null,null,null,null,null,null,null,null,null,null,null,null,null,null,{"$f":"Traduction!$A$357","v":"Dimanche"},"2018-08-19",230,16.399999999999999,{"$f":"'[2]Détail N°7'!$L$28","v":9},0]
[null,null,null,null,null,null,null,null,null,null,null,null,null,null,{"$f":"Traduction!$A$351","v":"Lundi "},"2018-08-20",230.25,14.4,{"$f":"'[2]Détail N°7'!$L$28","v":9},0]
[null,null,null,null,null,null,null,null,null,null,null,null,null,null,{"$f":"Traduction!$A$351","v":"Lundi "},"2018-08-20",230.333333333333,16.8,{"$f":"'[2]Détail N°7'!$L$28","v":9},0]
[null,null,null,null,null,null,null,null,null,null,null,null,null,null,{"$f":"Traduction!$A$351","v":"Lundi "},"2018-08-20",230.458333333333,21.5,{"$f":"'[2]Détail N°7'!$L$28","v":9},0]
[null,null,null,null,null,null,null,null,null,null,null,null,null,null,{"$f":"Traduction!$A$351","v":"Lundi "},"2018-08-20",230.625,25.1,{"$f":"'[2]Détail N°7'!$L$28","v":9},0]
[null,null,null,null,null,null,null,null,null,null,null,null,null,null,{"$f":"Traduction!$A$351","v":"Lundi "},"2018-08-20",230.791666666667,23.3,{"$f":"'[2]Détail N°7'!$L$28","v":9},0]
[null,null,null,null,null,null,null,null,null,null,null,null,null,null,{"$f":"Traduction!$A$351","v":"Lundi "},"2018-08-20",230.916666666667,20.100000000000001,{"$f":"'[2]Détail N°7'!$L$28","v":9},0]
[null,null,null,null,null,null,null,null,null,null,null,null,null,null,{"$f":"Traduction!$A$351","v":"Lundi "},"2018-08-20",231,18.100000000000001,{"$f":"'[2]Détail N°7'!$L$28","v":9},0]
[null,null,null,null,null,null,null,null,null,null,null,null,null,null,{"$f":"Traduction!$A$352","v":"Mardi"},"2018-08-21",231.125,16.2,{"$f":"'[2]Détail N°7'!$L$28","v":9},0]
[null,null,null,null,null,null,null,null,null,null,null,null,null,null,{"$f":"Traduction!$A$352","v":"Mardi"},"2018-08-21",231.291666666667,16.2,{"$f":"'[2]Détail N°7'!$L$28","v":9},0]
[null,null,null,null,null,null,null,null,null,null,null,null,null,null,{"$f":"Traduction!$A$352","v":"Mardi"},"2018-08-21",231.416666666667,20.399999999999999,{"$f":"'[2]Détail N°7'!$L$28","v":9},0]
[null,null,null,null,null,null,null,null,null,null,null,null,null,null,{"$f":"Traduction!$A$352","v":"Mardi"},"2018-08-21",231.541666666667,23.9,{"$f":"'[2]Détail N°7'!$L$28","v":9},0]
[null,null,null,null,null,null,null,null,null,null,null,null,null,null,{"$f":"Traduction!$A$352","v":"Mardi"},"2018-08-21",231.75,24,{"$f":"'[2]Détail N°7'!$L$28","v":9},0]
[null,null,null,null,null,null,null,null,null,null,null,null,null,null,{"$f":"Traduction!$A$352","v":"Mardi"},"2018-08-21",231.875,20.9,{"$f":"'[2]Détail N°7'!$L$28","v":9},0]
[null,null,null,null,null,null,null,null,null,null,null,null,null,null,{"$f":"Traduction!$A$352","v":"Mardi"},"2018-08-21",231.916666666667,19.8,{"$f":"'[2]Détail N°7'!$L$28","v":9},0]
[null,null,null,null,null,null,null,null,null,null,null,null,null,null,{"$f":"Traduction!$A$353","v":"Mercredi"},"2018-08-22",232.083333333333,16.2,{"$f":"'[2]Détail N°7'!$L$28","v":9},0]
[null,null,null,null,null,null,null,null,null,null,null,null,null,null,{"$f":"Traduction!$A$353","v":"Mercredi"},"2018-08-22",232.208333333333,15,{"$f":"'[2]Détail N°7'!$L$28","v":9},0]
[null,null,null,null,null,null,null,null,null,null,null,null,null,null,{"$f":"Traduction!$A$353","v":"Mercredi"},"2018-08-22",232.458333333333,18,{"$f":"'[2]Détail N°7'!$L$28","v":9},0]
[null,null,null,null,null,null,null,null,null,null,null,null,null,null,{"$f":"Traduction!$A$353","v":"Mercredi"},"2018-08-22",232.541666666667,19.100000000000001,{"$f":"'[2]Détail N°7'!$L$28","v":9},0]
[null,null,null,null,null,null,null,null,null,null,null,null,null,null,{"$f":"Traduction!$A$353","v":"Mercredi"},"2018-08-22",232.666666666667,19.600000000000001,{"$f":"'[2]Détail N°7'!$L$28","v":9},0]
[null,null,null,null,null,null,null,null,null,null,null,null,null,null,{"$f":"Traduction!$A$353","v":"Mercredi"},"2018-08-22",232.833333333333,17.8,{"$f":"'[2]Détail N°7'!$L$28","v":9},0]
[null,null,null,null,null,null,null,null,null,null,null,null,null,null,{"$f":"Traduction!$A$353","v":"Mercredi"},"2018-08-22",233,15.9,{"$f":"'[2]Détail N°7'!$L$28","v":9},0]
[null,null,null,null,null,null,null,null,null,null,null,null,null,null,{"$f":"Traduction!$A$354","v":"Jeudi"},"2018-08-23",233.125,15.5,{"$f":"'[2]Détail N°7'!$L$28","v":9},0]
[null,null,null,null,null,null,null,null,null,null,null,null,null,null,{"$f":"Traduction!$A$354","v":"Jeudi"},"2018-08-23",233.166666666667,15.2,{"$f":"'[2]Détail N°7'!$L$28","v":9},0]
[null,null,null,null,null,null,null,null,null,null,null,null,null,null,{"$f":"Traduction!$A$354","v":"Jeudi"},"2018-08-23",233.375,17.3,{"$f":"'[2]Détail N°7'!$L$28","v":9},0]
[null,null,null,null,null,null,null,null,null,null,null,null,null,null,{"$f":"Traduction!$A$354","v":"Jeudi"},"2018-08-23",233.5,20,{"$f":"'[2]Détail N°7'!$L$28","v":9},0]
[null,null,null,null,null,null,null,null,null,null,null,null,null,null,{"$f":"Traduction!$A$354","v":"Jeudi"},"2018-08-23",233.625,21.4,{"$f":"'[2]Détail N°7'!$L$28","v":9},0]
[null,null,null,null,null,null,null,null,null,null,null,null,null,null,{"$f":"Traduction!$A$354","v":"Jeudi"},"2018-08-23",233.75,20.9,{"$f":"'[2]Détail N°7'!$L$28","v":9},{"$f":"IF(R5975<=S5975,1,0)","v":0}]
[null,null,null,null,null,null,null,null,null,null,null,null,null,null,{"$f":"Traduction!$A$354","v":"Jeudi"},"2018-08-23",233.958333333333,17.5,{"$f":"'[2]Détail N°7'!$L$28","v":9},0]
[null,null,null,null,null,null,null,null,null,null,null,null,null,null,{"$f":"Traduction!$A$355","v":"Vendredi"},"2018-08-24",234.083333333333,15.3,{"$f":"'[2]Détail N°7'!$L$28","v":9},0]
[null,null,null,null,null,null,null,null,null,null,null,null,null,null,{"$f":"Traduction!$A$355","v":"Vendredi"},"2018-08-24",234.125,14.9,{"$f":"'[2]Détail N°7'!$L$28","v":9},0]
[null,null,null,null,null,null,null,null,null,null,null,null,null,null,{"$f":"Traduction!$A$355","v":"Vendredi"},"2018-08-24",234.291666666667,14.5,{"$f":"'[2]Détail N°7'!$L$28","v":9},0]
[null,null,null,null,null,null,null,null,null,null,null,null,null,null,{"$f":"Traduction!$A$355","v":"Vendredi"},"2018-08-24",234.416666666667,16.100000000000001,{"$f":"'[2]Détail N°7'!$L$28","v":9},0]
[null,null,null,null,null,null,null,null,null,null,null,null,null,null,{"$f":"Traduction!$A$355","v":"Vendredi"},"2018-08-24",234.583333333333,18.3,{"$f":"'[2]Détail N°7'!$L$28","v":9},0]
[null,null,null,null,null,null,null,null,null,null,null,null,null,null,{"$f":"Traduction!$A$355","v":"Vendredi"},"2018-08-24",234.666666666667,18.399999999999999,{"$f":"'[2]Détail N°7'!$L$28","v":9},0]
[null,null,null,null,null,null,null,null,null,null,null,null,null,null,{"$f":"Traduction!$A$355","v":"Vendredi"},"2018-08-24",234.875,16,{"$f":"'[2]Détail N°7'!$L$28","v":9},0]
[null,null,null,null,null,null,null,null,null,null,null,null,null,null,{"$f":"Traduction!$A$356","v":"Samedi"},"2018-08-25",235.041666666667,13,{"$f":"'[2]Détail N°7'!$L$28","v":9},0]
[null,null,null,null,null,null,null,null,null,null,null,null,null,null,{"$f":"Traduction!$A$356","v":"Samedi"},"2018-08-25",235.208333333333,11.5,{"$f":"'[2]Détail N°7'!$L$28","v":9},0]
[null,null,null,null,null,null,null,null,null,null,null,null,null,null,{"$f":"Traduction!$A$356","v":"Samedi"},"2018-08-25",235.25,11.5,{"$f":"'[2]Détail N°7'!$L$28","v":9},0]
[null,null,null,null,null,null,null,null,null,null,null,null,null,null,{"$f":"Traduction!$A$356","v":"Samedi"},"2018-08-25",235.375,15.3,{"$f":"'[2]Détail N°7'!$L$28","v":9},0]
[null,null,null,null,null,null,null,null,null,null,null,null,null,null,{"$f":"Traduction!$A$356","v":"Samedi"},"2018-08-25",235.583333333333,21.6,{"$f":"'[2]Détail N°7'!$L$28","v":9},0]
[null,null,null,null,null,null,null,null,null,null,null,null,null,null,{"$f":"Traduction!$A$356","v":"Samedi"},"2018-08-25",235.708333333333,21.9,{"$f":"'[2]Détail N°7'!$L$28","v":9},0]
[null,null,null,null,null,null,null,null,null,null,null,null,null,null,{"$f":"Traduction!$A$356","v":"Samedi"},"2018-08-25",235.833333333333,18.899999999999999,{"$f":"'[2]Détail N°7'!$L$28","v":9},0]
[null,null,null,null,null,null,null,null,null,null,null,null,null,null,{"$f":"Traduction!$A$356","v":"Samedi"},"2018-08-25",235.958333333333,16,{"$f":"'[2]Détail N°7'!$L$28","v":9},0]
[null,null,null,null,null,null,null,null,null,null,null,null,null,null,{"$f":"Traduction!$A$357","v":"Dimanche"},"2018-08-26",236.125,13.1,{"$f":"'[2]Détail N°7'!$L$28","v":9},0]
[null,null,null,null,null,null,null,null,null,null,null,null,null,null,{"$f":"Traduction!$A$357","v":"Dimanche"},"2018-08-26",236.291666666667,13,{"$f":"'[2]Détail N°7'!$L$28","v":9},0]
[null,null,null,null,null,null,null,null,null,null,null,null,null,null,{"$f":"Traduction!$A$357","v":"Dimanche"},"2018-08-26",236.333333333333,14.1,{"$f":"'[2]Détail N°7'!$L$28","v":9},0]
[null,null,null,null,null,null,null,null,null,null,null,null,null,null,{"$f":"Traduction!$A$357","v":"Dimanche"},"2018-08-26",236.5,19.100000000000001,{"$f":"'[2]Détail N°7'!$L$28","v":9},0]
[null,null,null,null,null,null,null,null,null,null,null,null,null,null,{"$f":"Traduction!$A$357","v":"Dimanche"},"2018-08-26",236.625,20.8,{"$f":"'[2]Détail N°7'!$L$28","v":9},0]
[null,null,null,null,null,null,null,null,null,null,null,null,null,null,{"$f":"Traduction!$A$357","v":"Dimanche"},"2018-08-26",236.791666666667,19,{"$f":"'[2]Détail N°7'!$L$28","v":9},0]
[null,null,null,null,null,null,null,null,null,null,null,null,null,null,{"$f":"Traduction!$A$357","v":"Dimanche"},"2018-08-26",236.875,17.100000000000001,{"$f":"'[2]Détail N°7'!$L$28","v":9},0]
[null,null,null,null,null,null,null,null,null,null,null,null,null,null,{"$f":"Traduction!$A$351","v":"Lundi "},"2018-08-27",237.125,12.2,{"$f":"'[2]Détail N°7'!$L$28","v":9},0]
[null,null,null,null,null,null,null,null,null,null,null,null,null,null,{"$f":"Traduction!$A$351","v":"Lundi "},"2018-08-27",237.25,11.3,{"$f":"'[2]Détail N°7'!$L$28","v":9},0]
[null,null,null,null,null,null,null,null,null,null,null,null,null,null,{"$f":"Traduction!$A$351","v":"Lundi "},"2018-08-27",237.375,13.9,{"$f":"'[2]Détail N°7'!$L$28","v":9},0]
[null,null,null,null,null,null,null,null,null,null,null,null,null,null,{"$f":"Traduction!$A$351","v":"Lundi "},"2018-08-27",237.416666666667,14.8,{"$f":"'[2]Détail N°7'!$L$28","v":9},0]
[null,null,null,null,null,null,null,null,null,null,null,null,null,null,{"$f":"Traduction!$A$351","v":"Lundi "},"2018-08-27",237.583333333333,17.5,{"$f":"'[2]Détail N°7'!$L$28","v":9},0]
[null,null,null,null,null,null,null,null,null,null,null,null,null,null,{"$f":"Traduction!$A$351","v":"Lundi "},"2018-08-27",237.708333333333,17.600000000000001,{"$f":"'[2]Détail N°7'!$L$28","v":9},0]
[null,null,null,null,null,null,null,null,null,null,null,null,null,null,{"$f":"Traduction!$A$351","v":"Lundi "},"2018-08-27",237.958333333333,13.9,{"$f":"'[2]Détail N°7'!$L$28","v":9},0]
[null,null,null,null,null,null,null,null,null,null,null,null,null,null,{"$f":"Traduction!$A$352","v":"Mardi"},"2018-08-28",238.041666666667,13.3,{"$f":"'[2]Détail N°7'!$L$28","v":9},0]
[null,null,null,null,null,null,null,null,null,null,null,null,null,null,{"$f":"Traduction!$A$352","v":"Mardi"},"2018-08-28",238.208333333333,13,{"$f":"'[2]Détail N°7'!$L$28","v":9},0]
[null,null,null,null,null,null,null,null,null,null,null,null,null,null,{"$f":"Traduction!$A$352","v":"Mardi"},"2018-08-28",238.333333333333,13.3,{"$f":"'[2]Détail N°7'!$L$28","v":9},0]
[null,null,null,null,null,null,null,null,null,null,null,null,null,null,{"$f":"Traduction!$A$352","v":"Mardi"},"2018-08-28",238.5,17.8,{"$f":"'[2]Détail N°7'!$L$28","v":9},0]
[null,null,null,null,null,null,null,null,null,null,null,null,null,null,{"$f":"Traduction!$A$352","v":"Mardi"},"2018-08-28",238.541666666667,18.100000000000001,{"$f":"'[2]Détail N°7'!$L$28","v":9},0]
[null,null,null,null,null,null,null,null,null,null,null,null,null,null,{"$f":"Traduction!$A$352","v":"Mardi"},"2018-08-28",238.666666666667,18.5,{"$f":"'[2]Détail N°7'!$L$28","v":9},0]
[null,null,null,null,null,null,null,null,null,null,null,null,null,null,{"$f":"Traduction!$A$352","v":"Mardi"},"2018-08-28",238.875,16,{"$f":"'[2]Détail N°7'!$L$28","v":9},0]
[null,null,null,null,null,null,null,null,null,null,null,null,null,null,{"$f":"Traduction!$A$352","v":"Mardi"},"2018-08-28",239,14.6,{"$f":"'[2]Détail N°7'!$L$28","v":9},0]
[null,null,null,null,null,null,null,null,null,null,null,null,null,null,{"$f":"Traduction!$A$353","v":"Mercredi"},"2018-08-29",239.125,13.4,{"$f":"'[2]Détail N°7'!$L$28","v":9},0]
[null,null,null,null,null,null,null,null,null,null,null,null,null,null,{"$f":"Traduction!$A$353","v":"Mercredi"},"2018-08-29",239.25,12.9,{"$f":"'[2]Détail N°7'!$L$28","v":9},0]
[null,null,null,null,null,null,null,null,null,null,null,null,null,null,{"$f":"Traduction!$A$353","v":"Mercredi"},"2018-08-29",239.458333333333,18.5,{"$f":"'[2]Détail N°7'!$L$28","v":9},0]
[null,null,null,null,null,null,null,null,null,null,null,null,null,null,{"$f":"Traduction!$A$353","v":"Mercredi"},"2018-08-29",239.583333333333,21,{"$f":"'[2]Détail N°7'!$L$28","v":9},0]
[null,null,null,null,null,null,null,null,null,null,null,null,null,null,{"$f":"Traduction!$A$353","v":"Mercredi"},"2018-08-29",239.625,21.4,{"$f":"'[2]Détail N°7'!$L$28","v":9},0]
[null,null,null,null,null,null,null,null,null,null,null,null,null,null,{"$f":"Traduction!$A$353","v":"Mercredi"},"2018-08-29",239.791666666667,19.600000000000001,{"$f":"'[2]Détail N°7'!$L$28","v":9},0]
[null,null,null,null,null,null,null,null,null,null,null,null,null,null,{"$f":"Traduction!$A$353","v":"Mercredi"},"2018-08-29",239.958333333333,15.8,{"$f":"'[2]Détail N°7'!$L$28","v":9},0]
[null,null,null,null,null,null,null,null,null,null,null,null,null,null,{"$f":"Traduction!$A$354","v":"Jeudi"},"2018-08-30",240.083333333333,13,{"$f":"'[2]Détail N°7'!$L$28","v":9},0]
[null,null,null,null,null,null,null,null,null,null,null,null,null,null,{"$f":"Traduction!$A$354","v":"Jeudi"},"2018-08-30",240.166666666667,12,{"$f":"'[2]Détail N°7'!$L$28","v":9},0]
[null,null,null,null,null,null,null,null,null,null,null,null,null,null,{"$f":"Traduction!$A$354","v":"Jeudi"},"2018-08-30",240.416666666667,15.7,{"$f":"'[2]Détail N°7'!$L$28","v":9},0]
[null,null,null,null,null,null,null,null,null,null,null,null,null,null,{"$f":"Traduction!$A$354","v":"Jeudi"},"2018-08-30",240.541666666667,18.8,{"$f":"'[2]Détail N°7'!$L$28","v":9},0]
[null,null,null,null,null,null,null,null,null,null,null,null,null,null,{"$f":"Traduction!$A$354","v":"Jeudi"},"2018-08-30",240.708333333333,19.399999999999999,{"$f":"'[2]Détail N°7'!$L$28","v":9},0]
[null,null,null,null,null,null,null,null,null,null,null,null,null,null,{"$f":"Traduction!$A$354","v":"Jeudi"},"2018-08-30",240.75,18.7,{"$f":"'[2]Détail N°7'!$L$28","v":9},0]
[null,null,null,null,null,null,null,null,null,null,null,null,null,null,{"$f":"Traduction!$A$354","v":"Jeudi"},"2018-08-30",240.875,15.7,{"$f":"'[2]Détail N°7'!$L$28","v":9},0]
[null,null,null,null,null,null,null,null,null,null,null,null,null,null,{"$f":"Traduction!$A$355","v":"Vendredi"},"2018-08-31",241.083333333333,11.8,{"$f":"'[2]Détail N°7'!$L$28","v":9},0]
[null,null,null,null,null,null,null,null,null,null,null,null,null,null,{"$f":"Traduction!$A$355","v":"Vendredi"},"2018-08-31",241.208333333333,10.9,{"$f":"'[2]Détail N°7'!$L$28","v":9},0]
[null,null,null,null,null,null,null,null,null,null,null,null,null,null,{"$f":"Traduction!$A$355","v":"Vendredi"},"2018-08-31",241.333333333333,12.1,{"$f":"'[2]Détail N°7'!$L$28","v":9},0]
[null,null,null,null,null,null,null,null,null,null,null,null,null,null,{"$f":"Traduction!$A$355","v":"Vendredi"},"2018-08-31",241.5,16.100000000000001,{"$f":"'[2]Détail N°7'!$L$28","v":9},0]
[null,null,null,null,null,null,null,null,null,null,null,null,null,null,{"$f":"Traduction!$A$355","v":"Vendredi"},"2018-08-31",241.625,17.3,{"$f":"'[2]Détail N°7'!$L$28","v":9},0]
[null,null,null,null,null,null,null,null,null,null,null,null,null,null,{"$f":"Traduction!$A$355","v":"Vendredi"},"2018-08-31",241.708333333333,17,{"$f":"'[2]Détail N°7'!$L$28","v":9},0]
[null,null,null,null,null,null,null,null,null,null,null,null,null,null,{"$f":"Traduction!$A$355","v":"Vendredi"},"2018-08-31",241.833333333333,14.8,{"$f":"'[2]Détail N°7'!$L$28","v":9},0]
[null,null,null,null,null,null,null,null,null,null,null,null,null,null,{"$f":"Traduction!$A$355","v":"Vendredi"},"2018-08-31",242,11.1,{"$f":"'[2]Détail N°7'!$L$28","v":9},0]
[null,null,null,null,null,null,null,null,null,null,null,null,null,null,{"$f":"Traduction!$A$356","v":"Samedi"},"2018-09-01",242.166666666667,9.9,{"$f":"'[2]Détail N°7'!$L$28","v":9},0]
[null,null,null,null,null,null,null,null,null,null,null,null,null,null,{"$f":"Traduction!$A$356","v":"Samedi"},"2018-09-01",242.291666666667,10.7,{"$f":"'[2]Détail N°7'!$L$28","v":9},0]
[null,null,null,null,null,null,null,null,null,null,null,null,null,null,{"$f":"Traduction!$A$356","v":"Samedi"},"2018-09-01",242.375,14.3,{"$f":"'[2]Détail N°7'!$L$28","v":9},0]
[null,null,null,null,null,null,null,null,null,null,null,null,null,null,{"$f":"Traduction!$A$356","v":"Samedi"},"2018-09-01",242.625,22.4,{"$f":"'[2]Détail N°7'!$L$28","v":9},0]
[null,null,null,null,null,null,null,null,null,null,null,null,null,null,{"$f":"Traduction!$A$356","v":"Samedi"},"2018-09-01",242.75,21.2,{"$f":"'[2]Détail N°7'!$L$28","v":9},0]
[null,null,null,null,null,null,null,null,null,null,null,null,null,null,{"$f":"Traduction!$A$356","v":"Samedi"},"2018-09-01",242.791666666667,19.899999999999999,{"$f":"'[2]Détail N°7'!$L$28","v":9},0]
[null,null,null,null,null,null,null,null,null,null,null,null,null,null,{"$f":"Traduction!$A$356","v":"Samedi"},"2018-09-01",242.916666666667,17,{"$f":"'[2]Détail N°7'!$L$28","v":9},0]
[null,null,null,null,null,null,null,null,null,null,null,null,null,null,{"$f":"Traduction!$A$357","v":"Dimanche"},"2018-09-02",243.083333333333,14.2,{"$f":"'[2]Détail N°7'!$L$28","v":9},0]
[null,null,null,null,null,null,null,null,null,null,null,null,null,null,{"$f":"Traduction!$A$357","v":"Dimanche"},"2018-09-02",243.25,13.2,{"$f":"'[2]Détail N°7'!$L$28","v":9},0]
[null,null,null,null,null,null,null,null,null,null,null,null,null,null,{"$f":"Traduction!$A$357","v":"Dimanche"},"2018-09-02",243.458333333333,15.5,{"$f":"'[2]Détail N°7'!$L$28","v":9},0]
[null,null,null,null,null,null,null,null,null,null,null,null,null,null,{"$f":"Traduction!$A$357","v":"Dimanche"},"2018-09-02",243.583333333333,15.9,{"$f":"'[2]Détail N°7'!$L$28","v":9},0]
[null,null,null,null,null,null,null,null,null,null,null,null,null,null,{"$f":"Traduction!$A$357","v":"Dimanche"},"2018-09-02",243.708333333333,16.600000000000001,{"$f":"'[2]Détail N°7'!$L$28","v":9},0]
[null,null,null,null,null,null,null,null,null,null,null,null,null,null,{"$f":"Traduction!$A$357","v":"Dimanche"},"2018-09-02",243.833333333333,15.8,{"$f":"'[2]Détail N°7'!$L$28","v":9},0]
[null,null,null,null,null,null,null,null,null,null,null,null,null,null,{"$f":"Traduction!$A$357","v":"Dimanche"},"2018-09-02",243.916666666667,14.9,{"$f":"'[2]Détail N°7'!$L$28","v":9},0]
[null,null,null,null,null,null,null,null,null,null,null,null,null,null,{"$f":"Traduction!$A$351","v":"Lundi "},"2018-09-03",244.041666666667,13.9,{"$f":"'[2]Détail N°7'!$L$28","v":9},0]
[null,null,null,null,null,null,null,null,null,null,null,null,null,null,{"$f":"Traduction!$A$351","v":"Lundi "},"2018-09-03",244.166666666667,13.6,{"$f":"'[2]Détail N°7'!$L$28","v":9},0]
[null,null,null,null,null,null,null,null,null,null,null,null,null,null,{"$f":"Traduction!$A$351","v":"Lundi "},"2018-09-03",244.375,14.4,{"$f":"'[2]Détail N°7'!$L$28","v":9},0]
[null,null,null,null,null,null,null,null,null,null,null,null,null,null,{"$f":"Traduction!$A$351","v":"Lundi "},"2018-09-03",244.5,16.100000000000001,{"$f":"'[2]Détail N°7'!$L$28","v":9},0]
[null,null,null,null,null,null,null,null,null,null,null,null,null,null,{"$f":"Traduction!$A$351","v":"Lundi "},"2018-09-03",244.666666666667,17.100000000000001,{"$f":"'[2]Détail N°7'!$L$28","v":9},0]
[null,null,null,null,null,null,null,null,null,null,null,null,null,null,{"$f":"Traduction!$A$351","v":"Lundi "},"2018-09-03",244.75,17.3,{"$f":"'[2]Détail N°7'!$L$28","v":9},0]
[null,null,null,null,null,null,null,null,null,null,null,null,null,null,{"$f":"Traduction!$A$351","v":"Lundi "},"2018-09-03",244.958333333333,14.2,{"$f":"'[2]Détail N°7'!$L$28","v":9},0]
[null,null,null,null,null,null,null,null,null,null,null,null,null,null,{"$f":"Traduction!$A$351","v":"Lundi "},"2018-09-03",245,13.5,{"$f":"'[2]Détail N°7'!$L$28","v":9},0]
[null,null,null,null,null,null,null,null,null,null,null,null,null,null,{"$f":"Traduction!$A$352","v":"Mardi"},"2018-09-04",245.125,10.7,{"$f":"'[2]Détail N°7'!$L$28","v":9},0]
[null,null,null,null,null,null,null,null,null,null,null,null,null,null,{"$f":"Traduction!$A$352","v":"Mardi"},"2018-09-04",245.291666666667,10.1,{"$f":"'[2]Détail N°7'!$L$28","v":9},0]
[null,null,null,null,null,null,null,null,null,null,null,null,null,null,{"$f":"Traduction!$A$352","v":"Mardi"},"2018-09-04",245.458333333333,16.2,{"$f":"'[2]Détail N°7'!$L$28","v":9},0]
[null,null,null,null,null,null,null,null,null,null,null,null,null,null,{"$f":"Traduction!$A$352","v":"Mardi"},"2018-09-04",245.583333333333,19.399999999999999,{"$f":"'[2]Détail N°7'!$L$28","v":9},0]
[null,null,null,null,null,null,null,null,null,null,null,null,null,null,{"$f":"Traduction!$A$352","v":"Mardi"},"2018-09-04",245.666666666667,19.899999999999999,{"$f":"'[2]Détail N°7'!$L$28","v":9},0]
[null,null,null,null,null,null,null,null,null,null,null,null,null,null,{"$f":"Traduction!$A$352","v":"Mardi"},"2018-09-04",245.916666666667,14.4,{"$f":"'[2]Détail N°7'!$L$28","v":9},0]
[null,null,null,null,null,null,null,null,null,null,null,null,null,null,{"$f":"Traduction!$A$353","v":"Mercredi"},"2018-09-05",246.041666666667,12.1,{"$f":"'[2]Détail N°7'!$L$28","v":9},0]
[null,null,null,null,null,null,null,null,null,null,null,null,null,null,{"$f":"Traduction!$A$353","v":"Mercredi"},"2018-09-05",246.208333333333,10.6,{"$f":"'[2]Détail N°7'!$L$28","v":9},0]
[null,null,null,null,null,null,null,null,null,null,null,null,null,null,{"$f":"Traduction!$A$353","v":"Mercredi"},"2018-09-05",246.25,10.4,{"$f":"'[2]Détail N°7'!$L$28","v":9},0]
[null,null,null,null,null,null,null,null,null,null,null,null,null,null,{"$f":"Traduction!$A$353","v":"Mercredi"},"2018-09-05",246.416666666667,16,{"$f":"'[2]Détail N°7'!$L$28","v":9},0]
[null,null,null,null,null,null,null,null,null,null,null,null,null,null,{"$f":"Traduction!$A$353","v":"Mercredi"},"2018-09-05",246.583333333333,20.100000000000001,{"$f":"'[2]Détail N°7'!$L$28","v":9},0]
[null,null,null,null,null,null,null,null,null,null,null,null,null,null,{"$f":"Traduction!$A$353","v":"Mercredi"},"2018-09-05",246.708333333333,20,{"$f":"'[2]Détail N°7'!$L$28","v":9},0]
[null,null,null,null,null,null,null,null,null,null,null,null,null,null,{"$f":"Traduction!$A$353","v":"Mercredi"},"2018-09-05",246.875,16.3,{"$f":"'[2]Détail N°7'!$L$28","v":9},0]
[null,null,null,null,null,null,null,null,null,null,null,null,null,null,{"$f":"Traduction!$A$353","v":"Mercredi"},"2018-09-05",247,14.7,{"$f":"'[2]Détail N°7'!$L$28","v":9},0]
[null,null,null,null,null,null,null,null,null,null,null,null,null,null,{"$f":"Traduction!$A$354","v":"Jeudi"},"2018-09-06",247.125,13.7,{"$f":"'[2]Détail N°7'!$L$28","v":9},0]
[null,null,null,null,null,null,null,null,null,null,null,null,null,null,{"$f":"Traduction!$A$354","v":"Jeudi"},"2018-09-06",247.208333333333,13.4,{"$f":"'[2]Détail N°7'!$L$28","v":9},0]
[null,null,null,null,null,null,null,null,null,null,null,null,null,null,{"$f":"Traduction!$A$354","v":"Jeudi"},"2018-09-06",247.333333333333,15.3,{"$f":"'[2]Détail N°7'!$L$28","v":9},0]
[null,null,null,null,null,null,null,null,null,null,null,null,null,null,{"$f":"Traduction!$A$354","v":"Jeudi"},"2018-09-06",247.5,20,{"$f":"'[2]Détail N°7'!$L$28","v":9},0]
[null,null,null,null,null,null,null,null,null,null,null,null,null,null,{"$f":"Traduction!$A$354","v":"Jeudi"},"2018-09-06",247.666666666667,22.5,{"$f":"'[2]Détail N°7'!$L$28","v":9},0]
[null,null,null,null,null,null,null,null,null,null,null,null,null,null,{"$f":"Traduction!$A$354","v":"Jeudi"},"2018-09-06",247.791666666667,20.3,{"$f":"'[2]Détail N°7'!$L$28","v":9},0]
[null,null,null,null,null,null,null,null,null,null,null,null,null,null,{"$f":"Traduction!$A$354","v":"Jeudi"},"2018-09-06",247.875,19.3,{"$f":"'[2]Détail N°7'!$L$28","v":9},0]
[null,null,null,null,null,null,null,null,null,null,null,null,null,null,{"$f":"Traduction!$A$355","v":"Vendredi"},"2018-09-07",248.125,16.5,{"$f":"'[2]Détail N°7'!$L$28","v":9},0]
[null,null,null,null,null,null,null,null,null,null,null,null,null,null,{"$f":"Traduction!$A$355","v":"Vendredi"},"2018-09-07",248.25,15.8,{"$f":"'[2]Détail N°7'!$L$28","v":9},0]
[null,null,null,null,null,null,null,null,null,null,null,null,null,null,{"$f":"Traduction!$A$355","v":"Vendredi"},"2018-09-07",248.291666666667,16.100000000000001,{"$f":"'[2]Détail N°7'!$L$28","v":9},0]
[null,null,null,null,null,null,null,null,null,null,null,null,null,null,{"$f":"Traduction!$A$355","v":"Vendredi"},"2018-09-07",248.416666666667,20,{"$f":"'[2]Détail N°7'!$L$28","v":9},0]
[null,null,null,null,null,null,null,null,null,null,null,null,null,null,{"$f":"Traduction!$A$355","v":"Vendredi"},"2018-09-07",248.625,24.4,{"$f":"'[2]Détail N°7'!$L$28","v":9},0]
[null,null,null,null,null,null,null,null,null,null,null,null,null,null,{"$f":"Traduction!$A$355","v":"Vendredi"},"2018-09-07",248.75,23.9,{"$f":"'[2]Détail N°7'!$L$28","v":9},0]
[null,null,null,null,null,null,null,null,null,null,null,null,null,null,{"$f":"Traduction!$A$355","v":"Vendredi"},"2018-09-07",248.958333333333,20.8,{"$f":"'[2]Détail N°7'!$L$28","v":9},0]
[null,null,null,null,null,null,null,null,null,null,null,null,null,null,{"$f":"Traduction!$A$356","v":"Samedi"},"2018-09-08",249.083333333333,19.899999999999999,{"$f":"'[2]Détail N°7'!$L$28","v":9},0]
[null,null,null,null,null,null,null,null,null,null,null,null,null,null,{"$f":"Traduction!$A$356","v":"Samedi"},"2018-09-08",249.208333333333,19.399999999999999,{"$f":"'[2]Détail N°7'!$L$28","v":9},0]
[null,null,null,null,null,null,null,null,null,null,null,null,null,null,{"$f":"Traduction!$A$356","v":"Samedi"},"2018-09-08",249.333333333333,21.2,{"$f":"'[2]Détail N°7'!$L$28","v":9},0]
[null,null,null,null,null,null,null,null,null,null,null,null,null,null,{"$f":"Traduction!$A$356","v":"Samedi"},"2018-09-08",249.416666666667,23,{"$f":"'[2]Détail N°7'!$L$28","v":9},0]
[null,null,null,null,null,null,null,null,null,null,null,null,null,null,{"$f":"Traduction!$A$356","v":"Samedi"},"2018-09-08",249.541666666667,23.6,{"$f":"'[2]Détail N°7'!$L$28","v":9},0]
[null,null,null,null,null,null,null,null,null,null,null,null,null,null,{"$f":"Traduction!$A$356","v":"Samedi"},"2018-09-08",249.708333333333,23.4,{"$f":"'[2]Détail N°7'!$L$28","v":9},0]
[null,null,null,null,null,null,null,null,null,null,null,null,null,null,{"$f":"Traduction!$A$356","v":"Samedi"},"2018-09-08",249.875,21,{"$f":"'[2]Détail N°7'!$L$28","v":9},0]
[null,null,null,null,null,null,null,null,null,null,null,null,null,null,{"$f":"Traduction!$A$356","v":"Samedi"},"2018-09-08",250,18.600000000000001,{"$f":"'[2]Détail N°7'!$L$28","v":9},0]
[null,null,null,null,null,null,null,null,null,null,null,null,null,null,{"$f":"Traduction!$A$357","v":"Dimanche"},"2018-09-09",250.166666666667,13.2,{"$f":"'[2]Détail N°7'!$L$28","v":9},0]
[null,null,null,null,null,null,null,null,null,null,null,null,null,null,{"$f":"Traduction!$A$357","v":"Dimanche"},"2018-09-09",250.25,11.7,{"$f":"'[2]Détail N°7'!$L$28","v":9},0]
[null,null,null,null,null,null,null,null,null,null,null,null,null,null,{"$f":"Traduction!$A$357","v":"Dimanche"},"2018-09-09",250.375,12.6,{"$f":"'[2]Détail N°7'!$L$28","v":9},0]
[null,null,null,null,null,null,null,null,null,null,null,null,null,null,{"$f":"Traduction!$A$357","v":"Dimanche"},"2018-09-09",250.5,14.4,{"$f":"'[2]Détail N°7'!$L$28","v":9},0]
[null,null,null,null,null,null,null,null,null,null,null,null,null,null,{"$f":"Traduction!$A$357","v":"Dimanche"},"2018-09-09",250.625,15.3,{"$f":"'[2]Détail N°7'!$L$28","v":9},0]
[null,null,null,null,null,null,null,null,null,null,null,null,null,null,{"$f":"Traduction!$A$357","v":"Dimanche"},"2018-09-09",250.833333333333,12.9,{"$f":"'[2]Détail N°7'!$L$28","v":9},0]
[null,null,null,null,null,null,null,null,null,null,null,null,null,null,{"$f":"Traduction!$A$357","v":"Dimanche"},"2018-09-09",250.958333333333,11,{"$f":"'[2]Détail N°7'!$L$28","v":9},0]
[null,null,null,null,null,null,null,null,null,null,null,null,null,null,{"$f":"Traduction!$A$351","v":"Lundi "},"2018-09-10",251.125,10.1,{"$f":"'[2]Détail N°7'!$L$28","v":9},0]
[null,null,null,null,null,null,null,null,null,null,null,null,null,null,{"$f":"Traduction!$A$351","v":"Lundi "},"2018-09-10",251.166666666667,10,{"$f":"'[2]Détail N°7'!$L$28","v":9},0]
[null,null,null,null,null,null,null,null,null,null,null,null,null,null,{"$f":"Traduction!$A$351","v":"Lundi "},"2018-09-10",251.416666666667,12.8,{"$f":"'[2]Détail N°7'!$L$28","v":9},0]
[null,null,null,null,null,null,null,null,null,null,null,null,null,null,{"$f":"Traduction!$A$351","v":"Lundi "},"2018-09-10",251.458333333333,13.6,{"$f":"'[2]Détail N°7'!$L$28","v":9},0]
[null,null,null,null,null,null,null,null,null,null,null,null,null,null,{"$f":"Traduction!$A$351","v":"Lundi "},"2018-09-10",251.708333333333,14.7,{"$f":"'[2]Détail N°7'!$L$28","v":9},0]
[null,null,null,null,null,null,null,null,null,null,null,null,null,null,{"$f":"Traduction!$A$351","v":"Lundi "},"2018-09-10",251.75,14.5,{"$f":"'[2]Détail N°7'!$L$28","v":9},0]
[null,null,null,null,null,null,null,null,null,null,null,null,null,null,{"$f":"Traduction!$A$351","v":"Lundi "},"2018-09-10",251.916666666667,12.3,{"$f":"'[2]Détail N°7'!$L$28","v":9},0]
[null,null,null,null,null,null,null,null,null,null,null,null,null,null,{"$f":"Traduction!$A$352","v":"Mardi"},"2018-09-11",252.083333333333,10.1,{"$f":"'[2]Détail N°7'!$L$28","v":9},0]
[null,null,null,null,null,null,null,null,null,null,null,null,null,null,{"$f":"Traduction!$A$352","v":"Mardi"},"2018-09-11",252.25,8.6999999999999993,{"$f":"'[2]Détail N°7'!$L$28","v":9},1]
[null,null,null,null,null,null,null,null,null,null,null,null,null,null,{"$f":"Traduction!$A$352","v":"Mardi"},"2018-09-11",252.375,10.6,{"$f":"'[2]Détail N°7'!$L$28","v":9},0]
[null,null,null,null,null,null,null,null,null,null,null,null,null,null,{"$f":"Traduction!$A$352","v":"Mardi"},"2018-09-11",252.5,12.3,{"$f":"'[2]Détail N°7'!$L$28","v":9},0]
[null,null,null,null,null,null,null,null,null,null,null,null,null,null,{"$f":"Traduction!$A$352","v":"Mardi"},"2018-09-11",252.625,13,{"$f":"'[2]Détail N°7'!$L$28","v":9},0]
[null,null,null,null,null,null,null,null,null,null,null,null,null,null,{"$f":"Traduction!$A$352","v":"Mardi"},"2018-09-11",252.708333333333,12.5,{"$f":"'[2]Détail N°7'!$L$28","v":9},0]
[null,null,null,null,null,null,null,null,null,null,null,null,null,null,{"$f":"Traduction!$A$352","v":"Mardi"},"2018-09-11",252.833333333333,10.9,{"$f":"'[2]Détail N°7'!$L$28","v":9},0]
[null,null,null,null,null,null,null,null,null,null,null,null,null,null,{"$f":"Traduction!$A$352","v":"Mardi"},"2018-09-11",253,8.6999999999999993,{"$f":"'[2]Détail N°7'!$L$28","v":9},1]
[null,null,null,null,null,null,null,null,null,null,null,null,null,null,{"$f":"Traduction!$A$353","v":"Mercredi"},"2018-09-12",253.166666666667,7.1,{"$f":"'[2]Détail N°7'!$L$28","v":9},1]
[null,null,null,null,null,null,null,null,null,null,null,null,null,null,{"$f":"Traduction!$A$353","v":"Mercredi"},"2018-09-12",253.333333333333,8.1999999999999993,{"$f":"'[2]Détail N°7'!$L$28","v":9},1]
[null,null,null,null,null,null,null,null,null,null,null,null,null,null,{"$f":"Traduction!$A$353","v":"Mercredi"},"2018-09-12",253.375,9.6999999999999993,{"$f":"'[2]Détail N°7'!$L$28","v":9},0]
[null,null,null,null,null,null,null,null,null,null,null,null,null,null,{"$f":"Traduction!$A$353","v":"Mercredi"},"2018-09-12",253.625,13.4,{"$f":"'[2]Détail N°7'!$L$28","v":9},0]
[null,null,null,null,null,null,null,null,null,null,null,null,null,null,{"$f":"Traduction!$A$353","v":"Mercredi"},"2018-09-12",253.666666666667,13.4,{"$f":"'[2]Détail N°7'!$L$28","v":9},0]
[null,null,null,null,null,null,null,null,null,null,null,null,null,null,{"$f":"Traduction!$A$353","v":"Mercredi"},"2018-09-12",253.791666666667,11.3,{"$f":"'[2]Détail N°7'!$L$28","v":9},0]
[null,null,null,null,null,null,null,null,null,null,null,null,null,null,{"$f":"Traduction!$A$353","v":"Mercredi"},"2018-09-12",253.916666666667,9.6999999999999993,{"$f":"'[2]Détail N°7'!$L$28","v":9},0]
[null,null,null,null,null,null,null,null,null,null,null,null,null,null,{"$f":"Traduction!$A$354","v":"Jeudi"},"2018-09-13",254.125,8.4,{"$f":"'[2]Détail N°7'!$L$28","v":9},1]
[null,null,null,null,null,null,null,null,null,null,null,null,null,null,{"$f":"Traduction!$A$354","v":"Jeudi"},"2018-09-13",254.25,8.3000000000000007,{"$f":"'[2]Détail N°7'!$L$28","v":9},1]
[null,null,null,null,null,null,null,null,null,null,null,null,null,null,{"$f":"Traduction!$A$354","v":"Jeudi"},"2018-09-13",254.458333333333,14,{"$f":"'[2]Détail N°7'!$L$28","v":9},0]
[null,null,null,null,null,null,null,null,null,null,null,null,null,null,{"$f":"Traduction!$A$354","v":"Jeudi"},"2018-09-13",254.583333333333,15.6,{"$f":"'[2]Détail N°7'!$L$28","v":9},0]
[null,null,null,null,null,null,null,null,null,null,null,null,null,null,{"$f":"Traduction!$A$354","v":"Jeudi"},"2018-09-13",254.708333333333,14.9,{"$f":"'[2]Détail N°7'!$L$28","v":9},0]
[null,null,null,null,null,null,null,null,null,null,null,null,null,null,{"$f":"Traduction!$A$354","v":"Jeudi"},"2018-09-13",254.833333333333,12.8,{"$f":"'[2]Détail N°7'!$L$28","v":9},0]
[null,null,null,null,null,null,null,null,null,null,null,null,null,null,{"$f":"Traduction!$A$354","v":"Jeudi"},"2018-09-13",254.916666666667,11.8,{"$f":"'[2]Détail N°7'!$L$28","v":9},0]
[null,null,null,null,null,null,null,null,null,null,null,null,null,null,{"$f":"Traduction!$A$355","v":"Vendredi"},"2018-09-14",255.083333333333,9.8000000000000007,{"$f":"'[2]Détail N°7'!$L$28","v":9},{"$f":"IF(R6487<=S6487,1,0)","v":0}]
[null,null,null,null,null,null,null,null,null,null,null,null,null,null,{"$f":"Traduction!$A$355","v":"Vendredi"},"2018-09-14",255.208333333333,8.6999999999999993,{"$f":"'[2]Détail N°7'!$L$28","v":9},1]
[null,null,null,null,null,null,null,null,null,null,null,null,null,null,{"$f":"Traduction!$A$355","v":"Vendredi"},"2018-09-14",255.375,8.9,{"$f":"'[2]Détail N°7'!$L$28","v":9},1]
[null,null,null,null,null,null,null,null,null,null,null,null,null,null,{"$f":"Traduction!$A$355","v":"Vendredi"},"2018-09-14",255.541666666667,11.5,{"$f":"'[2]Détail N°7'!$L$28","v":9},0]
[null,null,null,null,null,null,null,null,null,null,null,null,null,null,{"$f":"Traduction!$A$355","v":"Vendredi"},"2018-09-14",255.666666666667,14.5,{"$f":"'[2]Détail N°7'!$L$28","v":9},0]
[null,null,null,null,null,null,null,null,null,null,null,null,null,null,{"$f":"Traduction!$A$355","v":"Vendredi"},"2018-09-14",255.75,14,{"$f":"'[2]Détail N°7'!$L$28","v":9},0]
[null,null,null,null,null,null,null,null,null,null,null,null,null,null,{"$f":"Traduction!$A$355","v":"Vendredi"},"2018-09-14",255.875,12.9,{"$f":"'[2]Détail N°7'!$L$28","v":9},0]
[null,null,null,null,null,null,null,null,null,null,null,null,null,null,{"$f":"Traduction!$A$355","v":"Vendredi"},"2018-09-14",256,12.3,{"$f":"'[2]Détail N°7'!$L$28","v":9},0]
[null,null,null,null,null,null,null,null,null,null,null,null,null,null,{"$f":"Traduction!$A$356","v":"Samedi"},"2018-09-15",256.125,12,{"$f":"'[2]Détail N°7'!$L$28","v":9},0]
[null,null,null,null,null,null,null,null,null,null,null,null,null,null,{"$f":"Traduction!$A$356","v":"Samedi"},"2018-09-15",256.33333333333297,13.8,{"$f":"'[2]Détail N°7'!$L$28","v":9},0]
[null,null,null,null,null,null,null,null,null,null,null,null,null,null,{"$f":"Traduction!$A$356","v":"Samedi"},"2018-09-15",256.45833333333297,18.899999999999999,{"$f":"'[2]Détail N°7'!$L$28","v":9},0]
[null,null,null,null,null,null,null,null,null,null,null,null,null,null,{"$f":"Traduction!$A$356","v":"Samedi"},"2018-09-15",256.625,21.5,{"$f":"'[2]Détail N°7'!$L$28","v":9},0]
[null,null,null,null,null,null,null,null,null,null,null,null,null,null,{"$f":"Traduction!$A$356","v":"Samedi"},"2018-09-15",256.66666666666703,21.5,{"$f":"'[2]Détail N°7'!$L$28","v":9},0]
[null,null,null,null,null,null,null,null,null,null,null,null,null,null,{"$f":"Traduction!$A$356","v":"Samedi"},"2018-09-15",256.83333333333297,18.3,{"$f":"'[2]Détail N°7'!$L$28","v":9},0]
[null,null,null,null,null,null,null,null,null,null,null,null,null,null,{"$f":"Traduction!$A$356","v":"Samedi"},"2018-09-15",256.95833333333297,15.7,{"$f":"'[2]Détail N°7'!$L$28","v":9},0]
[null,null,null,null,null,null,null,null,null,null,null,null,null,null,{"$f":"Traduction!$A$357","v":"Dimanche"},"2018-09-16",257.20833333333297,11.3,{"$f":"'[2]Détail N°7'!$L$28","v":9},0]
[null,null,null,null,null,null,null,null,null,null,null,null,null,null,{"$f":"Traduction!$A$357","v":"Dimanche"},"2018-09-16",257.29166666666703,11.1,{"$f":"'[2]Détail N°7'!$L$28","v":9},0]
[null,null,null,null,null,null,null,null,null,null,null,null,null,null,{"$f":"Traduction!$A$357","v":"Dimanche"},"2018-09-16",257.41666666666703,14.2,{"$f":"'[2]Détail N°7'!$L$28","v":9},0]
[null,null,null,null,null,null,null,null,null,null,null,null,null,null,{"$f":"Traduction!$A$357","v":"Dimanche"},"2018-09-16",257.58333333333297,16.7,{"$f":"'[2]Détail N°7'!$L$28","v":9},0]
[null,null,null,null,null,null,null,null,null,null,null,null,null,null,{"$f":"Traduction!$A$357","v":"Dimanche"},"2018-09-16",257.75,15.4,{"$f":"'[2]Détail N°7'!$L$28","v":9},{"$f":"IF(R6551<=S6551,1,0)","v":0}]
[null,null,null,null,null,null,null,null,null,null,null,null,null,null,{"$f":"Traduction!$A$357","v":"Dimanche"},"2018-09-16",257.875,13.1,{"$f":"'[2]Détail N°7'!$L$28","v":9},0]
[null,null,null,null,null,null,null,null,null,null,null,null,null,null,{"$f":"Traduction!$A$357","v":"Dimanche"},"2018-09-16",257.91666666666703,12.4,{"$f":"'[2]Détail N°7'!$L$28","v":9},0]
[null,null,null,null,null,null,null,null,null,null,null,null,null,null,{"$f":"Traduction!$A$351","v":"Lundi "},"2018-09-17",258.125,9.3000000000000007,{"$f":"'[2]Détail N°7'!$L$28","v":9},0]
[null,null,null,null,null,null,null,null,null,null,null,null,null,null,{"$f":"Traduction!$A$351","v":"Lundi "},"2018-09-17",258.20833333333297,8.6999999999999993,{"$f":"'[2]Détail N°7'!$L$28","v":9},1]
[null,null,null,null,null,null,null,null,null,null,null,null,null,null,{"$f":"Traduction!$A$351","v":"Lundi "},"2018-09-17",258.375,12.5,{"$f":"'[2]Détail N°7'!$L$28","v":9},0]
[null,null,null,null,null,null,null,null,null,null,null,null,null,null,{"$f":"Traduction!$A$351","v":"Lundi "},"2018-09-17",258.5,17.3,{"$f":"'[2]Détail N°7'!$L$28","v":9},0]
[null,null,null,null,null,null,null,null,null,null,null,null,null,null,{"$f":"Traduction!$A$351","v":"Lundi "},"2018-09-17",258.70833333333297,18.600000000000001,{"$f":"'[2]Détail N°7'!$L$28","v":9},0]
[null,null,null,null,null,null,null,null,null,null,null,null,null,null,{"$f":"Traduction!$A$351","v":"Lundi "},"2018-09-17",258.83333333333297,15.7,{"$f":"'[2]Détail N°7'!$L$28","v":9},0]
[null,null,null,null,null,null,null,null,null,null,null,null,null,null,{"$f":"Traduction!$A$351","v":"Lundi "},"2018-09-17",258.875,15.2,{"$f":"'[2]Détail N°7'!$L$28","v":9},0]
[null,null,null,null,null,null,null,null,null,null,null,null,null,null,{"$f":"Traduction!$A$352","v":"Mardi"},"2018-09-18",259.04166666666703,13.6,{"$f":"'[2]Détail N°7'!$L$28","v":9},0]
[null,null,null,null,null,null,null,null,null,null,null,null,null,null,{"$f":"Traduction!$A$352","v":"Mardi"},"2018-09-18",259.16666666666703,13,{"$f":"'[2]Détail N°7'!$L$28","v":9},0]
[null,null,null,null,null,null,null,null,null,null,null,null,null,null,{"$f":"Traduction!$A$352","v":"Mardi"},"2018-09-18",259.29166666666703,12.9,{"$f":"'[2]Détail N°7'!$L$28","v":9},0]
[null,null,null,null,null,null,null,null,null,null,null,null,null,null,{"$f":"Traduction!$A$352","v":"Mardi"},"2018-09-18",259.41666666666703,17.600000000000001,{"$f":"'[2]Détail N°7'!$L$28","v":9},0]
[null,null,null,null,null,null,null,null,null,null,null,null,null,null,{"$f":"Traduction!$A$352","v":"Mardi"},"2018-09-18",259.625,22.2,{"$f":"'[2]Détail N°7'!$L$28","v":9},0]
[null,null,null,null,null,null,null,null,null,null,null,null,null,null,{"$f":"Traduction!$A$352","v":"Mardi"},"2018-09-18",259.79166666666703,19.7,{"$f":"'[2]Détail N°7'!$L$28","v":9},0]
[null,null,null,null,null,null,null,null,null,null,null,null,null,null,{"$f":"Traduction!$A$352","v":"Mardi"},"2018-09-18",259.95833333333297,17.7,{"$f":"'[2]Détail N°7'!$L$28","v":9},0]
[null,null,null,null,null,null,null,null,null,null,null,null,null,null,{"$f":"Traduction!$A$353","v":"Mercredi"},"2018-09-19",260.08333333333297,16.2,{"$f":"'[2]Détail N°7'!$L$28","v":9},0]
[null,null,null,null,null,null,null,null,null,null,null,null,null,null,{"$f":"Traduction!$A$353","v":"Mercredi"},"2018-09-19",260.125,15.8,{"$f":"'[2]Détail N°7'!$L$28","v":9},0]
[null,null,null,null,null,null,null,null,null,null,null,null,null,null,{"$f":"Traduction!$A$353","v":"Mercredi"},"2018-09-19",260.33333333333297,16.5,{"$f":"'[2]Détail N°7'!$L$28","v":9},0]
[null,null,null,null,null,null,null,null,null,null,null,null,null,null,{"$f":"Traduction!$A$353","v":"Mercredi"},"2018-09-19",260.41666666666703,18.399999999999999,{"$f":"'[2]Détail N°7'!$L$28","v":9},{"$f":"IF(R6615<=S6615,1,0)","v":0}]
[null,null,null,null,null,null,null,null,null,null,null,null,null,null,{"$f":"Traduction!$A$353","v":"Mercredi"},"2018-09-19",260.58333333333297,22.1,{"$f":"'[2]Détail N°7'!$L$28","v":9},0]
[null,null,null,null,null,null,null,null,null,null,null,null,null,null,{"$f":"Traduction!$A$353","v":"Mercredi"},"2018-09-19",260.70833333333297,22.5,{"$f":"'[2]Détail N°7'!$L$28","v":9},0]
[null,null,null,null,null,null,null,null,null,null,null,null,null,null,{"$f":"Traduction!$A$353","v":"Mercredi"},"2018-09-19",260.91666666666703,19.100000000000001,{"$f":"'[2]Détail N°7'!$L$28","v":9},0]
[null,null,null,null,null,null,null,null,null,null,null,null,null,null,{"$f":"Traduction!$A$354","v":"Jeudi"},"2018-09-20",261.04166666666703,17.399999999999999,{"$f":"'[2]Détail N°7'!$L$28","v":9},0]
[null,null,null,null,null,null,null,null,null,null,null,null,null,null,{"$f":"Traduction!$A$354","v":"Jeudi"},"2018-09-20",261.16666666666703,16.100000000000001,{"$f":"'[2]Détail N°7'!$L$28","v":9},0]
[null,null,null,null,null,null,null,null,null,null,null,null,null,null,{"$f":"Traduction!$A$354","v":"Jeudi"},"2018-09-20",261.25,15.7,{"$f":"'[2]Détail N°7'!$L$28","v":9},0]
[null,null,null,null,null,null,null,null,null,null,null,null,null,null,{"$f":"Traduction!$A$354","v":"Jeudi"},"2018-09-20",261.375,18.399999999999999,{"$f":"'[2]Détail N°7'!$L$28","v":9},0]
[null,null,null,null,null,null,null,null,null,null,null,null,null,null,{"$f":"Traduction!$A$354","v":"Jeudi"},"2018-09-20",261.54166666666703,22.1,{"$f":"'[2]Détail N°7'!$L$28","v":9},0]
[null,null,null,null,null,null,null,null,null,null,null,null,null,null,{"$f":"Traduction!$A$354","v":"Jeudi"},"2018-09-20",261.625,22.8,{"$f":"'[2]Détail N°7'!$L$28","v":9},0]
[null,null,null,null,null,null,null,null,null,null,null,null,null,null,{"$f":"Traduction!$A$354","v":"Jeudi"},"2018-09-20",261.83333333333297,20.3,{"$f":"'[2]Détail N°7'!$L$28","v":9},0]
[null,null,null,null,null,null,null,null,null,null,null,null,null,null,{"$f":"Traduction!$A$354","v":"Jeudi"},"2018-09-20",262,16.899999999999999,{"$f":"'[2]Détail N°7'!$L$28","v":9},0]
[null,null,null,null,null,null,null,null,null,null,null,null,null,null,{"$f":"Traduction!$A$355","v":"Vendredi"},"2018-09-21",262.16666666666703,14.4,{"$f":"'[2]Détail N°7'!$L$28","v":9},0]
[null,null,null,null,null,null,null,null,null,null,null,null,null,null,{"$f":"Traduction!$A$355","v":"Vendredi"},"2018-09-21",262.29166666666703,13.9,{"$f":"'[2]Détail N°7'!$L$28","v":9},0]
[null,null,null,null,null,null,null,null,null,null,null,null,null,null,{"$f":"Traduction!$A$355","v":"Vendredi"},"2018-09-21",262.33333333333297,15.5,{"$f":"'[2]Détail N°7'!$L$28","v":9},0]
[null,null,null,null,null,null,null,null,null,null,null,null,null,null,{"$f":"Traduction!$A$355","v":"Vendredi"},"2018-09-21",262.45833333333297,20.2,{"$f":"'[2]Détail N°7'!$L$28","v":9},0]
[null,null,null,null,null,null,null,null,null,null,null,null,null,null,{"$f":"Traduction!$A$355","v":"Vendredi"},"2018-09-21",262.70833333333297,22.5,{"$f":"'[2]Détail N°7'!$L$28","v":9},0]
[null,null,null,null,null,null,null,null,null,null,null,null,null,null,{"$f":"Traduction!$A$355","v":"Vendredi"},"2018-09-21",262.79166666666703,20.3,{"$f":"'[2]Détail N°7'!$L$28","v":9},0]
[null,null,null,null,null,null,null,null,null,null,null,null,null,null,{"$f":"Traduction!$A$355","v":"Vendredi"},"2018-09-21",262.91666666666703,17.899999999999999,{"$f":"'[2]Détail N°7'!$L$28","v":9},0]
[null,null,null,null,null,null,null,null,null,null,null,null,null,null,{"$f":"Traduction!$A$356","v":"Samedi"},"2018-09-22",263.08333333333297,15.1,{"$f":"'[2]Détail N°7'!$L$28","v":9},{"$f":"IF(R6679<=S6679,1,0)","v":0}]
[null,null,null,null,null,null,null,null,null,null,null,null,null,null,{"$f":"Traduction!$A$356","v":"Samedi"},"2018-09-22",263.25,13.7,{"$f":"'[2]Détail N°7'!$L$28","v":9},0]
[null,null,null,null,null,null,null,null,null,null,null,null,null,null,{"$f":"Traduction!$A$356","v":"Samedi"},"2018-09-22",263.29166666666703,13.7,{"$f":"'[2]Détail N°7'!$L$28","v":9},0]
[null,null,null,null,null,null,null,null,null,null,null,null,null,null,{"$f":"Traduction!$A$356","v":"Samedi"},"2018-09-22",263.45833333333297,16.2,{"$f":"'[2]Détail N°7'!$L$28","v":9},0]
[null,null,null,null,null,null,null,null,null,null,null,null,null,null,{"$f":"Traduction!$A$356","v":"Samedi"},"2018-09-22",263.58333333333297,17.2,{"$f":"'[2]Détail N°7'!$L$28","v":9},0]
[null,null,null,null,null,null,null,null,null,null,null,null,null,null,{"$f":"Traduction!$A$356","v":"Samedi"},"2018-09-22",263.75,16.5,{"$f":"'[2]Détail N°7'!$L$28","v":9},0]
[null,null,null,null,null,null,null,null,null,null,null,null,null,null,{"$f":"Traduction!$A$356","v":"Samedi"},"2018-09-22",263.875,14.5,{"$f":"'[2]Détail N°7'!$L$28","v":9},0]
[null,null,null,null,null,null,null,null,null,null,null,null,null,null,{"$f":"Traduction!$A$356","v":"Samedi"},"2018-09-22",264,12.2,{"$f":"'[2]Détail N°7'!$L$28","v":9},0]
[null,null,null,null,null,null,null,null,null,null,null,null,null,null,{"$f":"Traduction!$A$357","v":"Dimanche"},"2018-09-23",264.20833333333297,8.3000000000000007,{"$f":"'[2]Détail N°7'!$L$28","v":9},1]
[null,null,null,null,null,null,null,null,null,null,null,null,null,null,{"$f":"Traduction!$A$357","v":"Dimanche"},"2018-09-23",264.33333333333297,8.1999999999999993,{"$f":"'[2]Détail N°7'!$L$28","v":9},1]
[null,null,null,null,null,null,null,null,null,null,null,null,null,null,{"$f":"Traduction!$A$357","v":"Dimanche"},"2018-09-23",264.375,8.6999999999999993,{"$f":"'[2]Détail N°7'!$L$28","v":9},1]
[null,null,null,null,null,null,null,null,null,null,null,null,null,null,{"$f":"Traduction!$A$357","v":"Dimanche"},"2018-09-23",264.54166666666703,10.3,{"$f":"'[2]Détail N°7'!$L$28","v":9},0]
[null,null,null,null,null,null,null,null,null,null,null,null,null,null,{"$f":"Traduction!$A$357","v":"Dimanche"},"2018-09-23",264.66666666666703,10.5,{"$f":"'[2]Détail N°7'!$L$28","v":9},0]
[null,null,null,null,null,null,null,null,null,null,null,null,null,null,{"$f":"Traduction!$A$357","v":"Dimanche"},"2018-09-23",264.91666666666703,8.8000000000000007,{"$f":"'[2]Détail N°7'!$L$28","v":9},1]
[null,null,null,null,null,null,null,null,null,null,null,null,null,null,{"$f":"Traduction!$A$357","v":"Dimanche"},"2018-09-23",265,8.5,{"$f":"'[2]Détail N°7'!$L$28","v":9},1]
[null,null,null,null,null,null,null,null,null,null,null,null,null,null,{"$f":"Traduction!$A$351","v":"Lundi "},"2018-09-24",265.125,9.5,{"$f":"'[2]Détail N°7'!$L$28","v":9},0]
[null,null,null,null,null,null,null,null,null,null,null,null,null,null,{"$f":"Traduction!$A$351","v":"Lundi "},"2018-09-24",265.29166666666703,10,{"$f":"'[2]Détail N°7'!$L$28","v":9},0]
[null,null,null,null,null,null,null,null,null,null,null,null,null,null,{"$f":"Traduction!$A$351","v":"Lundi "},"2018-09-24",265.45833333333297,13.7,{"$f":"'[2]Détail N°7'!$L$28","v":9},0]
[null,null,null,null,null,null,null,null,null,null,null,null,null,null,{"$f":"Traduction!$A$351","v":"Lundi "},"2018-09-24",265.5,14.6,{"$f":"'[2]Détail N°7'!$L$28","v":9},0]
[null,null,null,null,null,null,null,null,null,null,null,null,null,null,{"$f":"Traduction!$A$351","v":"Lundi "},"2018-09-24",265.625,15.7,{"$f":"'[2]Détail N°7'!$L$28","v":9},0]
[null,null,null,null,null,null,null,null,null,null,null,null,null,null,{"$f":"Traduction!$A$351","v":"Lundi "},"2018-09-24",265.83333333333297,14.1,{"$f":"'[2]Détail N°7'!$L$28","v":9},0]
[null,null,null,null,null,null,null,null,null,null,null,null,null,null,{"$f":"Traduction!$A$351","v":"Lundi "},"2018-09-24",265.95833333333297,14.2,{"$f":"'[2]Détail N°7'!$L$28","v":9},0]
[null,null,null,null,null,null,null,null,null,null,null,null,null,null,{"$f":"Traduction!$A$352","v":"Mardi"},"2018-09-25",266.08333333333297,12.2,{"$f":"'[2]Détail N°7'!$L$28","v":9},0]
[null,null,null,null,null,null,null,null,null,null,null,null,null,null,{"$f":"Traduction!$A$352","v":"Mardi"},"2018-09-25",266.20833333333297,13.7,{"$f":"'[2]Détail N°7'!$L$28","v":9},0]
[null,null,null,null,null,null,null,null,null,null,null,null,null,null,{"$f":"Traduction!$A$352","v":"Mardi"},"2018-09-25",266.41666666666703,14.8,{"$f":"'[2]Détail N°7'!$L$28","v":9},0]
[null,null,null,null,null,null,null,null,null,null,null,null,null,null,{"$f":"Traduction!$A$352","v":"Mardi"},"2018-09-25",266.54166666666703,15.7,{"$f":"'[2]Détail N°7'!$L$28","v":9},0]
[null,null,null,null,null,null,null,null,null,null,null,null,null,null,{"$f":"Traduction!$A$352","v":"Mardi"},"2018-09-25",266.58333333333297,15.9,{"$f":"'[2]Détail N°7'!$L$28","v":9},0]
[null,null,null,null,null,null,null,null,null,null,null,null,null,null,{"$f":"Traduction!$A$352","v":"Mardi"},"2018-09-25",266.75,15.5,{"$f":"'[2]Détail N°7'!$L$28","v":9},0]
[null,null,null,null,null,null,null,null,null,null,null,null,null,null,{"$f":"Traduction!$A$352","v":"Mardi"},"2018-09-25",266.875,14.9,{"$f":"'[2]Détail N°7'!$L$28","v":9},0]
[null,null,null,null,null,null,null,null,null,null,null,null,null,null,{"$f":"Traduction!$A$353","v":"Mercredi"},"2018-09-26",267.04166666666703,14.2,{"$f":"'[2]Détail N°7'!$L$28","v":9},0]
[null,null,null,null,null,null,null,null,null,null,null,null,null,null,{"$f":"Traduction!$A$353","v":"Mercredi"},"2018-09-26",267.125,14,{"$f":"'[2]Détail N°7'!$L$28","v":9},0]
[null,null,null,null,null,null,null,null,null,null,null,null,null,null,{"$f":"Traduction!$A$353","v":"Mercredi"},"2018-09-26",267.375,15.4,{"$f":"'[2]Détail N°7'!$L$28","v":9},0]
[null,null,null,null,null,null,null,null,null,null,null,null,null,null,{"$f":"Traduction!$A$353","v":"Mercredi"},"2018-09-26",267.5,17.399999999999999,{"$f":"'[2]Détail N°7'!$L$28","v":9},0]
[null,null,null,null,null,null,null,null,null,null,null,null,null,null,{"$f":"Traduction!$A$353","v":"Mercredi"},"2018-09-26",267.66666666666703,17.8,{"$f":"'[2]Détail N°7'!$L$28","v":9},0]
[null,null,null,null,null,null,null,null,null,null,null,null,null,null,{"$f":"Traduction!$A$353","v":"Mercredi"},"2018-09-26",267.70833333333297,17.8,{"$f":"'[2]Détail N°7'!$L$28","v":9},0]
[null,null,null,null,null,null,null,null,null,null,null,null,null,null,{"$f":"Traduction!$A$353","v":"Mercredi"},"2018-09-26",267.83333333333297,16.3,{"$f":"'[2]Détail N°7'!$L$28","v":9},0]
[null,null,null,null,null,null,null,null,null,null,null,null,null,null,{"$f":"Traduction!$A$353","v":"Mercredi"},"2018-09-26",267.95833333333297,14.2,{"$f":"'[2]Détail N°7'!$L$28","v":9},0]
[null,null,null,null,null,null,null,null,null,null,null,null,null,null,{"$f":"Traduction!$A$354","v":"Jeudi"},"2018-09-27",268.20833333333297,10.4,{"$f":"'[2]Détail N°7'!$L$28","v":9},0]
[null,null,null,null,null,null,null,null,null,null,null,null,null,null,{"$f":"Traduction!$A$354","v":"Jeudi"},"2018-09-27",268.29166666666703,10.1,{"$f":"'[2]Détail N°7'!$L$28","v":9},0]
[null,null,null,null,null,null,null,null,null,null,null,null,null,null,{"$f":"Traduction!$A$354","v":"Jeudi"},"2018-09-27",268.45833333333297,15.8,{"$f":"'[2]Détail N°7'!$L$28","v":9},0]
[null,null,null,null,null,null,null,null,null,null,null,null,null,null,{"$f":"Traduction!$A$354","v":"Jeudi"},"2018-09-27",268.58333333333297,18.5,{"$f":"'[2]Détail N°7'!$L$28","v":9},0]
[null,null,null,null,null,null,null,null,null,null,null,null,null,null,{"$f":"Traduction!$A$354","v":"Jeudi"},"2018-09-27",268.75,17,{"$f":"'[2]Détail N°7'!$L$28","v":9},0]
[null,null,null,null,null,null,null,null,null,null,null,null,null,null,{"$f":"Traduction!$A$354","v":"Jeudi"},"2018-09-27",268.79166666666703,15.8,{"$f":"'[2]Détail N°7'!$L$28","v":9},0]
[null,null,null,null,null,null,null,null,null,null,null,null,null,null,{"$f":"Traduction!$A$354","v":"Jeudi"},"2018-09-27",268.95833333333297,13.8,{"$f":"'[2]Détail N°7'!$L$28","v":9},0]
[null,null,null,null,null,null,null,null,null,null,null,null,null,null,{"$f":"Traduction!$A$355","v":"Vendredi"},"2018-09-28",269.125,12.5,{"$f":"'[2]Détail N°7'!$L$28","v":9},0]
[null,null,null,null,null,null,null,null,null,null,null,null,null,null,{"$f":"Traduction!$A$355","v":"Vendredi"},"2018-09-28",269.25,12.1,{"$f":"'[2]Détail N°7'!$L$28","v":9},0]
[null,null,null,null,null,null,null,null,null,null,null,null,null,null,{"$f":"Traduction!$A$355","v":"Vendredi"},"2018-09-28",269.375,13.5,{"$f":"'[2]Détail N°7'!$L$28","v":9},0]
[null,null,null,null,null,null,null,null,null,null,null,null,null,null,{"$f":"Traduction!$A$355","v":"Vendredi"},"2018-09-28",269.5,15.9,{"$f":"'[2]Détail N°7'!$L$28","v":9},0]
[null,null,null,null,null,null,null,null,null,null,null,null,null,null,{"$f":"Traduction!$A$355","v":"Vendredi"},"2018-09-28",269.70833333333297,16.3,{"$f":"'[2]Détail N°7'!$L$28","v":9},0]
[null,null,null,null,null,null,null,null,null,null,null,null,null,null,{"$f":"Traduction!$A$355","v":"Vendredi"},"2018-09-28",269.83333333333297,15,{"$f":"'[2]Détail N°7'!$L$28","v":9},0]
[null,null,null,null,null,null,null,null,null,null,null,null,null,null,{"$f":"Traduction!$A$355","v":"Vendredi"},"2018-09-28",269.875,14.9,{"$f":"'[2]Détail N°7'!$L$28","v":9},0]
[null,null,null,null,null,null,null,null,null,null,null,null,null,null,{"$f":"Traduction!$A$356","v":"Samedi"},"2018-09-29",270.04166666666703,14.3,{"$f":"'[2]Détail N°7'!$L$28","v":9},0]
[null,null,null,null,null,null,null,null,null,null,null,null,null,null,{"$f":"Traduction!$A$356","v":"Samedi"},"2018-09-29",270.20833333333297,14.3,{"$f":"'[2]Détail N°7'!$L$28","v":9},0]
[null,null,null,null,null,null,null,null,null,null,null,null,null,null,{"$f":"Traduction!$A$356","v":"Samedi"},"2018-09-29",270.41666666666703,17.5,{"$f":"'[2]Détail N°7'!$L$28","v":9},0]
[null,null,null,null,null,null,null,null,null,null,null,null,null,null,{"$f":"Traduction!$A$356","v":"Samedi"},"2018-09-29",270.5,20.399999999999999,{"$f":"'[2]Détail N°7'!$L$28","v":9},0]
[null,null,null,null,null,null,null,null,null,null,null,null,null,null,{"$f":"Traduction!$A$356","v":"Samedi"},"2018-09-29",270.66666666666703,19.7,{"$f":"'[2]Détail N°7'!$L$28","v":9},0]
[null,null,null,null,null,null,null,null,null,null,null,null,null,null,{"$f":"Traduction!$A$356","v":"Samedi"},"2018-09-29",270.79166666666703,17.899999999999999,{"$f":"'[2]Détail N°7'!$L$28","v":9},0]
[null,null,null,null,null,null,null,null,null,null,null,null,null,null,{"$f":"Traduction!$A$356","v":"Samedi"},"2018-09-29",270.95833333333297,15.9,{"$f":"'[2]Détail N°7'!$L$28","v":9},0]
[null,null,null,null,null,null,null,null,null,null,null,null,null,null,{"$f":"Traduction!$A$356","v":"Samedi"},"2018-09-29",271,15.4,{"$f":"'[2]Détail N°7'!$L$28","v":9},0]
[null,null,null,null,null,null,null,null,null,null,null,null,null,null,{"$f":"Traduction!$A$357","v":"Dimanche"},"2018-09-30",271.125,12,{"$f":"'[2]Détail N°7'!$L$28","v":9},0]
[null,null,null,null,null,null,null,null,null,null,null,null,null,null,{"$f":"Traduction!$A$357","v":"Dimanche"},"2018-09-30",271.33333333333297,11,{"$f":"'[2]Détail N°7'!$L$28","v":9},0]
[null,null,null,null,null,null,null,null,null,null,null,null,null,null,{"$f":"Traduction!$A$357","v":"Dimanche"},"2018-09-30",271.45833333333297,13.7,{"$f":"'[2]Détail N°7'!$L$28","v":9},0]
[null,null,null,null,null,null,null,null,null,null,null,null,null,null,{"$f":"Traduction!$A$357","v":"Dimanche"},"2018-09-30",271.58333333333297,15.4,{"$f":"'[2]Détail N°7'!$L$28","v":9},0]
[null,null,null,null,null,null,null,null,null,null,null,null,null,null,{"$f":"Traduction!$A$357","v":"Dimanche"},"2018-09-30",271.70833333333297,15,{"$f":"'[2]Détail N°7'!$L$28","v":9},0]
[null,null,null,null,null,null,null,null,null,null,null,null,null,null,{"$f":"Traduction!$A$357","v":"Dimanche"},"2018-09-30",271.91666666666703,13.1,{"$f":"'[2]Détail N°7'!$L$28","v":9},0]
[null,null,null,null,null,null,null,null,null,null,null,null,null,null,{"$f":"Traduction!$A$357","v":"Dimanche"},"2018-09-30",271.95833333333297,13,{"$f":"'[2]Détail N°7'!$L$28","v":9},0]
[null,null,null,null,null,null,null,null,null,null,null,null,null,null,{"$f":"Traduction!$A$351","v":"Lundi "},"2018-10-01",272.08333333333297,13.5,{"$f":"'[2]Détail N°7'!$L$28","v":9},0]
[null,null,null,null,null,null,null,null,null,null,null,null,null,null,{"$f":"Traduction!$A$351","v":"Lundi "},"2018-10-01",272.25,14.8,{"$f":"'[2]Détail N°7'!$L$28","v":9},0]
[null,null,null,null,null,null,null,null,null,null,null,null,null,null,{"$f":"Traduction!$A$351","v":"Lundi "},"2018-10-01",272.41666666666703,16.7,{"$f":"'[2]Détail N°7'!$L$28","v":9},0]
[null,null,null,null,null,null,null,null,null,null,null,null,null,null,{"$f":"Traduction!$A$351","v":"Lundi "},"2018-10-01",272.54166666666703,18.100000000000001,{"$f":"'[2]Détail N°7'!$L$28","v":9},0]
[null,null,null,null,null,null,null,null,null,null,null,null,null,null,{"$f":"Traduction!$A$351","v":"Lundi "},"2018-10-01",272.625,18.5,{"$f":"'[2]Détail N°7'!$L$28","v":9},0]
[null,null,null,null,null,null,null,null,null,null,null,null,null,null,{"$f":"Traduction!$A$351","v":"Lundi "},"2018-10-01",272.875,17.100000000000001,{"$f":"'[2]Détail N°7'!$L$28","v":9},0]
[null,null,null,null,null,null,null,null,null,null,null,null,null,null,{"$f":"Traduction!$A$351","v":"Lundi "},"2018-10-01",273,16.7,{"$f":"'[2]Détail N°7'!$L$28","v":9},0]
[null,null,null,null,null,null,null,null,null,null,null,null,null,null,{"$f":"Traduction!$A$352","v":"Mardi"},"2018-10-02",273.16666666666703,14.6,{"$f":"'[2]Détail N°7'!$L$28","v":9},0]
[null,null,null,null,null,null,null,null,null,null,null,null,null,null,{"$f":"Traduction!$A$352","v":"Mardi"},"2018-10-02",273.20833333333297,14.2,{"$f":"'[2]Détail N°7'!$L$28","v":9},0]
[null,null,null,null,null,null,null,null,null,null,null,null,null,null,{"$f":"Traduction!$A$352","v":"Mardi"},"2018-10-02",273.33333333333297,14.6,{"$f":"'[2]Détail N°7'!$L$28","v":9},0]
[null,null,null,null,null,null,null,null,null,null,null,null,null,null,{"$f":"Traduction!$A$352","v":"Mardi"},"2018-10-02",273.5,16,{"$f":"'[2]Détail N°7'!$L$28","v":9},0]
[null,null,null,null,null,null,null,null,null,null,null,null,null,null,{"$f":"Traduction!$A$352","v":"Mardi"},"2018-10-02",273.70833333333297,16.2,{"$f":"'[2]Détail N°7'!$L$28","v":9},0]
[null,null,null,null,null,null,null,null,null,null,null,null,null,null,{"$f":"Traduction!$A$352","v":"Mardi"},"2018-10-02",273.83333333333297,15.1,{"$f":"'[2]Détail N°7'!$L$28","v":9},0]
[null,null,null,null,null,null,null,null,null,null,null,null,null,null,{"$f":"Traduction!$A$352","v":"Mardi"},"2018-10-02",273.95833333333297,13.9,{"$f":"'[2]Détail N°7'!$L$28","v":9},0]
[null,null,null,null,null,null,null,null,null,null,null,null,null,null,{"$f":"Traduction!$A$353","v":"Mercredi"},"2018-10-03",274.08333333333297,13.1,{"$f":"'[2]Détail N°7'!$L$28","v":9},0]
[null,null,null,null,null,null,null,null,null,null,null,null,null,null,{"$f":"Traduction!$A$353","v":"Mercredi"},"2018-10-03",274.16666666666703,12.8,{"$f":"'[2]Détail N°7'!$L$28","v":9},0]
[null,null,null,null,null,null,null,null,null,null,null,null,null,null,{"$f":"Traduction!$A$353","v":"Mercredi"},"2018-10-03",274.29166666666703,12.7,{"$f":"'[2]Détail N°7'!$L$28","v":9},0]
[null,null,null,null,null,null,null,null,null,null,null,null,null,null,{"$f":"Traduction!$A$353","v":"Mercredi"},"2018-10-03",274.45833333333297,17.3,{"$f":"'[2]Détail N°7'!$L$28","v":9},0]
[null,null,null,null,null,null,null,null,null,null,null,null,null,null,{"$f":"Traduction!$A$353","v":"Mercredi"},"2018-10-03",274.625,20.7,{"$f":"'[2]Détail N°7'!$L$28","v":9},0]
[null,null,null,null,null,null,null,null,null,null,null,null,null,null,{"$f":"Traduction!$A$353","v":"Mercredi"},"2018-10-03",274.75,17.8,{"$f":"'[2]Détail N°7'!$L$28","v":9},0]
[null,null,null,null,null,null,null,null,null,null,null,null,null,null,{"$f":"Traduction!$A$353","v":"Mercredi"},"2018-10-03",274.91666666666703,15.3,{"$f":"'[2]Détail N°7'!$L$28","v":9},0]
[null,null,null,null,null,null,null,null,null,null,null,null,null,null,{"$f":"Traduction!$A$353","v":"Mercredi"},"2018-10-03",275,14.1,{"$f":"'[2]Détail N°7'!$L$28","v":9},0]
[null,null,null,null,null,null,null,null,null,null,null,null,null,null,{"$f":"Traduction!$A$354","v":"Jeudi"},"2018-10-04",275.20833333333297,11.3,{"$f":"'[2]Détail N°7'!$L$28","v":9},0]
[null,null,null,null,null,null,null,null,null,null,null,null,null,null,{"$f":"Traduction!$A$354","v":"Jeudi"},"2018-10-04",275.25,11.1,{"$f":"'[2]Détail N°7'!$L$28","v":9},0]
[null,null,null,null,null,null,null,null,null,null,null,null,null,null,{"$f":"Traduction!$A$354","v":"Jeudi"},"2018-10-04",275.375,14.4,{"$f":"'[2]Détail N°7'!$L$28","v":9},0]
[null,null,null,null,null,null,null,null,null,null,null,null,null,null,{"$f":"Traduction!$A$354","v":"Jeudi"},"2018-10-04",275.58333333333297,19.100000000000001,{"$f":"'[2]Détail N°7'!$L$28","v":9},0]
[null,null,null,null,null,null,null,null,null,null,null,null,null,null,{"$f":"Traduction!$A$354","v":"Jeudi"},"2018-10-04",275.70833333333297,17.399999999999999,{"$f":"'[2]Détail N°7'!$L$28","v":9},0]
[null,null,null,null,null,null,null,null,null,null,null,null,null,null,{"$f":"Traduction!$A$354","v":"Jeudi"},"2018-10-04",275.91666666666703,13.6,{"$f":"'[2]Détail N°7'!$L$28","v":9},0]
[null,null,null,null,null,null,null,null,null,null,null,null,null,null,{"$f":"Traduction!$A$355","v":"Vendredi"},"2018-10-05",276.04166666666703,11.7,{"$f":"'[2]Détail N°7'!$L$28","v":9},0]
[null,null,null,null,null,null,null,null,null,null,null,null,null,null,{"$f":"Traduction!$A$355","v":"Vendredi"},"2018-10-05",276.16666666666703,10.199999999999999,{"$f":"'[2]Détail N°7'!$L$28","v":9},0]
[null,null,null,null,null,null,null,null,null,null,null,null,null,null,{"$f":"Traduction!$A$355","v":"Vendredi"},"2018-10-05",276.29166666666703,9.6,{"$f":"'[2]Détail N°7'!$L$28","v":9},0]
[null,null,null,null,null,null,null,null,null,null,null,null,null,null,{"$f":"Traduction!$A$355","v":"Vendredi"},"2018-10-05",276.45833333333297,15,{"$f":"'[2]Détail N°7'!$L$28","v":9},0]
[null,null,null,null,null,null,null,null,null,null,null,null,null,null,{"$f":"Traduction!$A$355","v":"Vendredi"},"2018-10-05",276.5,16.3,{"$f":"'[2]Détail N°7'!$L$28","v":9},0]
[null,null,null,null,null,null,null,null,null,null,null,null,null,null,{"$f":"Traduction!$A$355","v":"Vendredi"},"2018-10-05",276.66666666666703,18.100000000000001,{"$f":"'[2]Détail N°7'!$L$28","v":9},0]
[null,null,null,null,null,null,null,null,null,null,null,null,null,null,{"$f":"Traduction!$A$355","v":"Vendredi"},"2018-10-05",276.83333333333297,15,{"$f":"'[2]Détail N°7'!$L$28","v":9},0]
[null,null,null,null,null,null,null,null,null,null,null,null,null,null,{"$f":"Traduction!$A$355","v":"Vendredi"},"2018-10-05",276.95833333333297,13.9,{"$f":"'[2]Détail N°7'!$L$28","v":9},0]
[null,null,null,null,null,null,null,null,null,null,null,null,null,null,{"$f":"Traduction!$A$356","v":"Samedi"},"2018-10-06",277.125,13,{"$f":"'[2]Détail N°7'!$L$28","v":9},0]
[null,null,null,null,null,null,null,null,null,null,null,null,null,null,{"$f":"Traduction!$A$356","v":"Samedi"},"2018-10-06",277.20833333333297,12.8,{"$f":"'[2]Détail N°7'!$L$28","v":9},0]
[null,null,null,null,null,null,null,null,null,null,null,null,null,null,{"$f":"Traduction!$A$356","v":"Samedi"},"2018-10-06",277.41666666666703,14.2,{"$f":"'[2]Détail N°7'!$L$28","v":9},0]
[null,null,null,null,null,null,null,null,null,null,null,null,null,null,{"$f":"Traduction!$A$356","v":"Samedi"},"2018-10-06",277.45833333333297,14.7,{"$f":"'[2]Détail N°7'!$L$28","v":9},0]
[null,null,null,null,null,null,null,null,null,null,null,null,null,null,{"$f":"Traduction!$A$356","v":"Samedi"},"2018-10-06",277.58333333333297,15.9,{"$f":"'[2]Détail N°7'!$L$28","v":9},0]
[null,null,null,null,null,null,null,null,null,null,null,null,null,null,{"$f":"Traduction!$A$356","v":"Samedi"},"2018-10-06",277.75,15.5,{"$f":"'[2]Détail N°7'!$L$28","v":9},0]
[null,null,null,null,null,null,null,null,null,null,null,null,null,null,{"$f":"Traduction!$A$356","v":"Samedi"},"2018-10-06",277.91666666666703,14,{"$f":"'[2]Détail N°7'!$L$28","v":9},0]
[null,null,null,null,null,null,null,null,null,null,null,null,null,null,{"$f":"Traduction!$A$357","v":"Dimanche"},"2018-10-07",278.04166666666703,12.9,{"$f":"'[2]Détail N°7'!$L$28","v":9},0]
[null,null,null,null,null,null,null,null,null,null,null,null,null,null,{"$f":"Traduction!$A$357","v":"Dimanche"},"2018-10-07",278.125,12.1,{"$f":"'[2]Détail N°7'!$L$28","v":9},0]
[null,null,null,null,null,null,null,null,null,null,null,null,null,null,{"$f":"Traduction!$A$357","v":"Dimanche"},"2018-10-07",278.375,12,{"$f":"'[2]Détail N°7'!$L$28","v":9},0]
[null,null,null,null,null,null,null,null,null,null,null,null,null,null,{"$f":"Traduction!$A$357","v":"Dimanche"},"2018-10-07",278.41666666666703,12.5,{"$f":"'[2]Détail N°7'!$L$28","v":9},0]
[null,null,null,null,null,null,null,null,null,null,null,null,null,null,{"$f":"Traduction!$A$357","v":"Dimanche"},"2018-10-07",278.66666666666703,16.2,{"$f":"'[2]Détail N°7'!$L$28","v":9},0]
[null,null,null,null,null,null,null,null,null,null,null,null,null,null,{"$f":"Traduction!$A$357","v":"Dimanche"},"2018-10-07",278.70833333333297,16.2,{"$f":"'[2]Détail N°7'!$L$28","v":9},0]
[null,null,null,null,null,null,null,null,null,null,null,null,null,null,{"$f":"Traduction!$A$357","v":"Dimanche"},"2018-10-07",278.875,14.8,{"$f":"'[2]Détail N°7'!$L$28","v":9},0]
[null,null,null,null,null,null,null,null,null,null,null,null,null,null,{"$f":"Traduction!$A$357","v":"Dimanche"},"2018-10-07",279,13.9,{"$f":"'[2]Détail N°7'!$L$28","v":9},0]
[null,null,null,null,null,null,null,null,null,null,null,null,null,null,{"$f":"Traduction!$A$351","v":"Lundi "},"2018-10-08",279.20833333333297,12.7,{"$f":"'[2]Détail N°7'!$L$28","v":9},0]
[null,null,null,null,null,null,null,null,null,null,null,null,null,null,{"$f":"Traduction!$A$351","v":"Lundi "},"2018-10-08",279.33333333333297,12.5,{"$f":"'[2]Détail N°7'!$L$28","v":9},0]
[null,null,null,null,null,null,null,null,null,null,null,null,null,null,{"$f":"Traduction!$A$351","v":"Lundi "},"2018-10-08",279.45833333333297,13,{"$f":"'[2]Détail N°7'!$L$28","v":9},0]
[null,null,null,null,null,null,null,null,null,null,null,null,null,null,{"$f":"Traduction!$A$351","v":"Lundi "},"2018-10-08",279.58333333333297,13.9,{"$f":"'[2]Détail N°7'!$L$28","v":9},0]
[null,null,null,null,null,null,null,null,null,null,null,null,null,null,{"$f":"Traduction!$A$351","v":"Lundi "},"2018-10-08",279.66666666666703,13.9,{"$f":"'[2]Détail N°7'!$L$28","v":9},0]
[null,null,null,null,null,null,null,null,null,null,null,null,null,null,{"$f":"Traduction!$A$351","v":"Lundi "},"2018-10-08",279.79166666666703,13.3,{"$f":"'[2]Détail N°7'!$L$28","v":9},0]
[null,null,null,null,null,null,null,null,null,null,null,null,null,null,{"$f":"Traduction!$A$351","v":"Lundi "},"2018-10-08",279.95833333333297,11.9,{"$f":"'[2]Détail N°7'!$L$28","v":9},0]
[null,null,null,null,null,null,null,null,null,null,null,null,null,null,{"$f":"Traduction!$A$352","v":"Mardi"},"2018-10-09",280.125,11,{"$f":"'[2]Détail N°7'!$L$28","v":9},0]
[null,null,null,null,null,null,null,null,null,null,null,null,null,null,{"$f":"Traduction!$A$352","v":"Mardi"},"2018-10-09",280.25,10.6,{"$f":"'[2]Détail N°7'!$L$28","v":9},0]
[null,null,null,null,null,null,null,null,null,null,null,null,null,null,{"$f":"Traduction!$A$352","v":"Mardi"},"2018-10-09",280.41666666666703,13.3,{"$f":"'[2]Détail N°7'!$L$28","v":9},0]
[null,null,null,null,null,null,null,null,null,null,null,null,null,null,{"$f":"Traduction!$A$352","v":"Mardi"},"2018-10-09",280.5,15,{"$f":"'[2]Détail N°7'!$L$28","v":9},0]
[null,null,null,null,null,null,null,null,null,null,null,null,null,null,{"$f":"Traduction!$A$352","v":"Mardi"},"2018-10-09",280.625,15.5,{"$f":"'[2]Détail N°7'!$L$28","v":9},0]
[null,null,null,null,null,null,null,null,null,null,null,null,null,null,{"$f":"Traduction!$A$352","v":"Mardi"},"2018-10-09",280.75,14.2,{"$f":"'[2]Détail N°7'!$L$28","v":9},0]
[null,null,null,null,null,null,null,null,null,null,null,null,null,null,{"$f":"Traduction!$A$352","v":"Mardi"},"2018-10-09",280.875,13.1,{"$f":"'[2]Détail N°7'!$L$28","v":9},0]
[null,null,null,null,null,null,null,null,null,null,null,null,null,null,{"$f":"Traduction!$A$353","v":"Mercredi"},"2018-10-10",281.08333333333297,11.4,{"$f":"'[2]Détail N°7'!$L$28","v":9},0]
[null,null,null,null,null,null,null,null,null,null,null,null,null,null,{"$f":"Traduction!$A$353","v":"Mercredi"},"2018-10-10",281.20833333333297,10.7,{"$f":"'[2]Détail N°7'!$L$28","v":9},0]
[null,null,null,null,null,null,null,null,null,null,null,null,null,null,{"$f":"Traduction!$A$353","v":"Mercredi"},"2018-10-10",281.41666666666703,12.8,{"$f":"'[2]Détail N°7'!$L$28","v":9},0]
[null,null,null,null,null,null,null,null,null,null,null,null,null,null,{"$f":"Traduction!$A$353","v":"Mercredi"},"2018-10-10",281.54166666666703,14.7,{"$f":"'[2]Détail N°7'!$L$28","v":9},0]
[null,null,null,null,null,null,null,null,null,null,null,null,null,null,{"$f":"Traduction!$A$353","v":"Mercredi"},"2018-10-10",281.66666666666703,14.7,{"$f":"'[2]Détail N°7'!$L$28","v":9},0]
[null,null,null,null,null,null,null,null,null,null,null,null,null,null,{"$f":"Traduction!$A$353","v":"Mercredi"},"2018-10-10",281.70833333333297,14.2,{"$f":"'[2]Détail N°7'!$L$28","v":9},0]
[null,null,null,null,null,null,null,null,null,null,null,null,null,null,{"$f":"Traduction!$A$353","v":"Mercredi"},"2018-10-10",281.95833333333297,11.6,{"$f":"'[2]Détail N°7'!$L$28","v":9},0]
[null,null,null,null,null,null,null,null,null,null,null,null,null,null,{"$f":"Traduction!$A$353","v":"Mercredi"},"2018-10-10",282,11.2,{"$f":"'[2]Détail N°7'!$L$28","v":9},0]
[null,null,null,null,null,null,null,null,null,null,null,null,null,null,{"$f":"Traduction!$A$354","v":"Jeudi"},"2018-10-11",282.16666666666703,9.8000000000000007,{"$f":"'[2]Détail N°7'!$L$28","v":9},0]
[null,null,null,null,null,null,null,null,null,null,null,null,null,null,{"$f":"Traduction!$A$354","v":"Jeudi"},"2018-10-11",282.33333333333297,10.3,{"$f":"'[2]Détail N°7'!$L$28","v":9},0]
[null,null,null,null,null,null,null,null,null,null,null,null,null,null,{"$f":"Traduction!$A$354","v":"Jeudi"},"2018-10-11",282.5,15.6,{"$f":"'[2]Détail N°7'!$L$28","v":9},0]
[null,null,null,null,null,null,null,null,null,null,null,null,null,null,{"$f":"Traduction!$A$354","v":"Jeudi"},"2018-10-11",282.625,17,{"$f":"'[2]Détail N°7'!$L$28","v":9},0]
[null,null,null,null,null,null,null,null,null,null,null,null,null,null,{"$f":"Traduction!$A$354","v":"Jeudi"},"2018-10-11",282.70833333333297,15.8,{"$f":"'[2]Détail N°7'!$L$28","v":9},0]
[null,null,null,null,null,null,null,null,null,null,null,null,null,null,{"$f":"Traduction!$A$354","v":"Jeudi"},"2018-10-11",282.83333333333297,13.4,{"$f":"'[2]Détail N°7'!$L$28","v":9},0]
[null,null,null,null,null,null,null,null,null,null,null,null,null,null,{"$f":"Traduction!$A$354","v":"Jeudi"},"2018-10-11",282.95833333333297,11.1,{"$f":"'[2]Détail N°7'!$L$28","v":9},0]
[null,null,null,null,null,null,null,null,null,null,null,null,null,null,{"$f":"Traduction!$A$355","v":"Vendredi"},"2018-10-12",283.125,7.7,{"$f":"'[2]Détail N°7'!$L$28","v":9},1]
[null,null,null,null,null,null,null,null,null,null,null,null,null,null,{"$f":"Traduction!$A$355","v":"Vendredi"},"2018-10-12",283.25,6.4,{"$f":"'[2]Détail N°7'!$L$28","v":9},1]
[null,null,null,null,null,null,null,null,null,null,null,null,null,null,{"$f":"Traduction!$A$355","v":"Vendredi"},"2018-10-12",283.41666666666703,10.8,{"$f":"'[2]Détail N°7'!$L$28","v":9},0]
[null,null,null,null,null,null,null,null,null,null,null,null,null,null,{"$f":"Traduction!$A$355","v":"Vendredi"},"2018-10-12",283.58333333333297,15.6,{"$f":"'[2]Détail N°7'!$L$28","v":9},0]
[null,null,null,null,null,null,null,null,null,null,null,null,null,null,{"$f":"Traduction!$A$355","v":"Vendredi"},"2018-10-12",283.625,15.9,{"$f":"'[2]Détail N°7'!$L$28","v":9},0]
[null,null,null,null,null,null,null,null,null,null,null,null,null,null,{"$f":"Traduction!$A$355","v":"Vendredi"},"2018-10-12",283.875,11.8,{"$f":"'[2]Détail N°7'!$L$28","v":9},0]
[null,null,null,null,null,null,null,null,null,null,null,null,null,null,{"$f":"Traduction!$A$355","v":"Vendredi"},"2018-10-12",283.91666666666703,11.2,{"$f":"'[2]Détail N°7'!$L$28","v":9},0]
[null,null,null,null,null,null,null,null,null,null,null,null,null,null,{"$f":"Traduction!$A$356","v":"Samedi"},"2018-10-13",284.16666666666703,9.3000000000000007,{"$f":"'[2]Détail N°7'!$L$28","v":9},0]
[null,null,null,null,null,null,null,null,null,null,null,null,null,null,{"$f":"Traduction!$A$356","v":"Samedi"},"2018-10-13",284.25,8.9,{"$f":"'[2]Détail N°7'!$L$28","v":9},1]
[null,null,null,null,null,null,null,null,null,null,null,null,null,null,{"$f":"Traduction!$A$356","v":"Samedi"},"2018-10-13",284.375,9.3000000000000007,{"$f":"'[2]Détail N°7'!$L$28","v":9},0]
[null,null,null,null,null,null,null,null,null,null,null,null,null,null,{"$f":"Traduction!$A$356","v":"Samedi"},"2018-10-13",284.5,10.7,{"$f":"'[2]Détail N°7'!$L$28","v":9},0]
[null,null,null,null,null,null,null,null,null,null,null,null,null,null,{"$f":"Traduction!$A$356","v":"Samedi"},"2018-10-13",284.70833333333297,11,{"$f":"'[2]Détail N°7'!$L$28","v":9},0]
[null,null,null,null,null,null,null,null,null,null,null,null,null,null,{"$f":"Traduction!$A$356","v":"Samedi"},"2018-10-13",284.83333333333297,10.1,{"$f":"'[2]Détail N°7'!$L$28","v":9},0]
[null,null,null,null,null,null,null,null,null,null,null,null,null,null,{"$f":"Traduction!$A$356","v":"Samedi"},"2018-10-13",284.95833333333297,9.1,{"$f":"'[2]Détail N°7'!$L$28","v":9},0]
[null,null,null,null,null,null,null,null,null,null,null,null,null,null,{"$f":"Traduction!$A$357","v":"Dimanche"},"2018-10-14",285.08333333333297,8.1999999999999993,{"$f":"'[2]Détail N°7'!$L$28","v":9},1]
[null,null,null,null,null,null,null,null,null,null,null,null,null,null,{"$f":"Traduction!$A$357","v":"Dimanche"},"2018-10-14",285.16666666666703,7.7,{"$f":"'[2]Détail N°7'!$L$28","v":9},1]
[null,null,null,null,null,null,null,null,null,null,null,null,null,null,{"$f":"Traduction!$A$357","v":"Dimanche"},"2018-10-14",285.33333333333297,8.5,{"$f":"'[2]Détail N°7'!$L$28","v":9},1]
[null,null,null,null,null,null,null,null,null,null,null,null,null,null,{"$f":"Traduction!$A$357","v":"Dimanche"},"2018-10-14",285.45833333333297,13.6,{"$f":"'[2]Détail N°7'!$L$28","v":9},0]
[null,null,null,null,null,null,null,null,null,null,null,null,null,null,{"$f":"Traduction!$A$357","v":"Dimanche"},"2018-10-14",285.625,14.7,{"$f":"'[2]Détail N°7'!$L$28","v":9},0]
[null,null,null,null,null,null,null,null,null,null,null,null,null,null,{"$f":"Traduction!$A$357","v":"Dimanche"},"2018-10-14",285.79166666666703,11.7,{"$f":"'[2]Détail N°7'!$L$28","v":9},0]
[null,null,null,null,null,null,null,null,null,null,null,null,null,null,{"$f":"Traduction!$A$357","v":"Dimanche"},"2018-10-14",285.91666666666703,9.6,{"$f":"'[2]Détail N°7'!$L$28","v":9},0]
[null,null,null,null,null,null,null,null,null,null,null,null,null,null,{"$f":"Traduction!$A$357","v":"Dimanche"},"2018-10-14",286,8.1999999999999993,{"$f":"'[2]Détail N°7'!$L$28","v":9},1]
[null,null,null,null,null,null,null,null,null,null,null,null,null,null,{"$f":"Traduction!$A$351","v":"Lundi "},"2018-10-15",286.125,5.7,{"$f":"'[2]Détail N°7'!$L$28","v":9},1]
[null,null,null,null,null,null,null,null,null,null,null,null,null,null,{"$f":"Traduction!$A$351","v":"Lundi "},"2018-10-15",286.25,4.4000000000000004,{"$f":"'[2]Détail N°7'!$L$28","v":9},1]
[null,null,null,null,null,null,null,null,null,null,null,null,null,null,{"$f":"Traduction!$A$351","v":"Lundi "},"2018-10-15",286.375,5.2,{"$f":"'[2]Détail N°7'!$L$28","v":9},1]
[null,null,null,null,null,null,null,null,null,null,null,null,null,null,{"$f":"Traduction!$A$351","v":"Lundi "},"2018-10-15",286.58333333333297,7.5,{"$f":"'[2]Détail N°7'!$L$28","v":9},1]
[null,null,null,null,null,null,null,null,null,null,null,null,null,null,{"$f":"Traduction!$A$351","v":"Lundi "},"2018-10-15",286.70833333333297,7,{"$f":"'[2]Détail N°7'!$L$28","v":9},1]
[null,null,null,null,null,null,null,null,null,null,null,null,null,null,{"$f":"Traduction!$A$351","v":"Lundi "},"2018-10-15",286.91666666666703,5.7,{"$f":"'[2]Détail N°7'!$L$28","v":9},1]
[null,null,null,null,null,null,null,null,null,null,null,null,null,null,{"$f":"Traduction!$A$352","v":"Mardi"},"2018-10-16",287.04166666666703,5.4,{"$f":"'[2]Détail N°7'!$L$28","v":9},1]
[null,null,null,null,null,null,null,null,null,null,null,null,null,null,{"$f":"Traduction!$A$352","v":"Mardi"},"2018-10-16",287.08333333333297,5.6,{"$f":"'[2]Détail N°7'!$L$28","v":9},{"$f":"IF(R7255<=S7255,1,0)","v":1}]
[null,null,null,null,null,null,null,null,null,null,null,null,null,null,{"$f":"Traduction!$A$352","v":"Mardi"},"2018-10-16",287.20833333333297,6.1,{"$f":"'[2]Détail N°7'!$L$28","v":9},1]
[null,null,null,null,null,null,null,null,null,null,null,null,null,null,{"$f":"Traduction!$A$352","v":"Mardi"},"2018-10-16",287.45833333333297,7.1,{"$f":"'[2]Détail N°7'!$L$28","v":9},1]
[null,null,null,null,null,null,null,null,null,null,null,null,null,null,{"$f":"Traduction!$A$352","v":"Mardi"},"2018-10-16",287.54166666666703,7.2,{"$f":"'[2]Détail N°7'!$L$28","v":9},1]
[null,null,null,null,null,null,null,null,null,null,null,null,null,null,{"$f":"Traduction!$A$352","v":"Mardi"},"2018-10-16",287.66666666666703,10.3,{"$f":"'[2]Détail N°7'!$L$28","v":9},0]
[null,null,null,null,null,null,null,null,null,null,null,null,null,null,{"$f":"Traduction!$A$352","v":"Mardi"},"2018-10-16",287.83333333333297,9.5,{"$f":"'[2]Détail N°7'!$L$28","v":9},0]
[null,null,null,null,null,null,null,null,null,null,null,null,null,null,{"$f":"Traduction!$A$352","v":"Mardi"},"2018-10-16",288,8.6,{"$f":"'[2]Détail N°7'!$L$28","v":9},1]
[null,null,null,null,null,null,null,null,null,null,null,null,null,null,{"$f":"Traduction!$A$353","v":"Mercredi"},"2018-10-17",288.125,7.2,{"$f":"'[2]Détail N°7'!$L$28","v":9},1]
[null,null,null,null,null,null,null,null,null,null,null,null,null,null,{"$f":"Traduction!$A$353","v":"Mercredi"},"2018-10-17",288.20833333333297,6.7,{"$f":"'[2]Détail N°7'!$L$28","v":9},1]
[null,null,null,null,null,null,null,null,null,null,null,null,null,null,{"$f":"Traduction!$A$353","v":"Mercredi"},"2018-10-17",288.33333333333297,6.6,{"$f":"'[2]Détail N°7'!$L$28","v":9},1]
[null,null,null,null,null,null,null,null,null,null,null,null,null,null,{"$f":"Traduction!$A$353","v":"Mercredi"},"2018-10-17",288.45833333333297,7.6,{"$f":"'[2]Détail N°7'!$L$28","v":9},1]
[null,null,null,null,null,null,null,null,null,null,null,null,null,null,{"$f":"Traduction!$A$353","v":"Mercredi"},"2018-10-17",288.58333333333297,8.1999999999999993,{"$f":"'[2]Détail N°7'!$L$28","v":9},1]
[null,null,null,null,null,null,null,null,null,null,null,null,null,null,{"$f":"Traduction!$A$353","v":"Mercredi"},"2018-10-17",288.79166666666703,7.2,{"$f":"'[2]Détail N°7'!$L$28","v":9},1]
[null,null,null,null,null,null,null,null,null,null,null,null,null,null,{"$f":"Traduction!$A$353","v":"Mercredi"},"2018-10-17",288.95833333333297,7,{"$f":"'[2]Détail N°7'!$L$28","v":9},1]
[null,null,null,null,null,null,null,null,null,null,null,null,null,null,{"$f":"Traduction!$A$354","v":"Jeudi"},"2018-10-18",289.08333333333297,6.9,{"$f":"'[2]Détail N°7'!$L$28","v":9},1]
[null,null,null,null,null,null,null,null,null,null,null,null,null,null,{"$f":"Traduction!$A$354","v":"Jeudi"},"2018-10-18",289.125,7.2,{"$f":"'[2]Détail N°7'!$L$28","v":9},1]
[null,null,null,null,null,null,null,null,null,null,null,null,null,null,{"$f":"Traduction!$A$354","v":"Jeudi"},"2018-10-18",289.29166666666703,7.3,{"$f":"'[2]Détail N°7'!$L$28","v":9},1]
[null,null,null,null,null,null,null,null,null,null,null,null,null,null,{"$f":"Traduction!$A$354","v":"Jeudi"},"2018-10-18",289.41666666666703,8.6,{"$f":"'[2]Détail N°7'!$L$28","v":9},1]
[null,null,null,null,null,null,null,null,null,null,null,null,null,null,{"$f":"Traduction!$A$354","v":"Jeudi"},"2018-10-18",289.66666666666703,9.9,{"$f":"'[2]Détail N°7'!$L$28","v":9},0]
[null,null,null,null,null,null,null,null,null,null,null,null,null,null,{"$f":"Traduction!$A$354","v":"Jeudi"},"2018-10-18",289.75,9.4,{"$f":"'[2]Détail N°7'!$L$28","v":9},{"$f":"IF(R7319<=S7319,1,0)","v":0}]
[null,null,null,null,null,null,null,null,null,null,null,null,null,null,{"$f":"Traduction!$A$354","v":"Jeudi"},"2018-10-18",289.875,8.6,{"$f":"'[2]Détail N°7'!$L$28","v":9},1]
[null,null,null,null,null,null,null,null,null,null,null,null,null,null,{"$f":"Traduction!$A$355","v":"Vendredi"},"2018-10-19",290.04166666666703,9.6999999999999993,{"$f":"'[2]Détail N°7'!$L$28","v":9},0]
[null,null,null,null,null,null,null,null,null,null,null,null,null,null,{"$f":"Traduction!$A$355","v":"Vendredi"},"2018-10-19",290.20833333333297,9.8000000000000007,{"$f":"'[2]Détail N°7'!$L$28","v":9},0]
[null,null,null,null,null,null,null,null,null,null,null,null,null,null,{"$f":"Traduction!$A$355","v":"Vendredi"},"2018-10-19",290.33333333333297,10.1,{"$f":"'[2]Détail N°7'!$L$28","v":9},0]
[null,null,null,null,null,null,null,null,null,null,null,null,null,null,{"$f":"Traduction!$A$355","v":"Vendredi"},"2018-10-19",290.375,10.8,{"$f":"'[2]Détail N°7'!$L$28","v":9},0]
[null,null,null,null,null,null,null,null,null,null,null,null,null,null,{"$f":"Traduction!$A$355","v":"Vendredi"},"2018-10-19",290.58333333333297,13.4,{"$f":"'[2]Détail N°7'!$L$28","v":9},0]
[null,null,null,null,null,null,null,null,null,null,null,null,null,null,{"$f":"Traduction!$A$355","v":"Vendredi"},"2018-10-19",290.70833333333297,13.1,{"$f":"'[2]Détail N°7'!$L$28","v":9},0]
[null,null,null,null,null,null,null,null,null,null,null,null,null,null,{"$f":"Traduction!$A$355","v":"Vendredi"},"2018-10-19",290.83333333333297,11.9,{"$f":"'[2]Détail N°7'!$L$28","v":9},0]
[null,null,null,null,null,null,null,null,null,null,null,null,null,null,{"$f":"Traduction!$A$355","v":"Vendredi"},"2018-10-19",290.95833333333297,10.7,{"$f":"'[2]Détail N°7'!$L$28","v":9},0]
[null,null,null,null,null,null,null,null,null,null,null,null,null,null,{"$f":"Traduction!$A$356","v":"Samedi"},"2018-10-20",291.16666666666703,8.1999999999999993,{"$f":"'[2]Détail N°7'!$L$28","v":9},1]
[null,null,null,null,null,null,null,null,null,null,null,null,null,null,{"$f":"Traduction!$A$356","v":"Samedi"},"2018-10-20",291.29166666666703,7.3,{"$f":"'[2]Détail N°7'!$L$28","v":9},1]
[null,null,null,null,null,null,null,null,null,null,null,null,null,null,{"$f":"Traduction!$A$356","v":"Samedi"},"2018-10-20",291.33333333333297,7.6,{"$f":"'[2]Détail N°7'!$L$28","v":9},1]
[null,null,null,null,null,null,null,null,null,null,null,null,null,null,{"$f":"Traduction!$A$356","v":"Samedi"},"2018-10-20",291.5,10.1,{"$f":"'[2]Détail N°7'!$L$28","v":9},0]
[null,null,null,null,null,null,null,null,null,null,null,null,null,null,{"$f":"Traduction!$A$356","v":"Samedi"},"2018-10-20",291.625,10.8,{"$f":"'[2]Détail N°7'!$L$28","v":9},0]
[null,null,null,null,null,null,null,null,null,null,null,null,null,null,{"$f":"Traduction!$A$356","v":"Samedi"},"2018-10-20",291.79166666666703,9.5,{"$f":"'[2]Détail N°7'!$L$28","v":9},0]
[null,null,null,null,null,null,null,null,null,null,null,null,null,null,{"$f":"Traduction!$A$356","v":"Samedi"},"2018-10-20",291.875,8.6999999999999993,{"$f":"'[2]Détail N°7'!$L$28","v":9},1]
[null,null,null,null,null,null,null,null,null,null,null,null,null,null,{"$f":"Traduction!$A$357","v":"Dimanche"},"2018-10-21",292.08333333333297,7.3,{"$f":"'[2]Détail N°7'!$L$28","v":9},1]
[null,null,null,null,null,null,null,null,null,null,null,null,null,null,{"$f":"Traduction!$A$357","v":"Dimanche"},"2018-10-21",292.25,7,{"$f":"'[2]Détail N°7'!$L$28","v":9},1]
[null,null,null,null,null,null,null,null,null,null,null,null,null,null,{"$f":"Traduction!$A$357","v":"Dimanche"},"2018-10-21",292.41666666666703,9.9,{"$f":"'[2]Détail N°7'!$L$28","v":9},{"$f":"IF(R7383<=S7383,1,0)","v":0}]
[null,null,null,null,null,null,null,null,null,null,null,null,null,null,{"$f":"Traduction!$A$357","v":"Dimanche"},"2018-10-21",292.54166666666703,12.2,{"$f":"'[2]Détail N°7'!$L$28","v":9},0]
[null,null,null,null,null,null,null,null,null,null,null,null,null,null,{"$f":"Traduction!$A$357","v":"Dimanche"},"2018-10-21",292.58333333333297,12.7,{"$f":"'[2]Détail N°7'!$L$28","v":9},0]
[null,null,null,null,null,null,null,null,null,null,null,null,null,null,{"$f":"Traduction!$A$357","v":"Dimanche"},"2018-10-21",292.79166666666703,10.9,{"$f":"'[2]Détail N°7'!$L$28","v":9},0]
[null,null,null,null,null,null,null,null,null,null,null,null,null,null,{"$f":"Traduction!$A$357","v":"Dimanche"},"2018-10-21",292.91666666666703,10,{"$f":"'[2]Détail N°7'!$L$28","v":9},0]
[null,null,null,null,null,null,null,null,null,null,null,null,null,null,{"$f":"Traduction!$A$351","v":"Lundi "},"2018-10-22",293.04166666666703,9.1,{"$f":"'[2]Détail N°7'!$L$28","v":9},0]
[null,null,null,null,null,null,null,null,null,null,null,null,null,null,{"$f":"Traduction!$A$351","v":"Lundi "},"2018-10-22",293.16666666666703,8.3000000000000007,{"$f":"'[2]Détail N°7'!$L$28","v":9},1]
[null,null,null,null,null,null,null,null,null,null,null,null,null,null,{"$f":"Traduction!$A$351","v":"Lundi "},"2018-10-22",293.33333333333297,8.3000000000000007,{"$f":"'[2]Détail N°7'!$L$28","v":9},1]
[null,null,null,null,null,null,null,null,null,null,null,null,null,null,{"$f":"Traduction!$A$351","v":"Lundi "},"2018-10-22",293.5,14.7,{"$f":"'[2]Détail N°7'!$L$28","v":9},0]
[null,null,null,null,null,null,null,null,null,null,null,null,null,null,{"$f":"Traduction!$A$351","v":"Lundi "},"2018-10-22",293.54166666666703,15.6,{"$f":"'[2]Détail N°7'!$L$28","v":9},0]
[null,null,null,null,null,null,null,null,null,null,null,null,null,null,{"$f":"Traduction!$A$351","v":"Lundi "},"2018-10-22",293.70833333333297,14.9,{"$f":"'[2]Détail N°7'!$L$28","v":9},0]
[null,null,null,null,null,null,null,null,null,null,null,null,null,null,{"$f":"Traduction!$A$351","v":"Lundi "},"2018-10-22",293.83333333333297,13.1,{"$f":"'[2]Détail N°7'!$L$28","v":9},0]
[null,null,null,null,null,null,null,null,null,null,null,null,null,null,{"$f":"Traduction!$A$351","v":"Lundi "},"2018-10-22",294,12.1,{"$f":"'[2]Détail N°7'!$L$28","v":9},0]
[null,null,null,null,null,null,null,null,null,null,null,null,null,null,{"$f":"Traduction!$A$352","v":"Mardi"},"2018-10-23",294.08333333333297,11.7,{"$f":"'[2]Détail N°7'!$L$28","v":9},0]
[null,null,null,null,null,null,null,null,null,null,null,null,null,null,{"$f":"Traduction!$A$352","v":"Mardi"},"2018-10-23",294.29166666666703,11.3,{"$f":"'[2]Détail N°7'!$L$28","v":9},0]
[null,null,null,null,null,null,null,null,null,null,null,null,null,null,{"$f":"Traduction!$A$352","v":"Mardi"},"2018-10-23",294.45833333333297,14.4,{"$f":"'[2]Détail N°7'!$L$28","v":9},0]
[null,null,null,null,null,null,null,null,null,null,null,null,null,null,{"$f":"Traduction!$A$352","v":"Mardi"},"2018-10-23",294.58333333333297,15.8,{"$f":"'[2]Détail N°7'!$L$28","v":9},0]
[null,null,null,null,null,null,null,null,null,null,null,null,null,null,{"$f":"Traduction!$A$352","v":"Mardi"},"2018-10-23",294.625,15.9,{"$f":"'[2]Détail N°7'!$L$28","v":9},0]
[null,null,null,null,null,null,null,null,null,null,null,null,null,null,{"$f":"Traduction!$A$352","v":"Mardi"},"2018-10-23",294.79166666666703,14.2,{"$f":"'[2]Détail N°7'!$L$28","v":9},0]
[null,null,null,null,null,null,null,null,null,null,null,null,null,null,{"$f":"Traduction!$A$352","v":"Mardi"},"2018-10-23",294.91666666666703,13.3,{"$f":"'[2]Détail N°7'!$L$28","v":9},0]
[null,null,null,null,null,null,null,null,null,null,null,null,null,null,{"$f":"Traduction!$A$353","v":"Mercredi"},"2018-10-24",295.16666666666703,11.7,{"$f":"'[2]Détail N°7'!$L$28","v":9},0]
[null,null,null,null,null,null,null,null,null,null,null,null,null,null,{"$f":"Traduction!$A$353","v":"Mercredi"},"2018-10-24",295.25,11.5,{"$f":"'[2]Détail N°7'!$L$28","v":9},0]
[null,null,null,null,null,null,null,null,null,null,null,null,null,null,{"$f":"Traduction!$A$353","v":"Mercredi"},"2018-10-24",295.41666666666703,11.8,{"$f":"'[2]Détail N°7'!$L$28","v":9},0]
[null,null,null,null,null,null,null,null,null,null,null,null,null,null,{"$f":"Traduction!$A$353","v":"Mercredi"},"2018-10-24",295.54166666666703,12.2,{"$f":"'[2]Détail N°7'!$L$28","v":9},0]
[null,null,null,null,null,null,null,null,null,null,null,null,null,null,{"$f":"Traduction!$A$353","v":"Mercredi"},"2018-10-24",295.70833333333297,14.1,{"$f":"'[2]Détail N°7'!$L$28","v":9},0]
[null,null,null,null,null,null,null,null,null,null,null,null,null,null,{"$f":"Traduction!$A$353","v":"Mercredi"},"2018-10-24",295.75,13.7,{"$f":"'[2]Détail N°7'!$L$28","v":9},0]
[null,null,null,null,null,null,null,null,null,null,null,null,null,null,{"$f":"Traduction!$A$353","v":"Mercredi"},"2018-10-24",295.875,12.3,{"$f":"'[2]Détail N°7'!$L$28","v":9},0]
[null,null,null,null,null,null,null,null,null,null,null,null,null,null,{"$f":"Traduction!$A$354","v":"Jeudi"},"2018-10-25",296.08333333333297,9.6,{"$f":"'[2]Détail N°7'!$L$28","v":9},0]
[null,null,null,null,null,null,null,null,null,null,null,null,null,null,{"$f":"Traduction!$A$354","v":"Jeudi"},"2018-10-25",296.20833333333297,8.3000000000000007,{"$f":"'[2]Détail N°7'!$L$28","v":9},1]
[null,null,null,null,null,null,null,null,null,null,null,null,null,null,{"$f":"Traduction!$A$354","v":"Jeudi"},"2018-10-25",296.33333333333297,8.1,{"$f":"'[2]Détail N°7'!$L$28","v":9},1]
[null,null,null,null,null,null,null,null,null,null,null,null,null,null,{"$f":"Traduction!$A$354","v":"Jeudi"},"2018-10-25",296.45833333333297,11.9,{"$f":"'[2]Détail N°7'!$L$28","v":9},0]
[null,null,null,null,null,null,null,null,null,null,null,null,null,null,{"$f":"Traduction!$A$354","v":"Jeudi"},"2018-10-25",296.66666666666703,10.5,{"$f":"'[2]Détail N°7'!$L$28","v":9},0]
[null,null,null,null,null,null,null,null,null,null,null,null,null,null,{"$f":"Traduction!$A$354","v":"Jeudi"},"2018-10-25",296.79166666666703,9,{"$f":"'[2]Détail N°7'!$L$28","v":9},1]
[null,null,null,null,null,null,null,null,null,null,null,null,null,null,{"$f":"Traduction!$A$354","v":"Jeudi"},"2018-10-25",296.83333333333297,8.5,{"$f":"'[2]Détail N°7'!$L$28","v":9},1]
[null,null,null,null,null,null,null,null,null,null,null,null,null,null,{"$f":"Traduction!$A$354","v":"Jeudi"},"2018-10-25",297,6.5,{"$f":"'[2]Détail N°7'!$L$28","v":9},1]
[null,null,null,null,null,null,null,null,null,null,null,null,null,null,{"$f":"Traduction!$A$355","v":"Vendredi"},"2018-10-26",297.125,5,{"$f":"'[2]Détail N°7'!$L$28","v":9},1]
[null,null,null,null,null,null,null,null,null,null,null,null,null,null,{"$f":"Traduction!$A$355","v":"Vendredi"},"2018-10-26",297.29166666666703,4.0999999999999996,{"$f":"'[2]Détail N°7'!$L$28","v":9},1]
[null,null,null,null,null,null,null,null,null,null,null,null,null,null,{"$f":"Traduction!$A$355","v":"Vendredi"},"2018-10-26",297.375,5.7,{"$f":"'[2]Détail N°7'!$L$28","v":9},1]
[null,null,null,null,null,null,null,null,null,null,null,null,null,null,{"$f":"Traduction!$A$355","v":"Vendredi"},"2018-10-26",297.625,10.199999999999999,{"$f":"'[2]Détail N°7'!$L$28","v":9},0]
[null,null,null,null,null,null,null,null,null,null,null,null,null,null,{"$f":"Traduction!$A$355","v":"Vendredi"},"2018-10-26",297.75,8,{"$f":"'[2]Détail N°7'!$L$28","v":9},{"$f":"IF(R7511<=S7511,1,0)","v":1}]
[null,null,null,null,null,null,null,null,null,null,null,null,null,null,{"$f":"Traduction!$A$355","v":"Vendredi"},"2018-10-26",297.91666666666703,6.1,{"$f":"'[2]Détail N°7'!$L$28","v":9},1]
[null,null,null,null,null,null,null,null,null,null,null,null,null,null,{"$f":"Traduction!$A$355","v":"Vendredi"},"2018-10-26",297.95833333333297,5.6,{"$f":"'[2]Détail N°7'!$L$28","v":9},1]
[null,null,null,null,null,null,null,null,null,null,null,null,null,null,{"$f":"Traduction!$A$356","v":"Samedi"},"2018-10-27",298.08333333333297,4.5,{"$f":"'[2]Détail N°7'!$L$28","v":9},1]
[null,null,null,null,null,null,null,null,null,null,null,null,null,null,{"$f":"Traduction!$A$356","v":"Samedi"},"2018-10-27",298.29166666666703,3.3,{"$f":"'[2]Détail N°7'!$L$28","v":9},1]
[null,null,null,null,null,null,null,null,null,null,null,null,null,null,{"$f":"Traduction!$A$356","v":"Samedi"},"2018-10-27",298.41666666666703,5.3,{"$f":"'[2]Détail N°7'!$L$28","v":9},1]
[null,null,null,null,null,null,null,null,null,null,null,null,null,null,{"$f":"Traduction!$A$356","v":"Samedi"},"2018-10-27",298.54166666666703,7,{"$f":"'[2]Détail N°7'!$L$28","v":9},1]
[null,null,null,null,null,null,null,null,null,null,null,null,null,null,{"$f":"Traduction!$A$356","v":"Samedi"},"2018-10-27",298.70833333333297,6.1,{"$f":"'[2]Détail N°7'!$L$28","v":9},1]
[null,null,null,null,null,null,null,null,null,null,null,null,null,null,{"$f":"Traduction!$A$356","v":"Samedi"},"2018-10-27",298.83333333333297,5.4,{"$f":"'[2]Détail N°7'!$L$28","v":9},1]
[null,null,null,null,null,null,null,null,null,null,null,null,null,null,{"$f":"Traduction!$A$356","v":"Samedi"},"2018-10-27",299,5.7,{"$f":"'[2]Détail N°7'!$L$28","v":9},1]
[null,null,null,null,null,null,null,null,null,null,null,null,null,null,{"$f":"Traduction!$A$357","v":"Dimanche"},"2018-10-28",299.04166666666703,6,{"$f":"'[2]Détail N°7'!$L$28","v":9},1]
[null,null,null,null,null,null,null,null,null,null,null,null,null,null,{"$f":"Traduction!$A$357","v":"Dimanche"},"2018-10-28",299.20833333333297,7.5,{"$f":"'[2]Détail N°7'!$L$28","v":9},1]
[null,null,null,null,null,null,null,null,null,null,null,null,null,null,{"$f":"Traduction!$A$357","v":"Dimanche"},"2018-10-28",299.375,10.199999999999999,{"$f":"'[2]Détail N°7'!$L$28","v":9},0]
[null,null,null,null,null,null,null,null,null,null,null,null,null,null,{"$f":"Traduction!$A$357","v":"Dimanche"},"2018-10-28",299.5,13.2,{"$f":"'[2]Détail N°7'!$L$28","v":9},0]
[null,null,null,null,null,null,null,null,null,null,null,null,null,null,{"$f":"Traduction!$A$357","v":"Dimanche"},"2018-10-28",299.58333333333297,13.3,{"$f":"'[2]Détail N°7'!$L$28","v":9},0]
[null,null,null,null,null,null,null,null,null,null,null,null,null,null,{"$f":"Traduction!$A$357","v":"Dimanche"},"2018-10-28",299.83333333333297,11.3,{"$f":"'[2]Détail N°7'!$L$28","v":9},0]
[null,null,null,null,null,null,null,null,null,null,null,null,null,null,{"$f":"Traduction!$A$357","v":"Dimanche"},"2018-10-28",299.95833333333297,11.1,{"$f":"'[2]Détail N°7'!$L$28","v":9},0]
[null,null,null,null,null,null,null,null,null,null,null,null,null,null,{"$f":"Traduction!$A$351","v":"Lundi "},"2018-10-29",300.08333333333297,10.199999999999999,{"$f":"'[2]Détail N°7'!$L$28","v":9},0]
[null,null,null,null,null,null,null,null,null,null,null,null,null,null,{"$f":"Traduction!$A$351","v":"Lundi "},"2018-10-29",300.125,9.8000000000000007,{"$f":"'[2]Détail N°7'!$L$28","v":9},0]
[null,null,null,null,null,null,null,null,null,null,null,null,null,null,{"$f":"Traduction!$A$351","v":"Lundi "},"2018-10-29",300.29166666666703,9,{"$f":"'[2]Détail N°7'!$L$28","v":9},1]
[null,null,null,null,null,null,null,null,null,null,null,null,null,null,{"$f":"Traduction!$A$351","v":"Lundi "},"2018-10-29",300.45833333333297,13.7,{"$f":"'[2]Détail N°7'!$L$28","v":9},0]
[null,null,null,null,null,null,null,null,null,null,null,null,null,null,{"$f":"Traduction!$A$351","v":"Lundi "},"2018-10-29",300.66666666666703,15.5,{"$f":"'[2]Détail N°7'!$L$28","v":9},0]
[null,null,null,null,null,null,null,null,null,null,null,null,null,null,{"$f":"Traduction!$A$351","v":"Lundi "},"2018-10-29",300.75,13.6,{"$f":"'[2]Détail N°7'!$L$28","v":9},0]
[null,null,null,null,null,null,null,null,null,null,null,null,null,null,{"$f":"Traduction!$A$351","v":"Lundi "},"2018-10-29",300.91666666666703,11.7,{"$f":"'[2]Détail N°7'!$L$28","v":9},0]
[null,null,null,null,null,null,null,null,null,null,null,null,null,null,{"$f":"Traduction!$A$352","v":"Mardi"},"2018-10-30",301.04166666666703,10.199999999999999,{"$f":"'[2]Détail N°7'!$L$28","v":9},0]
[null,null,null,null,null,null,null,null,null,null,null,null,null,null,{"$f":"Traduction!$A$352","v":"Mardi"},"2018-10-30",301.125,9.4,{"$f":"'[2]Détail N°7'!$L$28","v":9},0]
[null,null,null,null,null,null,null,null,null,null,null,null,null,null,{"$f":"Traduction!$A$352","v":"Mardi"},"2018-10-30",301.25,8.8000000000000007,{"$f":"'[2]Détail N°7'!$L$28","v":9},1]
[null,null,null,null,null,null,null,null,null,null,null,null,null,null,{"$f":"Traduction!$A$352","v":"Mardi"},"2018-10-30",301.375,10.4,{"$f":"'[2]Détail N°7'!$L$28","v":9},0]
[null,null,null,null,null,null,null,null,null,null,null,null,null,null,{"$f":"Traduction!$A$352","v":"Mardi"},"2018-10-30",301.58333333333297,15.7,{"$f":"'[2]Détail N°7'!$L$28","v":9},0]
[null,null,null,null,null,null,null,null,null,null,null,null,null,null,{"$f":"Traduction!$A$352","v":"Mardi"},"2018-10-30",301.70833333333297,14.5,{"$f":"'[2]Détail N°7'!$L$28","v":9},0]
[null,null,null,null,null,null,null,null,null,null,null,null,null,null,{"$f":"Traduction!$A$352","v":"Mardi"},"2018-10-30",301.83333333333297,12.2,{"$f":"'[2]Détail N°7'!$L$28","v":9},0]
[null,null,null,null,null,null,null,null,null,null,null,null,null,null,{"$f":"Traduction!$A$352","v":"Mardi"},"2018-10-30",301.95833333333297,10.1,{"$f":"'[2]Détail N°7'!$L$28","v":9},0]
[null,null,null,null,null,null,null,null,null,null,null,null,null,null,{"$f":"Traduction!$A$353","v":"Mercredi"},"2018-10-31",302.16666666666703,6.6,{"$f":"'[2]Détail N°7'!$L$28","v":9},1]
[null,null,null,null,null,null,null,null,null,null,null,null,null,null,{"$f":"Traduction!$A$353","v":"Mercredi"},"2018-10-31",302.20833333333297,6.2,{"$f":"'[2]Détail N°7'!$L$28","v":9},1]
[null,null,null,null,null,null,null,null,null,null,null,null,null,null,{"$f":"Traduction!$A$353","v":"Mercredi"},"2018-10-31",302.33333333333297,5.7,{"$f":"'[2]Détail N°7'!$L$28","v":9},1]
[null,null,null,null,null,null,null,null,null,null,null,null,null,null,{"$f":"Traduction!$A$353","v":"Mercredi"},"2018-10-31",302.5,10.6,{"$f":"'[2]Détail N°7'!$L$28","v":9},0]
[null,null,null,null,null,null,null,null,null,null,null,null,null,null,{"$f":"Traduction!$A$353","v":"Mercredi"},"2018-10-31",302.66666666666703,11.1,{"$f":"'[2]Détail N°7'!$L$28","v":9},0]
[null,null,null,null,null,null,null,null,null,null,null,null,null,null,{"$f":"Traduction!$A$353","v":"Mercredi"},"2018-10-31",302.79166666666703,8.9,{"$f":"'[2]Détail N°7'!$L$28","v":9},1]
[null,null,null,null,null,null,null,null,null,null,null,null,null,null,{"$f":"Traduction!$A$353","v":"Mercredi"},"2018-10-31",302.875,8.1999999999999993,{"$f":"'[2]Détail N°7'!$L$28","v":9},1]
[null,null,null,null,null,null,null,null,null,null,null,null,null,null,{"$f":"Traduction!$A$354","v":"Jeudi"},"2018-11-01",303.125,7,{"$f":"'[2]Détail N°7'!$L$28","v":9},1]
[null,null,null,null,null,null,null,null,null,null,null,null,null,null,{"$f":"Traduction!$A$354","v":"Jeudi"},"2018-11-01",303.25,7,{"$f":"'[2]Détail N°7'!$L$28","v":9},1]
[null,null,null,null,null,null,null,null,null,null,null,null,null,null,{"$f":"Traduction!$A$354","v":"Jeudi"},"2018-11-01",303.41666666666703,8.6,{"$f":"'[2]Détail N°7'!$L$28","v":9},1]
[null,null,null,null,null,null,null,null,null,null,null,null,null,null,{"$f":"Traduction!$A$354","v":"Jeudi"},"2018-11-01",303.45833333333297,9.4,{"$f":"'[2]Détail N°7'!$L$28","v":9},0]
[null,null,null,null,null,null,null,null,null,null,null,null,null,null,{"$f":"Traduction!$A$354","v":"Jeudi"},"2018-11-01",303.58333333333297,10.6,{"$f":"'[2]Détail N°7'!$L$28","v":9},0]
[null,null,null,null,null,null,null,null,null,null,null,null,null,null,{"$f":"Traduction!$A$354","v":"Jeudi"},"2018-11-01",303.79166666666703,9.1999999999999993,{"$f":"'[2]Détail N°7'!$L$28","v":9},0]
[null,null,null,null,null,null,null,null,null,null,null,null,null,null,{"$f":"Traduction!$A$354","v":"Jeudi"},"2018-11-01",303.91666666666703,8.6,{"$f":"'[2]Détail N°7'!$L$28","v":9},1]
[null,null,null,null,null,null,null,null,null,null,null,null,null,null,{"$f":"Traduction!$A$355","v":"Vendredi"},"2018-11-02",304.08333333333297,8,{"$f":"'[2]Détail N°7'!$L$28","v":9},1]
[null,null,null,null,null,null,null,null,null,null,null,null,null,null,{"$f":"Traduction!$A$355","v":"Vendredi"},"2018-11-02",304.20833333333297,7.5,{"$f":"'[2]Détail N°7'!$L$28","v":9},1]
[null,null,null,null,null,null,null,null,null,null,null,null,null,null,{"$f":"Traduction!$A$355","v":"Vendredi"},"2018-11-02",304.33333333333297,7.6,{"$f":"'[2]Détail N°7'!$L$28","v":9},1]
[null,null,null,null,null,null,null,null,null,null,null,null,null,null,{"$f":"Traduction!$A$355","v":"Vendredi"},"2018-11-02",304.41666666666703,9.1,{"$f":"'[2]Détail N°7'!$L$28","v":9},0]
[null,null,null,null,null,null,null,null,null,null,null,null,null,null,{"$f":"Traduction!$A$355","v":"Vendredi"},"2018-11-02",304.54166666666703,10.199999999999999,{"$f":"'[2]Détail N°7'!$L$28","v":9},0]
[null,null,null,null,null,null,null,null,null,null,null,null,null,null,{"$f":"Traduction!$A$355","v":"Vendredi"},"2018-11-02",304.70833333333297,11.4,{"$f":"'[2]Détail N°7'!$L$28","v":9},0]
[null,null,null,null,null,null,null,null,null,null,null,null,null,null,{"$f":"Traduction!$A$355","v":"Vendredi"},"2018-11-02",304.875,9.9,{"$f":"'[2]Détail N°7'!$L$28","v":9},0]
[null,null,null,null,null,null,null,null,null,null,null,null,null,null,{"$f":"Traduction!$A$355","v":"Vendredi"},"2018-11-02",305,9,{"$f":"'[2]Détail N°7'!$L$28","v":9},1]
[null,null,null,null,null,null,null,null,null,null,null,null,null,null,{"$f":"Traduction!$A$356","v":"Samedi"},"2018-11-03",305.08333333333297,8.3000000000000007,{"$f":"'[2]Détail N°7'!$L$28","v":9},1]
[null,null,null,null,null,null,null,null,null,null,null,null,null,null,{"$f":"Traduction!$A$356","v":"Samedi"},"2018-11-03",305.33333333333297,7.4,{"$f":"'[2]Détail N°7'!$L$28","v":9},1]
[null,null,null,null,null,null,null,null,null,null,null,null,null,null,{"$f":"Traduction!$A$356","v":"Samedi"},"2018-11-03",305.45833333333297,10,{"$f":"'[2]Détail N°7'!$L$28","v":9},0]
[null,null,null,null,null,null,null,null,null,null,null,null,null,null,{"$f":"Traduction!$A$356","v":"Samedi"},"2018-11-03",305.5,10.6,{"$f":"'[2]Détail N°7'!$L$28","v":9},0]
[null,null,null,null,null,null,null,null,null,null,null,null,null,null,{"$f":"Traduction!$A$356","v":"Samedi"},"2018-11-03",305.625,12.4,{"$f":"'[2]Détail N°7'!$L$28","v":9},0]
[null,null,null,null,null,null,null,null,null,null,null,null,null,null,{"$f":"Traduction!$A$356","v":"Samedi"},"2018-11-03",305.83333333333297,10.6,{"$f":"'[2]Détail N°7'!$L$28","v":9},0]
[null,null,null,null,null,null,null,null,null,null,null,null,null,null,{"$f":"Traduction!$A$356","v":"Samedi"},"2018-11-03",305.95833333333297,10.1,{"$f":"'[2]Détail N°7'!$L$28","v":9},0]
[null,null,null,null,null,null,null,null,null,null,null,null,null,null,{"$f":"Traduction!$A$357","v":"Dimanche"},"2018-11-04",306.16666666666703,9.9,{"$f":"'[2]Détail N°7'!$L$28","v":9},0]
[null,null,null,null,null,null,null,null,null,null,null,null,null,null,{"$f":"Traduction!$A$357","v":"Dimanche"},"2018-11-04",306.29166666666703,9.9,{"$f":"'[2]Détail N°7'!$L$28","v":9},0]
[null,null,null,null,null,null,null,null,null,null,null,null,null,null,{"$f":"Traduction!$A$357","v":"Dimanche"},"2018-11-04",306.41666666666703,11.2,{"$f":"'[2]Détail N°7'!$L$28","v":9},0]
[null,null,null,null,null,null,null,null,null,null,null,null,null,null,{"$f":"Traduction!$A$357","v":"Dimanche"},"2018-11-04",306.54166666666703,12.3,{"$f":"'[2]Détail N°7'!$L$28","v":9},0]
[null,null,null,null,null,null,null,null,null,null,null,null,null,null,{"$f":"Traduction!$A$357","v":"Dimanche"},"2018-11-04",306.625,12.5,{"$f":"'[2]Détail N°7'!$L$28","v":9},0]
[null,null,null,null,null,null,null,null,null,null,null,null,null,null,{"$f":"Traduction!$A$357","v":"Dimanche"},"2018-11-04",306.75,11.7,{"$f":"'[2]Détail N°7'!$L$28","v":9},0]
[null,null,null,null,null,null,null,null,null,null,null,null,null,null,{"$f":"Traduction!$A$357","v":"Dimanche"},"2018-11-04",306.91666666666703,11,{"$f":"'[2]Détail N°7'!$L$28","v":9},0]
[null,null,null,null,null,null,null,null,null,null,null,null,null,null,{"$f":"Traduction!$A$351","v":"Lundi "},"2018-11-05",307.08333333333297,10,{"$f":"'[2]Détail N°7'!$L$28","v":9},0]
[null,null,null,null,null,null,null,null,null,null,null,null,null,null,{"$f":"Traduction!$A$351","v":"Lundi "},"2018-11-05",307.20833333333297,9.6,{"$f":"'[2]Détail N°7'!$L$28","v":9},0]
[null,null,null,null,null,null,null,null,null,null,null,null,null,null,{"$f":"Traduction!$A$351","v":"Lundi "},"2018-11-05",307.375,9.9,{"$f":"'[2]Détail N°7'!$L$28","v":9},0]
[null,null,null,null,null,null,null,null,null,null,null,null,null,null,{"$f":"Traduction!$A$351","v":"Lundi "},"2018-11-05",307.45833333333297,10.9,{"$f":"'[2]Détail N°7'!$L$28","v":9},0]
[null,null,null,null,null,null,null,null,null,null,null,null,null,null,{"$f":"Traduction!$A$351","v":"Lundi "},"2018-11-05",307.58333333333297,11.7,{"$f":"'[2]Détail N°7'!$L$28","v":9},0]
[null,null,null,null,null,null,null,null,null,null,null,null,null,null,{"$f":"Traduction!$A$351","v":"Lundi "},"2018-11-05",307.70833333333297,11.5,{"$f":"'[2]Détail N°7'!$L$28","v":9},0]
[null,null,null,null,null,null,null,null,null,null,null,null,null,null,{"$f":"Traduction!$A$351","v":"Lundi "},"2018-11-05",307.83333333333297,10.4,{"$f":"'[2]Détail N°7'!$L$28","v":9},0]
[null,null,null,null,null,null,null,null,null,null,null,null,null,null,{"$f":"Traduction!$A$352","v":"Mardi"},"2018-11-06",308.04166666666703,8.1999999999999993,{"$f":"'[2]Détail N°7'!$L$28","v":9},1]
[null,null,null,null,null,null,null,null,null,null,null,null,null,null,{"$f":"Traduction!$A$352","v":"Mardi"},"2018-11-06",308.16666666666703,6.2,{"$f":"'[2]Détail N°7'!$L$28","v":9},1]
[null,null,null,null,null,null,null,null,null,null,null,null,null,null,{"$f":"Traduction!$A$352","v":"Mardi"},"2018-11-06",308.29166666666703,5.2,{"$f":"'[2]Détail N°7'!$L$28","v":9},1]
[null,null,null,null,null,null,null,null,null,null,null,null,null,null,{"$f":"Traduction!$A$352","v":"Mardi"},"2018-11-06",308.375,7,{"$f":"'[2]Détail N°7'!$L$28","v":9},1]
[null,null,null,null,null,null,null,null,null,null,null,null,null,null,{"$f":"Traduction!$A$352","v":"Mardi"},"2018-11-06",308.625,13.5,{"$f":"'[2]Détail N°7'!$L$28","v":9},0]
[null,null,null,null,null,null,null,null,null,null,null,null,null,null,{"$f":"Traduction!$A$352","v":"Mardi"},"2018-11-06",308.66666666666703,12.9,{"$f":"'[2]Détail N°7'!$L$28","v":9},0]
[null,null,null,null,null,null,null,null,null,null,null,null,null,null,{"$f":"Traduction!$A$352","v":"Mardi"},"2018-11-06",308.91666666666703,8.1999999999999993,{"$f":"'[2]Détail N°7'!$L$28","v":9},1]
[null,null,null,null,null,null,null,null,null,null,null,null,null,null,{"$f":"Traduction!$A$352","v":"Mardi"},"2018-11-06",308.95833333333297,7.6,{"$f":"'[2]Détail N°7'!$L$28","v":9},1]
[null,null,null,null,null,null,null,null,null,null,null,null,null,null,{"$f":"Traduction!$A$353","v":"Mercredi"},"2018-11-07",309.125,5.7,{"$f":"'[2]Détail N°7'!$L$28","v":9},1]
[null,null,null,null,null,null,null,null,null,null,null,null,null,null,{"$f":"Traduction!$A$353","v":"Mercredi"},"2018-11-07",309.29166666666703,4.9000000000000004,{"$f":"'[2]Détail N°7'!$L$28","v":9},1]
[null,null,null,null,null,null,null,null,null,null,null,null,null,null,{"$f":"Traduction!$A$353","v":"Mercredi"},"2018-11-07",309.41666666666703,9.1999999999999993,{"$f":"'[2]Détail N°7'!$L$28","v":9},0]
[null,null,null,null,null,null,null,null,null,null,null,null,null,null,{"$f":"Traduction!$A$353","v":"Mercredi"},"2018-11-07",309.58333333333297,10.4,{"$f":"'[2]Détail N°7'!$L$28","v":9},0]
[null,null,null,null,null,null,null,null,null,null,null,null,null,null,{"$f":"Traduction!$A$353","v":"Mercredi"},"2018-11-07",309.70833333333297,9.6999999999999993,{"$f":"'[2]Détail N°7'!$L$28","v":9},0]
[null,null,null,null,null,null,null,null,null,null,null,null,null,null,{"$f":"Traduction!$A$353","v":"Mercredi"},"2018-11-07",309.83333333333297,8.1999999999999993,{"$f":"'[2]Détail N°7'!$L$28","v":9},1]
[null,null,null,null,null,null,null,null,null,null,null,null,null,null,{"$f":"Traduction!$A$353","v":"Mercredi"},"2018-11-07",309.91666666666703,7.6,{"$f":"'[2]Détail N°7'!$L$28","v":9},1]
[null,null,null,null,null,null,null,null,null,null,null,null,null,null,{"$f":"Traduction!$A$354","v":"Jeudi"},"2018-11-08",310.04166666666703,6.9,{"$f":"'[2]Détail N°7'!$L$28","v":9},1]
[null,null,null,null,null,null,null,null,null,null,null,null,null,null,{"$f":"Traduction!$A$354","v":"Jeudi"},"2018-11-08",310.20833333333297,6.3,{"$f":"'[2]Détail N°7'!$L$28","v":9},1]
[null,null,null,null,null,null,null,null,null,null,null,null,null,null,{"$f":"Traduction!$A$354","v":"Jeudi"},"2018-11-08",310.375,6.4,{"$f":"'[2]Détail N°7'!$L$28","v":9},1]
[null,null,null,null,null,null,null,null,null,null,null,null,null,null,{"$f":"Traduction!$A$354","v":"Jeudi"},"2018-11-08",310.54166666666703,6.9,{"$f":"'[2]Détail N°7'!$L$28","v":9},1]
[null,null,null,null,null,null,null,null,null,null,null,null,null,null,{"$f":"Traduction!$A$354","v":"Jeudi"},"2018-11-08",310.58333333333297,6.9,{"$f":"'[2]Détail N°7'!$L$28","v":9},1]
[null,null,null,null,null,null,null,null,null,null,null,null,null,null,{"$f":"Traduction!$A$354","v":"Jeudi"},"2018-11-08",310.83333333333297,4.5999999999999996,{"$f":"'[2]Détail N°7'!$L$28","v":9},1]
[null,null,null,null,null,null,null,null,null,null,null,null,null,null,{"$f":"Traduction!$A$354","v":"Jeudi"},"2018-11-08",310.875,5.9,{"$f":"'[2]Détail N°7'!$L$28","v":9},1]
[null,null,null,null,null,null,null,null,null,null,null,null,null,null,{"$f":"Traduction!$A$354","v":"Jeudi"},"2018-11-08",311,5.5,{"$f":"'[2]Détail N°7'!$L$28","v":9},1]
[null,null,null,null,null,null,null,null,null,null,null,null,null,null,{"$f":"Traduction!$A$355","v":"Vendredi"},"2018-11-09",311.125,4.2,{"$f":"'[2]Détail N°7'!$L$28","v":9},1]
[null,null,null,null,null,null,null,null,null,null,null,null,null,null,{"$f":"Traduction!$A$355","v":"Vendredi"},"2018-11-09",311.33333333333297,3.3,{"$f":"'[2]Détail N°7'!$L$28","v":9},1]
[null,null,null,null,null,null,null,null,null,null,null,null,null,null,{"$f":"Traduction!$A$355","v":"Vendredi"},"2018-11-09",311.45833333333297,6.9,{"$f":"'[2]Détail N°7'!$L$28","v":9},1]
[null,null,null,null,null,null,null,null,null,null,null,null,null,null,{"$f":"Traduction!$A$355","v":"Vendredi"},"2018-11-09",311.66666666666703,8.3000000000000007,{"$f":"'[2]Détail N°7'!$L$28","v":9},1]
[null,null,null,null,null,null,null,null,null,null,null,null,null,null,{"$f":"Traduction!$A$355","v":"Vendredi"},"2018-11-09",311.79166666666703,6.4,{"$f":"'[2]Détail N°7'!$L$28","v":9},1]
[null,null,null,null,null,null,null,null,null,null,null,null,null,null,{"$f":"Traduction!$A$355","v":"Vendredi"},"2018-11-09",311.91666666666703,5.6,{"$f":"'[2]Détail N°7'!$L$28","v":9},1]
[null,null,null,null,null,null,null,null,null,null,null,null,null,null,{"$f":"Traduction!$A$356","v":"Samedi"},"2018-11-10",312.04166666666703,4.4000000000000004,{"$f":"'[2]Détail N°7'!$L$28","v":9},1]
[null,null,null,null,null,null,null,null,null,null,null,null,null,null,{"$f":"Traduction!$A$356","v":"Samedi"},"2018-11-10",312.125,4.5999999999999996,{"$f":"'[2]Détail N°7'!$L$28","v":9},1]
[null,null,null,null,null,null,null,null,null,null,null,null,null,null,{"$f":"Traduction!$A$356","v":"Samedi"},"2018-11-10",312.25,4.5,{"$f":"'[2]Détail N°7'!$L$28","v":9},1]
[null,null,null,null,null,null,null,null,null,null,null,null,null,null,{"$f":"Traduction!$A$356","v":"Samedi"},"2018-11-10",312.41666666666703,5.4,{"$f":"'[2]Détail N°7'!$L$28","v":9},1]
[null,null,null,null,null,null,null,null,null,null,null,null,null,null,{"$f":"Traduction!$A$356","v":"Samedi"},"2018-11-10",312.58333333333297,6.4,{"$f":"'[2]Détail N°7'!$L$28","v":9},1]
[null,null,null,null,null,null,null,null,null,null,null,null,null,null,{"$f":"Traduction!$A$356","v":"Samedi"},"2018-11-10",312.75,5.8,{"$f":"'[2]Détail N°7'!$L$28","v":9},1]
[null,null,null,null,null,null,null,null,null,null,null,null,null,null,{"$f":"Traduction!$A$356","v":"Samedi"},"2018-11-10",312.875,5,{"$f":"'[2]Détail N°7'!$L$28","v":9},1]
[null,null,null,null,null,null,null,null,null,null,null,null,null,null,{"$f":"Traduction!$A$356","v":"Samedi"},"2018-11-10",312.95833333333297,4.5,{"$f":"'[2]Détail N°7'!$L$28","v":9},1]
[null,null,null,null,null,null,null,null,null,null,null,null,null,null,{"$f":"Traduction!$A$357","v":"Dimanche"},"2018-11-11",313.08333333333297,3.6,{"$f":"'[2]Détail N°7'!$L$28","v":9},1]
[null,null,null,null,null,null,null,null,null,null,null,null,null,null,{"$f":"Traduction!$A$357","v":"Dimanche"},"2018-11-11",313.20833333333297,3,{"$f":"'[2]Détail N°7'!$L$28","v":9},1]
[null,null,null,null,null,null,null,null,null,null,null,null,null,null,{"$f":"Traduction!$A$357","v":"Dimanche"},"2018-11-11",313.33333333333297,2.8,{"$f":"'[2]Détail N°7'!$L$28","v":9},1]
[null,null,null,null,null,null,null,null,null,null,null,null,null,null,{"$f":"Traduction!$A$357","v":"Dimanche"},"2018-11-11",313.54166666666703,9.1999999999999993,{"$f":"'[2]Détail N°7'!$L$28","v":9},0]
[null,null,null,null,null,null,null,null,null,null,null,null,null,null,{"$f":"Traduction!$A$357","v":"Dimanche"},"2018-11-11",313.66666666666703,8.4,{"$f":"'[2]Détail N°7'!$L$28","v":9},1]
[null,null,null,null,null,null,null,null,null,null,null,null,null,null,{"$f":"Traduction!$A$357","v":"Dimanche"},"2018-11-11",313.83333333333297,6.6,{"$f":"'[2]Détail N°7'!$L$28","v":9},1]
[null,null,null,null,null,null,null,null,null,null,null,null,null,null,{"$f":"Traduction!$A$357","v":"Dimanche"},"2018-11-11",313.875,6.3,{"$f":"'[2]Détail N°7'!$L$28","v":9},1]
[null,null,null,null,null,null,null,null,null,null,null,null,null,null,{"$f":"Traduction!$A$351","v":"Lundi "},"2018-11-12",314.125,4.8,{"$f":"'[2]Détail N°7'!$L$28","v":9},1]
[null,null,null,null,null,null,null,null,null,null,null,null,null,null,{"$f":"Traduction!$A$351","v":"Lundi "},"2018-11-12",314.16666666666703,4.7,{"$f":"'[2]Détail N°7'!$L$28","v":9},1]
[null,null,null,null,null,null,null,null,null,null,null,null,null,null,{"$f":"Traduction!$A$351","v":"Lundi "},"2018-11-12",314.41666666666703,7.4,{"$f":"'[2]Détail N°7'!$L$28","v":9},1]
[null,null,null,null,null,null,null,null,null,null,null,null,null,null,{"$f":"Traduction!$A$351","v":"Lundi "},"2018-11-12",314.5,9.6999999999999993,{"$f":"'[2]Détail N°7'!$L$28","v":9},0]
[null,null,null,null,null,null,null,null,null,null,null,null,null,null,{"$f":"Traduction!$A$351","v":"Lundi "},"2018-11-12",314.625,10.5,{"$f":"'[2]Détail N°7'!$L$28","v":9},0]
[null,null,null,null,null,null,null,null,null,null,null,null,null,null,{"$f":"Traduction!$A$351","v":"Lundi "},"2018-11-12",314.79166666666703,8.4,{"$f":"'[2]Détail N°7'!$L$28","v":9},1]
[null,null,null,null,null,null,null,null,null,null,null,null,null,null,{"$f":"Traduction!$A$351","v":"Lundi "},"2018-11-12",314.95833333333297,6.9,{"$f":"'[2]Détail N°7'!$L$28","v":9},1]
[null,null,null,null,null,null,null,null,null,null,null,null,null,null,{"$f":"Traduction!$A$352","v":"Mardi"},"2018-11-13",315.08333333333297,5.8,{"$f":"'[2]Détail N°7'!$L$28","v":9},1]
[null,null,null,null,null,null,null,null,null,null,null,null,null,null,{"$f":"Traduction!$A$352","v":"Mardi"},"2018-11-13",315.125,5.4,{"$f":"'[2]Détail N°7'!$L$28","v":9},1]
[null,null,null,null,null,null,null,null,null,null,null,null,null,null,{"$f":"Traduction!$A$352","v":"Mardi"},"2018-11-13",315.33333333333297,4.7,{"$f":"'[2]Détail N°7'!$L$28","v":9},1]
[null,null,null,null,null,null,null,null,null,null,null,null,null,null,{"$f":"Traduction!$A$352","v":"Mardi"},"2018-11-13",315.41666666666703,5.6,{"$f":"'[2]Détail N°7'!$L$28","v":9},1]
[null,null,null,null,null,null,null,null,null,null,null,null,null,null,{"$f":"Traduction!$A$352","v":"Mardi"},"2018-11-13",315.58333333333297,6.6,{"$f":"'[2]Détail N°7'!$L$28","v":9},1]
[null,null,null,null,null,null,null,null,null,null,null,null,null,null,{"$f":"Traduction!$A$352","v":"Mardi"},"2018-11-13",315.70833333333297,7.5,{"$f":"'[2]Détail N°7'!$L$28","v":9},1]
[null,null,null,null,null,null,null,null,null,null,null,null,null,null,{"$f":"Traduction!$A$352","v":"Mardi"},"2018-11-13",315.875,6.9,{"$f":"'[2]Détail N°7'!$L$28","v":9},1]
[null,null,null,null,null,null,null,null,null,null,null,null,null,null,{"$f":"Traduction!$A$353","v":"Mercredi"},"2018-11-14",316.04166666666703,6.5,{"$f":"'[2]Détail N°7'!$L$28","v":9},1]
[null,null,null,null,null,null,null,null,null,null,null,null,null,null,{"$f":"Traduction!$A$353","v":"Mercredi"},"2018-11-14",316.08333333333297,6.5,{"$f":"'[2]Détail N°7'!$L$28","v":9},1]
[null,null,null,null,null,null,null,null,null,null,null,null,null,null,{"$f":"Traduction!$A$353","v":"Mercredi"},"2018-11-14",316.25,6.4,{"$f":"'[2]Détail N°7'!$L$28","v":9},1]
[null,null,null,null,null,null,null,null,null,null,null,null,null,null,{"$f":"Traduction!$A$353","v":"Mercredi"},"2018-11-14",316.375,6.5,{"$f":"'[2]Détail N°7'!$L$28","v":9},1]
[null,null,null,null,null,null,null,null,null,null,null,null,null,null,{"$f":"Traduction!$A$353","v":"Mercredi"},"2018-11-14",316.625,7.5,{"$f":"'[2]Détail N°7'!$L$28","v":9},1]
[null,null,null,null,null,null,null,null,null,null,null,null,null,null,{"$f":"Traduction!$A$353","v":"Mercredi"},"2018-11-14",316.70833333333297,7,{"$f":"'[2]Détail N°7'!$L$28","v":9},1]
[null,null,null,null,null,null,null,null,null,null,null,null,null,null,{"$f":"Traduction!$A$353","v":"Mercredi"},"2018-11-14",316.83333333333297,6.7,{"$f":"'[2]Détail N°7'!$L$28","v":9},1]
[null,null,null,null,null,null,null,null,null,null,null,null,null,null,{"$f":"Traduction!$A$353","v":"Mercredi"},"2018-11-14",316.95833333333297,6.8,{"$f":"'[2]Détail N°7'!$L$28","v":9},1]
[null,null,null,null,null,null,null,null,null,null,null,null,null,null,{"$f":"Traduction!$A$354","v":"Jeudi"},"2018-11-15",317.16666666666703,6.6,{"$f":"'[2]Détail N°7'!$L$28","v":9},1]
[null,null,null,null,null,null,null,null,null,null,null,null,null,null,{"$f":"Traduction!$A$354","v":"Jeudi"},"2018-11-15",317.29166666666703,6.6,{"$f":"'[2]Détail N°7'!$L$28","v":9},1]
[null,null,null,null,null,null,null,null,null,null,null,null,null,null,{"$f":"Traduction!$A$354","v":"Jeudi"},"2018-11-15",317.33333333333297,6.6,{"$f":"'[2]Détail N°7'!$L$28","v":9},1]
[null,null,null,null,null,null,null,null,null,null,null,null,null,null,{"$f":"Traduction!$A$354","v":"Jeudi"},"2018-11-15",317.54166666666703,8.9,{"$f":"'[2]Détail N°7'!$L$28","v":9},1]
[null,null,null,null,null,null,null,null,null,null,null,null,null,null,{"$f":"Traduction!$A$354","v":"Jeudi"},"2018-11-15",317.625,9,{"$f":"'[2]Détail N°7'!$L$28","v":9},1]
[null,null,null,null,null,null,null,null,null,null,null,null,null,null,{"$f":"Traduction!$A$354","v":"Jeudi"},"2018-11-15",317.79166666666703,8,{"$f":"'[2]Détail N°7'!$L$28","v":9},1]
[null,null,null,null,null,null,null,null,null,null,null,null,null,null,{"$f":"Traduction!$A$354","v":"Jeudi"},"2018-11-15",317.91666666666703,7.2,{"$f":"'[2]Détail N°7'!$L$28","v":9},1]
[null,null,null,null,null,null,null,null,null,null,null,null,null,null,{"$f":"Traduction!$A$355","v":"Vendredi"},"2018-11-16",318.125,5.2,{"$f":"'[2]Détail N°7'!$L$28","v":9},1]
[null,null,null,null,null,null,null,null,null,null,null,null,null,null,{"$f":"Traduction!$A$355","v":"Vendredi"},"2018-11-16",318.25,4.5999999999999996,{"$f":"'[2]Détail N°7'!$L$28","v":9},1]
[null,null,null,null,null,null,null,null,null,null,null,null,null,null,{"$f":"Traduction!$A$355","v":"Vendredi"},"2018-11-16",318.375,6,{"$f":"'[2]Détail N°7'!$L$28","v":9},1]
[null,null,null,null,null,null,null,null,null,null,null,null,null,null,{"$f":"Traduction!$A$355","v":"Vendredi"},"2018-11-16",318.45833333333297,9.8000000000000007,{"$f":"'[2]Détail N°7'!$L$28","v":9},0]
[null,null,null,null,null,null,null,null,null,null,null,null,null,null,{"$f":"Traduction!$A$355","v":"Vendredi"},"2018-11-16",318.58333333333297,13,{"$f":"'[2]Détail N°7'!$L$28","v":9},0]
[null,null,null,null,null,null,null,null,null,null,null,null,null,null,{"$f":"Traduction!$A$355","v":"Vendredi"},"2018-11-16",318.70833333333297,11.2,{"$f":"'[2]Détail N°7'!$L$28","v":9},0]
[null,null,null,null,null,null,null,null,null,null,null,null,null,null,{"$f":"Traduction!$A$355","v":"Vendredi"},"2018-11-16",318.83333333333297,9.1,{"$f":"'[2]Détail N°7'!$L$28","v":9},0]
[null,null,null,null,null,null,null,null,null,null,null,null,null,null,{"$f":"Traduction!$A$356","v":"Samedi"},"2018-11-17",319.04166666666703,5.7,{"$f":"'[2]Détail N°7'!$L$28","v":9},1]
[null,null,null,null,null,null,null,null,null,null,null,null,null,null,{"$f":"Traduction!$A$356","v":"Samedi"},"2018-11-17",319.20833333333297,3.4,{"$f":"'[2]Détail N°7'!$L$28","v":9},1]
[null,null,null,null,null,null,null,null,null,null,null,null,null,null,{"$f":"Traduction!$A$356","v":"Samedi"},"2018-11-17",319.375,3.5,{"$f":"'[2]Détail N°7'!$L$28","v":9},1]
[null,null,null,null,null,null,null,null,null,null,null,null,null,null,{"$f":"Traduction!$A$356","v":"Samedi"},"2018-11-17",319.5,6.2,{"$f":"'[2]Détail N°7'!$L$28","v":9},1]
[null,null,null,null,null,null,null,null,null,null,null,null,null,null,{"$f":"Traduction!$A$356","v":"Samedi"},"2018-11-17",319.54166666666703,6.6,{"$f":"'[2]Détail N°7'!$L$28","v":9},1]
[null,null,null,null,null,null,null,null,null,null,null,null,null,null,{"$f":"Traduction!$A$356","v":"Samedi"},"2018-11-17",319.66666666666703,6.5,{"$f":"'[2]Détail N°7'!$L$28","v":9},1]
[null,null,null,null,null,null,null,null,null,null,null,null,null,null,{"$f":"Traduction!$A$356","v":"Samedi"},"2018-11-17",319.91666666666703,3.6,{"$f":"'[2]Détail N°7'!$L$28","v":9},1]
[null,null,null,null,null,null,null,null,null,null,null,null,null,null,{"$f":"Traduction!$A$356","v":"Samedi"},"2018-11-17",320,2.7,{"$f":"'[2]Détail N°7'!$L$28","v":9},1]
[null,null,null,null,null,null,null,null,null,null,null,null,null,null,{"$f":"Traduction!$A$357","v":"Dimanche"},"2018-11-18",320.125,2.1,{"$f":"'[2]Détail N°7'!$L$28","v":9},1]
[null,null,null,null,null,null,null,null,null,null,null,null,null,null,{"$f":"Traduction!$A$357","v":"Dimanche"},"2018-11-18",320.29166666666703,1.9,{"$f":"'[2]Détail N°7'!$L$28","v":9},1]
[null,null,null,null,null,null,null,null,null,null,null,null,null,null,{"$f":"Traduction!$A$357","v":"Dimanche"},"2018-11-18",320.45833333333297,2.8,{"$f":"'[2]Détail N°7'!$L$28","v":9},1]
[null,null,null,null,null,null,null,null,null,null,null,null,null,null,{"$f":"Traduction!$A$357","v":"Dimanche"},"2018-11-18",320.58333333333297,3.6,{"$f":"'[2]Détail N°7'!$L$28","v":9},1]
[null,null,null,null,null,null,null,null,null,null,null,null,null,null,{"$f":"Traduction!$A$357","v":"Dimanche"},"2018-11-18",320.66666666666703,3.4,{"$f":"'[2]Détail N°7'!$L$28","v":9},1]
[null,null,null,null,null,null,null,null,null,null,null,null,null,null,{"$f":"Traduction!$A$357","v":"Dimanche"},"2018-11-18",320.79166666666703,2.7,{"$f":"'[2]Détail N°7'!$L$28","v":9},1]
[null,null,null,null,null,null,null,null,null,null,null,null,null,null,{"$f":"Traduction!$A$357","v":"Dimanche"},"2018-11-18",320.95833333333297,1.7,{"$f":"'[2]Détail N°7'!$L$28","v":9},1]
[null,null,null,null,null,null,null,null,null,null,null,null,null,null,{"$f":"Traduction!$A$351","v":"Lundi "},"2018-11-19",321.08333333333297,0.5,{"$f":"'[2]Détail N°7'!$L$28","v":9},1]
[null,null,null,null,null,null,null,null,null,null,null,null,null,null,{"$f":"Traduction!$A$351","v":"Lundi "},"2018-11-19",321.20833333333297,-0.6,{"$f":"'[2]Détail N°7'!$L$28","v":9},1]
[null,null,null,null,null,null,null,null,null,null,null,null,null,null,{"$f":"Traduction!$A$351","v":"Lundi "},"2018-11-19",321.41666666666703,0.2,{"$f":"'[2]Détail N°7'!$L$28","v":9},1]
[null,null,null,null,null,null,null,null,null,null,null,null,null,null,{"$f":"Traduction!$A$351","v":"Lundi "},"2018-11-19",321.54166666666703,2.4,{"$f":"'[2]Détail N°7'!$L$28","v":9},1]
[null,null,null,null,null,null,null,null,null,null,null,null,null,null,{"$f":"Traduction!$A$351","v":"Lundi "},"2018-11-19",321.58333333333297,2.8,{"$f":"'[2]Détail N°7'!$L$28","v":9},1]
[null,null,null,null,null,null,null,null,null,null,null,null,null,null,{"$f":"Traduction!$A$351","v":"Lundi "},"2018-11-19",321.75,1.1000000000000001,{"$f":"'[2]Détail N°7'!$L$28","v":9},{"$f":"IF(R8087<=S8087,1,0)","v":1}]
[null,null,null,null,null,null,null,null,null,null,null,null,null,null,{"$f":"Traduction!$A$351","v":"Lundi "},"2018-11-19",321.875,0.3,{"$f":"'[2]Détail N°7'!$L$28","v":9},1]
[null,null,null,null,null,null,null,null,null,null,null,null,null,null,{"$f":"Traduction!$A$352","v":"Mardi"},"2018-11-20",322.125,0.4,{"$f":"'[2]Détail N°7'!$L$28","v":9},1]
[null,null,null,null,null,null,null,null,null,null,null,null,null,null,{"$f":"Traduction!$A$352","v":"Mardi"},"2018-11-20",322.20833333333297,0.7,{"$f":"'[2]Détail N°7'!$L$28","v":9},1]
[null,null,null,null,null,null,null,null,null,null,null,null,null,null,{"$f":"Traduction!$A$352","v":"Mardi"},"2018-11-20",322.33333333333297,1,{"$f":"'[2]Détail N°7'!$L$28","v":9},1]
[null,null,null,null,null,null,null,null,null,null,null,null,null,null,{"$f":"Traduction!$A$352","v":"Mardi"},"2018-11-20",322.5,5.2,{"$f":"'[2]Détail N°7'!$L$28","v":9},1]
[null,null,null,null,null,null,null,null,null,null,null,null,null,null,{"$f":"Traduction!$A$352","v":"Mardi"},"2018-11-20",322.66666666666703,7,{"$f":"'[2]Détail N°7'!$L$28","v":9},1]
[null,null,null,null,null,null,null,null,null,null,null,null,null,null,{"$f":"Traduction!$A$352","v":"Mardi"},"2018-11-20",322.70833333333297,6.1,{"$f":"'[2]Détail N°7'!$L$28","v":9},1]
[null,null,null,null,null,null,null,null,null,null,null,null,null,null,{"$f":"Traduction!$A$352","v":"Mardi"},"2018-11-20",322.83333333333297,5.5,{"$f":"'[2]Détail N°7'!$L$28","v":9},1]
[null,null,null,null,null,null,null,null,null,null,null,null,null,null,{"$f":"Traduction!$A$353","v":"Mercredi"},"2018-11-21",323.04166666666703,4.2,{"$f":"'[2]Détail N°7'!$L$28","v":9},1]
[null,null,null,null,null,null,null,null,null,null,null,null,null,null,{"$f":"Traduction!$A$353","v":"Mercredi"},"2018-11-21",323.16666666666703,2.9,{"$f":"'[2]Détail N°7'!$L$28","v":9},1]
[null,null,null,null,null,null,null,null,null,null,null,null,null,null,{"$f":"Traduction!$A$353","v":"Mercredi"},"2018-11-21",323.29166666666703,2.2999999999999998,{"$f":"'[2]Détail N°7'!$L$28","v":9},1]
[null,null,null,null,null,null,null,null,null,null,null,null,null,null,{"$f":"Traduction!$A$353","v":"Mercredi"},"2018-11-21",323.41666666666703,4.3,{"$f":"'[2]Détail N°7'!$L$28","v":9},1]
[null,null,null,null,null,null,null,null,null,null,null,null,null,null,{"$f":"Traduction!$A$353","v":"Mercredi"},"2018-11-21",323.625,8,{"$f":"'[2]Détail N°7'!$L$28","v":9},1]
[null,null,null,null,null,null,null,null,null,null,null,null,null,null,{"$f":"Traduction!$A$353","v":"Mercredi"},"2018-11-21",323.75,6.4,{"$f":"'[2]Détail N°7'!$L$28","v":9},1]
[null,null,null,null,null,null,null,null,null,null,null,null,null,null,{"$f":"Traduction!$A$353","v":"Mercredi"},"2018-11-21",323.79166666666703,6,{"$f":"'[2]Détail N°7'!$L$28","v":9},1]
[null,null,null,null,null,null,null,null,null,null,null,null,null,null,{"$f":"Traduction!$A$353","v":"Mercredi"},"2018-11-21",323.95833333333297,4.5,{"$f":"'[2]Détail N°7'!$L$28","v":9},1]
[null,null,null,null,null,null,null,null,null,null,null,null,null,null,{"$f":"Traduction!$A$354","v":"Jeudi"},"2018-11-22",324.08333333333297,3.6,{"$f":"'[2]Détail N°7'!$L$28","v":9},1]
[null,null,null,null,null,null,null,null,null,null,null,null,null,null,{"$f":"Traduction!$A$354","v":"Jeudi"},"2018-11-22",324.25,2.9,{"$f":"'[2]Détail N°7'!$L$28","v":9},1]
[null,null,null,null,null,null,null,null,null,null,null,null,null,null,{"$f":"Traduction!$A$354","v":"Jeudi"},"2018-11-22",324.33333333333297,2.7,{"$f":"'[2]Détail N°7'!$L$28","v":9},1]
[null,null,null,null,null,null,null,null,null,null,null,null,null,null,{"$f":"Traduction!$A$354","v":"Jeudi"},"2018-11-22",324.54166666666703,3.4,{"$f":"'[2]Détail N°7'!$L$28","v":9},1]
[null,null,null,null,null,null,null,null,null,null,null,null,null,null,{"$f":"Traduction!$A$354","v":"Jeudi"},"2018-11-22",324.70833333333297,3.1,{"$f":"'[2]Détail N°7'!$L$28","v":9},1]
[null,null,null,null,null,null,null,null,null,null,null,null,null,null,{"$f":"Traduction!$A$354","v":"Jeudi"},"2018-11-22",324.875,2.8,{"$f":"'[2]Détail N°7'!$L$28","v":9},1]
[null,null,null,null,null,null,null,null,null,null,null,null,null,null,{"$f":"Traduction!$A$354","v":"Jeudi"},"2018-11-22",324.91666666666703,2.7,{"$f":"'[2]Détail N°7'!$L$28","v":9},1]
[null,null,null,null,null,null,null,null,null,null,null,null,null,null,{"$f":"Traduction!$A$355","v":"Vendredi"},"2018-11-23",325.04166666666703,2.6,{"$f":"'[2]Détail N°7'!$L$28","v":9},1]
[null,null,null,null,null,null,null,null,null,null,null,null,null,null,{"$f":"Traduction!$A$355","v":"Vendredi"},"2018-11-23",325.16666666666703,2.8,{"$f":"'[2]Détail N°7'!$L$28","v":9},1]
[null,null,null,null,null,null,null,null,null,null,null,null,null,null,{"$f":"Traduction!$A$355","v":"Vendredi"},"2018-11-23",325.41666666666703,3.5,{"$f":"'[2]Détail N°7'!$L$28","v":9},1]
[null,null,null,null,null,null,null,null,null,null,null,null,null,null,{"$f":"Traduction!$A$355","v":"Vendredi"},"2018-11-23",325.5,3.9,{"$f":"'[2]Détail N°7'!$L$28","v":9},1]
[null,null,null,null,null,null,null,null,null,null,null,null,null,null,{"$f":"Traduction!$A$355","v":"Vendredi"},"2018-11-23",325.66666666666703,6.3,{"$f":"'[2]Détail N°7'!$L$28","v":9},1]
[null,null,null,null,null,null,null,null,null,null,null,null,null,null,{"$f":"Traduction!$A$355","v":"Vendredi"},"2018-11-23",325.79166666666703,5.6,{"$f":"'[2]Détail N°7'!$L$28","v":9},1]
[null,null,null,null,null,null,null,null,null,null,null,null,null,null,{"$f":"Traduction!$A$355","v":"Vendredi"},"2018-11-23",325.95833333333297,5,{"$f":"'[2]Détail N°7'!$L$28","v":9},1]
[null,null,null,null,null,null,null,null,null,null,null,null,null,null,{"$f":"Traduction!$A$355","v":"Vendredi"},"2018-11-23",326,4.9000000000000004,{"$f":"'[2]Détail N°7'!$L$28","v":9},1]
[null,null,null,null,null,null,null,null,null,null,null,null,null,null,{"$f":"Traduction!$A$356","v":"Samedi"},"2018-11-24",326.16666666666703,3.7,{"$f":"'[2]Détail N°7'!$L$28","v":9},1]
[null,null,null,null,null,null,null,null,null,null,null,null,null,null,{"$f":"Traduction!$A$356","v":"Samedi"},"2018-11-24",326.29166666666703,3.4,{"$f":"'[2]Détail N°7'!$L$28","v":9},1]
[null,null,null,null,null,null,null,null,null,null,null,null,null,null,{"$f":"Traduction!$A$356","v":"Samedi"},"2018-11-24",326.45833333333297,6.6,{"$f":"'[2]Détail N°7'!$L$28","v":9},1]
[null,null,null,null,null,null,null,null,null,null,null,null,null,null,{"$f":"Traduction!$A$356","v":"Samedi"},"2018-11-24",326.58333333333297,8.6,{"$f":"'[2]Détail N°7'!$L$28","v":9},1]
[null,null,null,null,null,null,null,null,null,null,null,null,null,null,{"$f":"Traduction!$A$356","v":"Samedi"},"2018-11-24",326.70833333333297,7,{"$f":"'[2]Détail N°7'!$L$28","v":9},1]
[null,null,null,null,null,null,null,null,null,null,null,null,null,null,{"$f":"Traduction!$A$356","v":"Samedi"},"2018-11-24",326.91666666666703,5.2,{"$f":"'[2]Détail N°7'!$L$28","v":9},1]
[null,null,null,null,null,null,null,null,null,null,null,null,null,null,{"$f":"Traduction!$A$357","v":"Dimanche"},"2018-11-25",327.04166666666703,4,{"$f":"'[2]Détail N°7'!$L$28","v":9},1]
[null,null,null,null,null,null,null,null,null,null,null,null,null,null,{"$f":"Traduction!$A$357","v":"Dimanche"},"2018-11-25",327.08333333333297,3.6,{"$f":"'[2]Détail N°7'!$L$28","v":9},{"$f":"IF(R8215<=S8215,1,0)","v":1}]
[null,null,null,null,null,null,null,null,null,null,null,null,null,null,{"$f":"Traduction!$A$357","v":"Dimanche"},"2018-11-25",327.25,2.6,{"$f":"'[2]Détail N°7'!$L$28","v":9},1]
[null,null,null,null,null,null,null,null,null,null,null,null,null,null,{"$f":"Traduction!$A$357","v":"Dimanche"},"2018-11-25",327.41666666666703,2.8,{"$f":"'[2]Détail N°7'!$L$28","v":9},1]
[null,null,null,null,null,null,null,null,null,null,null,null,null,null,{"$f":"Traduction!$A$357","v":"Dimanche"},"2018-11-25",327.625,5.0999999999999996,{"$f":"'[2]Détail N°7'!$L$28","v":9},1]
[null,null,null,null,null,null,null,null,null,null,null,null,null,null,{"$f":"Traduction!$A$357","v":"Dimanche"},"2018-11-25",327.70833333333297,4.8,{"$f":"'[2]Détail N°7'!$L$28","v":9},1]
[null,null,null,null,null,null,null,null,null,null,null,null,null,null,{"$f":"Traduction!$A$357","v":"Dimanche"},"2018-11-25",327.875,3.1,{"$f":"'[2]Détail N°7'!$L$28","v":9},1]
[null,null,null,null,null,null,null,null,null,null,null,null,null,null,{"$f":"Traduction!$A$357","v":"Dimanche"},"2018-11-25",328,1.9,{"$f":"'[2]Détail N°7'!$L$28","v":9},1]
[null,null,null,null,null,null,null,null,null,null,null,null,null,null,{"$f":"Traduction!$A$351","v":"Lundi "},"2018-11-26",328.16666666666703,0.3,{"$f":"'[2]Détail N°7'!$L$28","v":9},1]
[null,null,null,null,null,null,null,null,null,null,null,null,null,null,{"$f":"Traduction!$A$351","v":"Lundi "},"2018-11-26",328.20833333333297,0,{"$f":"'[2]Détail N°7'!$L$28","v":9},1]
[null,null,null,null,null,null,null,null,null,null,null,null,null,null,{"$f":"Traduction!$A$351","v":"Lundi "},"2018-11-26",328.33333333333297,-0.3,{"$f":"'[2]Détail N°7'!$L$28","v":9},1]
[null,null,null,null,null,null,null,null,null,null,null,null,null,null,{"$f":"Traduction!$A$351","v":"Lundi "},"2018-11-26",328.54166666666703,2.6,{"$f":"'[2]Détail N°7'!$L$28","v":9},1]
[null,null,null,null,null,null,null,null,null,null,null,null,null,null,{"$f":"Traduction!$A$351","v":"Lundi "},"2018-11-26",328.66666666666703,3.6,{"$f":"'[2]Détail N°7'!$L$28","v":9},1]
[null,null,null,null,null,null,null,null,null,null,null,null,null,null,{"$f":"Traduction!$A$351","v":"Lundi "},"2018-11-26",328.79166666666703,2.2999999999999998,{"$f":"'[2]Détail N°7'!$L$28","v":9},1]
[null,null,null,null,null,null,null,null,null,null,null,null,null,null,{"$f":"Traduction!$A$351","v":"Lundi "},"2018-11-26",328.91666666666703,1.3,{"$f":"'[2]Détail N°7'!$L$28","v":9},1]
[null,null,null,null,null,null,null,null,null,null,null,null,null,null,{"$f":"Traduction!$A$352","v":"Mardi"},"2018-11-27",329.125,-0.2,{"$f":"'[2]Détail N°7'!$L$28","v":9},1]
[null,null,null,null,null,null,null,null,null,null,null,null,null,null,{"$f":"Traduction!$A$352","v":"Mardi"},"2018-11-27",329.25,-0.6,{"$f":"'[2]Détail N°7'!$L$28","v":9},1]
[null,null,null,null,null,null,null,null,null,null,null,null,null,null,{"$f":"Traduction!$A$352","v":"Mardi"},"2018-11-27",329.29166666666703,-0.7,{"$f":"'[2]Détail N°7'!$L$28","v":9},1]
[null,null,null,null,null,null,null,null,null,null,null,null,null,null,{"$f":"Traduction!$A$352","v":"Mardi"},"2018-11-27",329.45833333333297,-0.3,{"$f":"'[2]Détail N°7'!$L$28","v":9},1]
[null,null,null,null,null,null,null,null,null,null,null,null,null,null,{"$f":"Traduction!$A$352","v":"Mardi"},"2018-11-27",329.625,0,{"$f":"'[2]Détail N°7'!$L$28","v":9},1]
[null,null,null,null,null,null,null,null,null,null,null,null,null,null,{"$f":"Traduction!$A$352","v":"Mardi"},"2018-11-27",329.75,-0.3,{"$f":"'[2]Détail N°7'!$L$28","v":9},{"$f":"IF(R8279<=S8279,1,0)","v":1}]
[null,null,null,null,null,null,null,null,null,null,null,null,null,null,{"$f":"Traduction!$A$352","v":"Mardi"},"2018-11-27",329.83333333333297,-0.3,{"$f":"'[2]Détail N°7'!$L$28","v":9},1]
[null,null,null,null,null,null,null,null,null,null,null,null,null,null,{"$f":"Traduction!$A$353","v":"Mercredi"},"2018-11-28",330.08333333333297,0.3,{"$f":"'[2]Détail N°7'!$L$28","v":9},1]
[null,null,null,null,null,null,null,null,null,null,null,null,null,null,{"$f":"Traduction!$A$353","v":"Mercredi"},"2018-11-28",330.20833333333297,0.6,{"$f":"'[2]Détail N°7'!$L$28","v":9},1]
[null,null,null,null,null,null,null,null,null,null,null,null,null,null,{"$f":"Traduction!$A$353","v":"Mercredi"},"2018-11-28",330.375,1.1000000000000001,{"$f":"'[2]Détail N°7'!$L$28","v":9},1]
[null,null,null,null,null,null,null,null,null,null,null,null,null,null,{"$f":"Traduction!$A$353","v":"Mercredi"},"2018-11-28",330.41666666666703,1.5,{"$f":"'[2]Détail N°7'!$L$28","v":9},1]
[null,null,null,null,null,null,null,null,null,null,null,null,null,null,{"$f":"Traduction!$A$353","v":"Mercredi"},"2018-11-28",330.54166666666703,2.8,{"$f":"'[2]Détail N°7'!$L$28","v":9},1]
[null,null,null,null,null,null,null,null,null,null,null,null,null,null,{"$f":"Traduction!$A$353","v":"Mercredi"},"2018-11-28",330.70833333333297,2.6,{"$f":"'[2]Détail N°7'!$L$28","v":9},1]
[null,null,null,null,null,null,null,null,null,null,null,null,null,null,{"$f":"Traduction!$A$353","v":"Mercredi"},"2018-11-28",330.91666666666703,2.9,{"$f":"'[2]Détail N°7'!$L$28","v":9},1]
[null,null,null,null,null,null,null,null,null,null,null,null,null,null,{"$f":"Traduction!$A$353","v":"Mercredi"},"2018-11-28",331,3,{"$f":"'[2]Détail N°7'!$L$28","v":9},1]
[null,null,null,null,null,null,null,null,null,null,null,null,null,null,{"$f":"Traduction!$A$354","v":"Jeudi"},"2018-11-29",331.16666666666703,2.8,{"$f":"'[2]Détail N°7'!$L$28","v":9},1]
[null,null,null,null,null,null,null,null,null,null,null,null,null,null,{"$f":"Traduction!$A$354","v":"Jeudi"},"2018-11-29",331.29166666666703,2.7,{"$f":"'[2]Détail N°7'!$L$28","v":9},1]
[null,null,null,null,null,null,null,null,null,null,null,null,null,null,{"$f":"Traduction!$A$354","v":"Jeudi"},"2018-11-29",331.375,3,{"$f":"'[2]Détail N°7'!$L$28","v":9},1]
[null,null,null,null,null,null,null,null,null,null,null,null,null,null,{"$f":"Traduction!$A$354","v":"Jeudi"},"2018-11-29",331.5,4.5,{"$f":"'[2]Détail N°7'!$L$28","v":9},1]
[null,null,null,null,null,null,null,null,null,null,null,null,null,null,{"$f":"Traduction!$A$354","v":"Jeudi"},"2018-11-29",331.66666666666703,4.7,{"$f":"'[2]Détail N°7'!$L$28","v":9},1]
[null,null,null,null,null,null,null,null,null,null,null,null,null,null,{"$f":"Traduction!$A$354","v":"Jeudi"},"2018-11-29",331.83333333333297,4.7,{"$f":"'[2]Détail N°7'!$L$28","v":9},1]
[null,null,null,null,null,null,null,null,null,null,null,null,null,null,{"$f":"Traduction!$A$354","v":"Jeudi"},"2018-11-29",331.95833333333297,5.2,{"$f":"'[2]Détail N°7'!$L$28","v":9},1]
[null,null,null,null,null,null,null,null,null,null,null,null,null,null,{"$f":"Traduction!$A$355","v":"Vendredi"},"2018-11-30",332.08333333333297,5.3,{"$f":"'[2]Détail N°7'!$L$28","v":9},1]
[null,null,null,null,null,null,null,null,null,null,null,null,null,null,{"$f":"Traduction!$A$355","v":"Vendredi"},"2018-11-30",332.20833333333297,5.4,{"$f":"'[2]Détail N°7'!$L$28","v":9},1]
[null,null,null,null,null,null,null,null,null,null,null,null,null,null,{"$f":"Traduction!$A$355","v":"Vendredi"},"2018-11-30",332.41666666666703,6.1,{"$f":"'[2]Détail N°7'!$L$28","v":9},{"$f":"IF(R8343<=S8343,1,0)","v":1}]
[null,null,null,null,null,null,null,null,null,null,null,null,null,null,{"$f":"Traduction!$A$355","v":"Vendredi"},"2018-11-30",332.45833333333297,6.4,{"$f":"'[2]Détail N°7'!$L$28","v":9},1]
[null,null,null,null,null,null,null,null,null,null,null,null,null,null,{"$f":"Traduction!$A$355","v":"Vendredi"},"2018-11-30",332.58333333333297,6.9,{"$f":"'[2]Détail N°7'!$L$28","v":9},1]
[null,null,null,null,null,null,null,null,null,null,null,null,null,null,{"$f":"Traduction!$A$355","v":"Vendredi"},"2018-11-30",332.75,6.6,{"$f":"'[2]Détail N°7'!$L$28","v":9},1]
[null,null,null,null,null,null,null,null,null,null,null,null,null,null,{"$f":"Traduction!$A$355","v":"Vendredi"},"2018-11-30",332.91666666666703,6.3,{"$f":"'[2]Détail N°7'!$L$28","v":9},1]
[null,null,null,null,null,null,null,null,null,null,null,null,null,null,{"$f":"Traduction!$A$356","v":"Samedi"},"2018-12-01",333.125,6.8,{"$f":"'[2]Détail N°7'!$L$28","v":9},1]
[null,null,null,null,null,null,null,null,null,null,null,null,null,null,{"$f":"Traduction!$A$356","v":"Samedi"},"2018-12-01",333.25,6.9,{"$f":"'[2]Détail N°7'!$L$28","v":9},1]
[null,null,null,null,null,null,null,null,null,null,null,null,null,null,{"$f":"Traduction!$A$356","v":"Samedi"},"2018-12-01",333.375,7.3,{"$f":"'[2]Détail N°7'!$L$28","v":9},1]
[null,null,null,null,null,null,null,null,null,null,null,null,null,null,{"$f":"Traduction!$A$356","v":"Samedi"},"2018-12-01",333.5,10,{"$f":"'[2]Détail N°7'!$L$28","v":9},0]
[null,null,null,null,null,null,null,null,null,null,null,null,null,null,{"$f":"Traduction!$A$356","v":"Samedi"},"2018-12-01",333.66666666666703,10.4,{"$f":"'[2]Détail N°7'!$L$28","v":9},0]
[null,null,null,null,null,null,null,null,null,null,null,null,null,null,{"$f":"Traduction!$A$356","v":"Samedi"},"2018-12-01",333.70833333333297,9.8000000000000007,{"$f":"'[2]Détail N°7'!$L$28","v":9},0]
[null,null,null,null,null,null,null,null,null,null,null,null,null,null,{"$f":"Traduction!$A$356","v":"Samedi"},"2018-12-01",333.83333333333297,9.1,{"$f":"'[2]Détail N°7'!$L$28","v":9},0]
[null,null,null,null,null,null,null,null,null,null,null,null,null,null,{"$f":"Traduction!$A$357","v":"Dimanche"},"2018-12-02",334.04166666666703,7.9,{"$f":"'[2]Détail N°7'!$L$28","v":9},1]
[null,null,null,null,null,null,null,null,null,null,null,null,null,null,{"$f":"Traduction!$A$357","v":"Dimanche"},"2018-12-02",334.16666666666703,6.9,{"$f":"'[2]Détail N°7'!$L$28","v":9},1]
[null,null,null,null,null,null,null,null,null,null,null,null,null,null,{"$f":"Traduction!$A$357","v":"Dimanche"},"2018-12-02",334.33333333333297,6.2,{"$f":"'[2]Détail N°7'!$L$28","v":9},1]
[null,null,null,null,null,null,null,null,null,null,null,null,null,null,{"$f":"Traduction!$A$357","v":"Dimanche"},"2018-12-02",334.41666666666703,7.6,{"$f":"'[2]Détail N°7'!$L$28","v":9},1]
[null,null,null,null,null,null,null,null,null,null,null,null,null,null,{"$f":"Traduction!$A$357","v":"Dimanche"},"2018-12-02",334.625,9.8000000000000007,{"$f":"'[2]Détail N°7'!$L$28","v":9},0]
[null,null,null,null,null,null,null,null,null,null,null,null,null,null,{"$f":"Traduction!$A$357","v":"Dimanche"},"2018-12-02",334.66666666666703,9.4,{"$f":"'[2]Détail N°7'!$L$28","v":9},0]
[null,null,null,null,null,null,null,null,null,null,null,null,null,null,{"$f":"Traduction!$A$357","v":"Dimanche"},"2018-12-02",334.79166666666703,8.1,{"$f":"'[2]Détail N°7'!$L$28","v":9},1]
[null,null,null,null,null,null,null,null,null,null,null,null,null,null,{"$f":"Traduction!$A$357","v":"Dimanche"},"2018-12-02",334.95833333333297,6.8,{"$f":"'[2]Détail N°7'!$L$28","v":9},1]
[null,null,null,null,null,null,null,null,null,null,null,null,null,null,{"$f":"Traduction!$A$351","v":"Lundi "},"2018-12-03",335.125,5.8,{"$f":"'[2]Détail N°7'!$L$28","v":9},1]
[null,null,null,null,null,null,null,null,null,null,null,null,null,null,{"$f":"Traduction!$A$351","v":"Lundi "},"2018-12-03",335.25,5.4,{"$f":"'[2]Détail N°7'!$L$28","v":9},1]
[null,null,null,null,null,null,null,null,null,null,null,null,null,null,{"$f":"Traduction!$A$351","v":"Lundi "},"2018-12-03",335.33333333333297,5.2,{"$f":"'[2]Détail N°7'!$L$28","v":9},1]
[null,null,null,null,null,null,null,null,null,null,null,null,null,null,{"$f":"Traduction!$A$351","v":"Lundi "},"2018-12-03",335.58333333333297,7.4,{"$f":"'[2]Détail N°7'!$L$28","v":9},1]
[null,null,null,null,null,null,null,null,null,null,null,null,null,null,{"$f":"Traduction!$A$351","v":"Lundi "},"2018-12-03",335.70833333333297,6.7,{"$f":"'[2]Détail N°7'!$L$28","v":9},1]
[null,null,null,null,null,null,null,null,null,null,null,null,null,null,{"$f":"Traduction!$A$351","v":"Lundi "},"2018-12-03",335.875,5.9,{"$f":"'[2]Détail N°7'!$L$28","v":9},1]
[null,null,null,null,null,null,null,null,null,null,null,null,null,null,{"$f":"Traduction!$A$351","v":"Lundi "},"2018-12-03",335.91666666666703,5.7,{"$f":"'[2]Détail N°7'!$L$28","v":9},1]
[null,null,null,null,null,null,null,null,null,null,null,null,null,null,{"$f":"Traduction!$A$352","v":"Mardi"},"2018-12-04",336.08333333333297,5,{"$f":"'[2]Détail N°7'!$L$28","v":9},1]
[null,null,null,null,null,null,null,null,null,null,null,null,null,null,{"$f":"Traduction!$A$352","v":"Mardi"},"2018-12-04",336.20833333333297,4.9000000000000004,{"$f":"'[2]Détail N°7'!$L$28","v":9},1]
[null,null,null,null,null,null,null,null,null,null,null,null,null,null,{"$f":"Traduction!$A$352","v":"Mardi"},"2018-12-04",336.41666666666703,5.3,{"$f":"'[2]Détail N°7'!$L$28","v":9},1]
[null,null,null,null,null,null,null,null,null,null,null,null,null,null,{"$f":"Traduction!$A$352","v":"Mardi"},"2018-12-04",336.54166666666703,6.3,{"$f":"'[2]Détail N°7'!$L$28","v":9},1]
[null,null,null,null,null,null,null,null,null,null,null,null,null,null,{"$f":"Traduction!$A$352","v":"Mardi"},"2018-12-04",336.66666666666703,6.4,{"$f":"'[2]Détail N°7'!$L$28","v":9},1]
[null,null,null,null,null,null,null,null,null,null,null,null,null,null,{"$f":"Traduction!$A$352","v":"Mardi"},"2018-12-04",336.79166666666703,5.7,{"$f":"'[2]Détail N°7'!$L$28","v":9},1]
[null,null,null,null,null,null,null,null,null,null,null,null,null,null,{"$f":"Traduction!$A$352","v":"Mardi"},"2018-12-04",336.875,5.3,{"$f":"'[2]Détail N°7'!$L$28","v":9},1]
[null,null,null,null,null,null,null,null,null,null,null,null,null,null,{"$f":"Traduction!$A$352","v":"Mardi"},"2018-12-04",337,4.7,{"$f":"'[2]Détail N°7'!$L$28","v":9},1]
[null,null,null,null,null,null,null,null,null,null,null,null,null,null,{"$f":"Traduction!$A$353","v":"Mercredi"},"2018-12-05",337.16666666666703,3.9,{"$f":"'[2]Détail N°7'!$L$28","v":9},1]
[null,null,null,null,null,null,null,null,null,null,null,null,null,null,{"$f":"Traduction!$A$353","v":"Mercredi"},"2018-12-05",337.33333333333297,3.6,{"$f":"'[2]Détail N°7'!$L$28","v":9},1]
[null,null,null,null,null,null,null,null,null,null,null,null,null,null,{"$f":"Traduction!$A$353","v":"Mercredi"},"2018-12-05",337.45833333333297,4.8,{"$f":"'[2]Détail N°7'!$L$28","v":9},1]
[null,null,null,null,null,null,null,null,null,null,null,null,null,null,{"$f":"Traduction!$A$353","v":"Mercredi"},"2018-12-05",337.625,5.4,{"$f":"'[2]Détail N°7'!$L$28","v":9},1]
[null,null,null,null,null,null,null,null,null,null,null,null,null,null,{"$f":"Traduction!$A$353","v":"Mercredi"},"2018-12-05",337.70833333333297,4.9000000000000004,{"$f":"'[2]Détail N°7'!$L$28","v":9},1]
[null,null,null,null,null,null,null,null,null,null,null,null,null,null,{"$f":"Traduction!$A$353","v":"Mercredi"},"2018-12-05",337.83333333333297,3.9,{"$f":"'[2]Détail N°7'!$L$28","v":9},1]
[null,null,null,null,null,null,null,null,null,null,null,null,null,null,{"$f":"Traduction!$A$353","v":"Mercredi"},"2018-12-05",337.95833333333297,3.1,{"$f":"'[2]Détail N°7'!$L$28","v":9},1]
[null,null,null,null,null,null,null,null,null,null,null,null,null,null,{"$f":"Traduction!$A$354","v":"Jeudi"},"2018-12-06",338.08333333333297,2,{"$f":"'[2]Détail N°7'!$L$28","v":9},1]
[null,null,null,null,null,null,null,null,null,null,null,null,null,null,{"$f":"Traduction!$A$354","v":"Jeudi"},"2018-12-06",338.29166666666703,0.6,{"$f":"'[2]Détail N°7'!$L$28","v":9},1]
[null,null,null,null,null,null,null,null,null,null,null,null,null,null,{"$f":"Traduction!$A$354","v":"Jeudi"},"2018-12-06",338.41666666666703,1.1000000000000001,{"$f":"'[2]Détail N°7'!$L$28","v":9},1]
[null,null,null,null,null,null,null,null,null,null,null,null,null,null,{"$f":"Traduction!$A$354","v":"Jeudi"},"2018-12-06",338.625,3.5,{"$f":"'[2]Détail N°7'!$L$28","v":9},1]
[null,null,null,null,null,null,null,null,null,null,null,null,null,null,{"$f":"Traduction!$A$354","v":"Jeudi"},"2018-12-06",338.75,2.6,{"$f":"'[2]Détail N°7'!$L$28","v":9},1]
[null,null,null,null,null,null,null,null,null,null,null,null,null,null,{"$f":"Traduction!$A$354","v":"Jeudi"},"2018-12-06",338.875,1.7,{"$f":"'[2]Détail N°7'!$L$28","v":9},1]
[null,null,null,null,null,null,null,null,null,null,null,null,null,null,{"$f":"Traduction!$A$354","v":"Jeudi"},"2018-12-06",338.91666666666703,1.5,{"$f":"'[2]Détail N°7'!$L$28","v":9},1]
[null,null,null,null,null,null,null,null,null,null,null,null,null,null,{"$f":"Traduction!$A$355","v":"Vendredi"},"2018-12-07",339.16666666666703,0.4,{"$f":"'[2]Détail N°7'!$L$28","v":9},1]
[null,null,null,null,null,null,null,null,null,null,null,null,null,null,{"$f":"Traduction!$A$355","v":"Vendredi"},"2018-12-07",339.20833333333297,0.3,{"$f":"'[2]Détail N°7'!$L$28","v":9},1]
[null,null,null,null,null,null,null,null,null,null,null,null,null,null,{"$f":"Traduction!$A$355","v":"Vendredi"},"2018-12-07",339.375,0.6,{"$f":"'[2]Détail N°7'!$L$28","v":9},1]
[null,null,null,null,null,null,null,null,null,null,null,null,null,null,{"$f":"Traduction!$A$355","v":"Vendredi"},"2018-12-07",339.54166666666703,6.7,{"$f":"'[2]Détail N°7'!$L$28","v":9},1]
[null,null,null,null,null,null,null,null,null,null,null,null,null,null,{"$f":"Traduction!$A$355","v":"Vendredi"},"2018-12-07",339.70833333333297,5,{"$f":"'[2]Détail N°7'!$L$28","v":9},1]
[null,null,null,null,null,null,null,null,null,null,null,null,null,null,{"$f":"Traduction!$A$355","v":"Vendredi"},"2018-12-07",339.83333333333297,4.5999999999999996,{"$f":"'[2]Détail N°7'!$L$28","v":9},1]
[null,null,null,null,null,null,null,null,null,null,null,null,null,null,{"$f":"Traduction!$A$355","v":"Vendredi"},"2018-12-07",339.91666666666703,4.4000000000000004,{"$f":"'[2]Détail N°7'!$L$28","v":9},1]
[null,null,null,null,null,null,null,null,null,null,null,null,null,null,{"$f":"Traduction!$A$356","v":"Samedi"},"2018-12-08",340.04166666666703,4,{"$f":"'[2]Détail N°7'!$L$28","v":9},1]
[null,null,null,null,null,null,null,null,null,null,null,null,null,null,{"$f":"Traduction!$A$356","v":"Samedi"},"2018-12-08",340.16666666666703,3.6,{"$f":"'[2]Détail N°7'!$L$28","v":9},1]
[null,null,null,null,null,null,null,null,null,null,null,null,null,null,{"$f":"Traduction!$A$356","v":"Samedi"},"2018-12-08",340.29166666666703,3.4,{"$f":"'[2]Détail N°7'!$L$28","v":9},1]
[null,null,null,null,null,null,null,null,null,null,null,null,null,null,{"$f":"Traduction!$A$356","v":"Samedi"},"2018-12-08",340.45833333333297,5.3,{"$f":"'[2]Détail N°7'!$L$28","v":9},1]
[null,null,null,null,null,null,null,null,null,null,null,null,null,null,{"$f":"Traduction!$A$356","v":"Samedi"},"2018-12-08",340.625,6.5,{"$f":"'[2]Détail N°7'!$L$28","v":9},1]
[null,null,null,null,null,null,null,null,null,null,null,null,null,null,{"$f":"Traduction!$A$356","v":"Samedi"},"2018-12-08",340.79166666666703,5.4,{"$f":"'[2]Détail N°7'!$L$28","v":9},1]
[null,null,null,null,null,null,null,null,null,null,null,null,null,null,{"$f":"Traduction!$A$356","v":"Samedi"},"2018-12-08",340.83333333333297,5.3,{"$f":"'[2]Détail N°7'!$L$28","v":9},1]
[null,null,null,null,null,null,null,null,null,null,null,null,null,null,{"$f":"Traduction!$A$357","v":"Dimanche"},"2018-12-09",341.08333333333297,4.9000000000000004,{"$f":"'[2]Détail N°7'!$L$28","v":9},1]
[null,null,null,null,null,null,null,null,null,null,null,null,null,null,{"$f":"Traduction!$A$357","v":"Dimanche"},"2018-12-09",341.125,4.8,{"$f":"'[2]Détail N°7'!$L$28","v":9},1]
[null,null,null,null,null,null,null,null,null,null,null,null,null,null,{"$f":"Traduction!$A$357","v":"Dimanche"},"2018-12-09",341.375,4.8,{"$f":"'[2]Détail N°7'!$L$28","v":9},1]
[null,null,null,null,null,null,null,null,null,null,null,null,null,null,{"$f":"Traduction!$A$357","v":"Dimanche"},"2018-12-09",341.41666666666703,5.3,{"$f":"'[2]Détail N°7'!$L$28","v":9},1]
[null,null,null,null,null,null,null,null,null,null,null,null,null,null,{"$f":"Traduction!$A$357","v":"Dimanche"},"2018-12-09",341.58333333333297,6.9,{"$f":"'[2]Détail N°7'!$L$28","v":9},1]
[null,null,null,null,null,null,null,null,null,null,null,null,null,null,{"$f":"Traduction!$A$357","v":"Dimanche"},"2018-12-09",341.70833333333297,5.9,{"$f":"'[2]Détail N°7'!$L$28","v":9},1]
[null,null,null,null,null,null,null,null,null,null,null,null,null,null,{"$f":"Traduction!$A$357","v":"Dimanche"},"2018-12-09",341.91666666666703,6.1,{"$f":"'[2]Détail N°7'!$L$28","v":9},1]
[null,null,null,null,null,null,null,null,null,null,null,null,null,null,{"$f":"Traduction!$A$351","v":"Lundi "},"2018-12-10",342.04166666666703,6.1,{"$f":"'[2]Détail N°7'!$L$28","v":9},1]
[null,null,null,null,null,null,null,null,null,null,null,null,null,null,{"$f":"Traduction!$A$351","v":"Lundi "},"2018-12-10",342.16666666666703,6,{"$f":"'[2]Détail N°7'!$L$28","v":9},1]
[null,null,null,null,null,null,null,null,null,null,null,null,null,null,{"$f":"Traduction!$A$351","v":"Lundi "},"2018-12-10",342.29166666666703,6,{"$f":"'[2]Détail N°7'!$L$28","v":9},1]
[null,null,null,null,null,null,null,null,null,null,null,null,null,null,{"$f":"Traduction!$A$351","v":"Lundi "},"2018-12-10",342.375,6.2,{"$f":"'[2]Détail N°7'!$L$28","v":9},1]
[null,null,null,null,null,null,null,null,null,null,null,null,null,null,{"$f":"Traduction!$A$351","v":"Lundi "},"2018-12-10",342.54166666666703,8.3000000000000007,{"$f":"'[2]Détail N°7'!$L$28","v":9},1]
[null,null,null,null,null,null,null,null,null,null,null,null,null,null,{"$f":"Traduction!$A$351","v":"Lundi "},"2018-12-10",342.66666666666703,8.1999999999999993,{"$f":"'[2]Détail N°7'!$L$28","v":9},1]
[null,null,null,null,null,null,null,null,null,null,null,null,null,null,{"$f":"Traduction!$A$351","v":"Lundi "},"2018-12-10",342.83333333333297,7.2,{"$f":"'[2]Détail N°7'!$L$28","v":9},1]
[null,null,null,null,null,null,null,null,null,null,null,null,null,null,{"$f":"Traduction!$A$351","v":"Lundi "},"2018-12-10",343,6.7,{"$f":"'[2]Détail N°7'!$L$28","v":9},1]
[null,null,null,null,null,null,null,null,null,null,null,null,null,null,{"$f":"Traduction!$A$352","v":"Mardi"},"2018-12-11",343.04166666666703,6.4,{"$f":"'[2]Détail N°7'!$L$28","v":9},1]
[null,null,null,null,null,null,null,null,null,null,null,null,null,null,{"$f":"Traduction!$A$352","v":"Mardi"},"2018-12-11",343.20833333333297,5.8,{"$f":"'[2]Détail N°7'!$L$28","v":9},1]
[null,null,null,null,null,null,null,null,null,null,null,null,null,null,{"$f":"Traduction!$A$352","v":"Mardi"},"2018-12-11",343.25,5.7,{"$f":"'[2]Détail N°7'!$L$28","v":9},1]
[null,null,null,null,null,null,null,null,null,null,null,null,null,null,{"$f":"Traduction!$A$352","v":"Mardi"},"2018-12-11",343.29166666666703,5.6,{"$f":"'[2]Détail N°7'!$L$28","v":9},1]
[null,null,null,null,null,null,null,null,null,null,null,null,null,null,{"$f":"Traduction!$A$352","v":"Mardi"},"2018-12-11",343.33333333333297,5.6,{"$f":"'[2]Détail N°7'!$L$28","v":9},1]
[null,null,null,null,null,null,null,null,null,null,null,null,null,null,{"$f":"Traduction!$A$352","v":"Mardi"},"2018-12-11",343.375,5.7,{"$f":"'[2]Détail N°7'!$L$28","v":9},1]
[null,null,null,null,null,null,null,null,null,null,null,null,null,null,{"$f":"Traduction!$A$352","v":"Mardi"},"2018-12-11",343.41666666666703,6.3,{"$f":"'[2]Détail N°7'!$L$28","v":9},1]
[null,null,null,null,null,null,null,null,null,null,null,null,null,null,{"$f":"Traduction!$A$352","v":"Mardi"},"2018-12-11",343.45833333333297,7,{"$f":"'[2]Détail N°7'!$L$28","v":9},1]
[null,null,null,null,null,null,null,null,null,null,null,null,null,null,{"$f":"Traduction!$A$352","v":"Mardi"},"2018-12-11",343.5,7.8,{"$f":"'[2]Détail N°7'!$L$28","v":9},1]
[null,null,null,null,null,null,null,null,null,null,null,null,null,null,{"$f":"Traduction!$A$352","v":"Mardi"},"2018-12-11",343.54166666666703,8.1999999999999993,{"$f":"'[2]Détail N°7'!$L$28","v":9},1]
[null,null,null,null,null,null,null,null,null,null,null,null,null,null,{"$f":"Traduction!$A$352","v":"Mardi"},"2018-12-11",343.58333333333297,8.5,{"$f":"'[2]Détail N°7'!$L$28","v":9},1]
[null,null,null,null,null,null,null,null,null,null,null,null,null,null,{"$f":"Traduction!$A$352","v":"Mardi"},"2018-12-11",343.625,8.4,{"$f":"'[2]Détail N°7'!$L$28","v":9},1]
[null,null,null,null,null,null,null,null,null,null,null,null,null,null,{"$f":"Traduction!$A$352","v":"Mardi"},"2018-12-11",343.66666666666703,8.1,{"$f":"'[2]Détail N°7'!$L$28","v":9},1]
[null,null,null,null,null,null,null,null,null,null,null,null,null,null,{"$f":"Traduction!$A$352","v":"Mardi"},"2018-12-11",343.70833333333297,7.6,{"$f":"'[2]Détail N°7'!$L$28","v":9},1]
[null,null,null,null,null,null,null,null,null,null,null,null,null,null,{"$f":"Traduction!$A$352","v":"Mardi"},"2018-12-11",343.75,7.3,{"$f":"'[2]Détail N°7'!$L$28","v":9},1]
[null,null,null,null,null,null,null,null,null,null,null,null,null,null,{"$f":"Traduction!$A$352","v":"Mardi"},"2018-12-11",343.79166666666703,6.9,{"$f":"'[2]Détail N°7'!$L$28","v":9},1]
[null,null,null,null,null,null,null,null,null,null,null,null,null,null,{"$f":"Traduction!$A$352","v":"Mardi"},"2018-12-11",343.83333333333297,6.5,{"$f":"'[2]Détail N°7'!$L$28","v":9},1]
[null,null,null,null,null,null,null,null,null,null,null,null,null,null,{"$f":"Traduction!$A$352","v":"Mardi"},"2018-12-11",343.875,6.2,{"$f":"'[2]Détail N°7'!$L$28","v":9},1]
[null,null,null,null,null,null,null,null,null,null,null,null,null,null,{"$f":"Traduction!$A$352","v":"Mardi"},"2018-12-11",343.91666666666703,5.8,{"$f":"'[2]Détail N°7'!$L$28","v":9},1]
[null,null,null,null,null,null,null,null,null,null,null,null,null,null,{"$f":"Traduction!$A$352","v":"Mardi"},"2018-12-11",343.95833333333297,5.5,{"$f":"'[2]Détail N°7'!$L$28","v":9},1]
[null,null,null,null,null,null,null,null,null,null,null,null,null,null,{"$f":"Traduction!$A$352","v":"Mardi"},"2018-12-11",344,5.0999999999999996,{"$f":"'[2]Détail N°7'!$L$28","v":9},1]
[null,null,null,null,null,null,null,null,null,null,null,null,null,null,{"$f":"Traduction!$A$353","v":"Mercredi"},"2018-12-12",344.04166666666703,4.7,{"$f":"'[2]Détail N°7'!$L$28","v":9},1]
[null,null,null,null,null,null,null,null,null,null,null,null,null,null,{"$f":"Traduction!$A$353","v":"Mercredi"},"2018-12-12",344.08333333333297,4.3,{"$f":"'[2]Détail N°7'!$L$28","v":9},1]
[null,null,null,null,null,null,null,null,null,null,null,null,null,null,{"$f":"Traduction!$A$353","v":"Mercredi"},"2018-12-12",344.125,3.9,{"$f":"'[2]Détail N°7'!$L$28","v":9},1]
[null,null,null,null,null,null,null,null,null,null,null,null,null,null,{"$f":"Traduction!$A$353","v":"Mercredi"},"2018-12-12",344.16666666666703,3.7,{"$f":"'[2]Détail N°7'!$L$28","v":9},1]
[null,null,null,null,null,null,null,null,null,null,null,null,null,null,{"$f":"Traduction!$A$353","v":"Mercredi"},"2018-12-12",344.20833333333297,3.5,{"$f":"'[2]Détail N°7'!$L$28","v":9},1]
[null,null,null,null,null,null,null,null,null,null,null,null,null,null,{"$f":"Traduction!$A$353","v":"Mercredi"},"2018-12-12",344.25,3.3,{"$f":"'[2]Détail N°7'!$L$28","v":9},1]
[null,null,null,null,null,null,null,null,null,null,null,null,null,null,{"$f":"Traduction!$A$353","v":"Mercredi"},"2018-12-12",344.29166666666703,3.1,{"$f":"'[2]Détail N°7'!$L$28","v":9},1]
[null,null,null,null,null,null,null,null,null,null,null,null,null,null,{"$f":"Traduction!$A$353","v":"Mercredi"},"2018-12-12",344.33333333333297,3,{"$f":"'[2]Détail N°7'!$L$28","v":9},1]
[null,null,null,null,null,null,null,null,null,null,null,null,null,null,{"$f":"Traduction!$A$353","v":"Mercredi"},"2018-12-12",344.375,3.4,{"$f":"'[2]Détail N°7'!$L$28","v":9},1]
[null,null,null,null,null,null,null,null,null,null,null,null,null,null,{"$f":"Traduction!$A$353","v":"Mercredi"},"2018-12-12",344.41666666666703,3.4,{"$f":"'[2]Détail N°7'!$L$28","v":9},1]
[null,null,null,null,null,null,null,null,null,null,null,null,null,null,{"$f":"Traduction!$A$353","v":"Mercredi"},"2018-12-12",344.45833333333297,4.0999999999999996,{"$f":"'[2]Détail N°7'!$L$28","v":9},1]
[null,null,null,null,null,null,null,null,null,null,null,null,null,null,{"$f":"Traduction!$A$353","v":"Mercredi"},"2018-12-12",344.5,5.7,{"$f":"'[2]Détail N°7'!$L$28","v":9},1]
[null,null,null,null,null,null,null,null,null,null,null,null,null,null,{"$f":"Traduction!$A$353","v":"Mercredi"},"2018-12-12",344.54166666666703,7,{"$f":"'[2]Détail N°7'!$L$28","v":9},1]
[null,null,null,null,null,null,null,null,null,null,null,null,null,null,{"$f":"Traduction!$A$353","v":"Mercredi"},"2018-12-12",344.58333333333297,8,{"$f":"'[2]Détail N°7'!$L$28","v":9},1]
[null,null,null,null,null,null,null,null,null,null,null,null,null,null,{"$f":"Traduction!$A$353","v":"Mercredi"},"2018-12-12",344.625,8.4,{"$f":"'[2]Détail N°7'!$L$28","v":9},1]
[null,null,null,null,null,null,null,null,null,null,null,null,null,null,{"$f":"Traduction!$A$353","v":"Mercredi"},"2018-12-12",344.66666666666703,8.1,{"$f":"'[2]Détail N°7'!$L$28","v":9},1]
[null,null,null,null,null,null,null,null,null,null,null,null,null,null,{"$f":"Traduction!$A$353","v":"Mercredi"},"2018-12-12",344.70833333333297,7.2,{"$f":"'[2]Détail N°7'!$L$28","v":9},1]
[null,null,null,null,null,null,null,null,null,null,null,null,null,null,{"$f":"Traduction!$A$353","v":"Mercredi"},"2018-12-12",344.75,6.8,{"$f":"'[2]Détail N°7'!$L$28","v":9},1]
[null,null,null,null,null,null,null,null,null,null,null,null,null,null,{"$f":"Traduction!$A$353","v":"Mercredi"},"2018-12-12",344.79166666666703,6.4,{"$f":"'[2]Détail N°7'!$L$28","v":9},1]
[null,null,null,null,null,null,null,null,null,null,null,null,null,null,{"$f":"Traduction!$A$353","v":"Mercredi"},"2018-12-12",344.83333333333297,5.9,{"$f":"'[2]Détail N°7'!$L$28","v":9},1]
[null,null,null,null,null,null,null,null,null,null,null,null,null,null,{"$f":"Traduction!$A$353","v":"Mercredi"},"2018-12-12",344.875,5.5,{"$f":"'[2]Détail N°7'!$L$28","v":9},1]
[null,null,null,null,null,null,null,null,null,null,null,null,null,null,{"$f":"Traduction!$A$353","v":"Mercredi"},"2018-12-12",344.91666666666703,5.0999999999999996,{"$f":"'[2]Détail N°7'!$L$28","v":9},1]
[null,null,null,null,null,null,null,null,null,null,null,null,null,null,{"$f":"Traduction!$A$353","v":"Mercredi"},"2018-12-12",344.95833333333297,4.5999999999999996,{"$f":"'[2]Détail N°7'!$L$28","v":9},1]
[null,null,null,null,null,null,null,null,null,null,null,null,null,null,{"$f":"Traduction!$A$353","v":"Mercredi"},"2018-12-12",345,4.2,{"$f":"'[2]Détail N°7'!$L$28","v":9},1]
[null,null,null,null,null,null,null,null,null,null,null,null,null,null,{"$f":"Traduction!$A$354","v":"Jeudi"},"2018-12-13",345.04166666666703,3.8,{"$f":"'[2]Détail N°7'!$L$28","v":9},1]
[null,null,null,null,null,null,null,null,null,null,null,null,null,null,{"$f":"Traduction!$A$354","v":"Jeudi"},"2018-12-13",345.08333333333297,3.3,{"$f":"'[2]Détail N°7'!$L$28","v":9},1]
[null,null,null,null,null,null,null,null,null,null,null,null,null,null,{"$f":"Traduction!$A$354","v":"Jeudi"},"2018-12-13",345.125,2.8,{"$f":"'[2]Détail N°7'!$L$28","v":9},1]
[null,null,null,null,null,null,null,null,null,null,null,null,null,null,{"$f":"Traduction!$A$354","v":"Jeudi"},"2018-12-13",345.16666666666703,2.6,{"$f":"'[2]Détail N°7'!$L$28","v":9},1]
[null,null,null,null,null,null,null,null,null,null,null,null,null,null,{"$f":"Traduction!$A$354","v":"Jeudi"},"2018-12-13",345.20833333333297,2.2999999999999998,{"$f":"'[2]Détail N°7'!$L$28","v":9},1]
[null,null,null,null,null,null,null,null,null,null,null,null,null,null,{"$f":"Traduction!$A$354","v":"Jeudi"},"2018-12-13",345.25,2.1,{"$f":"'[2]Détail N°7'!$L$28","v":9},1]
[null,null,null,null,null,null,null,null,null,null,null,null,null,null,{"$f":"Traduction!$A$354","v":"Jeudi"},"2018-12-13",345.29166666666703,1.9,{"$f":"'[2]Détail N°7'!$L$28","v":9},1]
[null,null,null,null,null,null,null,null,null,null,null,null,null,null,{"$f":"Traduction!$A$354","v":"Jeudi"},"2018-12-13",345.33333333333297,1.7,{"$f":"'[2]Détail N°7'!$L$28","v":9},1]
[null,null,null,null,null,null,null,null,null,null,null,null,null,null,{"$f":"Traduction!$A$354","v":"Jeudi"},"2018-12-13",345.375,1.9,{"$f":"'[2]Détail N°7'!$L$28","v":9},1]
[null,null,null,null,null,null,null,null,null,null,null,null,null,null,{"$f":"Traduction!$A$354","v":"Jeudi"},"2018-12-13",345.41666666666703,3.1,{"$f":"'[2]Détail N°7'!$L$28","v":9},1]
[null,null,null,null,null,null,null,null,null,null,null,null,null,null,{"$f":"Traduction!$A$354","v":"Jeudi"},"2018-12-13",345.45833333333297,4.5,{"$f":"'[2]Détail N°7'!$L$28","v":9},1]
[null,null,null,null,null,null,null,null,null,null,null,null,null,null,{"$f":"Traduction!$A$354","v":"Jeudi"},"2018-12-13",345.5,4.8,{"$f":"'[2]Détail N°7'!$L$28","v":9},1]
[null,null,null,null,null,null,null,null,null,null,null,null,null,null,{"$f":"Traduction!$A$354","v":"Jeudi"},"2018-12-13",345.54166666666703,5,{"$f":"'[2]Détail N°7'!$L$28","v":9},1]
[null,null,null,null,null,null,null,null,null,null,null,null,null,null,{"$f":"Traduction!$A$354","v":"Jeudi"},"2018-12-13",345.58333333333297,4.2,{"$f":"'[2]Détail N°7'!$L$28","v":9},1]
[null,null,null,null,null,null,null,null,null,null,null,null,null,null,{"$f":"Traduction!$A$354","v":"Jeudi"},"2018-12-13",345.625,4,{"$f":"'[2]Détail N°7'!$L$28","v":9},1]
[null,null,null,null,null,null,null,null,null,null,null,null,null,null,{"$f":"Traduction!$A$354","v":"Jeudi"},"2018-12-13",345.66666666666703,3.9,{"$f":"'[2]Détail N°7'!$L$28","v":9},1]
[null,null,null,null,null,null,null,null,null,null,null,null,null,null,{"$f":"Traduction!$A$354","v":"Jeudi"},"2018-12-13",345.70833333333297,3.4,{"$f":"'[2]Détail N°7'!$L$28","v":9},1]
[null,null,null,null,null,null,null,null,null,null,null,null,null,null,{"$f":"Traduction!$A$354","v":"Jeudi"},"2018-12-13",345.75,3.2,{"$f":"'[2]Détail N°7'!$L$28","v":9},{"$f":"IF(R8663<=S8663,1,0)","v":1}]
[null,null,null,null,null,null,null,null,null,null,null,null,null,null,{"$f":"Traduction!$A$354","v":"Jeudi"},"2018-12-13",345.79166666666703,2.9,{"$f":"'[2]Détail N°7'!$L$28","v":9},1]
[null,null,null,null,null,null,null,null,null,null,null,null,null,null,{"$f":"Traduction!$A$354","v":"Jeudi"},"2018-12-13",345.83333333333297,2.7,{"$f":"'[2]Détail N°7'!$L$28","v":9},1]
[null,null,null,null,null,null,null,null,null,null,null,null,null,null,{"$f":"Traduction!$A$354","v":"Jeudi"},"2018-12-13",345.875,2.5,{"$f":"'[2]Détail N°7'!$L$28","v":9},1]
[null,null,null,null,null,null,null,null,null,null,null,null,null,null,{"$f":"Traduction!$A$354","v":"Jeudi"},"2018-12-13",345.91666666666703,2.2999999999999998,{"$f":"'[2]Détail N°7'!$L$28","v":9},1]
[null,null,null,null,null,null,null,null,null,null,null,null,null,null,{"$f":"Traduction!$A$354","v":"Jeudi"},"2018-12-13",345.95833333333297,2.1,{"$f":"'[2]Détail N°7'!$L$28","v":9},1]
[null,null,null,null,null,null,null,null,null,null,null,null,null,null,{"$f":"Traduction!$A$354","v":"Jeudi"},"2018-12-13",346,1.9,{"$f":"'[2]Détail N°7'!$L$28","v":9},1]
[null,null,null,null,null,null,null,null,null,null,null,null,null,null,{"$f":"Traduction!$A$355","v":"Vendredi"},"2018-12-14",346.04166666666703,1.7,{"$f":"'[2]Détail N°7'!$L$28","v":9},1]
[null,null,null,null,null,null,null,null,null,null,null,null,null,null,{"$f":"Traduction!$A$355","v":"Vendredi"},"2018-12-14",346.08333333333297,1.7,{"$f":"'[2]Détail N°7'!$L$28","v":9},1]
[null,null,null,null,null,null,null,null,null,null,null,null,null,null,{"$f":"Traduction!$A$355","v":"Vendredi"},"2018-12-14",346.125,1.6,{"$f":"'[2]Détail N°7'!$L$28","v":9},1]
[null,null,null,null,null,null,null,null,null,null,null,null,null,null,{"$f":"Traduction!$A$355","v":"Vendredi"},"2018-12-14",346.16666666666703,0.9,{"$f":"'[2]Détail N°7'!$L$28","v":9},1]
[null,null,null,null,null,null,null,null,null,null,null,null,null,null,{"$f":"Traduction!$A$355","v":"Vendredi"},"2018-12-14",346.20833333333297,1.2,{"$f":"'[2]Détail N°7'!$L$28","v":9},1]
[null,null,null,null,null,null,null,null,null,null,null,null,null,null,{"$f":"Traduction!$A$355","v":"Vendredi"},"2018-12-14",346.25,1.4,{"$f":"'[2]Détail N°7'!$L$28","v":9},1]
[null,null,null,null,null,null,null,null,null,null,null,null,null,null,{"$f":"Traduction!$A$355","v":"Vendredi"},"2018-12-14",346.29166666666703,1.4,{"$f":"'[2]Détail N°7'!$L$28","v":9},1]
[null,null,null,null,null,null,null,null,null,null,null,null,null,null,{"$f":"Traduction!$A$355","v":"Vendredi"},"2018-12-14",346.33333333333297,1.4,{"$f":"'[2]Détail N°7'!$L$28","v":9},1]
[null,null,null,null,null,null,null,null,null,null,null,null,null,null,{"$f":"Traduction!$A$355","v":"Vendredi"},"2018-12-14",346.375,1.4,{"$f":"'[2]Détail N°7'!$L$28","v":9},1]
[null,null,null,null,null,null,null,null,null,null,null,null,null,null,{"$f":"Traduction!$A$355","v":"Vendredi"},"2018-12-14",346.41666666666703,1.9,{"$f":"'[2]Détail N°7'!$L$28","v":9},1]
[null,null,null,null,null,null,null,null,null,null,null,null,null,null,{"$f":"Traduction!$A$355","v":"Vendredi"},"2018-12-14",346.45833333333297,2.2000000000000002,{"$f":"'[2]Détail N°7'!$L$28","v":9},1]
[null,null,null,null,null,null,null,null,null,null,null,null,null,null,{"$f":"Traduction!$A$355","v":"Vendredi"},"2018-12-14",346.5,2.5,{"$f":"'[2]Détail N°7'!$L$28","v":9},1]
[null,null,null,null,null,null,null,null,null,null,null,null,null,null,{"$f":"Traduction!$A$355","v":"Vendredi"},"2018-12-14",346.54166666666703,2.6,{"$f":"'[2]Détail N°7'!$L$28","v":9},1]
[null,null,null,null,null,null,null,null,null,null,null,null,null,null,{"$f":"Traduction!$A$355","v":"Vendredi"},"2018-12-14",346.58333333333297,2.7,{"$f":"'[2]Détail N°7'!$L$28","v":9},1]
[null,null,null,null,null,null,null,null,null,null,null,null,null,null,{"$f":"Traduction!$A$355","v":"Vendredi"},"2018-12-14",346.625,2.6,{"$f":"'[2]Détail N°7'!$L$28","v":9},1]
[null,null,null,null,null,null,null,null,null,null,null,null,null,null,{"$f":"Traduction!$A$355","v":"Vendredi"},"2018-12-14",346.66666666666703,2.6,{"$f":"'[2]Détail N°7'!$L$28","v":9},1]
[null,null,null,null,null,null,null,null,null,null,null,null,null,null,{"$f":"Traduction!$A$355","v":"Vendredi"},"2018-12-14",346.70833333333297,2.2999999999999998,{"$f":"'[2]Détail N°7'!$L$28","v":9},1]
[null,null,null,null,null,null,null,null,null,null,null,null,null,null,{"$f":"Traduction!$A$355","v":"Vendredi"},"2018-12-14",346.75,2.2999999999999998,{"$f":"'[2]Détail N°7'!$L$28","v":9},1]
[null,null,null,null,null,null,null,null,null,null,null,null,null,null,{"$f":"Traduction!$A$355","v":"Vendredi"},"2018-12-14",346.79166666666703,2.2000000000000002,{"$f":"'[2]Détail N°7'!$L$28","v":9},1]
[null,null,null,null,null,null,null,null,null,null,null,null,null,null,{"$f":"Traduction!$A$355","v":"Vendredi"},"2018-12-14",346.83333333333297,2.2000000000000002,{"$f":"'[2]Détail N°7'!$L$28","v":9},1]
[null,null,null,null,null,null,null,null,null,null,null,null,null,null,{"$f":"Traduction!$A$355","v":"Vendredi"},"2018-12-14",346.875,2.2000000000000002,{"$f":"'[2]Détail N°7'!$L$28","v":9},1]
[null,null,null,null,null,null,null,null,null,null,null,null,null,null,{"$f":"Traduction!$A$355","v":"Vendredi"},"2018-12-14",346.91666666666703,2.1,{"$f":"'[2]Détail N°7'!$L$28","v":9},1]
[null,null,null,null,null,null,null,null,null,null,null,null,null,null,{"$f":"Traduction!$A$355","v":"Vendredi"},"2018-12-14",346.95833333333297,2.1,{"$f":"'[2]Détail N°7'!$L$28","v":9},1]
[null,null,null,null,null,null,null,null,null,null,null,null,null,null,{"$f":"Traduction!$A$355","v":"Vendredi"},"2018-12-14",347,2.1,{"$f":"'[2]Détail N°7'!$L$28","v":9},1]
[null,null,null,null,null,null,null,null,null,null,null,null,null,null,{"$f":"Traduction!$A$356","v":"Samedi"},"2018-12-15",347.04166666666703,2,{"$f":"'[2]Détail N°7'!$L$28","v":9},1]
[null,null,null,null,null,null,null,null,null,null,null,null,null,null,{"$f":"Traduction!$A$356","v":"Samedi"},"2018-12-15",347.08333333333297,2,{"$f":"'[2]Détail N°7'!$L$28","v":9},1]
[null,null,null,null,null,null,null,null,null,null,null,null,null,null,{"$f":"Traduction!$A$356","v":"Samedi"},"2018-12-15",347.125,1.1000000000000001,{"$f":"'[2]Détail N°7'!$L$28","v":9},1]
[null,null,null,null,null,null,null,null,null,null,null,null,null,null,{"$f":"Traduction!$A$356","v":"Samedi"},"2018-12-15",347.16666666666703,1.9,{"$f":"'[2]Détail N°7'!$L$28","v":9},1]
[null,null,null,null,null,null,null,null,null,null,null,null,null,null,{"$f":"Traduction!$A$356","v":"Samedi"},"2018-12-15",347.20833333333297,2,{"$f":"'[2]Détail N°7'!$L$28","v":9},1]
[null,null,null,null,null,null,null,null,null,null,null,null,null,null,{"$f":"Traduction!$A$356","v":"Samedi"},"2018-12-15",347.25,2.1,{"$f":"'[2]Détail N°7'!$L$28","v":9},1]
[null,null,null,null,null,null,null,null,null,null,null,null,null,null,{"$f":"Traduction!$A$356","v":"Samedi"},"2018-12-15",347.29166666666703,1.8,{"$f":"'[2]Détail N°7'!$L$28","v":9},1]
[null,null,null,null,null,null,null,null,null,null,null,null,null,null,{"$f":"Traduction!$A$356","v":"Samedi"},"2018-12-15",347.33333333333297,1.9,{"$f":"'[2]Détail N°7'!$L$28","v":9},1]
[null,null,null,null,null,null,null,null,null,null,null,null,null,null,{"$f":"Traduction!$A$356","v":"Samedi"},"2018-12-15",347.375,1.7,{"$f":"'[2]Détail N°7'!$L$28","v":9},1]
[null,null,null,null,null,null,null,null,null,null,null,null,null,null,{"$f":"Traduction!$A$356","v":"Samedi"},"2018-12-15",347.41666666666703,2.2000000000000002,{"$f":"'[2]Détail N°7'!$L$28","v":9},1]
[null,null,null,null,null,null,null,null,null,null,null,null,null,null,{"$f":"Traduction!$A$356","v":"Samedi"},"2018-12-15",347.45833333333297,2.5,{"$f":"'[2]Détail N°7'!$L$28","v":9},1]
[null,null,null,null,null,null,null,null,null,null,null,null,null,null,{"$f":"Traduction!$A$356","v":"Samedi"},"2018-12-15",347.5,2.7,{"$f":"'[2]Détail N°7'!$L$28","v":9},1]
[null,null,null,null,null,null,null,null,null,null,null,null,null,null,{"$f":"Traduction!$A$356","v":"Samedi"},"2018-12-15",347.54166666666703,2.8,{"$f":"'[2]Détail N°7'!$L$28","v":9},1]
[null,null,null,null,null,null,null,null,null,null,null,null,null,null,{"$f":"Traduction!$A$356","v":"Samedi"},"2018-12-15",347.58333333333297,2.8,{"$f":"'[2]Détail N°7'!$L$28","v":9},1]
[null,null,null,null,null,null,null,null,null,null,null,null,null,null,{"$f":"Traduction!$A$356","v":"Samedi"},"2018-12-15",347.625,2.8,{"$f":"'[2]Détail N°7'!$L$28","v":9},1]
[null,null,null,null,null,null,null,null,null,null,null,null,null,null,{"$f":"Traduction!$A$356","v":"Samedi"},"2018-12-15",347.66666666666703,2.8,{"$f":"'[2]Détail N°7'!$L$28","v":9},1]
[null,null,null,null,null,null,null,null,null,null,null,null,null,null,{"$f":"Traduction!$A$356","v":"Samedi"},"2018-12-15",347.70833333333297,2.7,{"$f":"'[2]Détail N°7'!$L$28","v":9},1]
[null,null,null,null,null,null,null,null,null,null,null,null,null,null,{"$f":"Traduction!$A$356","v":"Samedi"},"2018-12-15",347.75,2.6,{"$f":"'[2]Détail N°7'!$L$28","v":9},1]
[null,null,null,null,null,null,null,null,null,null,null,null,null,null,{"$f":"Traduction!$A$356","v":"Samedi"},"2018-12-15",347.79166666666703,2.5,{"$f":"'[2]Détail N°7'!$L$28","v":9},1]
[null,null,null,null,null,null,null,null,null,null,null,null,null,null,{"$f":"Traduction!$A$356","v":"Samedi"},"2018-12-15",347.83333333333297,2.5,{"$f":"'[2]Détail N°7'!$L$28","v":9},1]
[null,null,null,null,null,null,null,null,null,null,null,null,null,null,{"$f":"Traduction!$A$356","v":"Samedi"},"2018-12-15",347.875,2.4,{"$f":"'[2]Détail N°7'!$L$28","v":9},1]
[null,null,null,null,null,null,null,null,null,null,null,null,null,null,{"$f":"Traduction!$A$356","v":"Samedi"},"2018-12-15",347.91666666666703,2.2999999999999998,{"$f":"'[2]Détail N°7'!$L$28","v":9},1]
[null,null,null,null,null,null,null,null,null,null,null,null,null,null,{"$f":"Traduction!$A$356","v":"Samedi"},"2018-12-15",347.95833333333297,2.2999999999999998,{"$f":"'[2]Détail N°7'!$L$28","v":9},1]
[null,null,null,null,null,null,null,null,null,null,null,null,null,null,{"$f":"Traduction!$A$356","v":"Samedi"},"2018-12-15",348,2.1,{"$f":"'[2]Détail N°7'!$L$28","v":9},1]
[null,null,null,null,null,null,null,null,null,null,null,null,null,null,{"$f":"Traduction!$A$357","v":"Dimanche"},"2018-12-16",348.04166666666703,1.9,{"$f":"'[2]Détail N°7'!$L$28","v":9},1]
[null,null,null,null,null,null,null,null,null,null,null,null,null,null,{"$f":"Traduction!$A$357","v":"Dimanche"},"2018-12-16",348.08333333333297,1.5,{"$f":"'[2]Détail N°7'!$L$28","v":9},1]
[null,null,null,null,null,null,null,null,null,null,null,null,null,null,{"$f":"Traduction!$A$357","v":"Dimanche"},"2018-12-16",348.125,1.1000000000000001,{"$f":"'[2]Détail N°7'!$L$28","v":9},1]
[null,null,null,null,null,null,null,null,null,null,null,null,null,null,{"$f":"Traduction!$A$357","v":"Dimanche"},"2018-12-16",348.16666666666703,0.8,{"$f":"'[2]Détail N°7'!$L$28","v":9},1]
[null,null,null,null,null,null,null,null,null,null,null,null,null,null,{"$f":"Traduction!$A$357","v":"Dimanche"},"2018-12-16",348.20833333333297,0.6,{"$f":"'[2]Détail N°7'!$L$28","v":9},1]
[null,null,null,null,null,null,null,null,null,null,null,null,null,null,{"$f":"Traduction!$A$357","v":"Dimanche"},"2018-12-16",348.25,0.5,{"$f":"'[2]Détail N°7'!$L$28","v":9},1]
[null,null,null,null,null,null,null,null,null,null,null,null,null,null,{"$f":"Traduction!$A$357","v":"Dimanche"},"2018-12-16",348.29166666666703,0.3,{"$f":"'[2]Détail N°7'!$L$28","v":9},1]
[null,null,null,null,null,null,null,null,null,null,null,null,null,null,{"$f":"Traduction!$A$357","v":"Dimanche"},"2018-12-16",348.33333333333297,0.2,{"$f":"'[2]Détail N°7'!$L$28","v":9},1]
[null,null,null,null,null,null,null,null,null,null,null,null,null,null,{"$f":"Traduction!$A$357","v":"Dimanche"},"2018-12-16",348.375,0.1,{"$f":"'[2]Détail N°7'!$L$28","v":9},1]
[null,null,null,null,null,null,null,null,null,null,null,null,null,null,{"$f":"Traduction!$A$357","v":"Dimanche"},"2018-12-16",348.41666666666703,0,{"$f":"'[2]Détail N°7'!$L$28","v":9},{"$f":"IF(R8727<=S8727,1,0)","v":1}]
[null,null,null,null,null,null,null,null,null,null,null,null,null,null,{"$f":"Traduction!$A$357","v":"Dimanche"},"2018-12-16",348.45833333333297,-0.1,{"$f":"'[2]Détail N°7'!$L$28","v":9},1]
[null,null,null,null,null,null,null,null,null,null,null,null,null,null,{"$f":"Traduction!$A$357","v":"Dimanche"},"2018-12-16",348.5,-0.2,{"$f":"'[2]Détail N°7'!$L$28","v":9},1]
[null,null,null,null,null,null,null,null,null,null,null,null,null,null,{"$f":"Traduction!$A$357","v":"Dimanche"},"2018-12-16",348.54166666666703,-0.3,{"$f":"'[2]Détail N°7'!$L$28","v":9},1]
[null,null,null,null,null,null,null,null,null,null,null,null,null,null,{"$f":"Traduction!$A$357","v":"Dimanche"},"2018-12-16",348.58333333333297,-0.4,{"$f":"'[2]Détail N°7'!$L$28","v":9},1]
[null,null,null,null,null,null,null,null,null,null,null,null,null,null,{"$f":"Traduction!$A$357","v":"Dimanche"},"2018-12-16",348.625,-0.3,{"$f":"'[2]Détail N°7'!$L$28","v":9},1]
[null,null,null,null,null,null,null,null,null,null,null,null,null,null,{"$f":"Traduction!$A$357","v":"Dimanche"},"2018-12-16",348.66666666666703,-0.6,{"$f":"'[2]Détail N°7'!$L$28","v":9},1]
[null,null,null,null,null,null,null,null,null,null,null,null,null,null,{"$f":"Traduction!$A$357","v":"Dimanche"},"2018-12-16",348.70833333333297,-0.5,{"$f":"'[2]Détail N°7'!$L$28","v":9},1]
[null,null,null,null,null,null,null,null,null,null,null,null,null,null,{"$f":"Traduction!$A$357","v":"Dimanche"},"2018-12-16",348.75,-1.2,{"$f":"'[2]Détail N°7'!$L$28","v":9},1]
[null,null,null,null,null,null,null,null,null,null,null,null,null,null,{"$f":"Traduction!$A$357","v":"Dimanche"},"2018-12-16",348.79166666666703,-1.1000000000000001,{"$f":"'[2]Détail N°7'!$L$28","v":9},1]
[null,null,null,null,null,null,null,null,null,null,null,null,null,null,{"$f":"Traduction!$A$357","v":"Dimanche"},"2018-12-16",348.83333333333297,-1.1000000000000001,{"$f":"'[2]Détail N°7'!$L$28","v":9},1]
[null,null,null,null,null,null,null,null,null,null,null,null,null,null,{"$f":"Traduction!$A$357","v":"Dimanche"},"2018-12-16",348.875,-1.1000000000000001,{"$f":"'[2]Détail N°7'!$L$28","v":9},1]
[null,null,null,null,null,null,null,null,null,null,null,null,null,null,{"$f":"Traduction!$A$357","v":"Dimanche"},"2018-12-16",348.91666666666703,-2.8,{"$f":"'[2]Détail N°7'!$L$28","v":9},1]
[null,null,null,null,null,null,null,null,null,null,null,null,null,null,{"$f":"Traduction!$A$357","v":"Dimanche"},"2018-12-16",348.95833333333297,-1.6,{"$f":"'[2]Détail N°7'!$L$28","v":9},1]
[null,null,null,null,null,null,null,null,null,null,null,null,null,null,{"$f":"Traduction!$A$357","v":"Dimanche"},"2018-12-16",349,-1.7,{"$f":"'[2]Détail N°7'!$L$28","v":9},1]
[null,null,null,null,null,null,null,null,null,null,null,null,null,null,{"$f":"Traduction!$A$351","v":"Lundi "},"2018-12-17",349.04166666666703,-1.6,{"$f":"'[2]Détail N°7'!$L$28","v":9},1]
[null,null,null,null,null,null,null,null,null,null,null,null,null,null,{"$f":"Traduction!$A$351","v":"Lundi "},"2018-12-17",349.08333333333297,-1.7,{"$f":"'[2]Détail N°7'!$L$28","v":9},1]
[null,null,null,null,null,null,null,null,null,null,null,null,null,null,{"$f":"Traduction!$A$351","v":"Lundi "},"2018-12-17",349.125,-1.8,{"$f":"'[2]Détail N°7'!$L$28","v":9},1]
[null,null,null,null,null,null,null,null,null,null,null,null,null,null,{"$f":"Traduction!$A$351","v":"Lundi "},"2018-12-17",349.16666666666703,-1.8,{"$f":"'[2]Détail N°7'!$L$28","v":9},1]
[null,null,null,null,null,null,null,null,null,null,null,null,null,null,{"$f":"Traduction!$A$351","v":"Lundi "},"2018-12-17",349.20833333333297,-1.9,{"$f":"'[2]Détail N°7'!$L$28","v":9},1]
[null,null,null,null,null,null,null,null,null,null,null,null,null,null,{"$f":"Traduction!$A$351","v":"Lundi "},"2018-12-17",349.25,-1.9,{"$f":"'[2]Détail N°7'!$L$28","v":9},1]
[null,null,null,null,null,null,null,null,null,null,null,null,null,null,{"$f":"Traduction!$A$351","v":"Lundi "},"2018-12-17",349.29166666666703,-1.9,{"$f":"'[2]Détail N°7'!$L$28","v":9},1]
[null,null,null,null,null,null,null,null,null,null,null,null,null,null,{"$f":"Traduction!$A$351","v":"Lundi "},"2018-12-17",349.33333333333297,-1.9,{"$f":"'[2]Détail N°7'!$L$28","v":9},1]
[null,null,null,null,null,null,null,null,null,null,null,null,null,null,{"$f":"Traduction!$A$351","v":"Lundi "},"2018-12-17",349.375,-1.8,{"$f":"'[2]Détail N°7'!$L$28","v":9},1]
[null,null,null,null,null,null,null,null,null,null,null,null,null,null,{"$f":"Traduction!$A$351","v":"Lundi "},"2018-12-17",349.41666666666703,-0.2,{"$f":"'[2]Détail N°7'!$L$28","v":9},1]
[null,null,null,null,null,null,null,null,null,null,null,null,null,null,{"$f":"Traduction!$A$351","v":"Lundi "},"2018-12-17",349.45833333333297,0.3,{"$f":"'[2]Détail N°7'!$L$28","v":9},1]
[null,null,null,null,null,null,null,null,null,null,null,null,null,null,{"$f":"Traduction!$A$351","v":"Lundi "},"2018-12-17",349.5,0,{"$f":"'[2]Détail N°7'!$L$28","v":9},1]
[null,null,null,null,null,null,null,null,null,null,null,null,null,null,{"$f":"Traduction!$A$351","v":"Lundi "},"2018-12-17",349.54166666666703,-0.1,{"$f":"'[2]Détail N°7'!$L$28","v":9},1]
[null,null,null,null,null,null,null,null,null,null,null,null,null,null,{"$f":"Traduction!$A$351","v":"Lundi "},"2018-12-17",349.58333333333297,1.8,{"$f":"'[2]Détail N°7'!$L$28","v":9},1]
[null,null,null,null,null,null,null,null,null,null,null,null,null,null,{"$f":"Traduction!$A$351","v":"Lundi "},"2018-12-17",349.625,2.7,{"$f":"'[2]Détail N°7'!$L$28","v":9},1]
[null,null,null,null,null,null,null,null,null,null,null,null,null,null,{"$f":"Traduction!$A$351","v":"Lundi "},"2018-12-17",349.66666666666703,2.7,{"$f":"'[2]Détail N°7'!$L$28","v":9},1]
[null,null,null,null,null,null,null,null,null,null,null,null,null,null,{"$f":"Traduction!$A$351","v":"Lundi "},"2018-12-17",349.70833333333297,2,{"$f":"'[2]Détail N°7'!$L$28","v":9},1]
[null,null,null,null,null,null,null,null,null,null,null,null,null,null,{"$f":"Traduction!$A$351","v":"Lundi "},"2018-12-17",349.75,2,{"$f":"'[2]Détail N°7'!$L$28","v":9},1]
[null,null,null,null,null,null,null,null,null,null,null,null,null,null,{"$f":"Traduction!$A$351","v":"Lundi "},"2018-12-17",349.79166666666703,2,{"$f":"'[2]Détail N°7'!$L$28","v":9},1]
[null,null,null,null,null,null,null,null,null,null,null,null,null,null,{"$f":"Traduction!$A$351","v":"Lundi "},"2018-12-17",349.83333333333297,2,{"$f":"'[2]Détail N°7'!$L$28","v":9},1]
[null,null,null,null,null,null,null,null,null,null,null,null,null,null,{"$f":"Traduction!$A$351","v":"Lundi "},"2018-12-17",349.875,2,{"$f":"'[2]Détail N°7'!$L$28","v":9},1]
[null,null,null,null,null,null,null,null,null,null,null,null,null,null,{"$f":"Traduction!$A$351","v":"Lundi "},"2018-12-17",349.91666666666703,2,{"$f":"'[2]Détail N°7'!$L$28","v":9},1]
[null,null,null,null,null,null,null,null,null,null,null,null,null,null,{"$f":"Traduction!$A$351","v":"Lundi "},"2018-12-17",349.95833333333297,1.9,{"$f":"'[2]Détail N°7'!$L$28","v":9},1]
[null,null,null,null,null,null,null,null,null,null,null,null,null,null,{"$f":"Traduction!$A$351","v":"Lundi "},"2018-12-17",350,1.9,{"$f":"'[2]Détail N°7'!$L$28","v":9},1]
[null,null,null,null,null,null,null,null,null,null,null,null,null,null,{"$f":"Traduction!$A$352","v":"Mardi"},"2018-12-18",350.04166666666703,1.9,{"$f":"'[2]Détail N°7'!$L$28","v":9},1]
[null,null,null,null,null,null,null,null,null,null,null,null,null,null,{"$f":"Traduction!$A$352","v":"Mardi"},"2018-12-18",350.08333333333297,1.9,{"$f":"'[2]Détail N°7'!$L$28","v":9},1]
[null,null,null,null,null,null,null,null,null,null,null,null,null,null,{"$f":"Traduction!$A$352","v":"Mardi"},"2018-12-18",350.125,1.9,{"$f":"'[2]Détail N°7'!$L$28","v":9},1]
[null,null,null,null,null,null,null,null,null,null,null,null,null,null,{"$f":"Traduction!$A$352","v":"Mardi"},"2018-12-18",350.16666666666703,1.9,{"$f":"'[2]Détail N°7'!$L$28","v":9},1]
[null,null,null,null,null,null,null,null,null,null,null,null,null,null,{"$f":"Traduction!$A$352","v":"Mardi"},"2018-12-18",350.20833333333297,2,{"$f":"'[2]Détail N°7'!$L$28","v":9},1]
[null,null,null,null,null,null,null,null,null,null,null,null,null,null,{"$f":"Traduction!$A$352","v":"Mardi"},"2018-12-18",350.25,2,{"$f":"'[2]Détail N°7'!$L$28","v":9},1]
[null,null,null,null,null,null,null,null,null,null,null,null,null,null,{"$f":"Traduction!$A$352","v":"Mardi"},"2018-12-18",350.29166666666703,2,{"$f":"'[2]Détail N°7'!$L$28","v":9},1]
[null,null,null,null,null,null,null,null,null,null,null,null,null,null,{"$f":"Traduction!$A$352","v":"Mardi"},"2018-12-18",350.33333333333297,2,{"$f":"'[2]Détail N°7'!$L$28","v":9},1]
[null,null,null,null,null,null,null,null,null,null,null,null,null,null,{"$f":"Traduction!$A$352","v":"Mardi"},"2018-12-18",350.375,2.2000000000000002,{"$f":"'[2]Détail N°7'!$L$28","v":9},1]
[null,null,null,null,null,null,null,null,null,null,null,null,null,null,{"$f":"Traduction!$A$352","v":"Mardi"},"2018-12-18",350.41666666666703,3.1,{"$f":"'[2]Détail N°7'!$L$28","v":9},1]
[null,null,null,null,null,null,null,null,null,null,null,null,null,null,{"$f":"Traduction!$A$352","v":"Mardi"},"2018-12-18",350.45833333333297,4.0999999999999996,{"$f":"'[2]Détail N°7'!$L$28","v":9},1]
[null,null,null,null,null,null,null,null,null,null,null,null,null,null,{"$f":"Traduction!$A$352","v":"Mardi"},"2018-12-18",350.5,5,{"$f":"'[2]Détail N°7'!$L$28","v":9},1]
[null,null,null,null,null,null,null,null,null,null,null,null,null,null,{"$f":"Traduction!$A$352","v":"Mardi"},"2018-12-18",350.54166666666703,5.6,{"$f":"'[2]Détail N°7'!$L$28","v":9},1]
[null,null,null,null,null,null,null,null,null,null,null,null,null,null,{"$f":"Traduction!$A$352","v":"Mardi"},"2018-12-18",350.58333333333297,5.9,{"$f":"'[2]Détail N°7'!$L$28","v":9},1]
[null,null,null,null,null,null,null,null,null,null,null,null,null,null,{"$f":"Traduction!$A$352","v":"Mardi"},"2018-12-18",350.625,5.9,{"$f":"'[2]Détail N°7'!$L$28","v":9},1]
[null,null,null,null,null,null,null,null,null,null,null,null,null,null,{"$f":"Traduction!$A$352","v":"Mardi"},"2018-12-18",350.66666666666703,5.5,{"$f":"'[2]Détail N°7'!$L$28","v":9},1]
[null,null,null,null,null,null,null,null,null,null,null,null,null,null,{"$f":"Traduction!$A$352","v":"Mardi"},"2018-12-18",350.70833333333297,4.9000000000000004,{"$f":"'[2]Détail N°7'!$L$28","v":9},1]
[null,null,null,null,null,null,null,null,null,null,null,null,null,null,{"$f":"Traduction!$A$352","v":"Mardi"},"2018-12-18",350.75,4.7,{"$f":"'[2]Détail N°7'!$L$28","v":9},1]
[null,null,null,null,null,null,null,null,null,null,null,null,null,null,{"$f":"Traduction!$A$352","v":"Mardi"},"2018-12-18",350.79166666666703,4.5,{"$f":"'[2]Détail N°7'!$L$28","v":9},1]
[null,null,null,null,null,null,null,null,null,null,null,null,null,null,{"$f":"Traduction!$A$352","v":"Mardi"},"2018-12-18",350.83333333333297,4.3,{"$f":"'[2]Détail N°7'!$L$28","v":9},1]
[null,null,null,null,null,null,null,null,null,null,null,null,null,null,{"$f":"Traduction!$A$352","v":"Mardi"},"2018-12-18",350.875,4.0999999999999996,{"$f":"'[2]Détail N°7'!$L$28","v":9},1]
[null,null,null,null,null,null,null,null,null,null,null,null,null,null,{"$f":"Traduction!$A$352","v":"Mardi"},"2018-12-18",350.91666666666703,4,{"$f":"'[2]Détail N°7'!$L$28","v":9},1]
[null,null,null,null,null,null,null,null,null,null,null,null,null,null,{"$f":"Traduction!$A$352","v":"Mardi"},"2018-12-18",350.95833333333297,3.8,{"$f":"'[2]Détail N°7'!$L$28","v":9},1]
[null,null,null,null,null,null,null,null,null,null,null,null,null,null,{"$f":"Traduction!$A$352","v":"Mardi"},"2018-12-18",351,3.6,{"$f":"'[2]Détail N°7'!$L$28","v":9},1]
[null,null,null,null,null,null,null,null,null,null,null,null,null,null,{"$f":"Traduction!$A$353","v":"Mercredi"},"2018-12-19",351.04166666666703,3.3,{"$f":"'[2]Détail N°7'!$L$28","v":9},1]
[null,null,null,null,null,null,null,null,null,null,null,null,null,null,{"$f":"Traduction!$A$353","v":"Mercredi"},"2018-12-19",351.08333333333297,2.9,{"$f":"'[2]Détail N°7'!$L$28","v":9},{"$f":"IF(R8791<=S8791,1,0)","v":1}]
[null,null,null,null,null,null,null,null,null,null,null,null,null,null,{"$f":"Traduction!$A$353","v":"Mercredi"},"2018-12-19",351.125,2.6,{"$f":"'[2]Détail N°7'!$L$28","v":9},1]
[null,null,null,null,null,null,null,null,null,null,null,null,null,null,{"$f":"Traduction!$A$353","v":"Mercredi"},"2018-12-19",351.16666666666703,2.5,{"$f":"'[2]Détail N°7'!$L$28","v":9},1]
[null,null,null,null,null,null,null,null,null,null,null,null,null,null,{"$f":"Traduction!$A$353","v":"Mercredi"},"2018-12-19",351.20833333333297,2.2999999999999998,{"$f":"'[2]Détail N°7'!$L$28","v":9},1]
[null,null,null,null,null,null,null,null,null,null,null,null,null,null,{"$f":"Traduction!$A$353","v":"Mercredi"},"2018-12-19",351.25,2.2000000000000002,{"$f":"'[2]Détail N°7'!$L$28","v":9},1]
[null,null,null,null,null,null,null,null,null,null,null,null,null,null,{"$f":"Traduction!$A$353","v":"Mercredi"},"2018-12-19",351.29166666666703,2.1,{"$f":"'[2]Détail N°7'!$L$28","v":9},1]
[null,null,null,null,null,null,null,null,null,null,null,null,null,null,{"$f":"Traduction!$A$353","v":"Mercredi"},"2018-12-19",351.33333333333297,2,{"$f":"'[2]Détail N°7'!$L$28","v":9},1]
[null,null,null,null,null,null,null,null,null,null,null,null,null,null,{"$f":"Traduction!$A$353","v":"Mercredi"},"2018-12-19",351.375,2,{"$f":"'[2]Détail N°7'!$L$28","v":9},1]
[null,null,null,null,null,null,null,null,null,null,null,null,null,null,{"$f":"Traduction!$A$353","v":"Mercredi"},"2018-12-19",351.41666666666703,2.4,{"$f":"'[2]Détail N°7'!$L$28","v":9},1]
[null,null,null,null,null,null,null,null,null,null,null,null,null,null,{"$f":"Traduction!$A$353","v":"Mercredi"},"2018-12-19",351.45833333333297,3.1,{"$f":"'[2]Détail N°7'!$L$28","v":9},1]
[null,null,null,null,null,null,null,null,null,null,null,null,null,null,{"$f":"Traduction!$A$353","v":"Mercredi"},"2018-12-19",351.5,3.9,{"$f":"'[2]Détail N°7'!$L$28","v":9},1]
[null,null,null,null,null,null,null,null,null,null,null,null,null,null,{"$f":"Traduction!$A$353","v":"Mercredi"},"2018-12-19",351.54166666666703,5,{"$f":"'[2]Détail N°7'!$L$28","v":9},1]
[null,null,null,null,null,null,null,null,null,null,null,null,null,null,{"$f":"Traduction!$A$353","v":"Mercredi"},"2018-12-19",351.58333333333297,6.1,{"$f":"'[2]Détail N°7'!$L$28","v":9},1]
[null,null,null,null,null,null,null,null,null,null,null,null,null,null,{"$f":"Traduction!$A$353","v":"Mercredi"},"2018-12-19",351.625,6.8,{"$f":"'[2]Détail N°7'!$L$28","v":9},1]
[null,null,null,null,null,null,null,null,null,null,null,null,null,null,{"$f":"Traduction!$A$353","v":"Mercredi"},"2018-12-19",351.66666666666703,6.5,{"$f":"'[2]Détail N°7'!$L$28","v":9},1]
[null,null,null,null,null,null,null,null,null,null,null,null,null,null,{"$f":"Traduction!$A$353","v":"Mercredi"},"2018-12-19",351.70833333333297,5.7,{"$f":"'[2]Détail N°7'!$L$28","v":9},1]
[null,null,null,null,null,null,null,null,null,null,null,null,null,null,{"$f":"Traduction!$A$353","v":"Mercredi"},"2018-12-19",351.75,5.4,{"$f":"'[2]Détail N°7'!$L$28","v":9},1]
[null,null,null,null,null,null,null,null,null,null,null,null,null,null,{"$f":"Traduction!$A$353","v":"Mercredi"},"2018-12-19",351.79166666666703,5.2,{"$f":"'[2]Détail N°7'!$L$28","v":9},1]
[null,null,null,null,null,null,null,null,null,null,null,null,null,null,{"$f":"Traduction!$A$353","v":"Mercredi"},"2018-12-19",351.83333333333297,4.9000000000000004,{"$f":"'[2]Détail N°7'!$L$28","v":9},1]
[null,null,null,null,null,null,null,null,null,null,null,null,null,null,{"$f":"Traduction!$A$353","v":"Mercredi"},"2018-12-19",351.875,4.7,{"$f":"'[2]Détail N°7'!$L$28","v":9},1]
[null,null,null,null,null,null,null,null,null,null,null,null,null,null,{"$f":"Traduction!$A$353","v":"Mercredi"},"2018-12-19",351.91666666666703,4.4000000000000004,{"$f":"'[2]Détail N°7'!$L$28","v":9},1]
[null,null,null,null,null,null,null,null,null,null,null,null,null,null,{"$f":"Traduction!$A$353","v":"Mercredi"},"2018-12-19",351.95833333333297,4.2,{"$f":"'[2]Détail N°7'!$L$28","v":9},1]
[null,null,null,null,null,null,null,null,null,null,null,null,null,null,{"$f":"Traduction!$A$353","v":"Mercredi"},"2018-12-19",352,3.9,{"$f":"'[2]Détail N°7'!$L$28","v":9},1]
[null,null,null,null,null,null,null,null,null,null,null,null,null,null,{"$f":"Traduction!$A$354","v":"Jeudi"},"2018-12-20",352.04166666666703,3.7,{"$f":"'[2]Détail N°7'!$L$28","v":9},1]
[null,null,null,null,null,null,null,null,null,null,null,null,null,null,{"$f":"Traduction!$A$354","v":"Jeudi"},"2018-12-20",352.08333333333297,3.4,{"$f":"'[2]Détail N°7'!$L$28","v":9},1]
[null,null,null,null,null,null,null,null,null,null,null,null,null,null,{"$f":"Traduction!$A$354","v":"Jeudi"},"2018-12-20",352.125,3.2,{"$f":"'[2]Détail N°7'!$L$28","v":9},1]
[null,null,null,null,null,null,null,null,null,null,null,null,null,null,{"$f":"Traduction!$A$354","v":"Jeudi"},"2018-12-20",352.16666666666703,3.1,{"$f":"'[2]Détail N°7'!$L$28","v":9},1]
[null,null,null,null,null,null,null,null,null,null,null,null,null,null,{"$f":"Traduction!$A$354","v":"Jeudi"},"2018-12-20",352.20833333333297,3,{"$f":"'[2]Détail N°7'!$L$28","v":9},1]
[null,null,null,null,null,null,null,null,null,null,null,null,null,null,{"$f":"Traduction!$A$354","v":"Jeudi"},"2018-12-20",352.25,2.9,{"$f":"'[2]Détail N°7'!$L$28","v":9},1]
[null,null,null,null,null,null,null,null,null,null,null,null,null,null,{"$f":"Traduction!$A$354","v":"Jeudi"},"2018-12-20",352.29166666666703,2.8,{"$f":"'[2]Détail N°7'!$L$28","v":9},1]
[null,null,null,null,null,null,null,null,null,null,null,null,null,null,{"$f":"Traduction!$A$354","v":"Jeudi"},"2018-12-20",352.33333333333297,2.8,{"$f":"'[2]Détail N°7'!$L$28","v":9},1]
[null,null,null,null,null,null,null,null,null,null,null,null,null,null,{"$f":"Traduction!$A$354","v":"Jeudi"},"2018-12-20",352.375,3,{"$f":"'[2]Détail N°7'!$L$28","v":9},1]
[null,null,null,null,null,null,null,null,null,null,null,null,null,null,{"$f":"Traduction!$A$354","v":"Jeudi"},"2018-12-20",352.41666666666703,4.5,{"$f":"'[2]Détail N°7'!$L$28","v":9},1]
[null,null,null,null,null,null,null,null,null,null,null,null,null,null,{"$f":"Traduction!$A$354","v":"Jeudi"},"2018-12-20",352.45833333333297,5.7,{"$f":"'[2]Détail N°7'!$L$28","v":9},1]
[null,null,null,null,null,null,null,null,null,null,null,null,null,null,{"$f":"Traduction!$A$354","v":"Jeudi"},"2018-12-20",352.5,6.6,{"$f":"'[2]Détail N°7'!$L$28","v":9},1]
[null,null,null,null,null,null,null,null,null,null,null,null,null,null,{"$f":"Traduction!$A$354","v":"Jeudi"},"2018-12-20",352.54166666666703,7.2,{"$f":"'[2]Détail N°7'!$L$28","v":9},1]
[null,null,null,null,null,null,null,null,null,null,null,null,null,null,{"$f":"Traduction!$A$354","v":"Jeudi"},"2018-12-20",352.58333333333297,7.5,{"$f":"'[2]Détail N°7'!$L$28","v":9},1]
[null,null,null,null,null,null,null,null,null,null,null,null,null,null,{"$f":"Traduction!$A$354","v":"Jeudi"},"2018-12-20",352.625,7.3,{"$f":"'[2]Détail N°7'!$L$28","v":9},1]
[null,null,null,null,null,null,null,null,null,null,null,null,null,null,{"$f":"Traduction!$A$354","v":"Jeudi"},"2018-12-20",352.66666666666703,6.7,{"$f":"'[2]Détail N°7'!$L$28","v":9},1]
[null,null,null,null,null,null,null,null,null,null,null,null,null,null,{"$f":"Traduction!$A$354","v":"Jeudi"},"2018-12-20",352.70833333333297,6,{"$f":"'[2]Détail N°7'!$L$28","v":9},1]
[null,null,null,null,null,null,null,null,null,null,null,null,null,null,{"$f":"Traduction!$A$354","v":"Jeudi"},"2018-12-20",352.75,5.5,{"$f":"'[2]Détail N°7'!$L$28","v":9},1]
[null,null,null,null,null,null,null,null,null,null,null,null,null,null,{"$f":"Traduction!$A$354","v":"Jeudi"},"2018-12-20",352.79166666666703,5.0999999999999996,{"$f":"'[2]Détail N°7'!$L$28","v":9},1]
[null,null,null,null,null,null,null,null,null,null,null,null,null,null,{"$f":"Traduction!$A$354","v":"Jeudi"},"2018-12-20",352.83333333333297,4.5999999999999996,{"$f":"'[2]Détail N°7'!$L$28","v":9},1]
[null,null,null,null,null,null,null,null,null,null,null,null,null,null,{"$f":"Traduction!$A$354","v":"Jeudi"},"2018-12-20",352.875,4.0999999999999996,{"$f":"'[2]Détail N°7'!$L$28","v":9},1]
[null,null,null,null,null,null,null,null,null,null,null,null,null,null,{"$f":"Traduction!$A$354","v":"Jeudi"},"2018-12-20",352.91666666666703,3.7,{"$f":"'[2]Détail N°7'!$L$28","v":9},1]
[null,null,null,null,null,null,null,null,null,null,null,null,null,null,{"$f":"Traduction!$A$354","v":"Jeudi"},"2018-12-20",352.95833333333297,3.2,{"$f":"'[2]Détail N°7'!$L$28","v":9},1]
[null,null,null,null,null,null,null,null,null,null,null,null,null,null,{"$f":"Traduction!$A$354","v":"Jeudi"},"2018-12-20",353,2.7,{"$f":"'[2]Détail N°7'!$L$28","v":9},1]
[null,null,null,null,null,null,null,null,null,null,null,null,null,null,{"$f":"Traduction!$A$355","v":"Vendredi"},"2018-12-21",353.04166666666703,2.2000000000000002,{"$f":"'[2]Détail N°7'!$L$28","v":9},1]
[null,null,null,null,null,null,null,null,null,null,null,null,null,null,{"$f":"Traduction!$A$355","v":"Vendredi"},"2018-12-21",353.08333333333297,1.5,{"$f":"'[2]Détail N°7'!$L$28","v":9},1]
[null,null,null,null,null,null,null,null,null,null,null,null,null,null,{"$f":"Traduction!$A$355","v":"Vendredi"},"2018-12-21",353.125,0.9,{"$f":"'[2]Détail N°7'!$L$28","v":9},1]
[null,null,null,null,null,null,null,null,null,null,null,null,null,null,{"$f":"Traduction!$A$355","v":"Vendredi"},"2018-12-21",353.16666666666703,0.6,{"$f":"'[2]Détail N°7'!$L$28","v":9},1]
[null,null,null,null,null,null,null,null,null,null,null,null,null,null,{"$f":"Traduction!$A$355","v":"Vendredi"},"2018-12-21",353.20833333333297,0.2,{"$f":"'[2]Détail N°7'!$L$28","v":9},1]
[null,null,null,null,null,null,null,null,null,null,null,null,null,null,{"$f":"Traduction!$A$355","v":"Vendredi"},"2018-12-21",353.25,-0.1,{"$f":"'[2]Détail N°7'!$L$28","v":9},1]
[null,null,null,null,null,null,null,null,null,null,null,null,null,null,{"$f":"Traduction!$A$355","v":"Vendredi"},"2018-12-21",353.29166666666703,-0.3,{"$f":"'[2]Détail N°7'!$L$28","v":9},1]
[null,null,null,null,null,null,null,null,null,null,null,null,null,null,{"$f":"Traduction!$A$355","v":"Vendredi"},"2018-12-21",353.33333333333297,-0.6,{"$f":"'[2]Détail N°7'!$L$28","v":9},1]
[null,null,null,null,null,null,null,null,null,null,null,null,null,null,{"$f":"Traduction!$A$355","v":"Vendredi"},"2018-12-21",353.375,-0.5,{"$f":"'[2]Détail N°7'!$L$28","v":9},1]
[null,null,null,null,null,null,null,null,null,null,null,null,null,null,{"$f":"Traduction!$A$355","v":"Vendredi"},"2018-12-21",353.41666666666703,0.4,{"$f":"'[2]Détail N°7'!$L$28","v":9},1]
[null,null,null,null,null,null,null,null,null,null,null,null,null,null,{"$f":"Traduction!$A$355","v":"Vendredi"},"2018-12-21",353.45833333333297,1.4,{"$f":"'[2]Détail N°7'!$L$28","v":9},1]
[null,null,null,null,null,null,null,null,null,null,null,null,null,null,{"$f":"Traduction!$A$355","v":"Vendredi"},"2018-12-21",353.5,2.7,{"$f":"'[2]Détail N°7'!$L$28","v":9},1]
[null,null,null,null,null,null,null,null,null,null,null,null,null,null,{"$f":"Traduction!$A$355","v":"Vendredi"},"2018-12-21",353.54166666666703,3.5,{"$f":"'[2]Détail N°7'!$L$28","v":9},1]
[null,null,null,null,null,null,null,null,null,null,null,null,null,null,{"$f":"Traduction!$A$355","v":"Vendredi"},"2018-12-21",353.58333333333297,3.6,{"$f":"'[2]Détail N°7'!$L$28","v":9},1]
[null,null,null,null,null,null,null,null,null,null,null,null,null,null,{"$f":"Traduction!$A$355","v":"Vendredi"},"2018-12-21",353.625,3.2,{"$f":"'[2]Détail N°7'!$L$28","v":9},1]
[null,null,null,null,null,null,null,null,null,null,null,null,null,null,{"$f":"Traduction!$A$355","v":"Vendredi"},"2018-12-21",353.66666666666703,2.6,{"$f":"'[2]Détail N°7'!$L$28","v":9},1]
[null,null,null,null,null,null,null,null,null,null,null,null,null,null,{"$f":"Traduction!$A$355","v":"Vendredi"},"2018-12-21",353.70833333333297,1.8,{"$f":"'[2]Détail N°7'!$L$28","v":9},1]
[null,null,null,null,null,null,null,null,null,null,null,null,null,null,{"$f":"Traduction!$A$355","v":"Vendredi"},"2018-12-21",353.75,1.7,{"$f":"'[2]Détail N°7'!$L$28","v":9},{"$f":"IF(R8855<=S8855,1,0)","v":1}]
[null,null,null,null,null,null,null,null,null,null,null,null,null,null,{"$f":"Traduction!$A$355","v":"Vendredi"},"2018-12-21",353.79166666666703,1.6,{"$f":"'[2]Détail N°7'!$L$28","v":9},1]
[null,null,null,null,null,null,null,null,null,null,null,null,null,null,{"$f":"Traduction!$A$355","v":"Vendredi"},"2018-12-21",353.83333333333297,1.5,{"$f":"'[2]Détail N°7'!$L$28","v":9},1]
[null,null,null,null,null,null,null,null,null,null,null,null,null,null,{"$f":"Traduction!$A$355","v":"Vendredi"},"2018-12-21",353.875,1.3,{"$f":"'[2]Détail N°7'!$L$28","v":9},1]
[null,null,null,null,null,null,null,null,null,null,null,null,null,null,{"$f":"Traduction!$A$355","v":"Vendredi"},"2018-12-21",353.91666666666703,1.2,{"$f":"'[2]Détail N°7'!$L$28","v":9},1]
[null,null,null,null,null,null,null,null,null,null,null,null,null,null,{"$f":"Traduction!$A$355","v":"Vendredi"},"2018-12-21",353.95833333333297,1.1000000000000001,{"$f":"'[2]Détail N°7'!$L$28","v":9},1]
[null,null,null,null,null,null,null,null,null,null,null,null,null,null,{"$f":"Traduction!$A$355","v":"Vendredi"},"2018-12-21",354,1,{"$f":"'[2]Détail N°7'!$L$28","v":9},1]
[null,null,null,null,null,null,null,null,null,null,null,null,null,null,{"$f":"Traduction!$A$356","v":"Samedi"},"2018-12-22",354.04166666666703,1,{"$f":"'[2]Détail N°7'!$L$28","v":9},1]
[null,null,null,null,null,null,null,null,null,null,null,null,null,null,{"$f":"Traduction!$A$356","v":"Samedi"},"2018-12-22",354.08333333333297,1.2,{"$f":"'[2]Détail N°7'!$L$28","v":9},1]
[null,null,null,null,null,null,null,null,null,null,null,null,null,null,{"$f":"Traduction!$A$356","v":"Samedi"},"2018-12-22",354.125,1.1000000000000001,{"$f":"'[2]Détail N°7'!$L$28","v":9},1]
[null,null,null,null,null,null,null,null,null,null,null,null,null,null,{"$f":"Traduction!$A$356","v":"Samedi"},"2018-12-22",354.16666666666703,1.3,{"$f":"'[2]Détail N°7'!$L$28","v":9},1]
[null,null,null,null,null,null,null,null,null,null,null,null,null,null,{"$f":"Traduction!$A$356","v":"Samedi"},"2018-12-22",354.20833333333297,0.8,{"$f":"'[2]Détail N°7'!$L$28","v":9},1]
[null,null,null,null,null,null,null,null,null,null,null,null,null,null,{"$f":"Traduction!$A$356","v":"Samedi"},"2018-12-22",354.25,1.7,{"$f":"'[2]Détail N°7'!$L$28","v":9},1]
[null,null,null,null,null,null,null,null,null,null,null,null,null,null,{"$f":"Traduction!$A$356","v":"Samedi"},"2018-12-22",354.29166666666703,1.8,{"$f":"'[2]Détail N°7'!$L$28","v":9},1]
[null,null,null,null,null,null,null,null,null,null,null,null,null,null,{"$f":"Traduction!$A$356","v":"Samedi"},"2018-12-22",354.33333333333297,1.9,{"$f":"'[2]Détail N°7'!$L$28","v":9},1]
[null,null,null,null,null,null,null,null,null,null,null,null,null,null,{"$f":"Traduction!$A$356","v":"Samedi"},"2018-12-22",354.375,2,{"$f":"'[2]Détail N°7'!$L$28","v":9},1]
[null,null,null,null,null,null,null,null,null,null,null,null,null,null,{"$f":"Traduction!$A$356","v":"Samedi"},"2018-12-22",354.41666666666703,2.5,{"$f":"'[2]Détail N°7'!$L$28","v":9},1]
[null,null,null,null,null,null,null,null,null,null,null,null,null,null,{"$f":"Traduction!$A$356","v":"Samedi"},"2018-12-22",354.45833333333297,3.1,{"$f":"'[2]Détail N°7'!$L$28","v":9},1]
[null,null,null,null,null,null,null,null,null,null,null,null,null,null,{"$f":"Traduction!$A$356","v":"Samedi"},"2018-12-22",354.5,3.5,{"$f":"'[2]Détail N°7'!$L$28","v":9},1]
[null,null,null,null,null,null,null,null,null,null,null,null,null,null,{"$f":"Traduction!$A$356","v":"Samedi"},"2018-12-22",354.54166666666703,3.8,{"$f":"'[2]Détail N°7'!$L$28","v":9},1]
[null,null,null,null,null,null,null,null,null,null,null,null,null,null,{"$f":"Traduction!$A$356","v":"Samedi"},"2018-12-22",354.58333333333297,4,{"$f":"'[2]Détail N°7'!$L$28","v":9},1]
[null,null,null,null,null,null,null,null,null,null,null,null,null,null,{"$f":"Traduction!$A$356","v":"Samedi"},"2018-12-22",354.625,4,{"$f":"'[2]Détail N°7'!$L$28","v":9},1]
[null,null,null,null,null,null,null,null,null,null,null,null,null,null,{"$f":"Traduction!$A$356","v":"Samedi"},"2018-12-22",354.66666666666703,3.9,{"$f":"'[2]Détail N°7'!$L$28","v":9},1]
[null,null,null,null,null,null,null,null,null,null,null,null,null,null,{"$f":"Traduction!$A$356","v":"Samedi"},"2018-12-22",354.70833333333297,3.6,{"$f":"'[2]Détail N°7'!$L$28","v":9},1]
[null,null,null,null,null,null,null,null,null,null,null,null,null,null,{"$f":"Traduction!$A$356","v":"Samedi"},"2018-12-22",354.75,3.5,{"$f":"'[2]Détail N°7'!$L$28","v":9},1]
[null,null,null,null,null,null,null,null,null,null,null,null,null,null,{"$f":"Traduction!$A$356","v":"Samedi"},"2018-12-22",354.79166666666703,3.4,{"$f":"'[2]Détail N°7'!$L$28","v":9},1]
[null,null,null,null,null,null,null,null,null,null,null,null,null,null,{"$f":"Traduction!$A$356","v":"Samedi"},"2018-12-22",354.83333333333297,3.3,{"$f":"'[2]Détail N°7'!$L$28","v":9},1]
[null,null,null,null,null,null,null,null,null,null,null,null,null,null,{"$f":"Traduction!$A$356","v":"Samedi"},"2018-12-22",354.875,3.2,{"$f":"'[2]Détail N°7'!$L$28","v":9},1]
[null,null,null,null,null,null,null,null,null,null,null,null,null,null,{"$f":"Traduction!$A$356","v":"Samedi"},"2018-12-22",354.91666666666703,3.1,{"$f":"'[2]Détail N°7'!$L$28","v":9},1]
[null,null,null,null,null,null,null,null,null,null,null,null,null,null,{"$f":"Traduction!$A$356","v":"Samedi"},"2018-12-22",354.95833333333297,2.8,{"$f":"'[2]Détail N°7'!$L$28","v":9},1]
[null,null,null,null,null,null,null,null,null,null,null,null,null,null,{"$f":"Traduction!$A$356","v":"Samedi"},"2018-12-22",355,2.8,{"$f":"'[2]Détail N°7'!$L$28","v":9},1]
[null,null,null,null,null,null,null,null,null,null,null,null,null,null,{"$f":"Traduction!$A$357","v":"Dimanche"},"2018-12-23",355.04166666666703,2.4,{"$f":"'[2]Détail N°7'!$L$28","v":9},1]
[null,null,null,null,null,null,null,null,null,null,null,null,null,null,{"$f":"Traduction!$A$357","v":"Dimanche"},"2018-12-23",355.08333333333297,1.7,{"$f":"'[2]Détail N°7'!$L$28","v":9},1]
[null,null,null,null,null,null,null,null,null,null,null,null,null,null,{"$f":"Traduction!$A$357","v":"Dimanche"},"2018-12-23",355.125,1.4,{"$f":"'[2]Détail N°7'!$L$28","v":9},1]
[null,null,null,null,null,null,null,null,null,null,null,null,null,null,{"$f":"Traduction!$A$357","v":"Dimanche"},"2018-12-23",355.16666666666703,1.1000000000000001,{"$f":"'[2]Détail N°7'!$L$28","v":9},1]
[null,null,null,null,null,null,null,null,null,null,null,null,null,null,{"$f":"Traduction!$A$357","v":"Dimanche"},"2018-12-23",355.20833333333297,0.9,{"$f":"'[2]Détail N°7'!$L$28","v":9},1]
[null,null,null,null,null,null,null,null,null,null,null,null,null,null,{"$f":"Traduction!$A$357","v":"Dimanche"},"2018-12-23",355.25,0.6,{"$f":"'[2]Détail N°7'!$L$28","v":9},1]
[null,null,null,null,null,null,null,null,null,null,null,null,null,null,{"$f":"Traduction!$A$357","v":"Dimanche"},"2018-12-23",355.29166666666703,0.4,{"$f":"'[2]Détail N°7'!$L$28","v":9},1]
[null,null,null,null,null,null,null,null,null,null,null,null,null,null,{"$f":"Traduction!$A$357","v":"Dimanche"},"2018-12-23",355.33333333333297,0.2,{"$f":"'[2]Détail N°7'!$L$28","v":9},1]
[null,null,null,null,null,null,null,null,null,null,null,null,null,null,{"$f":"Traduction!$A$357","v":"Dimanche"},"2018-12-23",355.375,0.2,{"$f":"'[2]Détail N°7'!$L$28","v":9},1]
[null,null,null,null,null,null,null,null,null,null,null,null,null,null,{"$f":"Traduction!$A$357","v":"Dimanche"},"2018-12-23",355.41666666666703,0.5,{"$f":"'[2]Détail N°7'!$L$28","v":9},1]
[null,null,null,null,null,null,null,null,null,null,null,null,null,null,{"$f":"Traduction!$A$357","v":"Dimanche"},"2018-12-23",355.45833333333297,0.9,{"$f":"'[2]Détail N°7'!$L$28","v":9},1]
[null,null,null,null,null,null,null,null,null,null,null,null,null,null,{"$f":"Traduction!$A$357","v":"Dimanche"},"2018-12-23",355.5,1.1000000000000001,{"$f":"'[2]Détail N°7'!$L$28","v":9},1]
[null,null,null,null,null,null,null,null,null,null,null,null,null,null,{"$f":"Traduction!$A$357","v":"Dimanche"},"2018-12-23",355.54166666666703,1.3,{"$f":"'[2]Détail N°7'!$L$28","v":9},1]
[null,null,null,null,null,null,null,null,null,null,null,null,null,null,{"$f":"Traduction!$A$357","v":"Dimanche"},"2018-12-23",355.58333333333297,1.4,{"$f":"'[2]Détail N°7'!$L$28","v":9},1]
[null,null,null,null,null,null,null,null,null,null,null,null,null,null,{"$f":"Traduction!$A$357","v":"Dimanche"},"2018-12-23",355.625,1.4,{"$f":"'[2]Détail N°7'!$L$28","v":9},1]
[null,null,null,null,null,null,null,null,null,null,null,null,null,null,{"$f":"Traduction!$A$357","v":"Dimanche"},"2018-12-23",355.66666666666703,1.2,{"$f":"'[2]Détail N°7'!$L$28","v":9},1]
[null,null,null,null,null,null,null,null,null,null,null,null,null,null,{"$f":"Traduction!$A$357","v":"Dimanche"},"2018-12-23",355.70833333333297,0.9,{"$f":"'[2]Détail N°7'!$L$28","v":9},1]
[null,null,null,null,null,null,null,null,null,null,null,null,null,null,{"$f":"Traduction!$A$357","v":"Dimanche"},"2018-12-23",355.75,0.6,{"$f":"'[2]Détail N°7'!$L$28","v":9},1]
[null,null,null,null,null,null,null,null,null,null,null,null,null,null,{"$f":"Traduction!$A$357","v":"Dimanche"},"2018-12-23",355.79166666666703,0.3,{"$f":"'[2]Détail N°7'!$L$28","v":9},1]
[null,null,null,null,null,null,null,null,null,null,null,null,null,null,{"$f":"Traduction!$A$357","v":"Dimanche"},"2018-12-23",355.83333333333297,0,{"$f":"'[2]Détail N°7'!$L$28","v":9},1]
[null,null,null,null,null,null,null,null,null,null,null,null,null,null,{"$f":"Traduction!$A$357","v":"Dimanche"},"2018-12-23",355.875,-0.3,{"$f":"'[2]Détail N°7'!$L$28","v":9},1]
[null,null,null,null,null,null,null,null,null,null,null,null,null,null,{"$f":"Traduction!$A$357","v":"Dimanche"},"2018-12-23",355.91666666666703,-0.6,{"$f":"'[2]Détail N°7'!$L$28","v":9},1]
[null,null,null,null,null,null,null,null,null,null,null,null,null,null,{"$f":"Traduction!$A$357","v":"Dimanche"},"2018-12-23",355.95833333333297,-0.9,{"$f":"'[2]Détail N°7'!$L$28","v":9},1]
[null,null,null,null,null,null,null,null,null,null,null,null,null,null,{"$f":"Traduction!$A$357","v":"Dimanche"},"2018-12-23",356,-1.2,{"$f":"'[2]Détail N°7'!$L$28","v":9},1]
[null,null,null,null,null,null,null,null,null,null,null,null,null,null,{"$f":"Traduction!$A$351","v":"Lundi "},"2018-12-24",356.04166666666703,-1.3,{"$f":"'[2]Détail N°7'!$L$28","v":9},1]
[null,null,null,null,null,null,null,null,null,null,null,null,null,null,{"$f":"Traduction!$A$351","v":"Lundi "},"2018-12-24",356.08333333333297,-1.4,{"$f":"'[2]Détail N°7'!$L$28","v":9},1]
[null,null,null,null,null,null,null,null,null,null,null,null,null,null,{"$f":"Traduction!$A$351","v":"Lundi "},"2018-12-24",356.125,-1.5,{"$f":"'[2]Détail N°7'!$L$28","v":9},1]
[null,null,null,null,null,null,null,null,null,null,null,null,null,null,{"$f":"Traduction!$A$351","v":"Lundi "},"2018-12-24",356.16666666666703,-1.5,{"$f":"'[2]Détail N°7'!$L$28","v":9},1]
[null,null,null,null,null,null,null,null,null,null,null,null,null,null,{"$f":"Traduction!$A$351","v":"Lundi "},"2018-12-24",356.20833333333297,-1.6,{"$f":"'[2]Détail N°7'!$L$28","v":9},1]
[null,null,null,null,null,null,null,null,null,null,null,null,null,null,{"$f":"Traduction!$A$351","v":"Lundi "},"2018-12-24",356.25,-1.7,{"$f":"'[2]Détail N°7'!$L$28","v":9},1]
[null,null,null,null,null,null,null,null,null,null,null,null,null,null,{"$f":"Traduction!$A$351","v":"Lundi "},"2018-12-24",356.29166666666703,-1.7,{"$f":"'[2]Détail N°7'!$L$28","v":9},1]
[null,null,null,null,null,null,null,null,null,null,null,null,null,null,{"$f":"Traduction!$A$351","v":"Lundi "},"2018-12-24",356.33333333333297,-1.8,{"$f":"'[2]Détail N°7'!$L$28","v":9},1]
[null,null,null,null,null,null,null,null,null,null,null,null,null,null,{"$f":"Traduction!$A$351","v":"Lundi "},"2018-12-24",356.375,-1.7,{"$f":"'[2]Détail N°7'!$L$28","v":9},1]
[null,null,null,null,null,null,null,null,null,null,null,null,null,null,{"$f":"Traduction!$A$351","v":"Lundi "},"2018-12-24",356.41666666666703,-1.4,{"$f":"'[2]Détail N°7'!$L$28","v":9},{"$f":"IF(R8919<=S8919,1,0)","v":1}]
[null,null,null,null,null,null,null,null,null,null,null,null,null,null,{"$f":"Traduction!$A$351","v":"Lundi "},"2018-12-24",356.45833333333297,-1.1000000000000001,{"$f":"'[2]Détail N°7'!$L$28","v":9},1]
[null,null,null,null,null,null,null,null,null,null,null,null,null,null,{"$f":"Traduction!$A$351","v":"Lundi "},"2018-12-24",356.5,-0.8,{"$f":"'[2]Détail N°7'!$L$28","v":9},1]
[null,null,null,null,null,null,null,null,null,null,null,null,null,null,{"$f":"Traduction!$A$351","v":"Lundi "},"2018-12-24",356.54166666666703,-0.5,{"$f":"'[2]Détail N°7'!$L$28","v":9},1]
[null,null,null,null,null,null,null,null,null,null,null,null,null,null,{"$f":"Traduction!$A$351","v":"Lundi "},"2018-12-24",356.58333333333297,-0.4,{"$f":"'[2]Détail N°7'!$L$28","v":9},1]
[null,null,null,null,null,null,null,null,null,null,null,null,null,null,{"$f":"Traduction!$A$351","v":"Lundi "},"2018-12-24",356.625,-0.4,{"$f":"'[2]Détail N°7'!$L$28","v":9},1]
[null,null,null,null,null,null,null,null,null,null,null,null,null,null,{"$f":"Traduction!$A$351","v":"Lundi "},"2018-12-24",356.66666666666703,-0.5,{"$f":"'[2]Détail N°7'!$L$28","v":9},1]
[null,null,null,null,null,null,null,null,null,null,null,null,null,null,{"$f":"Traduction!$A$351","v":"Lundi "},"2018-12-24",356.70833333333297,-0.7,{"$f":"'[2]Détail N°7'!$L$28","v":9},1]
[null,null,null,null,null,null,null,null,null,null,null,null,null,null,{"$f":"Traduction!$A$351","v":"Lundi "},"2018-12-24",356.75,-0.8,{"$f":"'[2]Détail N°7'!$L$28","v":9},1]
[null,null,null,null,null,null,null,null,null,null,null,null,null,null,{"$f":"Traduction!$A$351","v":"Lundi "},"2018-12-24",356.79166666666703,-1,{"$f":"'[2]Détail N°7'!$L$28","v":9},1]
[null,null,null,null,null,null,null,null,null,null,null,null,null,null,{"$f":"Traduction!$A$351","v":"Lundi "},"2018-12-24",356.83333333333297,-1.1000000000000001,{"$f":"'[2]Détail N°7'!$L$28","v":9},1]
[null,null,null,null,null,null,null,null,null,null,null,null,null,null,{"$f":"Traduction!$A$351","v":"Lundi "},"2018-12-24",356.875,-1.2,{"$f":"'[2]Détail N°7'!$L$28","v":9},1]
[null,null,null,null,null,null,null,null,null,null,null,null,null,null,{"$f":"Traduction!$A$351","v":"Lundi "},"2018-12-24",356.91666666666703,-1.5,{"$f":"'[2]Détail N°7'!$L$28","v":9},1]
[null,null,null,null,null,null,null,null,null,null,null,null,null,null,{"$f":"Traduction!$A$351","v":"Lundi "},"2018-12-24",356.95833333333297,-2,{"$f":"'[2]Détail N°7'!$L$28","v":9},1]
[null,null,null,null,null,null,null,null,null,null,null,null,null,null,{"$f":"Traduction!$A$351","v":"Lundi "},"2018-12-24",357,-1.7,{"$f":"'[2]Détail N°7'!$L$28","v":9},1]
[null,null,null,null,null,null,null,null,null,null,null,null,null,null,{"$f":"Traduction!$A$352","v":"Mardi"},"2018-12-25",357.04166666666703,-1.7,{"$f":"'[2]Détail N°7'!$L$28","v":9},1]
[null,null,null,null,null,null,null,null,null,null,null,null,null,null,{"$f":"Traduction!$A$352","v":"Mardi"},"2018-12-25",357.08333333333297,-1.7,{"$f":"'[2]Détail N°7'!$L$28","v":9},1]
[null,null,null,null,null,null,null,null,null,null,null,null,null,null,{"$f":"Traduction!$A$352","v":"Mardi"},"2018-12-25",357.125,-1.8,{"$f":"'[2]Détail N°7'!$L$28","v":9},1]
[null,null,null,null,null,null,null,null,null,null,null,null,null,null,{"$f":"Traduction!$A$352","v":"Mardi"},"2018-12-25",357.16666666666703,-1.8,{"$f":"'[2]Détail N°7'!$L$28","v":9},1]
[null,null,null,null,null,null,null,null,null,null,null,null,null,null,{"$f":"Traduction!$A$352","v":"Mardi"},"2018-12-25",357.20833333333297,-1.8,{"$f":"'[2]Détail N°7'!$L$28","v":9},1]
[null,null,null,null,null,null,null,null,null,null,null,null,null,null,{"$f":"Traduction!$A$352","v":"Mardi"},"2018-12-25",357.25,-1.8,{"$f":"'[2]Détail N°7'!$L$28","v":9},1]
[null,null,null,null,null,null,null,null,null,null,null,null,null,null,{"$f":"Traduction!$A$352","v":"Mardi"},"2018-12-25",357.29166666666703,-1.8,{"$f":"'[2]Détail N°7'!$L$28","v":9},1]
[null,null,null,null,null,null,null,null,null,null,null,null,null,null,{"$f":"Traduction!$A$352","v":"Mardi"},"2018-12-25",357.33333333333297,-1.8,{"$f":"'[2]Détail N°7'!$L$28","v":9},1]
[null,null,null,null,null,null,null,null,null,null,null,null,null,null,{"$f":"Traduction!$A$352","v":"Mardi"},"2018-12-25",357.375,-1.7,{"$f":"'[2]Détail N°7'!$L$28","v":9},1]
[null,null,null,null,null,null,null,null,null,null,null,null,null,null,{"$f":"Traduction!$A$352","v":"Mardi"},"2018-12-25",357.41666666666703,-1.5,{"$f":"'[2]Détail N°7'!$L$28","v":9},1]
[null,null,null,null,null,null,null,null,null,null,null,null,null,null,{"$f":"Traduction!$A$352","v":"Mardi"},"2018-12-25",357.45833333333297,-0.8,{"$f":"'[2]Détail N°7'!$L$28","v":9},1]
[null,null,null,null,null,null,null,null,null,null,null,null,null,null,{"$f":"Traduction!$A$352","v":"Mardi"},"2018-12-25",357.5,-0.5,{"$f":"'[2]Détail N°7'!$L$28","v":9},1]
[null,null,null,null,null,null,null,null,null,null,null,null,null,null,{"$f":"Traduction!$A$352","v":"Mardi"},"2018-12-25",357.54166666666703,-0.3,{"$f":"'[2]Détail N°7'!$L$28","v":9},1]
[null,null,null,null,null,null,null,null,null,null,null,null,null,null,{"$f":"Traduction!$A$352","v":"Mardi"},"2018-12-25",357.58333333333297,1.2,{"$f":"'[2]Détail N°7'!$L$28","v":9},1]
[null,null,null,null,null,null,null,null,null,null,null,null,null,null,{"$f":"Traduction!$A$352","v":"Mardi"},"2018-12-25",357.625,2.1,{"$f":"'[2]Détail N°7'!$L$28","v":9},1]
[null,null,null,null,null,null,null,null,null,null,null,null,null,null,{"$f":"Traduction!$A$352","v":"Mardi"},"2018-12-25",357.66666666666703,2.2000000000000002,{"$f":"'[2]Détail N°7'!$L$28","v":9},1]
[null,null,null,null,null,null,null,null,null,null,null,null,null,null,{"$f":"Traduction!$A$352","v":"Mardi"},"2018-12-25",357.70833333333297,1.6,{"$f":"'[2]Détail N°7'!$L$28","v":9},1]
[null,null,null,null,null,null,null,null,null,null,null,null,null,null,{"$f":"Traduction!$A$352","v":"Mardi"},"2018-12-25",357.75,1.3,{"$f":"'[2]Détail N°7'!$L$28","v":9},1]
[null,null,null,null,null,null,null,null,null,null,null,null,null,null,{"$f":"Traduction!$A$352","v":"Mardi"},"2018-12-25",357.79166666666703,0.9,{"$f":"'[2]Détail N°7'!$L$28","v":9},1]
[null,null,null,null,null,null,null,null,null,null,null,null,null,null,{"$f":"Traduction!$A$352","v":"Mardi"},"2018-12-25",357.83333333333297,0.6,{"$f":"'[2]Détail N°7'!$L$28","v":9},1]
[null,null,null,null,null,null,null,null,null,null,null,null,null,null,{"$f":"Traduction!$A$352","v":"Mardi"},"2018-12-25",357.875,0.2,{"$f":"'[2]Détail N°7'!$L$28","v":9},1]
[null,null,null,null,null,null,null,null,null,null,null,null,null,null,{"$f":"Traduction!$A$352","v":"Mardi"},"2018-12-25",357.91666666666703,-0.1,{"$f":"'[2]Détail N°7'!$L$28","v":9},1]
[null,null,null,null,null,null,null,null,null,null,null,null,null,null,{"$f":"Traduction!$A$352","v":"Mardi"},"2018-12-25",357.95833333333297,-0.5,{"$f":"'[2]Détail N°7'!$L$28","v":9},1]
[null,null,null,null,null,null,null,null,null,null,null,null,null,null,{"$f":"Traduction!$A$352","v":"Mardi"},"2018-12-25",358,-0.8,{"$f":"'[2]Détail N°7'!$L$28","v":9},1]
[null,null,null,null,null,null,null,null,null,null,null,null,null,null,{"$f":"Traduction!$A$353","v":"Mercredi"},"2018-12-26",358.04166666666703,-1.3,{"$f":"'[2]Détail N°7'!$L$28","v":9},1]
[null,null,null,null,null,null,null,null,null,null,null,null,null,null,{"$f":"Traduction!$A$353","v":"Mercredi"},"2018-12-26",358.08333333333297,-1.9,{"$f":"'[2]Détail N°7'!$L$28","v":9},1]
[null,null,null,null,null,null,null,null,null,null,null,null,null,null,{"$f":"Traduction!$A$353","v":"Mercredi"},"2018-12-26",358.125,-2.4,{"$f":"'[2]Détail N°7'!$L$28","v":9},1]
[null,null,null,null,null,null,null,null,null,null,null,null,null,null,{"$f":"Traduction!$A$353","v":"Mercredi"},"2018-12-26",358.16666666666703,-2.7,{"$f":"'[2]Détail N°7'!$L$28","v":9},1]
[null,null,null,null,null,null,null,null,null,null,null,null,null,null,{"$f":"Traduction!$A$353","v":"Mercredi"},"2018-12-26",358.20833333333297,-3,{"$f":"'[2]Détail N°7'!$L$28","v":9},1]
[null,null,null,null,null,null,null,null,null,null,null,null,null,null,{"$f":"Traduction!$A$353","v":"Mercredi"},"2018-12-26",358.25,-3.3,{"$f":"'[2]Détail N°7'!$L$28","v":9},1]
[null,null,null,null,null,null,null,null,null,null,null,null,null,null,{"$f":"Traduction!$A$353","v":"Mercredi"},"2018-12-26",358.29166666666703,-3.5,{"$f":"'[2]Détail N°7'!$L$28","v":9},1]
[null,null,null,null,null,null,null,null,null,null,null,null,null,null,{"$f":"Traduction!$A$353","v":"Mercredi"},"2018-12-26",358.33333333333297,-3.7,{"$f":"'[2]Détail N°7'!$L$28","v":9},1]
[null,null,null,null,null,null,null,null,null,null,null,null,null,null,{"$f":"Traduction!$A$353","v":"Mercredi"},"2018-12-26",358.375,-3.7,{"$f":"'[2]Détail N°7'!$L$28","v":9},1]
[null,null,null,null,null,null,null,null,null,null,null,null,null,null,{"$f":"Traduction!$A$353","v":"Mercredi"},"2018-12-26",358.41666666666703,-3.6,{"$f":"'[2]Détail N°7'!$L$28","v":9},1]
[null,null,null,null,null,null,null,null,null,null,null,null,null,null,{"$f":"Traduction!$A$353","v":"Mercredi"},"2018-12-26",358.45833333333297,-3.5,{"$f":"'[2]Détail N°7'!$L$28","v":9},1]
[null,null,null,null,null,null,null,null,null,null,null,null,null,null,{"$f":"Traduction!$A$353","v":"Mercredi"},"2018-12-26",358.5,-3.4,{"$f":"'[2]Détail N°7'!$L$28","v":9},1]
[null,null,null,null,null,null,null,null,null,null,null,null,null,null,{"$f":"Traduction!$A$353","v":"Mercredi"},"2018-12-26",358.54166666666703,-3.2,{"$f":"'[2]Détail N°7'!$L$28","v":9},1]
[null,null,null,null,null,null,null,null,null,null,null,null,null,null,{"$f":"Traduction!$A$353","v":"Mercredi"},"2018-12-26",358.58333333333297,-2.2000000000000002,{"$f":"'[2]Détail N°7'!$L$28","v":9},1]
[null,null,null,null,null,null,null,null,null,null,null,null,null,null,{"$f":"Traduction!$A$353","v":"Mercredi"},"2018-12-26",358.625,-1.7,{"$f":"'[2]Détail N°7'!$L$28","v":9},1]
[null,null,null,null,null,null,null,null,null,null,null,null,null,null,{"$f":"Traduction!$A$353","v":"Mercredi"},"2018-12-26",358.66666666666703,-1.6,{"$f":"'[2]Détail N°7'!$L$28","v":9},1]
[null,null,null,null,null,null,null,null,null,null,null,null,null,null,{"$f":"Traduction!$A$353","v":"Mercredi"},"2018-12-26",358.70833333333297,-2.1,{"$f":"'[2]Détail N°7'!$L$28","v":9},1]
[null,null,null,null,null,null,null,null,null,null,null,null,null,null,{"$f":"Traduction!$A$353","v":"Mercredi"},"2018-12-26",358.75,-2.4,{"$f":"'[2]Détail N°7'!$L$28","v":9},1]
[null,null,null,null,null,null,null,null,null,null,null,null,null,null,{"$f":"Traduction!$A$353","v":"Mercredi"},"2018-12-26",358.79166666666703,-2.7,{"$f":"'[2]Détail N°7'!$L$28","v":9},1]
[null,null,null,null,null,null,null,null,null,null,null,null,null,null,{"$f":"Traduction!$A$353","v":"Mercredi"},"2018-12-26",358.83333333333297,-3,{"$f":"'[2]Détail N°7'!$L$28","v":9},1]
[null,null,null,null,null,null,null,null,null,null,null,null,null,null,{"$f":"Traduction!$A$353","v":"Mercredi"},"2018-12-26",358.875,-3.3,{"$f":"'[2]Détail N°7'!$L$28","v":9},1]
[null,null,null,null,null,null,null,null,null,null,null,null,null,null,{"$f":"Traduction!$A$353","v":"Mercredi"},"2018-12-26",358.91666666666703,-3.6,{"$f":"'[2]Détail N°7'!$L$28","v":9},1]
[null,null,null,null,null,null,null,null,null,null,null,null,null,null,{"$f":"Traduction!$A$353","v":"Mercredi"},"2018-12-26",358.95833333333297,-3.9,{"$f":"'[2]Détail N°7'!$L$28","v":9},1]
[null,null,null,null,null,null,null,null,null,null,null,null,null,null,{"$f":"Traduction!$A$353","v":"Mercredi"},"2018-12-26",359,-4.2,{"$f":"'[2]Détail N°7'!$L$28","v":9},1]
[null,null,null,null,null,null,null,null,null,null,null,null,null,null,{"$f":"Traduction!$A$354","v":"Jeudi"},"2018-12-27",359.04166666666703,-4.3,{"$f":"'[2]Détail N°7'!$L$28","v":9},1]
[null,null,null,null,null,null,null,null,null,null,null,null,null,null,{"$f":"Traduction!$A$354","v":"Jeudi"},"2018-12-27",359.08333333333297,-4.5,{"$f":"'[2]Détail N°7'!$L$28","v":9},{"$f":"IF(R8983<=S8983,1,0)","v":1}]
[null,null,null,null,null,null,null,null,null,null,null,null,null,null,{"$f":"Traduction!$A$354","v":"Jeudi"},"2018-12-27",359.125,-4.7,{"$f":"'[2]Détail N°7'!$L$28","v":9},1]
[null,null,null,null,null,null,null,null,null,null,null,null,null,null,{"$f":"Traduction!$A$354","v":"Jeudi"},"2018-12-27",359.16666666666703,-4.8,{"$f":"'[2]Détail N°7'!$L$28","v":9},1]
[null,null,null,null,null,null,null,null,null,null,null,null,null,null,{"$f":"Traduction!$A$354","v":"Jeudi"},"2018-12-27",359.20833333333297,-4.8,{"$f":"'[2]Détail N°7'!$L$28","v":9},1]
[null,null,null,null,null,null,null,null,null,null,null,null,null,null,{"$f":"Traduction!$A$354","v":"Jeudi"},"2018-12-27",359.25,-4.9000000000000004,{"$f":"'[2]Détail N°7'!$L$28","v":9},1]
[null,null,null,null,null,null,null,null,null,null,null,null,null,null,{"$f":"Traduction!$A$354","v":"Jeudi"},"2018-12-27",359.29166666666703,-5,{"$f":"'[2]Détail N°7'!$L$28","v":9},1]
[null,null,null,null,null,null,null,null,null,null,null,null,null,null,{"$f":"Traduction!$A$354","v":"Jeudi"},"2018-12-27",359.33333333333297,-5.0999999999999996,{"$f":"'[2]Détail N°7'!$L$28","v":9},1]
[null,null,null,null,null,null,null,null,null,null,null,null,null,null,{"$f":"Traduction!$A$354","v":"Jeudi"},"2018-12-27",359.375,-4.9000000000000004,{"$f":"'[2]Détail N°7'!$L$28","v":9},1]
[null,null,null,null,null,null,null,null,null,null,null,null,null,null,{"$f":"Traduction!$A$354","v":"Jeudi"},"2018-12-27",359.41666666666703,-4.3,{"$f":"'[2]Détail N°7'!$L$28","v":9},1]
[null,null,null,null,null,null,null,null,null,null,null,null,null,null,{"$f":"Traduction!$A$354","v":"Jeudi"},"2018-12-27",359.45833333333297,-3.8,{"$f":"'[2]Détail N°7'!$L$28","v":9},1]
[null,null,null,null,null,null,null,null,null,null,null,null,null,null,{"$f":"Traduction!$A$354","v":"Jeudi"},"2018-12-27",359.5,-3.3,{"$f":"'[2]Détail N°7'!$L$28","v":9},1]
[null,null,null,null,null,null,null,null,null,null,null,null,null,null,{"$f":"Traduction!$A$354","v":"Jeudi"},"2018-12-27",359.54166666666703,-2.9,{"$f":"'[2]Détail N°7'!$L$28","v":9},1]
[null,null,null,null,null,null,null,null,null,null,null,null,null,null,{"$f":"Traduction!$A$354","v":"Jeudi"},"2018-12-27",359.58333333333297,-2.6,{"$f":"'[2]Détail N°7'!$L$28","v":9},1]
[null,null,null,null,null,null,null,null,null,null,null,null,null,null,{"$f":"Traduction!$A$354","v":"Jeudi"},"2018-12-27",359.625,-2.7,{"$f":"'[2]Détail N°7'!$L$28","v":9},1]
[null,null,null,null,null,null,null,null,null,null,null,null,null,null,{"$f":"Traduction!$A$354","v":"Jeudi"},"2018-12-27",359.66666666666703,-2.8,{"$f":"'[2]Détail N°7'!$L$28","v":9},1]
[null,null,null,null,null,null,null,null,null,null,null,null,null,null,{"$f":"Traduction!$A$354","v":"Jeudi"},"2018-12-27",359.70833333333297,-3.2,{"$f":"'[2]Détail N°7'!$L$28","v":9},1]
[null,null,null,null,null,null,null,null,null,null,null,null,null,null,{"$f":"Traduction!$A$354","v":"Jeudi"},"2018-12-27",359.75,-3.3,{"$f":"'[2]Détail N°7'!$L$28","v":9},1]
[null,null,null,null,null,null,null,null,null,null,null,null,null,null,{"$f":"Traduction!$A$354","v":"Jeudi"},"2018-12-27",359.79166666666703,-3.4,{"$f":"'[2]Détail N°7'!$L$28","v":9},1]
[null,null,null,null,null,null,null,null,null,null,null,null,null,null,{"$f":"Traduction!$A$354","v":"Jeudi"},"2018-12-27",359.83333333333297,-3.4,{"$f":"'[2]Détail N°7'!$L$28","v":9},1]
[null,null,null,null,null,null,null,null,null,null,null,null,null,null,{"$f":"Traduction!$A$354","v":"Jeudi"},"2018-12-27",359.875,-3.6,{"$f":"'[2]Détail N°7'!$L$28","v":9},1]
[null,null,null,null,null,null,null,null,null,null,null,null,null,null,{"$f":"Traduction!$A$354","v":"Jeudi"},"2018-12-27",359.91666666666703,-3.5,{"$f":"'[2]Détail N°7'!$L$28","v":9},1]
[null,null,null,null,null,null,null,null,null,null,null,null,null,null,{"$f":"Traduction!$A$354","v":"Jeudi"},"2018-12-27",359.95833333333297,-3.6,{"$f":"'[2]Détail N°7'!$L$28","v":9},1]
[null,null,null,null,null,null,null,null,null,null,null,null,null,null,{"$f":"Traduction!$A$354","v":"Jeudi"},"2018-12-27",360,-3.6,{"$f":"'[2]Détail N°7'!$L$28","v":9},1]
[null,null,null,null,null,null,null,null,null,null,null,null,null,null,{"$f":"Traduction!$A$355","v":"Vendredi"},"2018-12-28",360.04166666666703,-3.6,{"$f":"'[2]Détail N°7'!$L$28","v":9},1]
[null,null,null,null,null,null,null,null,null,null,null,null,null,null,{"$f":"Traduction!$A$355","v":"Vendredi"},"2018-12-28",360.08333333333297,-3.6,{"$f":"'[2]Détail N°7'!$L$28","v":9},1]
[null,null,null,null,null,null,null,null,null,null,null,null,null,null,{"$f":"Traduction!$A$355","v":"Vendredi"},"2018-12-28",360.125,-3.6,{"$f":"'[2]Détail N°7'!$L$28","v":9},1]
[null,null,null,null,null,null,null,null,null,null,null,null,null,null,{"$f":"Traduction!$A$355","v":"Vendredi"},"2018-12-28",360.16666666666703,-3.6,{"$f":"'[2]Détail N°7'!$L$28","v":9},1]
[null,null,null,null,null,null,null,null,null,null,null,null,null,null,{"$f":"Traduction!$A$355","v":"Vendredi"},"2018-12-28",360.20833333333297,-3.6,{"$f":"'[2]Détail N°7'!$L$28","v":9},1]
[null,null,null,null,null,null,null,null,null,null,null,null,null,null,{"$f":"Traduction!$A$355","v":"Vendredi"},"2018-12-28",360.25,-3.5,{"$f":"'[2]Détail N°7'!$L$28","v":9},1]
[null,null,null,null,null,null,null,null,null,null,null,null,null,null,{"$f":"Traduction!$A$355","v":"Vendredi"},"2018-12-28",360.29166666666703,-3.5,{"$f":"'[2]Détail N°7'!$L$28","v":9},1]
[null,null,null,null,null,null,null,null,null,null,null,null,null,null,{"$f":"Traduction!$A$355","v":"Vendredi"},"2018-12-28",360.33333333333297,-3.5,{"$f":"'[2]Détail N°7'!$L$28","v":9},1]
[null,null,null,null,null,null,null,null,null,null,null,null,null,null,{"$f":"Traduction!$A$355","v":"Vendredi"},"2018-12-28",360.375,-3.4,{"$f":"'[2]Détail N°7'!$L$28","v":9},1]
[null,null,null,null,null,null,null,null,null,null,null,null,null,null,{"$f":"Traduction!$A$355","v":"Vendredi"},"2018-12-28",360.41666666666703,-2.2999999999999998,{"$f":"'[2]Détail N°7'!$L$28","v":9},1]
[null,null,null,null,null,null,null,null,null,null,null,null,null,null,{"$f":"Traduction!$A$355","v":"Vendredi"},"2018-12-28",360.45833333333297,-1.1000000000000001,{"$f":"'[2]Détail N°7'!$L$28","v":9},1]
[null,null,null,null,null,null,null,null,null,null,null,null,null,null,{"$f":"Traduction!$A$355","v":"Vendredi"},"2018-12-28",360.5,-0.2,{"$f":"'[2]Détail N°7'!$L$28","v":9},1]
[null,null,null,null,null,null,null,null,null,null,null,null,null,null,{"$f":"Traduction!$A$355","v":"Vendredi"},"2018-12-28",360.54166666666703,0.5,{"$f":"'[2]Détail N°7'!$L$28","v":9},1]
[null,null,null,null,null,null,null,null,null,null,null,null,null,null,{"$f":"Traduction!$A$355","v":"Vendredi"},"2018-12-28",360.58333333333297,0.8,{"$f":"'[2]Détail N°7'!$L$28","v":9},1]
[null,null,null,null,null,null,null,null,null,null,null,null,null,null,{"$f":"Traduction!$A$355","v":"Vendredi"},"2018-12-28",360.625,0.8,{"$f":"'[2]Détail N°7'!$L$28","v":9},1]
[null,null,null,null,null,null,null,null,null,null,null,null,null,null,{"$f":"Traduction!$A$355","v":"Vendredi"},"2018-12-28",360.66666666666703,0.4,{"$f":"'[2]Détail N°7'!$L$28","v":9},1]
[null,null,null,null,null,null,null,null,null,null,null,null,null,null,{"$f":"Traduction!$A$355","v":"Vendredi"},"2018-12-28",360.70833333333297,-0.3,{"$f":"'[2]Détail N°7'!$L$28","v":9},1]
[null,null,null,null,null,null,null,null,null,null,null,null,null,null,{"$f":"Traduction!$A$355","v":"Vendredi"},"2018-12-28",360.75,-0.4,{"$f":"'[2]Détail N°7'!$L$28","v":9},1]
[null,null,null,null,null,null,null,null,null,null,null,null,null,null,{"$f":"Traduction!$A$355","v":"Vendredi"},"2018-12-28",360.79166666666703,-0.5,{"$f":"'[2]Détail N°7'!$L$28","v":9},1]
[null,null,null,null,null,null,null,null,null,null,null,null,null,null,{"$f":"Traduction!$A$355","v":"Vendredi"},"2018-12-28",360.83333333333297,-0.6,{"$f":"'[2]Détail N°7'!$L$28","v":9},1]
[null,null,null,null,null,null,null,null,null,null,null,null,null,null,{"$f":"Traduction!$A$355","v":"Vendredi"},"2018-12-28",360.875,-0.6,{"$f":"'[2]Détail N°7'!$L$28","v":9},1]
[null,null,null,null,null,null,null,null,null,null,null,null,null,null,{"$f":"Traduction!$A$355","v":"Vendredi"},"2018-12-28",360.91666666666703,-0.7,{"$f":"'[2]Détail N°7'!$L$28","v":9},1]
[null,null,null,null,null,null,null,null,null,null,null,null,null,null,{"$f":"Traduction!$A$355","v":"Vendredi"},"2018-12-28",360.95833333333297,-0.8,{"$f":"'[2]Détail N°7'!$L$28","v":9},1]
[null,null,null,null,null,null,null,null,null,null,null,null,null,null,{"$f":"Traduction!$A$355","v":"Vendredi"},"2018-12-28",361,-0.9,{"$f":"'[2]Détail N°7'!$L$28","v":9},1]
[null,null,null,null,null,null,null,null,null,null,null,null,null,null,{"$f":"Traduction!$A$356","v":"Samedi"},"2018-12-29",361.04166666666703,-1.1000000000000001,{"$f":"'[2]Détail N°7'!$L$28","v":9},1]
[null,null,null,null,null,null,null,null,null,null,null,null,null,null,{"$f":"Traduction!$A$356","v":"Samedi"},"2018-12-29",361.08333333333297,-1.2,{"$f":"'[2]Détail N°7'!$L$28","v":9},1]
[null,null,null,null,null,null,null,null,null,null,null,null,null,null,{"$f":"Traduction!$A$356","v":"Samedi"},"2018-12-29",361.125,-1.4,{"$f":"'[2]Détail N°7'!$L$28","v":9},1]
[null,null,null,null,null,null,null,null,null,null,null,null,null,null,{"$f":"Traduction!$A$356","v":"Samedi"},"2018-12-29",361.16666666666703,-1.5,{"$f":"'[2]Détail N°7'!$L$28","v":9},1]
[null,null,null,null,null,null,null,null,null,null,null,null,null,null,{"$f":"Traduction!$A$356","v":"Samedi"},"2018-12-29",361.20833333333297,-1.5,{"$f":"'[2]Détail N°7'!$L$28","v":9},1]
[null,null,null,null,null,null,null,null,null,null,null,null,null,null,{"$f":"Traduction!$A$356","v":"Samedi"},"2018-12-29",361.25,-1.6,{"$f":"'[2]Détail N°7'!$L$28","v":9},1]
[null,null,null,null,null,null,null,null,null,null,null,null,null,null,{"$f":"Traduction!$A$356","v":"Samedi"},"2018-12-29",361.29166666666703,-1.8,{"$f":"'[2]Détail N°7'!$L$28","v":9},1]
[null,null,null,null,null,null,null,null,null,null,null,null,null,null,{"$f":"Traduction!$A$356","v":"Samedi"},"2018-12-29",361.33333333333297,-1.7,{"$f":"'[2]Détail N°7'!$L$28","v":9},1]
[null,null,null,null,null,null,null,null,null,null,null,null,null,null,{"$f":"Traduction!$A$356","v":"Samedi"},"2018-12-29",361.375,-1.7,{"$f":"'[2]Détail N°7'!$L$28","v":9},1]
[null,null,null,null,null,null,null,null,null,null,null,null,null,null,{"$f":"Traduction!$A$356","v":"Samedi"},"2018-12-29",361.41666666666703,-1,{"$f":"'[2]Détail N°7'!$L$28","v":9},1]
[null,null,null,null,null,null,null,null,null,null,null,null,null,null,{"$f":"Traduction!$A$356","v":"Samedi"},"2018-12-29",361.45833333333297,-0.1,{"$f":"'[2]Détail N°7'!$L$28","v":9},1]
[null,null,null,null,null,null,null,null,null,null,null,null,null,null,{"$f":"Traduction!$A$356","v":"Samedi"},"2018-12-29",361.5,0.4,{"$f":"'[2]Détail N°7'!$L$28","v":9},1]
[null,null,null,null,null,null,null,null,null,null,null,null,null,null,{"$f":"Traduction!$A$356","v":"Samedi"},"2018-12-29",361.54166666666703,0.7,{"$f":"'[2]Détail N°7'!$L$28","v":9},1]
[null,null,null,null,null,null,null,null,null,null,null,null,null,null,{"$f":"Traduction!$A$356","v":"Samedi"},"2018-12-29",361.58333333333297,0.7,{"$f":"'[2]Détail N°7'!$L$28","v":9},1]
[null,null,null,null,null,null,null,null,null,null,null,null,null,null,{"$f":"Traduction!$A$356","v":"Samedi"},"2018-12-29",361.625,0.6,{"$f":"'[2]Détail N°7'!$L$28","v":9},1]
[null,null,null,null,null,null,null,null,null,null,null,null,null,null,{"$f":"Traduction!$A$356","v":"Samedi"},"2018-12-29",361.66666666666703,0.3,{"$f":"'[2]Détail N°7'!$L$28","v":9},1]
[null,null,null,null,null,null,null,null,null,null,null,null,null,null,{"$f":"Traduction!$A$356","v":"Samedi"},"2018-12-29",361.70833333333297,-0.1,{"$f":"'[2]Détail N°7'!$L$28","v":9},1]
[null,null,null,null,null,null,null,null,null,null,null,null,null,null,{"$f":"Traduction!$A$356","v":"Samedi"},"2018-12-29",361.75,-0.3,{"$f":"'[2]Détail N°7'!$L$28","v":9},{"$f":"IF(R9047<=S9047,1,0)","v":1}]
[null,null,null,null,null,null,null,null,null,null,null,null,null,null,{"$f":"Traduction!$A$356","v":"Samedi"},"2018-12-29",361.79166666666703,-0.5,{"$f":"'[2]Détail N°7'!$L$28","v":9},1]
[null,null,null,null,null,null,null,null,null,null,null,null,null,null,{"$f":"Traduction!$A$356","v":"Samedi"},"2018-12-29",361.83333333333297,-0.7,{"$f":"'[2]Détail N°7'!$L$28","v":9},1]
[null,null,null,null,null,null,null,null,null,null,null,null,null,null,{"$f":"Traduction!$A$356","v":"Samedi"},"2018-12-29",361.875,-0.9,{"$f":"'[2]Détail N°7'!$L$28","v":9},1]
[null,null,null,null,null,null,null,null,null,null,null,null,null,null,{"$f":"Traduction!$A$356","v":"Samedi"},"2018-12-29",361.91666666666703,-1.1000000000000001,{"$f":"'[2]Détail N°7'!$L$28","v":9},1]
[null,null,null,null,null,null,null,null,null,null,null,null,null,null,{"$f":"Traduction!$A$356","v":"Samedi"},"2018-12-29",361.95833333333297,-1.3,{"$f":"'[2]Détail N°7'!$L$28","v":9},1]
[null,null,null,null,null,null,null,null,null,null,null,null,null,null,{"$f":"Traduction!$A$356","v":"Samedi"},"2018-12-29",362,-1.5,{"$f":"'[2]Détail N°7'!$L$28","v":9},1]
[null,null,null,null,null,null,null,null,null,null,null,null,null,null,{"$f":"Traduction!$A$357","v":"Dimanche"},"2018-12-30",362.04166666666703,-1.7,{"$f":"'[2]Détail N°7'!$L$28","v":9},1]
[null,null,null,null,null,null,null,null,null,null,null,null,null,null,{"$f":"Traduction!$A$357","v":"Dimanche"},"2018-12-30",362.08333333333297,-1.9,{"$f":"'[2]Détail N°7'!$L$28","v":9},1]
[null,null,null,null,null,null,null,null,null,null,null,null,null,null,{"$f":"Traduction!$A$357","v":"Dimanche"},"2018-12-30",362.125,-2.1,{"$f":"'[2]Détail N°7'!$L$28","v":9},1]
[null,null,null,null,null,null,null,null,null,null,null,null,null,null,{"$f":"Traduction!$A$357","v":"Dimanche"},"2018-12-30",362.16666666666703,-2.2000000000000002,{"$f":"'[2]Détail N°7'!$L$28","v":9},1]
[null,null,null,null,null,null,null,null,null,null,null,null,null,null,{"$f":"Traduction!$A$357","v":"Dimanche"},"2018-12-30",362.20833333333297,-2.2000000000000002,{"$f":"'[2]Détail N°7'!$L$28","v":9},1]
[null,null,null,null,null,null,null,null,null,null,null,null,null,null,{"$f":"Traduction!$A$357","v":"Dimanche"},"2018-12-30",362.25,-2.2999999999999998,{"$f":"'[2]Détail N°7'!$L$28","v":9},1]
[null,null,null,null,null,null,null,null,null,null,null,null,null,null,{"$f":"Traduction!$A$357","v":"Dimanche"},"2018-12-30",362.29166666666703,-2.2999999999999998,{"$f":"'[2]Détail N°7'!$L$28","v":9},1]
[null,null,null,null,null,null,null,null,null,null,null,null,null,null,{"$f":"Traduction!$A$357","v":"Dimanche"},"2018-12-30",362.33333333333297,-2.4,{"$f":"'[2]Détail N°7'!$L$28","v":9},1]
[null,null,null,null,null,null,null,null,null,null,null,null,null,null,{"$f":"Traduction!$A$357","v":"Dimanche"},"2018-12-30",362.375,-2.2000000000000002,{"$f":"'[2]Détail N°7'!$L$28","v":9},1]
[null,null,null,null,null,null,null,null,null,null,null,null,null,null,{"$f":"Traduction!$A$357","v":"Dimanche"},"2018-12-30",362.41666666666703,-0.2,{"$f":"'[2]Détail N°7'!$L$28","v":9},1]
[null,null,null,null,null,null,null,null,null,null,null,null,null,null,{"$f":"Traduction!$A$357","v":"Dimanche"},"2018-12-30",362.45833333333297,1.8,{"$f":"'[2]Détail N°7'!$L$28","v":9},1]
[null,null,null,null,null,null,null,null,null,null,null,null,null,null,{"$f":"Traduction!$A$357","v":"Dimanche"},"2018-12-30",362.5,3.5,{"$f":"'[2]Détail N°7'!$L$28","v":9},1]
[null,null,null,null,null,null,null,null,null,null,null,null,null,null,{"$f":"Traduction!$A$357","v":"Dimanche"},"2018-12-30",362.54166666666703,4.7,{"$f":"'[2]Détail N°7'!$L$28","v":9},1]
[null,null,null,null,null,null,null,null,null,null,null,null,null,null,{"$f":"Traduction!$A$357","v":"Dimanche"},"2018-12-30",362.58333333333297,5.3,{"$f":"'[2]Détail N°7'!$L$28","v":9},1]
[null,null,null,null,null,null,null,null,null,null,null,null,null,null,{"$f":"Traduction!$A$357","v":"Dimanche"},"2018-12-30",362.625,5.5,{"$f":"'[2]Détail N°7'!$L$28","v":9},1]
[null,null,null,null,null,null,null,null,null,null,null,null,null,null,{"$f":"Traduction!$A$357","v":"Dimanche"},"2018-12-30",362.66666666666703,5,{"$f":"'[2]Détail N°7'!$L$28","v":9},1]
[null,null,null,null,null,null,null,null,null,null,null,null,null,null,{"$f":"Traduction!$A$357","v":"Dimanche"},"2018-12-30",362.70833333333297,3.7,{"$f":"'[2]Détail N°7'!$L$28","v":9},1]
[null,null,null,null,null,null,null,null,null,null,null,null,null,null,{"$f":"Traduction!$A$357","v":"Dimanche"},"2018-12-30",362.75,3.2,{"$f":"'[2]Détail N°7'!$L$28","v":9},1]
[null,null,null,null,null,null,null,null,null,null,null,null,null,null,{"$f":"Traduction!$A$357","v":"Dimanche"},"2018-12-30",362.79166666666703,2.8,{"$f":"'[2]Détail N°7'!$L$28","v":9},1]
[null,null,null,null,null,null,null,null,null,null,null,null,null,null,{"$f":"Traduction!$A$357","v":"Dimanche"},"2018-12-30",362.83333333333297,2.4,{"$f":"'[2]Détail N°7'!$L$28","v":9},1]
[null,null,null,null,null,null,null,null,null,null,null,null,null,null,{"$f":"Traduction!$A$357","v":"Dimanche"},"2018-12-30",362.875,1.9,{"$f":"'[2]Détail N°7'!$L$28","v":9},1]
[null,null,null,null,null,null,null,null,null,null,null,null,null,null,{"$f":"Traduction!$A$357","v":"Dimanche"},"2018-12-30",362.91666666666703,1.5,{"$f":"'[2]Détail N°7'!$L$28","v":9},1]
[null,null,null,null,null,null,null,null,null,null,null,null,null,null,{"$f":"Traduction!$A$357","v":"Dimanche"},"2018-12-30",362.95833333333297,1,{"$f":"'[2]Détail N°7'!$L$28","v":9},1]
[null,null,null,null,null,null,null,null,null,null,null,null,null,null,{"$f":"Traduction!$A$357","v":"Dimanche"},"2018-12-30",363,0.6,{"$f":"'[2]Détail N°7'!$L$28","v":9},1]
[null,null,null,null,null,null,null,null,null,null,null,null,null,null,{"$f":"Traduction!$A$351","v":"Lundi "},"2018-12-31",363.04166666666703,0,{"$f":"'[2]Détail N°7'!$L$28","v":9},1]
[null,null,null,null,null,null,null,null,null,null,null,null,null,null,{"$f":"Traduction!$A$351","v":"Lundi "},"2018-12-31",363.08333333333297,-0.6,{"$f":"'[2]Détail N°7'!$L$28","v":9},1]
[null,null,null,null,null,null,null,null,null,null,null,null,null,null,{"$f":"Traduction!$A$351","v":"Lundi "},"2018-12-31",363.125,-1.3,{"$f":"'[2]Détail N°7'!$L$28","v":9},1]
[null,null,null,null,null,null,null,null,null,null,null,null,null,null,{"$f":"Traduction!$A$351","v":"Lundi "},"2018-12-31",363.16666666666703,-1.7,{"$f":"'[2]Détail N°7'!$L$28","v":9},1]
[null,null,null,null,null,null,null,null,null,null,null,null,null,null,{"$f":"Traduction!$A$351","v":"Lundi "},"2018-12-31",363.20833333333297,-2,{"$f":"'[2]Détail N°7'!$L$28","v":9},1]
[null,null,null,null,null,null,null,null,null,null,null,null,null,null,{"$f":"Traduction!$A$351","v":"Lundi "},"2018-12-31",363.25,-2.4,{"$f":"'[2]Détail N°7'!$L$28","v":9},1]
[null,null,null,null,null,null,null,null,null,null,null,null,null,null,{"$f":"Traduction!$A$351","v":"Lundi "},"2018-12-31",363.29166666666703,-2.7,{"$f":"'[2]Détail N°7'!$L$28","v":9},1]
[null,null,null,null,null,null,null,null,null,null,null,null,null,null,{"$f":"Traduction!$A$351","v":"Lundi "},"2018-12-31",363.33333333333297,-3,{"$f":"'[2]Détail N°7'!$L$28","v":9},1]
[null,null,null,null,null,null,null,null,null,null,null,null,null,null,{"$f":"Traduction!$A$351","v":"Lundi "},"2018-12-31",363.375,-3,{"$f":"'[2]Détail N°7'!$L$28","v":9},1]
[null,null,null,null,null,null,null,null,null,null,null,null,null,null,{"$f":"Traduction!$A$351","v":"Lundi "},"2018-12-31",363.41666666666703,-2.5,{"$f":"'[2]Détail N°7'!$L$28","v":9},1]
[null,null,null,null,null,null,null,null,null,null,null,null,null,null,{"$f":"Traduction!$A$351","v":"Lundi "},"2018-12-31",363.45833333333297,-2,{"$f":"'[2]Détail N°7'!$L$28","v":9},1]
[null,null,null,null,null,null,null,null,null,null,null,null,null,null,{"$f":"Traduction!$A$351","v":"Lundi "},"2018-12-31",363.5,-1.7,{"$f":"'[2]Détail N°7'!$L$28","v":9},1]
[null,null,null,null,null,null,null,null,null,null,null,null,null,null,{"$f":"Traduction!$A$351","v":"Lundi "},"2018-12-31",363.54166666666703,-1.4,{"$f":"'[2]Détail N°7'!$L$28","v":9},1]
[null,null,null,null,null,null,null,null,null,null,null,null,null,null,{"$f":"Traduction!$A$351","v":"Lundi "},"2018-12-31",363.58333333333297,-1.3,{"$f":"'[2]Détail N°7'!$L$28","v":9},1]
[null,null,null,null,null,null,null,null,null,null,null,null,null,null,{"$f":"Traduction!$A$351","v":"Lundi "},"2018-12-31",363.625,-1.4,{"$f":"'[2]Détail N°7'!$L$28","v":9},1]
[null,null,null,null,null,null,null,null,null,null,null,null,null,null,{"$f":"Traduction!$A$351","v":"Lundi "},"2018-12-31",363.66666666666703,-1.7,{"$f":"'[2]Détail N°7'!$L$28","v":9},1]
[null,null,null,null,null,null,null,null,null,null,null,null,null,null,{"$f":"Traduction!$A$351","v":"Lundi "},"2018-12-31",363.70833333333297,-2.2000000000000002,{"$f":"'[2]Détail N°7'!$L$28","v":9},1]
[null,null,null,null,null,null,null,null,null,null,null,null,null,null,{"$f":"Traduction!$A$351","v":"Lundi "},"2018-12-31",363.75,-2.2000000000000002,{"$f":"'[2]Détail N°7'!$L$28","v":9},1]
[null,null,null,null,null,null,null,null,null,null,null,null,null,null,{"$f":"Traduction!$A$351","v":"Lundi "},"2018-12-31",363.79166666666703,-2.2000000000000002,{"$f":"'[2]Détail N°7'!$L$28","v":9},1]
[null,null,null,null,null,null,null,null,null,null,null,null,null,null,{"$f":"Traduction!$A$351","v":"Lundi "},"2018-12-31",363.83333333333297,-2.2000000000000002,{"$f":"'[2]Détail N°7'!$L$28","v":9},1]
[null,null,null,null,null,null,null,null,null,null,null,null,null,null,{"$f":"Traduction!$A$351","v":"Lundi "},"2018-12-31",363.875,-2.2000000000000002,{"$f":"'[2]Détail N°7'!$L$28","v":9},1]
[null,null,null,null,null,null,null,null,null,null,null,null,null,null,{"$f":"Traduction!$A$351","v":"Lundi "},"2018-12-31",363.91666666666703,-2.2000000000000002,{"$f":"'[2]Détail N°7'!$L$28","v":9},1]
[null,null,null,null,null,null,null,null,null,null,null,null,null,null,{"$f":"Traduction!$A$351","v":"Lundi "},"2018-12-31",363.95833333333297,-2.2000000000000002,{"$f":"'[2]Détail N°7'!$L$28","v":9},1]
[null,null,null,null,null,null,null,null,null,null,null,null,null,null,{"$f":"Traduction!$A$351","v":"Lundi "},"2018-12-31",364,-2.2000000000000002,{"$f":"'[2]Détail N°7'!$L$28","v":9},1]

{"sheet":"Analyse Froid","index":10,"n_rows":90,"n_cols":31,"rows_kept":90,"cut":false,"hidden":false,"merged":[[34,1,34,20],[38,1,38,20],[44,1,44,20],[47,1,47,20],[41,1,41,20],[1,19,1,20],[1,1,1,2],[1,3,1,4],[1,5,1,6],[1,7,1,8],[1,11,1,12],[1,13,1,14],[1,15,1,16],[1,17,1,18],[1,9,1,10],[27,1,27,20],[3,1,3,2],[3,3,3,4],[3,5,3,6],[3,7,3,8],[3,9,3,10],[3,11,3,12],[3,19,3,20],[2,15,2,16],[59,1,59,20],[62,1,62,20],[53,1,53,20],[48,1,48,9],[35,1,35,9],[56,1,56,20],[6,3,6,20],[7,2,7,3],[12,1,12,20],[30,1,30,20],[3,17,3,18],[3,15,3,16],[15,1,15,20],[20,1,20,20],[24,1,24,20],[89,1,89,20],[75,1,75,20],[78,1,78,20],[81,1,81,20],[67,1,67,20],[70,1,70,20],[85,1,85,20],[86,1,86,9],[82,1,82,9]]}
[null,1,null,2,null,3,null,4]
[null,{"$f":"HYPERLINK(NomFichier&Listes!C49&\"'!A1\",Trad!A3)","v":"Menu"},null,{"$f":"HYPERLINK(NomFichier&Listes!C50&\"'!A1\",Trad!A4)","v":"Introduction"},null,{"$f":"HYPERLINK(NomFichier&Listes!C56&\"'!A1\",Trad!A10)","v":"Aide"},null,null,null,{"$f":"HYPERLINK(NomFichier&Listes!C51&\"'!A1\",Trad!A5)","v":"Pompe(s)"},null,{"$f":"HYPERLINK(NomFichier&Listes!C52&\"'!A1\",Trad!A6)","v":"Ventilateur(s)"},null,{"$f":"HYPERLINK(NomFichier&Listes!C53&\"'!A1\",Trad!A7)","v":"Air comprimé"},null,{"$f":"HYPERLINK(NomFichier&Listes!C54&\"'!A1\",Trad!A8)","v":"Groupe froid"},null,null,null,{"$f":"HYPERLINK(Listes!A36&\"/14010 Canevas Résultats analyses V3a.xlsm\",Trad!A9)","v":"Résultats"}]
[]
[null,{"$f":"HYPERLINK(NomFichier&Listes!C54&\"'!B10\",Traduction!A271)","v":"1. Besoins en froid"},null,{"$f":"HYPERLINK(NomFichier&Listes!C54&\"'!B18\",Traduction!A276)","v":"2. Perform. de la production"},null,{"$f":"HYPERLINK(NomFichier&Listes!C54&\"'!B33\",Traduction!A700)","v":"3. Optimisati. production"},null,{"$f":"HYPERLINK(NomFichier&Listes!C54&\"'!B51\",Traduction!A697)","v":"4. Optimisat. distribution"},null,{"$f":"HYPERLINK(NomFichier&Listes!C54&\"'!B65\",Traduction!A701)","v":"5. Optimisat. auxiliaires"},null,{"$f":"HYPERLINK(NomFichier&Listes!C54&\"'!B73\",Traduction!A314)","v":"6. Autres optimisations"},null,null,null,null,null,{"$f":"Traduction!$A$268","v":"Support"},null,{"$f":"HYPERLINK(NomFichier&Listes!C55&\"'!A1\",Traduction!A327)","v":"Calcul des économies"}]
[]
[null,{"$f":"Traduction!$A$269","v":"Analyse fine Froid"},null,null,null,null,null,null,null,null,null,null,null,null,null,null,null,null,null,null,null,null,null,null,null,null,null,null,null,null,{"$f":"Traduction!$A$701","v":"5. Optimisat. auxiliaires"}]
[null,{"$f":"Traduction!$A$497","v":"But:"},null,{"$f":"Traduction!$A$270","v":"Ce module FA dévolu aux installations friogrifiques propose une démarche permettant une analyse approfondie du système existant (incluant des mesurages) et des propositions d'optimisation appropriées."}]
[]
[]
[null,{"$f":"Traduction!$A$271","v":"1. Besoins en froid"}]
[]
[null,{"$f":"Traduction!$A$272","v":"1.1 Objectif "}]
[null,{"$f":"Traduction!$A$273","v":"Déterminer le profil réel des besoins en froid en période d'exploitation et non exploitation (nuit, week-end, arrêt de production)"}]
[]
[null,{"$f":"Traduction!$A$274","v":"1.2 Détermination des besoins"}]
[null,{"$f":"Traduction!$A$275","v":"Mesurages (relevés horaires) sur une semaine \"type\" durant la période estivale de  :\n- débit du réseau de distribution (débitmètre du site ou débitmètre externe à ultrason)\n- température aller et retour (capteurs de températures)\n\nSuite aux mesurages, les puissances frigorifiques réelles peuvent être calculées via la formule suivante :\n"}]
[]
[null,{"$f":"Traduction!$A$277","v":"2. Performances de la production de froid"}]
[]
[null,{"$f":"Traduction!$A$278","v":"2.1 Objectif "}]
[null,{"$f":"Traduction!$A$279","v":"Déterminer la performance réelle du groupe froid et la comparer à la performance théorique :\n- du groupe froid existant\n- d'un nouveau groupe froid\nOn utilisera le SEPR (Seasonal Energy Performance Ratio), qui est le coefficient d'efficacité d'un refroidisseur industriel produissant du froid dans des  conditions nominales standard,  il est  représentatif  des  variations  de  la  charge et de la température ambiante tout au long de l’année.\nLa finalité est de déterminer s'il est plus intéressant d'optimiser les paramètres de fonctionnement du groupe froid actuel ou de changer de groupe."}]
[]
[null,{"$f":"Traduction!$A$280","v":"2.2 Détermination des performances globales du groupe "}]
[null,{"$f":"Traduction!$A$281","v":"2.2.1 Comparaison du SEPR réel du groupe froid avec le SEER théorique du même groupe"}]
[null,{"$f":"Traduction!$A$282","v":"L'EER (Energy Efficiency Ratio) est une valeur représentative de la performance d'un groupe froid pour une température extérieure donnée. Par exemple, un EER égal à 3 signifie que pour 1kW électrique fourni à la machine, elle pourra produire 3 kW de froid.\nLe SEPR (Seasonal Energy Performance Ratio) est une moyenne des EER sur l'année. \nUne méthode simplifiée pour calculer cette valeur, est d'utiliser 4 EER correspondant chacun à une température extérieure représentative du fonctionnement du groupe froid (à définir suivant la localisation du site et le mode d'exploitation du groupe). Le calcul du SEPR peut se faire via la formule suivante :\n                                                           SEPR = a*EER(cas1) + b*EER(cas2) + c*EER(cas3) + d*EER(cas4)\navec a, b, c et d les pourcentages représentatifs du temps de fonctionnement du groupe froid pour chaque cas\n\nMesurages dans les 4 cas de : \n- puissance électrique absorbée des compresseurs\n- débit du réseau de distribution\n- température aller et retour du réseau\nSuite aux mesurages, les 4 EER réels, nécessaires au calcul du SEPR réel, peuvent être calculés via la formule suivante :\n\n\n\n\n\nConcernant le SEPR théorique, le fournisseur peut fournir les 4 EER théoriques du groupe froid, nécessaires au calcul.\n\nL'économie associée à l'optimisation des paramètres de fonctionnement, peut être calculée via la formule suivante :\n\n\n"}]
[]
[null,{"$f":"Traduction!$A$283","v":"2.2.2 Comparaison du SEPR réel du groupe froid avec le SEPR théorique d'un nouveau groupe"}]
[null,{"$f":"Traduction!$A$284","v":"- Se rapprocher du fournisseur pour la sélection d'un nouveau groupe froid \n- Demander les 4 EER théoriques du groupe froid et calculer la valeur du SEER théorique\n\nL'économie associée à l'achat d'un nouveau groupe froid, peut être calculée via la formule suivante :\n\n"}]
[]
[null,{"$f":"Traduction!$A$285","v":"2.3 Outil de décision"}]
[null,{"$f":"Traduction!$A$286","v":"Si la différence d'économie entre les 2 cas est :\n- faible (inférieure à 20%) : la solution envisagée est de conserver le groupe froid et d'optimiser son fonctionnement\n- élevée (supérieure à 20%) : la solution envisagée est de changer de groupe froid\nNota : La valeur de 20% reste une valeur à titre indicatif"}]
[]
[null,{"$f":"Traduction!$A$287","v":"3. Optimisation de la production de froid"}]
[null,{"$f":"Traduction!$A$288","v":"3.1 Objectif "}]
[null,{"$f":"Traduction!$A$289","v":"Analyser le fonctionnement des différents composants de la production de froid"}]
[null,{"$f":"HYPERLINK(Listes!A36&\"/Froid Production frigorifique.htm\",Trad!A188)","v":"Plus de détails - 1"}]
[]
[null,{"$f":"Traduction!$A$290","v":"3.2 Compresseur(s)"}]
[null,{"$f":"Traduction!A714","v":"Quel est le mode de régulation des compresseurs ?\nAfin de déterminer de manière précise le fonctionnement des compresseurs, des mesurages de la puissance électrique (relevés minutes) seront réalisées. \n\nLes différents modes de régulation possibles sont les suivants :\n\nPOUR COMPRESSEURS À PISTONS\n- déconnexion des cylindres : les compresseurs ouverts possédant un nombre élevé de cylindres offrent la possibilité d’une mise hors circuit ou déconnexion de cylindre pour une régulation par degrés de la puissance. La puissance frigorifique obtenue en charge partielle dépend du nombre de cylindres en service par rapport au nombre de cylindres déconnectés.\n\nPOUR COMPRESSEURS À VIS\n- par tiroir : le principe consiste à limiter la course de la vis (pour les compresseurs à vis), en déplacant un \"tiroir\", on modifie la section d'entrée du volume aspiré et donc on module le débit\n\nPOUR TOUT TYPE DE COMPRESSEUR\n- tout ou rien : régulation ancienne et basique qui consiste à la mise en marche ou à l'arrêt des compresseurs\n- en cascade : le principe consiste à découper la tâche par palier, la régulation s’effectue par la mise en parallèle successive des compresseurs (cascade)\n- par  variation de vitesse : la vitesse du compresseur est adaptée en fonction de la demande, modifiant son volume aspiré et donc sa puissance\nLa mise en place d'un système de variation de vitesse apparait comme la méthode la plus adaptée. \n\nL'économie sur la consommation par la mise en place de variateur de vitesse est estimée à :\n- 8% pour une régulation tout ou rien\n- 5% pour une régulation en cascade\n- 2% pour une régulation par tiroir \n- 2% pour une régulation par déconnexion des cylindres "}]
[]
[null,{"$f":"Traduction!$A$292","v":"3.3 Détendeur"}]
[null,{"$f":"Traduction!$A$293","v":"Quelle est la technologie du  détendeur en place : thermostatique ou électronique ?\nLa technologie du détendeur thermostatique est obsolète. Il est préconisé de remplacer ce dernier par un détendeur électronique qui permet de limiter la surchauffe entre 3 à 5°C en sortie d’évaporateur au lieu de 6 à 8°C. \n\nL'économie sur la consommation est calculée via la formule suivante :\nEconomie (%) = ∆T de l'augmentation de température d'évaporation * 3"}]
[]
[null,{"$f":"Traduction!$A$294","v":"3.4 Evaporateur"}]
[null,{"$f":"Traduction!$A$296","v":"La température de consigne d'évaporation est-elle adaptée à l'utilisation ?\nRelever la température d’évaporation de quelques degrés permet des économies non négligeables.\n\n- Si l'installation est dédiée au confort, il est probable que l'on puisse augmenter la température de quelques degrés. Des tests pourront être effectués afin de voir si cela impact ou non le confort des personnes. Par exemple, pour un réseau de climatisation avec une température de départ réglée à 10°C, une augmentation de la consigne pourrait potentiellement être réalisée. Se référer aux prescriptions SIA 382/1 concernant les températures d'utilisation dans les applications de confort.\n\n- Si l'installation est dédiée au process, l'augmentation de la température est sensiblement réduite dans le sens où elle est conditionnée par le mode de fonctionnement des machines. Il faudrait se rapprocher des fournisseurs machines pour connaitre l'impact d'un tel changement. \n\nL'économie sur la consommation est calculée via la formule suivante :\nEconomie (%)  = ∆T de l'augmentation de température d'évaporation * 3"}]
[]
[null,{"$f":"Traduction!$A$297","v":"3.5 Condenseur"}]
[null,{"$f":"Traduction!$A$299","v":"La température de condensation est-elle fixe ou flottante ?\nIl est préconisé de mettre en place un système de HP  flottante en fonction de la température extérieure. De cette manière la température de condensation fluctue suivant les conditions climatiques.\n\nL'économie sur la consommation est calculée via la formule suivante :\nEconomie (%) = ∆T de la diminution de température de condensation * 2.5"}]
[null,{"$f":"HYPERLINK(Listes!A36&\"/Froid HP flottante.htm\",Trad!A189)","v":"Plus de détails - 2"}]
[]
[null,{"$f":"Traduction!$A$300","v":"4. Optimisation de la distribution de froid"}]
[]
[null,{"$f":"Traduction!$A$301","v":"4.1 Objectif "}]
[null,{"$f":"Traduction!$A$302","v":"Analyser les différents éléments du réseau de distibution "}]
[]
[null,{"$f":"Traduction!$A$303","v":"4.2 Général "}]
[null,{"$f":"Traduction!$A$304","v":"Les réseaux froids sont isolés pour limiter les pertes thermiques et également éviter la condensation qui provoque l'oxydation des tuyauteries et des appareillages. \nDe ce fait,  une attention particulière devra être portée à l'état du calorifuge. Un remplacement des parties détériorées doit être effectué."}]
[]
[null,{"$f":"Traduction!$A$305","v":"4.3 Réseau primaire (entre le groupe froid et le stock froid)"}]
[null,{"$f":"Traduction!$A$306","v":"- Vérifier le bon dimensionnement de la pompe et ses paramètres de fonctionnement \n\n- Vérifier que l'écart de température entre l'aller et le retour, soit minimum de 4°C. Dans le cas contraire, diminuer le débit d’eau glacée."}]
[]
[null,{"$f":"Traduction!$A$307","v":"4.4 Réseau secondaire (entre le stock froid et les émetteurs)"}]
[null,{"$f":"Traduction!A715","v":"- Vérifier le bon dimensionnement de la pompe et ses paramètres de fonctionnement. A noter que si une régulation de la pompe est prévue sur le primaire, il sera impératif de réguler le circuit secondaire. Les réglages doivent être définis en corrélation avec les points de consigne.\n\n- Vérifier que le débit secondaire soit inférieur au débit primaire. Si cela n'est pas le cas, il existe probablement un phénomène de mélange entre l'aller et le retour, qui a pour conséquence une augmentation de la température de départ. Le débit du réseau secondaire doit être diminué.\n\n- Si le besoin en froid est variable, la mise en place de variateurs de vitesse sur les pompes est préconisée. De cette manière, les pompes sont modulées en fonction du besoin, ce qui diminue le débit du fluide et par conséquent la puissance électrique absorbée par les pompes.\n\n- Analyser les vannes au niveau des émetteurs de froid. Dans le cas de variation de vitesse, les vannes 3 voies devront être remplacées par des vannes 2 voies qui permettent d’adapter le débit en fonction de la demande."}]
[]
[null,{"$f":"Traduction!$A$309","v":"5. Optimisation des auxiliaires électriques"}]
[]
[null,{"$f":"Traduction!$A$310","v":"5.1 Objectif "}]
[null,{"$f":"Traduction!$A$311","v":"Analyser le fonctionnement des auxiliaires électriques présents sur des systèmes externes tels que les tours de refroidissement "}]
[]
[null,{"$f":"Traduction!$A$312","v":"5.2 Analyse des auxiliaires électriques"}]
[null,{"$f":"Traduction!$A$313","v":"L'étude du fonctionnement de ces auxiliaires électriques ne doit pas être négligé. Le potentiel d'économie peut s'avérer être important. Ce travail sera réalisé en s'appuyant sur les analyses de détails suivantes : \"Analyse Préliminaire Pompe\" et \"Analyse Préliminaire Ventilateur\""}]
[]
[null,{"$f":"Traduction!$A$314","v":"6. Autres optimisations"}]
[]
[null,{"$f":"Traduction!$A$315","v":"6.1 Objectif "}]
[null,{"$f":"Traduction!$A$316","v":"Etudier l'optimisation la plus adaptée entre les deux systèmes suivants : \n- Free cooling \n- Récupération de chaleur"}]
[]
[null,{"$f":"Traduction!$A$317","v":"6.2 Analyse préliminaire"}]
[null,{"$f":"Traduction!$A$318","v":"Afin d'étudier les variantes de free cooling et de récupération de chaleur, il est nécessaire de déterminer les consommations mensuelles associées à la production de froid et de chaleur\n"}]
[]
[null,{"$f":"Traduction!$A$319","v":"6.3 Mise en place d'un système de free cooling"}]
[null,{"$f":"Traduction!$A$320","v":"Le free cooling consiste à utiliser l'air extérieur, en période froide, pour refroidir directement le réseau d'eau glacée, à l'aide d'un aérorefroidisseur. De cette manière, le compresseur du groupe froid n'a pas besoin de fonctionner.\n\nLes étapes de l'étude sont les suivantes : \n- Définir la température nécessaire du réseau de froid et voir si cette température peut être atteinte avec T° extérieure :\nT°besoin ≥ T°ext FC + 3°C de pincement\n- Définir le nombre d'heures de fonctionnement du free cooling sur une année\n- Définir le potentiel d'économie d'énergie"}]
[null,{"$f":"HYPERLINK(Listes!A36&\"/Froid Free cooling.htm\",Trad!A190)","v":"Plus de détails - 3"}]
[]
[null,{"$f":"Traduction!$A$321","v":"6.4 Mise en place d'un système de récupération de chaleur"}]
[null,{"$f":"Traduction!$A$322","v":"La récupération de chaleur consiste à récupérer l'énergie dissipée au niveau du condenseur du groupe froid, et à valoriser cette chaleur pour le chauffage ou l'ECS.\n\nLes questions à se poser sont les suivantes :\n- A-t-on besoin de chaleur ?\n- Quel niveau de température s'impose ?\n- Quand et en quelle saison faut-il de la chaleur ?\n- De quelle quantité de chaleur a-t-on besoin\nA partir de ces données, le potentiel d'économie d'énergie peut être estimé."}]
[null,{"$f":"HYPERLINK(Listes!A36&\"/Froid Récupération de chaleur.htm\",Trad!A191)","v":"Plus de détails - 4"}]
[]
[null,{"$f":"Traduction!$A$323","v":"6.5 Outil de décision"}]
[null,{"$f":"Traduction!$A$324","v":"Le choix entre les deux sytèmes d'optimisation se base principalement sur les critères suivants :\n-Economique : réduction des frais liés à l'énergie\n-Environnemental : réduction des émissions de C02"}]

{"sheet":"APPGF","index":11,"n_rows":8800,"n_cols":64,"rows_kept":2250,"cut":true,"hidden":true,"merged":[[41,12,41,14],[24,8,25,12],[27,8,28,12],[55,1,55,7],[49,1,49,7],[50,1,50,7],[52,1,52,7],[53,1,53,7],[54,1,54,7],[51,1,51,7],[27,1,28,7],[30,1,31,7],[30,8,31,12],[33,8,34,12],[36,8,37,12],[45,1,46,7],[40,1,41,11],[17,1,17,7],[18,1,18,7],[19,1,19,7],[33,1,34,7],[36,1,37,7],[24,1,25,7],[11,49,11,53],[11,54,11,56],[45,8,45,14],[43,8,43,14],[46,8,46,14],[42,8,42,14],[11,8,11,14],[12,8,12,14],[18,8,18,14],[19,8,19,14],[14,8,14,14],[15,8,15,14],[16,8,16,14],[17,8,17,14],[13,8,13,14],[40,12,40,14],[1,11,1,12],[1,13,1,14],[1,17,1,18],[1,19,1,20],[1,1,1,2],[1,3,1,4],[1,5,1,6],[1,7,1,8],[1,9,1,10],[1,15,1,16],[3,23,3,24],[3,25,3,26],[2,9,2,10],[3,1,3,2],[3,3,3,4],[3,5,3,6],[3,7,3,8],[3,9,3,10],[3,15,3,16],[3,17,3,18],[3,19,3,20],[3,11,3,12],[3,13,3,14],[6,1,6,14],[8,8,8,14],[9,8,9,14],[10,8,10,14],[8,1,8,7],[9,1,9,7],[10,1,10,7],[16,1,16,7],[11,1,11,7],[12,1,12,7],[13,1,13,7],[14,1,14,7],[15,1,15,7]],"bounds":{"rows_first":1000,"rows_last":250,"rows_between":1000,"halvings":1}}
[null,1,null,2,null,3,null,4,null,5,null,6,null,7,null,8,null,9,null,10,null,null,null,9,null,10]
[null,{"$f":"HYPERLINK(NomFichier&Listes!C49&\"'!A1\",Traduction!$A$14)","v":"Fiche \"Air comprimé\""},null,{"$f":"HYPERLINK(NomFichier&Listes!C50&\"'!A1\",Traduction!$A$12)","v":"Fiche \"Ventilateurs\""},null,{"$f":"HYPERLINK(NomFichier&Listes!#REF!&\"'!G7\",Traduction!$A$13)","v":{"$error":"#REF!"}},null,{"$f":"HYPERLINK(NomFichier&Listes!#REF!&\"'!O16\",Traduction!$A$707)","v":{"$error":"#REF!"}},null,{"$f":"HYPERLINK(NomFichier&Listes!C51&\"'!E10\",Traduction!$A$78)","v":"Le circuit hydraulique comprend-il des vannes en position partiellement fermée?"},null,{"$f":"HYPERLINK(NomFichier&Listes!C52&\"'!E10\",Traduction!$A$79)","v":"3. Questions additionnelles"},null,{"$f":"HYPERLINK(NomFichier&Listes!C53&\"'!M12\",Traduction!$A$11)","v":{"$error":"#VALUE!"}},null,{"$f":"HYPERLINK(NomFichier&Listes!#REF!&\"'!F10\",Traduction!$A$549)","v":{"$error":"#REF!"}},null,{"$f":"HYPERLINK(NomFichier&Listes!#REF!&\"'!E10\",Traduction!$A$708)","v":{"$error":"#REF!"}},null,{"$f":"Traduction!$A$80","v":"La pompe fait-elle partie d'une cascade?"}]
[]
[null,{"$f":"IFERROR(HYPERLINK(NomFichier&B62&\"'!A1\",B62),\"\")","v":""},null,{"$f":"IFERROR(HYPERLINK(NomFichier&D62&\"'!A1\",D62),\"\")","v":""},null,{"$f":"IFERROR(HYPERLINK(NomFichier&F62&\"'!A1\",F62),\"\")","v":""},null,{"$f":"IFERROR(HYPERLINK(NomFichier&H62&\"'!A1\",H62),\"\")","v":""},null,{"$f":"IFERROR(HYPERLINK(NomFichier&J62&\"'!A1\",J62),\"\")","v":""},null,{"$f":"IFERROR(HYPERLINK(NomFichier&L62&\"'!A1\",L62),\"\")","v":""},null,{"$f":"IFERROR(HYPERLINK(NomFichier&N62&\"'!A1\",N62),\"\")","v":""},null,{"$f":"IFERROR(HYPERLINK(NomFichier&P62&\"'!A1\",P62),\"\")","v":""},null,null,null,null,null,null,null,{"$f":"IFERROR(HYPERLINK(NomFichier&X62&\"'!A1\",X62),\"\")","v":""},null,{"$f":"IFERROR(HYPERLINK(NomFichier&Z62&\"'!A1\",Z62),\"\")","v":0}]
[]
[null,{"$f":"Traduction!$A$686","v":"ne sais pasne sais pasNon"}]
[null,{"$f":"Traduction!$A$353","v":"Mercredi"}]
[null,{"$f":"Traduction!$A$368","v":"2 (automne)"}]
[null,{"$f":"Traduction!$A$369","v":"3 (printemps)"}]
[null,{"$f":"Traduction!$A$142","v":"Le besoin est a priori bien maîtrisé et enregistré. On a par contre un CF sans débit variable. Un démarreur serait plus judicieux. "}]
[null,{"$f":"Traduction!$A$141","v":"Le débit variable n'est probablement  pas contrôlé de la manière la plus efficace.  Un mesurage du débit est recommandé."}]
[null,{"$f":"Traduction!$A$617","v":"NonNe sais pasNonNon"},null,null,null,null,null,null,null,null,null,null,null,null,null,null,null,null,null,null,null,null,null,null,null,null,null,null,null,"Classe d'efficacité ","Profil de fonctionnement",null,"Mode de régulation des compresseurs ","Abaissement de température",null,"Augmentation de la température de production de froid",null,null,null,null,"Consommation annuelle estimées [kWh/a]",{"$f":"Traduction!$A$155","v":"On ne sait pas si le débit correspond juste au besoin ou s'il trop grand, recherchez des informations sur le besoin. Il n'y a pas de variations mais un CF. Un démarreur serait plus avisé."},{"$f":"Traduction!$A$156","v":"On ne sait pas si le débit correspond au besoin ou s'il trop grand, recherchez des informations sur le besoin réel et comparez-les aux valeurs relevées."},"âge de l'installation ",{"$f":"Traduction!A702","v":"Système d'air comprimé à vitesse variable:\nLa plupart des compresseurs à vitesse variable permettent d'extraire, via l'affichage, les pourcentages du temps de fonctionnement correspondant aux différents taux de charge. Grâce à ces pourcentages, aux nombres d'heures de fonctionnement et aux puissances absorbées correspondantes (ces puissances à différents taux de charge sont à demander au constructeur ou à déterminer selon les fiches techniques CAGI américaines), la consommation annuelle totale peut-être déterminée. \nAttention : même si les estimations sont plus précises que dans le GA (analyse préliminaire), ce sont encore des valeurs estimées, basées sur des valeurs indicatives valables dans les conditions standards.\n\nSystème d'air comprimé à vitesse fixe : \nLa plupart des compresseurs d'air ont des compteurs d'heurse de fonctionnement et d'heures en charge. La différence est le temps de marche à vide. Si les heures de fonctionnement ne sont pas relevées régulièrement, un nombre d'heures et une date peuvent parfois être trouvés dans le carnet d'entretien ou l'autocollant d'entretien. Si ces informations ne sont pas disponibles, il est possible d'estimer les heures de fonctionnement annuelles grâce à l'année d'installation ou de construction du compresseur.  La consommation peut être estimée en multipliant les heures de fonctionnement en charge par la puissance absorbé en charge plus les heures de fonctionnement en marche à vide fois la puissance absorbée dans ce mode. Les puissances absorbées sont parfois disponibles sur les fiches techniques. Sinon, on approximera la puissance absorbée en charge à 100% de la puissance nominale et en marche à vide à 25%.\n\nSi aucune de ces informations n'est disponible, la consommation annuelle peut être très grossièrement estimée en multipliant la puissance nominale par 2000 heures de fonctionnement."},{"$f":"Traduction!A701","v":"5. Optimisat. auxiliaires"},{"$f":"Traduction!A748","v":"Temps nécessaire à rentabiliser financièrement la mesure d’optimisation énergétique en considérant qu’elle supporte uniquement la partie du coût de l’investissement liée à l’économie d’énergie. "},null,null,"HP flottante",null,null,null,null,"Baisse de la pression de condensation ",null,null,"Gains régulation",null,null,"Gains efficacité des moteurs"]
[null,{"$f":"Traduction!$A$666","v":"ouila production (type, nbre ou vol. de produit)"},null,null,null,null,null,null,null,null,null,null,null,null,null,null,null,null,null,null,null,null,null,null,null,null,null,null,null,{"$f":"Listes!$G$43","v":0},"A",7000,{"$f":"Traduction!A670","v":"Les valeurs de pression ne sont pas relevées. Si l'on veut calculer le rendement de l'entraînement, il faut mesurer les pressions à l'aspiration et au refoulement du ventilateur puis calculer la puissance aéraulique. Avec les valeurs de puissance électrique relevées par l'exploitant, on peut ensuite calculer les performances de l'entraînement. "},"0°C",0,"0°C",0,{"$f":"Traduction!$A$4","v":"Local"},null,null,{"$f":"VLOOKUP($I$16,GF_heuresfonct,2)*$I$14","v":{"$error":"#N/A"}},null,null,{"$f":"YEAR(TODAY())-$I$13","v":2021},{"$f":"VLOOKUP(($I$15&IF($I$14<=20,\"p4\",IF($I$14>=100,\"p6\",\"p5\"))),GF_GainsefficaciteGAplus,2,0)","v":{"$error":"#N/A"}},{"$f":"IF(AR13<=5,#REF!,IF(AND(AR13>5,AR13<=10),#REF!,IF(AND(AR13>10,AR13<=15),#REF!,IF(AND(AR13>15,AR13<=20),#REF!,#REF!))))","v":{"$error":"#REF!"}},{"$f":"VLOOKUP($I$17,GF_gainsGArégula,2,0)","v":{"$error":"#N/A"}},null,null,{"$f":"Traduction!$A$5","v":"Aperçu des résultats de l'analyse détaillée"},{"$f":"Traduction!$A$5","v":"Aperçu des résultats de l'analyse détaillée"},"A",{"$f":"AX13&AY13&AZ13","v":"Aperçu des résultats de l'analyse détailléeAperçu des résultats de l'analyse détailléeA"},0,{"$f":"Traduction!$A$4","v":"Local"},{"$f":"Traduction!$A$4","v":"Local"},{"$f":"BC13&BD13","v":"LocalLocal"},{"$f":"AG13","v":"Les valeurs de pression ne sont pas relevées. Si l'on veut calculer le rendement de l'entraînement, il faut mesurer les pressions à l'aspiration et au refoulement du ventilateur puis calculer la puissance aéraulique. Avec les valeurs de puissance électrique relevées par l'exploitant, on peut ensuite calculer les performances de l'entraînement. "},0.08,null,"Eff3 ","<20 kW",{"$f":"BI13 & IF(BJ13=\"<20 kW\",\"p4\",IF(BJ13=\"20-100 kW\",\"p5\",\"p6\"))","v":"Eff3 p4"},7.0000000000000007E-2]
[null,{"$f":"Traduction!$A$668","v":"Les valeurs de pression sont disponibles. Utilisez-les avec les valeurs de débit pour calculer la puissance aéraulique. Utilisez les valeurs de puissance électrique disponibles pour calculer les rendements."},null,null,null,null,null,null,null,null,null,null,null,null,null,null,null,null,null,null,null,null,null,null,null,null,null,null,null,{"$f":"Listes!$G$44","v":0},"B",4000,{"$f":"Traduction!A671","v":"Durant des mesurages de débit, on s'efforcera d'ouvrir les clapets semi-fermés de façon à connaître le débit à clapet ouvert. Si ce n'est pas possible, on travaillera avec la caractéristique du clapet. On procédera aux analyses permettant de savoir quel type d'optimisation est adapté (selon les explications de détail)."},"1°C",0.03,"1°C",0.03,{"$f":"Traduction!$A$5","v":"Aperçu des résultats de l'analyse détaillée"},null,null,null,null,null,null,null,null,null,null,null,{"$f":"Traduction!$A$5","v":"Aperçu des résultats de l'analyse détaillée"},{"$f":"Traduction!$A$5","v":"Aperçu des résultats de l'analyse détaillée"},"B",{"$f":"AX14&AY14&AZ14","v":"Aperçu des résultats de l'analyse détailléeAperçu des résultats de l'analyse détailléeB"},0,null,null,null,{"$f":"AG14","v":"Durant des mesurages de débit, on s'efforcera d'ouvrir les clapets semi-fermés de façon à connaître le débit à clapet ouvert. Si ce n'est pas possible, on travaillera avec la caractéristique du clapet. On procédera aux analyses permettant de savoir quel type d'optimisation est adapté (selon les explications de détail)."},0.05,null,"Eff3 ","20-100 kW",{"$f":"BI14 & IF(BJ14=\"<20 kW\",\"p4\",IF(BJ14=\"20-100 kW\",\"p5\",\"p6\"))","v":"Eff3 p5"},0.04]
[null,{"$f":"Traduction!$A$685","v":"ne sais pasnonne sais pas"},null,null,null,null,null,null,null,null,null,null,null,null,null,null,null,null,null,null,null,null,null,null,null,null,null,null,null,{"$f":"Listes!$G$45","v":0},"C",2000,{"$f":"Traduction!A672","v":"On trouve différents composants comme des amortisseurs de bruits, des batteries et des filtres qui génèrent des pertes de charge parfois importantes.  Suite à l'évolution du système, ces dispositifs ne sont parfois plus nécessaires. Leur démontage permet de réduire les pertes de charge. Pour les filtres, c'est le manque de maintenance qui peut s'avérer source de pertes de charge inutiles. "},"2°C",0.06,"2°C",0.06,{"$f":"Traduction!$A$163","v":"Recherchez des informations sur le besoin réel. Procédez à des mesurages de débit et comparez les valeurs."},null,null,null,null,null,null,null,null,null,null,null,{"$f":"Traduction!$A$5","v":"Aperçu des résultats de l'analyse détaillée"},{"$f":"Traduction!$A$5","v":"Aperçu des résultats de l'analyse détaillée"},"C","Aperçu des résultats de l'analyse détailléeAperçu des résultats de l'analyse détailléeC",0,null,null,null,{"$f":"AG15","v":"On trouve différents composants comme des amortisseurs de bruits, des batteries et des filtres qui génèrent des pertes de charge parfois importantes.  Suite à l'évolution du système, ces dispositifs ne sont parfois plus nécessaires. Leur démontage permet de réduire les pertes de charge. Pour les filtres, c'est le manque de maintenance qui peut s'avérer source de pertes de charge inutiles. "},0.02,null,"Eff3 ","> 100 kW","Eff3 p6",0.03]
[null,{"$f":"Traduction!A667","v":"ouiautre ou ne sais pas"},null,null,null,null,null,null,null,null,null,null,null,null,null,null,null,null,null,null,null,null,null,null,null,null,null,null,null,{"$f":"Listes!$G$46","v":0},null,null,{"$f":"Traduction!A673","v":"nonouiNon"},"3°C",0.09,"3°C",0.09,null,null,null,null,null,null,null,null,null,null,null,null,{"$f":"Traduction!$A$4","v":"Local"},{"$f":"Traduction!$A$4","v":"Local"},"A","LocalLocalA",0,null,null,null,{"$f":"AG16","v":"nonouiNon"},0,null,"IE1 (EFF2)","<20 kW","IE1 (EFF2)p4",0.05]
[null,{"$f":"Traduction!A669","v":"Les valeurs de pression sont disponibles. Utilisez-les avec les valeurs de débit pour calculer la puissance aéraulique. Procédez au mesurage de la puissance électrique et calculez les rendements."},null,null,null,null,null,null,null,null,null,null,null,null,null,null,null,null,null,null,null,null,null,null,null,null,null,null,null,{"$f":"Listes!$G$47","v":0},null,null,null,"4°C",0.12,"4°C",0.12,null,null,null,null,null,null,null,null,null,null,null,null,{"$f":"Traduction!$A$4","v":"Local"},{"$f":"Traduction!$A$4","v":"Local"},"B","LocalLocalB",0,null,null,null,null,null,null,"IE1 (EFF2)","20-100 kW","IE1 (EFF2)p5",0.03]
[null,{"$f":"Traduction!A674","v":"nonouiNe sais pas"},null,null,null,null,null,null,null,null,null,null,null,null,null,null,null,null,null,null,null,null,null,null,null,null,null,null,null,null,null,null,null,"5°C",0.15,null,null,null,null,null,null,null,null,null,null,null,null,null,null,{"$f":"Traduction!$A$4","v":"Local"},{"$f":"Traduction!$A$4","v":"Local"},"C","LocalLocalC",0,null,null,null,null,null,null,"IE1 (EFF2)","> 100 kW","IE1 (EFF2)p6",0.02]
[null,{"$f":"Traduction!A677","v":"nonnonne sais pas"},null,null,null,null,null,null,null,null,null,null,null,null,null,null,null,null,null,null,null,null,null,null,null,null,null,null,null,null,null,null,null,"6°C",0.18,null,null,null,null,null,null,null,null,null,null,null,null,null,null,{"$f":"Traduction!$A$5","v":"Aperçu des résultats de l'analyse détaillée"},{"$f":"Traduction!$A$4","v":"Local"},"A","Aperçu des résultats de l'analyse détailléeLocalA",0.09,null,null,null,null,null,null,"IE2 (EFF1)","<20 kW","IE2 (EFF1)p4",0.04]
[null,{"$f":"Traduction!$A$280","v":"2.2 Détermination des performances globales du groupe "},null,null,null,null,null,null,{"$f":"PrixElec","v":{"$error":"#REF!"}},null,null,null,null,null,null,null,null,null,null,null,null,null,null,null,null,null,null,null,null,null,null,null,null,"7°C",0.21,null,null,null,null,null,null,null,null,null,null,null,null,null,null,{"$f":"Traduction!$A$5","v":"Aperçu des résultats de l'analyse détaillée"},{"$f":"Traduction!$A$4","v":"Local"},"B","Aperçu des résultats de l'analyse détailléeLocalB",0.12,null,null,null,null,null,null,"IE2 (EFF1)","20-100 kW","IE2 (EFF1)p5",0.02]
[null,{"$f":"Traduction!$A$139","v":"Dans la cas d'une pompe ou d'un groupe de pompes, les économies peuvent avoir pour origines:\n- un débit plus important que nécessaire (aux consommateurs)\n- une exploitation non optimisée en termes d'horaire (un mode réduit ou un arrêt possible dans certaines plages horaires)\n- un travail à un niveau de pression trop élevé (le système assurerait sa prestation avec une pression plus faible ou une vanne semi-fermée casse la pression en permanence)\n- le système est ancien, mal dimensionné et les variations de besoin sont gérées de façon non optimale "},null,null,null,null,null,null,null,null,null,null,null,null,null,null,null,null,null,null,null,null,null,null,null,null,null,null,null,null,null,null,null,"8°C",0.24,null,null,null,null,null,null,null,null,null,null,null,null,null,null,"Non","Oui","C","NonOuiC",0.04,null,null,null,null,null,null,"IE2 (EFF1)","> 100 kW","IE2 (EFF1)p6",0.01]
[null,null,null,null,null,null,null,null,null,null,null,null,null,null,null,null,null,null,null,null,null,null,null,null,null,null,null,null,null,null,null,null,null,null,null,null,null,null,null,null,null,null,null,null,null,null,null,null,null,{"$f":"Traduction!$A$5","v":"Aperçu des résultats de l'analyse détaillée"},{"$f":"Traduction!$A$4","v":"Local"},"A","Aperçu des résultats de l'analyse détailléeLocalA",0,null,null,null,null,null,null,"IE3","<20 kW","IE3p4",0.02]
[null,null,null,null,null,null,null,null,null,null,null,null,null,null,null,null,null,null,null,null,null,null,"économie",null,null,null,null,null,null,null,null,null,null,null,null,null,null,null,null,null,null,null,null,null,null,null,null,null,null,{"$f":"Traduction!$A$4","v":"Local"},{"$f":"Traduction!$A$5","v":"Aperçu des résultats de l'analyse détaillée"},"A","LocalAperçu des résultats de l'analyse détailléeA",0,null,null,null,null,null,null,"IE3","20-100 kW","IE3p5",0.01]
[null,{"$f":"Traduction!$A$692","v":"Economies annuelles associées à l'optimisation d'un ventilateur à débit variable:"},null,null,null,null,null,null,null,null,null,null,null,null,null,null,null,null,null,null,null,null,"Optimisation HP flottante","Optimisation baisse tempé cond","temp production de froid cste","économie diffentiel de température production","économie FC","% d'heure annuelle dont la température extérieure est inférieure à la température de production froid moins -5°C ","Température extérieure à la quelle on fait du FC","Température de production de froid","Heures annuelles pour lesquelles les compresseurs sont Off","économie FC [kWh]",null,null,null,null,null,null,null,null,null,null,null,null,null,null,null,null,null,{"$f":"Traduction!$A$4","v":"Local"},{"$f":"Traduction!$A$5","v":"Aperçu des résultats de l'analyse détaillée"},"B","LocalAperçu des résultats de l'analyse détailléeB",0,null,null,null,null,null,null,"IE3","> 100 kW","IE3p6",5.0000000000000001E-3]
[null,{"$f":"Traduction!$A$689","v":"La qualité du dimensionnement s'évalue en premier lieu sur la base du rapport entre le débit max. relevé (et nécessaire) et le débit nominal (rendement max.). Plusieurs situations sont possibles:\n1) Lorsque ce rapport est inférieur à 1, le ventilateur est surdimensionné. Plus ce rapport est petit, plus le rendement sera réduit et plus le potentiel d'optimisation important.\n2) Lorsque ce rapport est proche de 1, le dimensionnement est correct (ce qui ne garantit pas que la situation soit énergétiquement idéale, d'autres inefficiences peuvent exister).\n3) Lorsque ce rapport est supérieur à 1, le ventilateur est sousdimensionné. Plus ce rapport est grand, plus le rendement sera mauvais et les risques de problèmes accrus."},null,null,null,null,null,null,null,null,null,null,null,null,null,null,null,null,null,null,null,null,{"$f":"VLOOKUP((I34&I18&fgf_profil),BA13:BB41,2,0)","v":{"$error":"#N/A"}},{"$f":"IF(I34&I18=BE13,VLOOKUP($I$37,GF_tempbsaisse1,2,0),0)","v":0},{"$f":"VLOOKUP($I$28,GF_Gainsaugmentationtempé,2,0)","v":{"$error":"#N/A"}},{"$f":"IF(I31>3.5,0,((3.5-$I$31)*0.04))","v":0.14000000000000001},{"$f":"IF(OR($I$19=$AL$13,fgf_profil=AE15),0%,IF(fgf_freecool=AL15,(AF34/2),AF34))","v":{"$error":"#N/A"}},{"$f":"AB37/AC37","v":2.2146118721461189E-2},{"$f":"AD25-5","v":-5},{"$f":"$I$25","v":0},{"$f":"$AB$25*VLOOKUP(fgf_profil,GF_ProfilGA2,2,0)","v":{"$error":"#N/A"}},{"$f":"AE25*(fgf_Pnom-(fgf_Pnom*0.08))","v":{"$error":"#N/A"}},null,null,null,null,null,null,null,null,null,null,null,null,null,null,null,null,null,{"$f":"Traduction!$A$4","v":"Local"},{"$f":"Traduction!$A$5","v":"Aperçu des résultats de l'analyse détaillée"},"C","LocalAperçu des résultats de l'analyse détailléeC",0,null,null,null,null,null,null,"IE4","<20 kW","IE4p4",0]
[null,null,null,null,null,null,null,null,null,null,null,null,null,null,null,null,null,null,null,null,null,null,null,null,null,null,null,null,null,null,null,null,null,null,null,null,null,null,null,null,null,null,null,null,null,null,null,null,null,{"$f":"Traduction!$A$163","v":"Recherchez des informations sur le besoin réel. Procédez à des mesurages de débit et comparez les valeurs."},{"$f":"Traduction!$A$5","v":"Aperçu des résultats de l'analyse détaillée"},"A","Recherchez des informations sur le besoin réel. Procédez à des mesurages de débit et comparez les valeurs.Aperçu des résultats de l'analyse détailléeA",0]
[]
[null,{"$f":"Traduction!$A$690","v":"Il existe de multiples façons de gérer un besoin fluctuant. On citera notamment, côté ventilateur, l'étranglement (clapet) et la variation de vitesse et, côté consommateurs, des VAV. Ces solutions ne sont pas équivalentes en termes énergétiques.\n1) Lorsqu'il n'y a qu'un consommateur ou que, multiples, ils ont un comportement synchrone (donc proche de celui d'un seul consommateur), le profil de débit classé permet de suggérer des optimisations ad hoc basées sur l'introduction d'un variateur (voir utilisation des débits classés). Les optimisations résident dans le redimensionnement et la variation de vitesse.\n2) Lorsque le ventilateur alimente des consommateurs aux besoins indépendants les uns des autres dans des réseaux de branches parallèles, la situation est plus compliquée. Des solutions simples comme le réglage de la pression au refoulement du ventilateur sont insuffisantes et peuvent parfois poser des problèmes sur certaines branches. Il est alors nécessaire de conserver des clapets par exemple pour assurer l'équilibrage et les besoins réels. Les analyses doivent alors être menées de cas en cas et des solutions sur mesure proposées. Des approches basées sur des capteurs de pression déportés peuvent offrir de bons résultats énergétiques.\n"},null,null,null,null,null,null,null,null,null,null,null,null,null,null,null,null,null,null,null,null,null,null,null,null,null,null,null,null,null,null,null,null,null,null,null,null,null,null,null,null,null,null,null,null,null,null,null,{"$f":"Traduction!$A$163","v":"Recherchez des informations sur le besoin réel. Procédez à des mesurages de débit et comparez les valeurs."},{"$f":"Traduction!$A$5","v":"Aperçu des résultats de l'analyse détaillée"},"B","Recherchez des informations sur le besoin réel. Procédez à des mesurages de débit et comparez les valeurs.Aperçu des résultats de l'analyse détailléeB",0]
[null,null,null,null,null,null,null,null,null,null,null,null,null,null,null,null,null,null,null,null,null,null,null,null,null,null,null,null,null,null,null,null,null,null,null,null,null,null,null,null,null,null,null,null,null,null,null,null,null,{"$f":"Traduction!$A$163","v":"Recherchez des informations sur le besoin réel. Procédez à des mesurages de débit et comparez les valeurs."},{"$f":"Traduction!$A$5","v":"Aperçu des résultats de l'analyse détaillée"},"C","Recherchez des informations sur le besoin réel. Procédez à des mesurages de débit et comparez les valeurs.Aperçu des résultats de l'analyse détailléeC",0,null,null,null,null,null,null,"IE4","20-100 kW","IE4p5",0]
[null,null,null,null,null,null,null,null,null,null,null,null,null,null,null,null,null,null,null,null,null,null,null,null,null,null,null,null,null,null,null,null,null,null,null,null,null,null,null,null,null,null,null,null,null,null,null,null,null,{"$f":"Traduction!$A$163","v":"Recherchez des informations sur le besoin réel. Procédez à des mesurages de débit et comparez les valeurs."},{"$f":"Traduction!$A$4","v":"Local"},"A","Recherchez des informations sur le besoin réel. Procédez à des mesurages de débit et comparez les valeurs.LocalA",0]
[null,{"$f":"Traduction!$A$691","v":"avec les rendement des différents composants: ηCF rendement du convertisseur, ηmot rendement du moteur, ηacc rendement de l'accouplement, ηvent rendement du ventilateur, tous ces composants ne sont pas forcément présents"},null,null,null,null,null,null,null,null,null,null,null,null,null,null,null,null,null,null,null,null,null,null,null,null,null,null,null,null,null,null,null,null,null,null,null,null,null,null,null,null,null,null,null,null,null,null,null,{"$f":"Traduction!$A$163","v":"Recherchez des informations sur le besoin réel. Procédez à des mesurages de débit et comparez les valeurs."},{"$f":"Traduction!$A$4","v":"Local"},"B","Recherchez des informations sur le besoin réel. Procédez à des mesurages de débit et comparez les valeurs.LocalB",0]
[null,null,null,null,null,null,null,null,null,null,null,null,null,null,null,null,null,null,null,null,null,null,null,null,null,null,null,null,null,null,null,{"$f":"fgf_Pnom*VLOOKUP(fgf_profil,GF_ProfilGA2,2,0)","v":{"$error":"#N/A"}},null,null,null,null,null,null,null,null,null,null,null,null,null,null,null,null,null,{"$f":"Traduction!$A$163","v":"Recherchez des informations sur le besoin réel. Procédez à des mesurages de débit et comparez les valeurs."},{"$f":"Traduction!$A$4","v":"Local"},"C","Recherchez des informations sur le besoin réel. Procédez à des mesurages de débit et comparez les valeurs.LocalC",0,null,null,null,null,null,null,"IE4","> 100 kW","IE4p6",0]
[null,null,null,null,null,null,null,null,null,null,null,null,null,null,null,null,null,null,null,null,null,null,null,null,null,null,null,null,null,null,null,null,null,null,null,null,null,null,null,null,null,null,null,null,null,null,null,null,null,{"$f":"Traduction!$A$4","v":"Local"},{"$f":"Traduction!$A$163","v":"Recherchez des informations sur le besoin réel. Procédez à des mesurages de débit et comparez les valeurs."},"A","LocalRecherchez des informations sur le besoin réel. Procédez à des mesurages de débit et comparez les valeurs.A",4.4999999999999998E-2]
[null,{"$f":"Traduction!$A$687","v":"ne sais pasne sais pasne sais pas"},null,null,null,null,null,null,null,null,null,null,null,null,null,null,null,null,null,null,null,null,null,null,null,null,null,"nombre d'heure annuelle","nombre d'heure annuelle totale",null,null,{"$f":"AF25/AF32","v":{"$error":"#N/A"}},null,null,null,null,null,null,null,null,null,null,null,null,null,null,null,null,null,{"$f":"Traduction!$A$4","v":"Local"},{"$f":"Traduction!$A$163","v":"Recherchez des informations sur le besoin réel. Procédez à des mesurages de débit et comparez les valeurs."},"B","LocalRecherchez des informations sur le besoin réel. Procédez à des mesurages de débit et comparez les valeurs.B",0.06]
[null,null,null,null,null,null,null,null,null,null,null,null,null,null,null,null,null,null,null,null,null,null,null,null,null,null,null,null,null,null,null,null,null,null,null,null,null,null,null,null,null,null,null,null,null,null,null,null,null,{"$f":"Traduction!$A$4","v":"Local"},{"$f":"Traduction!$A$163","v":"Recherchez des informations sur le besoin réel. Procédez à des mesurages de débit et comparez les valeurs."},"C","LocalRecherchez des informations sur le besoin réel. Procédez à des mesurages de débit et comparez les valeurs.C",0.02]
[null,null,null,null,null,null,null,null,null,null,null,null,null,null,null,null,null,null,null,null,null,null,null,null,null,null,null,null,null,null,null,null,null,null,null,null,null,null,null,null,null,null,null,null,null,null,null,null,null,{"$f":"Traduction!$A$4","v":"Local"},{"$f":"Traduction!$A$163","v":"Recherchez des informations sur le besoin réel. Procédez à des mesurages de débit et comparez les valeurs."},"A","LocalRecherchez des informations sur le besoin réel. Procédez à des mesurages de débit et comparez les valeurs.A",0]
[null,{"$f":"Traduction!$A$688","v":"L'évolution des grandeurs au cours du temps permet d'apprécier les plages de variations et la célérité des variations. Pour des ventilateurs, on en tire notamment:\n- la valeur de la puissance aéraulique fournie, calculée à partir des valeurs de débit et de Δp (aux bornes du ventilateur), puis celle du rendement global, calculée à partir de la puissance aéraulique et de la puissance électrique.\n- les valeurs extrêmes, dont le débit maximum qui permet de juger de la qualité du dimensionnement.\nIl est aussi possible de traiter ces données pour disposer, par exemple, du profil de besoin (débit), sous forme de classes. Ce débit classé permet ensuite de sélectionner au mieux les mesures d'optimisation et de déterminer les gains par classe et total. "},null,null,null,null,null,null,null,null,null,null,null,null,null,null,null,null,null,null,null,null,null,null,null,null,null,{"$f":"SUM(AE40:AE8800)","v":194},{"$f":"AB8800","v":8760},null,null,null,null,null,null,null,null,null,null,null,null,null,null,null,null,null,null,null,null,{"$f":"Traduction!$A$4","v":"Local"},{"$f":"Traduction!$A$163","v":"Recherchez des informations sur le besoin réel. Procédez à des mesurages de débit et comparez les valeurs."},"B","LocalRecherchez des informations sur le besoin réel. Procédez à des mesurages de débit et comparez les valeurs.B",0,null,null,null,null,null,null,{"$f":"Traduction!A712","v":"[rat] Ratgeber Druckluft für den Praxiseinsatz, ein Handbuch füe de Instandhaltung. LandesEnergieVerein Steiermark, 2006"}]
[null,null,null,null,null,null,null,null,null,null,null,null,null,null,null,null,null,null,null,null,null,null,null,null,null,null,null,null,null,null,null,null,null,null,null,null,null,null,null,null,null,null,null,null,null,null,null,null,null,{"$f":"Traduction!$A$4","v":"Local"},{"$f":"Traduction!$A$163","v":"Recherchez des informations sur le besoin réel. Procédez à des mesurages de débit et comparez les valeurs."},"C","LocalRecherchez des informations sur le besoin réel. Procédez à des mesurages de débit et comparez les valeurs.C",0]
[null,null,null,null,null,null,null,null,null,null,null,null,null,null,null,null,null,null,null,null,null,null,null,null,null,null,null,"Heure  ","Date","Température extérieure moyenne statistique  [°C] (Tamb)","Calculs",null,null,null,null,null,null,null,null,null,null,null,null,null,null,null,null,null,null,{"$f":"Traduction!$A$163","v":"Recherchez des informations sur le besoin réel. Procédez à des mesurages de débit et comparez les valeurs."},{"$f":"Traduction!$A$163","v":"Recherchez des informations sur le besoin réel. Procédez à des mesurages de débit et comparez les valeurs."},"A","Recherchez des informations sur le besoin réel. Procédez à des mesurages de débit et comparez les valeurs.Recherchez des informations sur le besoin réel. Procédez à des mesurages de débit et comparez les valeurs.A",2.5000000000000001E-2]
[null,{"$f":"Traduction!$A$699","v":"4. Optimisati. production"},null,null,null,null,null,null,null,null,null,null,null,null,null,null,null,null,null,null,null,null,null,null,null,null,null,0,"01.01. 00:00",-0.1,{"$f":"IF(AD40<=$AC$25,1,0)","v":0},null,null,null,null,null,null,null,null,null,null,null,null,null,null,null,null,null,null,{"$f":"Traduction!$A$163","v":"Recherchez des informations sur le besoin réel. Procédez à des mesurages de débit et comparez les valeurs."},{"$f":"Traduction!$A$163","v":"Recherchez des informations sur le besoin réel. Procédez à des mesurages de débit et comparez les valeurs."},"B","Recherchez des informations sur le besoin réel. Procédez à des mesurages de débit et comparez les valeurs.Recherchez des informations sur le besoin réel. Procédez à des mesurages de débit et comparez les valeurs.B",0.05]
[null,{"$f":"Traduction!$A$338","v":"Chaleur spécifique (J/kg.K) :"},null,null,null,null,null,null,null,null,null,null,{"$f":"HYPERLINK(Traduction!A632&\"/Calc_GF_méthodologie.htm\",Traduction!A652)","v":"Le rendement d'une pompe en fonction de la vitesse n'est pas toujours estimé correctement."},null,null,null,null,null,null,null,null,null,null,null,null,null,null,1,"01.01. 01:00",-0.3,{"$f":"IF(AD41<=$AC$25,1,0)","v":0},null,null,null,null,null,null,null,null,null,null,null,null,null,null,null,null,null,null,{"$f":"Traduction!$A$163","v":"Recherchez des informations sur le besoin réel. Procédez à des mesurages de débit et comparez les valeurs."},{"$f":"Traduction!$A$163","v":"Recherchez des informations sur le besoin réel. Procédez à des mesurages de débit et comparez les valeurs."},"C","Recherchez des informations sur le besoin réel. Procédez à des mesurages de débit et comparez les valeurs.Recherchez des informations sur le besoin réel. Procédez à des mesurages de débit et comparez les valeurs.C",0.01]
[null,null,null,null,null,null,null,null,null,null,null,null,{"$f":"HYPERLINK(Traduction!A632&\"/Calc_GF_méthodologie.htm\",Traduction!$A$549)","v":{"$error":"#VALUE!"}},null,null,null,null,null,null,null,null,null,null,null,null,null,null,2,"01.01. 02:00",-0.6,0]
[null,{"$f":"Traduction!$A$152","v":"On ne sait pas si le débit correspond juste ou s'il trop grand, recherchez des informations sur le besoin. Par ailleurs les  variations ne sont probablement pas bien maîtrisées, considérez les relevés de débit du site."},null,null,null,null,null,null,{"$f":"AO13","v":{"$error":"#N/A"}},null,null,null,null,null,null,null,null,null,null,null,null,null,null,null,null,null,null,3,"01.01. 03:00",-0.3,0]
[null,null,null,null,null,null,null,null,0,null,null,null,null,null,null,null,null,null,null,null,null,null,null,null,null,null,null,4,"01.01. 04:00",-0.5,0]
[null,null,null,null,null,null,null,null,null,null,null,null,null,null,null,null,null,null,null,null,null,null,null,null,null,null,null,5,"01.01. 05:00",-0.6,0]
[null,{"$f":"Traduction!$A$340","v":"Masse volumique"},null,null,null,null,null,null,{"$f":"IF(I44=0,(SUM(I50:I56)*$I$43),I44*SUM(I50:I56))","v":{"$error":"#N/A"}},null,null,null,null,null,null,null,null,null,null,null,null,null,null,null,null,null,null,6,"01.01. 06:00",-0.5,0]
[null,null,null,null,null,null,null,null,{"$f":"IF(I44=0,(I46/I43),(I46/I44))","v":{"$error":"#N/A"}},null,null,null,null,null,null,null,null,null,null,null,null,null,null,null,null,null,null,7,"01.01. 07:00",-0.6,0]
[null,null,null,null,null,null,null,null,null,null,null,null,null,null,null,null,null,null,null,null,null,null,null,null,null,null,null,8,"01.01. 08:00",-0.5,0]
[null,{"$f":"Traduction!$A$341","v":"Chaleur spécifique"},null,null,null,null,null,null,{"$f":"Traduction!$A$318","v":"Afin d'étudier les variantes de free cooling et de récupération de chaleur, il est nécessaire de déterminer les consommations mensuelles associées à la production de froid et de chaleur\n"},null,null,null,null,null,null,null,null,null,null,null,null,null,null,null,null,null,null,9,"01.01. 09:00",-0.3,0]
[null,{"$f":"IF(I18&I34=BE13,Traduction!$A$693,Traduction!$A$694)","v":"Le rendement d'un entraînement électrique comprenant un ventilateur est souvent péjoré par un accouplement peu efficace."},null,null,null,null,null,null,{"$f":"IF($B$50=Traduction!A694,$W$25,$X$25)","v":{"$error":"#N/A"}},null,null,null,null,null,null,null,null,null,null,null,null,null,null,null,null,null,null,10,"01.01. 10:00",-0.01,0]
[null,{"$f":"Traduction!A695","v":"1. Analyse"},null,null,null,null,null,null,{"$f":"Y25","v":{"$error":"#N/A"}},null,null,null,null,null,null,null,null,null,null,null,null,null,null,null,null,null,null,11,"01.01. 11:00",0.4,0]
[null,{"$f":"Traduction!A696","v":"2. Optimisat. distribution"},null,null,null,null,null,null,{"$f":"Z25","v":0.14000000000000001},null,null,null,null,null,null,null,null,null,null,null,null,null,null,null,null,null,null,12,"01.01. 12:00",0.7,0]
[null,{"$f":"Traduction!A698","v":"3. Optimisat. utilisation"},null,null,null,null,null,null,{"$f":"AA25","v":{"$error":"#N/A"}},null,null,null,null,null,null,null,null,null,null,null,null,null,null,null,null,null,null,13,"01.01. 13:00",0.8,0]
[null,{"$f":"AS12","v":"Système d'air comprimé à vitesse variable:\nLa plupart des compresseurs à vitesse variable permettent d'extraire, via l'affichage, les pourcentages du temps de fonctionnement correspondant aux différents taux de charge. Grâce à ces pourcentages, aux nombres d'heures de fonctionnement et aux puissances absorbées correspondantes (ces puissances à différents taux de charge sont à demander au constructeur ou à déterminer selon les fiches techniques CAGI américaines), la consommation annuelle totale peut-être déterminée. \nAttention : même si les estimations sont plus précises que dans le GA (analyse préliminaire), ce sont encore des valeurs estimées, basées sur des valeurs indicatives valables dans les conditions standards.\n\nSystème d'air comprimé à vitesse fixe : \nLa plupart des compresseurs d'air ont des compteurs d'heurse de fonctionnement et d'heures en charge. La différence est le temps de marche à vide. Si les heures de fonctionnement ne sont pas relevées régulièrement, un nombre d'heures et une date peuvent parfois être trouvés dans le carnet d'entretien ou l'autocollant d'entretien. Si ces informations ne sont pas disponibles, il est possible d'estimer les heures de fonctionnement annuelles grâce à l'année d'installation ou de construction du compresseur.  La consommation peut être estimée en multipliant les heures de fonctionnement en charge par la puissance absorbé en charge plus les heures de fonctionnement en marche à vide fois la puissance absorbée dans ce mode. Les puissances absorbées sont parfois disponibles sur les fiches techniques. Sinon, on approximera la puissance absorbée en charge à 100% de la puissance nominale et en marche à vide à 25%.\n\nSi aucune de ces informations n'est disponible, la consommation annuelle peut être très grossièrement estimée en multipliant la puissance nominale par 2000 heures de fonctionnement."},null,null,null,null,null,null,{"$f":"AS13","v":{"$error":"#N/A"}},null,null,null,null,null,null,null,null,null,null,null,null,null,null,null,null,null,null,14,"01.01. 14:00",0.9,0]
[null,{"$f":"AT12","v":"5. Optimisat. auxiliaires"},null,null,null,null,null,null,{"$f":"AT13","v":{"$error":"#REF!"}},null,null,null,null,null,null,null,null,null,null,null,null,null,null,null,null,null,null,15,"01.01. 15:00",0.8,0]
[null,{"$f":"AU12","v":"Temps nécessaire à rentabiliser financièrement la mesure d’optimisation énergétique en considérant qu’elle supporte uniquement la partie du coût de l’investissement liée à l’économie d’énergie. "},null,null,null,null,null,null,{"$f":"AU13","v":{"$error":"#N/A"}},null,null,null,null,null,null,null,null,null,null,null,null,null,null,null,null,null,null,16,"01.01. 16:00",0.5,0]
[null,null,null,null,null,null,null,null,null,null,null,null,null,null,null,null,null,null,null,null,null,null,null,null,null,null,null,17,"01.01. 17:00",0.2,0]
[null,null,null,null,null,null,null,null,null,null,null,null,null,null,null,null,null,null,null,null,null,null,null,null,null,null,null,18,"01.01. 18:00",-0.2,0]
[null,null,null,null,null,null,null,null,null,null,null,null,null,null,null,null,null,null,null,null,null,null,null,null,null,null,null,19,"01.01. 19:00",-0.5,0]
[null,null,null,null,null,null,null,null,null,null,null,null,null,null,null,null,null,null,null,null,null,null,null,null,null,null,null,20,"01.01. 20:00",-0.8,0]
[null,null,null,null,null,null,null,null,null,null,null,null,null,null,null,null,null,null,null,null,null,null,null,null,null,null,null,21,"01.01. 21:00",-1.2,0]
[null,{"$f":"INDEX(ClaLiGANa,MATCH(B1,ClaListeGF,0))","v":{"$error":"#REF!"}},{"$f":"INDEX(ClaLiGANa,MATCH(C1,ClaListeGF,0))","v":{"$error":"#REF!"}},{"$error":"#REF!"},{"$error":"#REF!"},{"$error":"#REF!"},{"$error":"#REF!"},{"$error":"#REF!"},{"$error":"#REF!"},{"$error":"#REF!"},{"$error":"#REF!"},{"$error":"#REF!"},{"$error":"#REF!"},{"$error":"#REF!"},{"$error":"#REF!"},{"$error":"#REF!"},{"$error":"#REF!"},{"$error":"#REF!"},{"$error":"#REF!"},{"$error":"#REF!"},{"$error":"#REF!"},{"$error":"#REF!"},{"$f":"INDEX(ClaLiGANa,MATCH(W1,ClaListeGF,0))","v":{"$error":"#REF!"}},{"$f":"INDEX(ClaLiGANa,MATCH(X1,ClaListeGF,0))","v":{"$error":"#REF!"}},{"$f":"INDEX(ClaLiGANa,MATCH(Y1,ClaListeGF,0))","v":{"$error":"#REF!"}},null,null,22,"01.01. 22:00",-1.5,0,null,{"$f":"INDEX(ClaLiGANa,MATCH(#REF!,ClaListePo,0))","v":{"$error":"#REF!"}}]
[null,null,null,null,null,null,null,null,null,null,null,null,null,null,null,null,null,null,null,null,null,null,null,null,null,null,null,23,"01.01. 23:00",-1.9,0]
[null,{"$f":"RIGHT(CELL(\"nomfichier\",A1),LEN(CELL(\"nomfichier\",A1))-FIND(\"]\",CELL(\"nomfichier\",A1)))","v":"APPGF"},null,null,null,null,null,null,null,null,null,null,null,null,null,null,null,null,null,null,null,null,null,null,null,null,null,24,"02.01. 00:00",-2.1,0]
[null,null,null,null,null,null,null,null,null,null,null,null,null,null,null,null,null,null,null,null,null,null,null,null,null,null,null,25,"02.01. 01:00",-2.4,0]
[null,null,null,null,null,null,null,null,null,null,null,null,null,null,null,null,null,null,null,null,null,null,null,null,null,null,null,26,"02.01. 02:00",-2.8,0]
[null,null,null,null,null,null,null,null,null,null,null,null,null,null,null,null,null,null,null,null,null,null,null,null,null,null,null,27,"02.01. 03:00",-2.5,0]
[null,null,null,null,null,null,null,null,null,null,null,null,null,null,null,null,null,null,null,null,null,null,null,null,null,null,null,28,"02.01. 04:00",-2.7,0]
[null,null,null,null,null,null,null,null,null,null,null,null,null,null,null,null,null,null,null,null,null,null,null,null,null,null,null,29,"02.01. 05:00",-2.9,0]
[null,null,null,null,null,null,null,null,null,null,null,null,null,null,null,null,null,null,null,null,null,null,null,null,null,null,null,30,"02.01. 06:00",-2.8,0]
[null,null,null,null,null,null,null,null,null,null,null,null,null,null,null,null,null,null,null,null,null,null,null,null,null,null,null,31,"02.01. 07:00",-2.9,0]
[null,null,null,null,null,null,null,null,null,null,null,null,null,null,null,null,null,null,null,null,null,null,null,null,null,null,null,32,"02.01. 08:00",-2.9,0]
[null,null,null,null,null,null,null,null,null,null,null,null,null,null,null,null,null,null,null,null,null,null,null,null,null,null,null,33,"02.01. 09:00",-2.9,0]
[null,null,null,null,null,null,null,null,null,null,null,null,null,null,null,null,null,null,null,null,null,null,null,null,null,null,null,34,"02.01. 10:00",-2.8,0]
[null,null,null,null,null,null,null,null,null,null,null,null,null,null,null,null,null,null,null,null,null,null,null,null,null,null,null,35,"02.01. 11:00",-2.2999999999999998,0]
[null,null,null,null,null,null,null,null,null,null,null,null,null,null,null,null,null,null,null,null,null,null,null,null,null,null,null,36,"02.01. 12:00",-1.8,0]
[null,null,null,null,null,null,null,null,null,null,null,null,null,null,null,null,null,null,null,null,null,null,null,null,null,null,null,37,"02.01. 13:00",-1.4,0]
[null,null,null,null,null,null,null,null,null,null,null,null,null,null,null,null,null,null,null,null,null,null,null,null,null,null,null,38,"02.01. 14:00",-1.3,0]
[null,null,null,null,null,null,null,null,null,null,null,null,null,null,null,null,null,null,null,null,null,null,null,null,null,null,null,39,"02.01. 15:00",-1.4,0]
[null,null,null,null,null,null,null,null,null,null,null,null,null,null,null,null,null,null,null,null,null,null,null,null,null,null,null,40,"02.01. 16:00",-1.8,0]
[null,null,null,null,null,null,null,null,null,null,null,null,null,null,null,null,null,null,null,null,null,null,null,null,null,null,null,41,"02.01. 17:00",-1.9,0]
[null,null,null,null,null,null,null,null,null,null,null,null,null,null,null,null,null,null,null,null,null,null,null,null,null,null,null,42,"02.01. 18:00",-2,0]
[null,null,null,null,null,null,null,null,null,null,null,null,null,null,null,null,null,null,null,null,null,null,null,null,null,null,null,43,"02.01. 19:00",-2,0]
[null,null,null,null,null,null,null,null,null,null,null,null,null,null,null,null,null,null,null,null,null,null,null,null,null,null,null,44,"02.01. 20:00",-2.1,0]
[null,null,null,null,null,null,null,null,null,null,null,null,null,null,null,null,null,null,null,null,null,null,null,null,null,null,null,45,"02.01. 21:00",-2.2000000000000002,0]
[null,null,null,null,null,null,null,null,null,null,null,null,null,null,null,null,null,null,null,null,null,null,null,null,null,null,null,46,"02.01. 22:00",-2.2000000000000002,0]
[null,null,null,null,null,null,null,null,null,null,null,null,null,null,null,null,null,null,null,null,null,null,null,null,null,null,null,47,"02.01. 23:00",-2.2999999999999998,0]
[null,null,null,null,null,null,null,null,null,null,null,null,null,null,null,null,null,null,null,null,null,null,null,null,null,null,null,48,"03.01. 00:00",-2.2000000000000002,0]
[null,null,null,null,null,null,null,null,null,null,null,null,null,null,null,null,null,null,null,null,null,null,null,null,null,null,null,49,"03.01. 01:00",-2,0]
[null,null,null,null,null,null,null,null,null,null,null,null,null,null,null,null,null,null,null,null,null,null,null,null,null,null,null,50,"03.01. 02:00",-1.8,0]
[null,null,null,null,null,null,null,null,null,null,null,null,null,null,null,null,null,null,null,null,null,null,null,null,null,null,null,51,"03.01. 03:00",-1.9,0]
[null,null,null,null,null,null,null,null,null,null,null,null,null,null,null,null,null,null,null,null,null,null,null,null,null,null,null,52,"03.01. 04:00",-1.7,0]
[null,null,null,null,null,null,null,null,null,null,null,null,null,null,null,null,null,null,null,null,null,null,null,null,null,null,null,53,"03.01. 05:00",-1.6,0]
[null,null,null,null,null,null,null,null,null,null,null,null,null,null,null,null,null,null,null,null,null,null,null,null,null,null,null,54,"03.01. 06:00",-1.6,0]
[null,null,null,null,null,null,null,null,null,null,null,null,null,null,null,null,null,null,null,null,null,null,null,null,null,null,null,55,"03.01. 07:00",-1.5,0]
[null,null,null,null,null,null,null,null,null,null,null,null,null,null,null,null,null,null,null,null,null,null,null,null,null,null,null,56,"03.01. 08:00",-1.4,0]
[null,null,null,null,null,null,null,null,null,null,null,null,null,null,null,null,null,null,null,null,null,null,null,null,null,null,null,57,"03.01. 09:00",-0.6,0]
[null,null,null,null,null,null,null,null,null,null,null,null,null,null,null,null,null,null,null,null,null,null,null,null,null,null,null,58,"03.01. 10:00",0.03,0]
[null,null,null,null,null,null,null,null,null,null,null,null,null,null,null,null,null,null,null,null,null,null,null,null,null,null,null,59,"03.01. 11:00",0.8,0]
[null,null,null,null,null,null,null,null,null,null,null,null,null,null,null,null,null,null,null,null,null,null,null,null,null,null,null,60,"03.01. 12:00",1.9,0]
[null,null,null,null,null,null,null,null,null,null,null,null,null,null,null,null,null,null,null,null,null,null,null,null,null,null,null,61,"03.01. 13:00",2.6,0]
[null,null,null,null,null,null,null,null,null,null,null,null,null,null,null,null,null,null,null,null,null,null,null,null,null,null,null,62,"03.01. 14:00",2.8,0]
[null,null,null,null,null,null,null,null,null,null,null,null,null,null,null,null,null,null,null,null,null,null,null,null,null,null,null,63,"03.01. 15:00",2.5,0]
[null,null,null,null,null,null,null,null,null,null,null,null,null,null,null,null,null,null,null,null,null,null,null,null,null,null,null,64,"03.01. 16:00",1.9,{"$f":"IF(AD104<=$AC$25,1,0)","v":0}]
[null,null,null,null,null,null,null,null,null,null,null,null,null,null,null,null,null,null,null,null,null,null,null,null,null,null,null,65,"03.01. 17:00",1.8,0]
[null,null,null,null,null,null,null,null,null,null,null,null,null,null,null,null,null,null,null,null,null,null,null,null,null,null,null,66,"03.01. 18:00",1.7,0]
[null,null,null,null,null,null,null,null,null,null,null,null,null,null,null,null,null,null,null,null,null,null,null,null,null,null,null,67,"03.01. 19:00",1.6,0]
[null,null,null,null,null,null,null,null,null,null,null,null,null,null,null,null,null,null,null,null,null,null,null,null,null,null,null,68,"03.01. 20:00",1.5,0]
[null,null,null,null,null,null,null,null,null,null,null,null,null,null,null,null,null,null,null,null,null,null,null,null,null,null,null,69,"03.01. 21:00",1.4,0]
[null,null,null,null,null,null,null,null,null,null,null,null,null,null,null,null,null,null,null,null,null,null,null,null,null,null,null,70,"03.01. 22:00",1.3,0]
[null,null,null,null,null,null,null,null,null,null,null,null,null,null,null,null,null,null,null,null,null,null,null,null,null,null,null,71,"03.01. 23:00",1.3,0]
[null,null,null,null,null,null,null,null,null,null,null,null,null,null,null,null,null,null,null,null,null,null,null,null,null,null,null,72,"04.01. 00:00",0.9,0]
[null,null,null,null,null,null,null,null,null,null,null,null,null,null,null,null,null,null,null,null,null,null,null,null,null,null,null,73,"04.01. 01:00",0.6,0]
[null,null,null,null,null,null,null,null,null,null,null,null,null,null,null,null,null,null,null,null,null,null,null,null,null,null,null,74,"04.01. 02:00",0.2,0]
[null,null,null,null,null,null,null,null,null,null,null,null,null,null,null,null,null,null,null,null,null,null,null,null,null,null,null,75,"04.01. 03:00",0.5,0]
[null,null,null,null,null,null,null,null,null,null,null,null,null,null,null,null,null,null,null,null,null,null,null,null,null,null,null,76,"04.01. 04:00",0.3,0]
[null,null,null,null,null,null,null,null,null,null,null,null,null,null,null,null,null,null,null,null,null,null,null,null,null,null,null,77,"04.01. 05:00",0.1,0]
[null,null,null,null,null,null,null,null,null,null,null,null,null,null,null,null,null,null,null,null,null,null,null,null,null,null,null,78,"04.01. 06:00",0.3,0]
[null,null,null,null,null,null,null,null,null,null,null,null,null,null,null,null,null,null,null,null,null,null,null,null,null,null,null,79,"04.01. 07:00",0.1,0]
[null,null,null,null,null,null,null,null,null,null,null,null,null,null,null,null,null,null,null,null,null,null,null,null,null,null,null,80,"04.01. 08:00",0.2,0]
[null,null,null,null,null,null,null,null,null,null,null,null,null,null,null,null,null,null,null,null,null,null,null,null,null,null,null,81,"04.01. 09:00",0.9,0]
[null,null,null,null,null,null,null,null,null,null,null,null,null,null,null,null,null,null,null,null,null,null,null,null,null,null,null,82,"04.01. 10:00",1.6,0]
[null,null,null,null,null,null,null,null,null,null,null,null,null,null,null,null,null,null,null,null,null,null,null,null,null,null,null,83,"04.01. 11:00",2.2000000000000002,0]
[null,null,null,null,null,null,null,null,null,null,null,null,null,null,null,null,null,null,null,null,null,null,null,null,null,null,null,84,"04.01. 12:00",2.5,0]
[null,null,null,null,null,null,null,null,null,null,null,null,null,null,null,null,null,null,null,null,null,null,null,null,null,null,null,85,"04.01. 13:00",2.1,0]
[null,null,null,null,null,null,null,null,null,null,null,null,null,null,null,null,null,null,null,null,null,null,null,null,null,null,null,86,"04.01. 14:00",1.9,0]
[null,null,null,null,null,null,null,null,null,null,null,null,null,null,null,null,null,null,null,null,null,null,null,null,null,null,null,87,"04.01. 15:00",1.6,0]
[null,null,null,null,null,null,null,null,null,null,null,null,null,null,null,null,null,null,null,null,null,null,null,null,null,null,null,88,"04.01. 16:00",1.1000000000000001,0]
[null,null,null,null,null,null,null,null,null,null,null,null,null,null,null,null,null,null,null,null,null,null,null,null,null,null,null,89,"04.01. 17:00",0.9,0]
[null,null,null,null,null,null,null,null,null,null,null,null,null,null,null,null,null,null,null,null,null,null,null,null,null,null,null,90,"04.01. 18:00",0.7,0]
[null,null,null,null,null,null,null,null,null,null,null,null,null,null,null,null,null,null,null,null,null,null,null,null,null,null,null,91,"04.01. 19:00",0.6,0]
[null,null,null,null,null,null,null,null,null,null,null,null,null,null,null,null,null,null,null,null,null,null,null,null,null,null,null,92,"04.01. 20:00",0.4,0]
[null,null,null,null,null,null,null,null,null,null,null,null,null,null,null,null,null,null,null,null,null,null,null,null,null,null,null,93,"04.01. 21:00",0.2,0]
[null,null,null,null,null,null,null,null,null,null,null,null,null,null,null,null,null,null,null,null,null,null,null,null,null,null,null,94,"04.01. 22:00",-0.02,0]
[null,null,null,null,null,null,null,null,null,null,null,null,null,null,null,null,null,null,null,null,null,null,null,null,null,null,null,95,"04.01. 23:00",-0.2,0]
[null,null,null,null,null,null,null,null,null,null,null,null,null,null,null,null,null,null,null,null,null,null,null,null,null,null,null,96,"05.01. 00:00",-0.3,0]
[null,null,null,null,null,null,null,null,null,null,null,null,null,null,null,null,null,null,null,null,null,null,null,null,null,null,null,97,"05.01. 01:00",-0.3,0]
[null,null,null,null,null,null,null,null,null,null,null,null,null,null,null,null,null,null,null,null,null,null,null,null,null,null,null,98,"05.01. 02:00",-0.3,0]
[null,null,null,null,null,null,null,null,null,null,null,null,null,null,null,null,null,null,null,null,null,null,null,null,null,null,null,99,"05.01. 03:00",-0.2,0]
[null,null,null,null,null,null,null,null,null,null,null,null,null,null,null,null,null,null,null,null,null,null,null,null,null,null,null,100,"05.01. 04:00",-0.2,0]
[null,null,null,null,null,null,null,null,null,null,null,null,null,null,null,null,null,null,null,null,null,null,null,null,null,null,null,101,"05.01. 05:00",-0.2,0]
[null,null,null,null,null,null,null,null,null,null,null,null,null,null,null,null,null,null,null,null,null,null,null,null,null,null,null,102,"05.01. 06:00",-0.1,0]
[null,null,null,null,null,null,null,null,null,null,null,null,null,null,null,null,null,null,null,null,null,null,null,null,null,null,null,103,"05.01. 07:00",-0.1,0]
[null,null,null,null,null,null,null,null,null,null,null,null,null,null,null,null,null,null,null,null,null,null,null,null,null,null,null,104,"05.01. 08:00",-0.04,0]
[null,null,null,null,null,null,null,null,null,null,null,null,null,null,null,null,null,null,null,null,null,null,null,null,null,null,null,105,"05.01. 09:00",0.3,0]
[null,null,null,null,null,null,null,null,null,null,null,null,null,null,null,null,null,null,null,null,null,null,null,null,null,null,null,106,"05.01. 10:00",2.2000000000000002,0]
[null,null,null,null,null,null,null,null,null,null,null,null,null,null,null,null,null,null,null,null,null,null,null,null,null,null,null,107,"05.01. 11:00",3.2,0]
[null,null,null,null,null,null,null,null,null,null,null,null,null,null,null,null,null,null,null,null,null,null,null,null,null,null,null,108,"05.01. 12:00",3.5,0]
[null,null,null,null,null,null,null,null,null,null,null,null,null,null,null,null,null,null,null,null,null,null,null,null,null,null,null,109,"05.01. 13:00",3.6,0]
[1,null,null,null,null,null,null,null,null,null,null,null,null,null,null,null,null,null,null,null,null,null,null,null,null,null,null,110,"05.01. 14:00",3.6,0]
[null,null,null,null,null,null,null,null,null,null,null,null,null,null,null,null,null,null,null,null,null,null,null,null,null,null,null,111,"05.01. 15:00",2.9,0]
[null,null,null,null,null,null,null,null,null,null,null,null,null,null,null,null,null,null,null,null,null,null,null,null,null,null,null,112,"05.01. 16:00",2.4,0]
[null,null,null,null,null,null,null,null,null,null,null,null,null,null,null,null,null,null,null,null,null,null,null,null,null,null,null,113,"05.01. 17:00",2.2000000000000002,0]
[null,null,null,null,null,null,null,null,null,null,null,null,null,null,null,null,null,null,null,null,null,null,null,null,null,null,null,114,"05.01. 18:00",1.9,0]
[null,null,null,null,null,null,null,null,null,null,null,null,null,null,null,null,null,null,null,null,null,null,null,null,null,null,null,115,"05.01. 19:00",1.7,0]
[null,null,null,null,null,null,null,null,null,null,null,null,null,null,null,null,null,null,null,null,null,null,null,null,null,null,null,116,"05.01. 20:00",1.5,0]
[null,null,null,null,null,null,null,null,null,null,null,null,null,null,null,null,null,null,null,null,null,null,null,null,null,null,null,117,"05.01. 21:00",1.2,0]
[null,null,null,null,null,null,null,null,null,null,null,null,null,null,null,null,null,null,null,null,null,null,null,null,null,null,null,118,"05.01. 22:00",1,0]
[null,null,null,null,null,null,null,null,null,null,null,null,null,null,null,null,null,null,null,null,null,null,null,null,null,null,null,119,"05.01. 23:00",0.8,0]
[null,null,null,null,null,null,null,null,null,null,null,null,null,null,null,null,null,null,null,null,null,null,null,null,null,null,null,120,"06.01. 00:00",0.4,0]
[null,null,null,null,null,null,null,null,null,null,null,null,null,null,null,null,null,null,null,null,null,null,null,null,null,null,null,121,"06.01. 01:00",0.02,0]
[null,null,null,null,null,null,null,null,null,null,null,null,null,null,null,null,null,null,null,null,null,null,null,null,null,null,null,122,"06.01. 02:00",-0.4,0]
[null,null,null,null,null,null,null,null,null,null,null,null,null,null,null,null,null,null,null,null,null,null,null,null,null,null,null,123,"06.01. 03:00",-0.05,0]
[null,null,null,null,null,null,null,null,null,null,null,null,null,null,null,null,null,null,null,null,null,null,null,null,null,null,null,124,"06.01. 04:00",-0.3,0]
[null,null,null,null,null,null,null,null,null,null,null,null,null,null,null,null,null,null,null,null,null,null,null,null,null,null,null,125,"06.01. 05:00",-0.5,0]
[null,null,null,null,null,null,null,null,null,null,null,null,null,null,null,null,null,null,null,null,null,null,null,null,null,null,null,126,"06.01. 06:00",-0.3,0]
[null,null,null,null,null,null,null,null,null,null,null,null,null,null,null,null,null,null,null,null,null,null,null,null,null,null,null,127,"06.01. 07:00",-0.4,0]
[null,null,null,null,null,null,null,null,null,null,null,null,null,null,null,null,null,null,null,null,null,null,null,null,null,null,null,128,"06.01. 08:00",-0.4,{"$f":"IF(AD168<=$AC$25,1,0)","v":0}]
[null,null,null,null,null,null,null,null,null,null,null,null,null,null,null,null,null,null,null,null,null,null,null,null,null,null,null,129,"06.01. 09:00",-0.4,0]
[null,null,null,null,null,null,null,null,null,null,null,null,null,null,null,null,null,null,null,null,null,null,null,null,null,null,null,130,"06.01. 10:00",-0.1,0]
[null,null,null,null,null,null,null,null,null,null,null,null,null,null,null,null,null,null,null,null,null,null,null,null,null,null,null,131,"06.01. 11:00",0.2,0]
[null,null,null,null,null,null,null,null,null,null,null,null,null,null,null,null,null,null,null,null,null,null,null,null,null,null,null,132,"06.01. 12:00",0.3,0]
[null,null,null,null,null,null,null,null,null,null,null,null,null,null,null,null,null,null,null,null,null,null,null,null,null,null,null,133,"06.01. 13:00",1.2,0]
[null,null,null,null,null,null,null,null,null,null,null,null,null,null,null,null,null,null,null,null,null,null,null,null,null,null,null,134,"06.01. 14:00",1.6,0]
[null,null,null,null,null,null,null,null,null,null,null,null,null,null,null,null,null,null,null,null,null,null,null,null,null,null,null,135,"06.01. 15:00",1.6,0]
[null,null,null,null,null,null,null,null,null,null,null,null,null,null,null,null,null,null,null,null,null,null,null,null,null,null,null,136,"06.01. 16:00",1.2,0]
[null,null,null,null,null,null,null,null,null,null,null,null,null,null,null,null,null,null,null,null,null,null,null,null,null,null,null,137,"06.01. 17:00",0.8,0]
[null,null,null,null,null,null,null,null,null,null,null,null,null,null,null,null,null,null,null,null,null,null,null,null,null,null,null,138,"06.01. 18:00",0.4,0]
[null,null,null,null,null,null,null,null,null,null,null,null,null,null,null,null,null,null,null,null,null,null,null,null,null,null,null,139,"06.01. 19:00",-1E-3,0]
[null,null,null,null,null,null,null,null,null,null,null,null,null,null,null,null,null,null,null,null,null,null,null,null,null,null,null,140,"06.01. 20:00",-0.4,0]
[null,null,null,null,null,null,null,null,null,null,null,null,null,null,null,null,null,null,null,null,null,null,null,null,null,null,null,141,"06.01. 21:00",-0.8,0]
[null,null,null,null,null,null,null,null,null,null,null,null,null,null,null,null,null,null,null,null,null,null,null,null,null,null,null,142,"06.01. 22:00",-1.2,0]
[null,null,null,null,null,null,null,null,null,null,null,null,null,null,null,null,null,null,null,null,null,null,null,null,null,null,null,143,"06.01. 23:00",-1.6,0]
[null,null,null,null,null,null,null,null,null,null,null,null,null,null,null,null,null,null,null,null,null,null,null,null,null,null,null,144,"07.01. 00:00",-1.9,0]
[null,null,null,null,null,null,null,null,null,null,null,null,null,null,null,null,null,null,null,null,null,null,null,null,null,null,null,145,"07.01. 01:00",-2.2000000000000002,0]
[null,null,null,null,null,null,null,null,null,null,null,null,null,null,null,null,null,null,null,null,null,null,null,null,null,null,null,146,"07.01. 02:00",-2.5,0]
[null,null,null,null,null,null,null,null,null,null,null,null,null,null,null,null,null,null,null,null,null,null,null,null,null,null,null,147,"07.01. 03:00",-2.2000000000000002,0]
[null,null,null,null,null,null,null,null,null,null,null,null,null,null,null,null,null,null,null,null,null,null,null,null,null,null,null,148,"07.01. 04:00",-2.4,0]
[null,null,null,null,null,null,null,null,null,null,null,null,null,null,null,null,null,null,null,null,null,null,null,null,null,null,null,149,"07.01. 05:00",-2.5,0]
[null,null,null,null,null,null,null,null,null,null,null,null,null,null,null,null,null,null,null,null,null,null,null,null,null,null,null,150,"07.01. 06:00",-2.4,0]
[null,null,null,null,null,null,null,null,null,null,null,null,null,null,null,null,null,null,null,null,null,null,null,null,null,null,null,151,"07.01. 07:00",-2.5,0]
[null,null,null,null,null,null,null,null,null,null,null,null,null,null,null,null,null,null,null,null,null,null,null,null,null,null,null,152,"07.01. 08:00",-2.2999999999999998,0]
[null,null,null,null,null,null,null,null,null,null,null,null,null,null,null,null,null,null,null,null,null,null,null,null,null,null,null,153,"07.01. 09:00",-0.7,0]
[null,null,null,null,null,null,null,null,null,null,null,null,null,null,null,null,null,null,null,null,null,null,null,null,null,null,null,154,"07.01. 10:00",0.8,0]
[null,null,null,null,null,null,null,null,null,null,null,null,null,null,null,null,null,null,null,null,null,null,null,null,null,null,null,155,"07.01. 11:00",1.8,0]
[null,null,null,null,null,null,null,null,null,null,null,null,null,null,null,null,null,null,null,null,null,null,null,null,null,null,null,156,"07.01. 12:00",2.7,0]
[null,null,null,null,null,null,null,null,null,null,null,null,null,null,null,null,null,null,null,null,null,null,null,null,null,null,null,157,"07.01. 13:00",2.7,0]
[null,null,null,null,null,null,null,null,null,null,null,null,null,null,null,null,null,null,null,null,null,null,null,null,null,null,null,158,"07.01. 14:00",2.2000000000000002,0]
[null,null,null,null,null,null,null,null,null,null,null,null,null,null,null,null,null,null,null,null,null,null,null,null,null,null,null,159,"07.01. 15:00",1.6,0]
[null,null,null,null,null,null,null,null,null,null,null,null,null,null,null,null,null,null,null,null,null,null,null,null,null,null,null,160,"07.01. 16:00",0.8,0]
[null,null,null,null,null,null,null,null,null,null,null,null,null,null,null,null,null,null,null,null,null,null,null,null,null,null,null,161,"07.01. 17:00",0.4,0]
[null,null,null,null,null,null,null,null,null,null,null,null,null,null,null,null,null,null,null,null,null,null,null,null,null,null,null,162,"07.01. 18:00",0.1,0]
[null,null,null,null,null,null,null,null,null,null,null,null,null,null,null,null,null,null,null,null,null,null,null,null,null,null,null,163,"07.01. 19:00",-0.3,0]
[null,null,null,null,null,null,null,null,null,null,null,null,null,null,null,null,null,null,null,null,null,null,null,null,null,null,null,164,"07.01. 20:00",-0.6,0]
[null,null,null,null,null,null,null,null,null,null,null,null,null,null,null,null,null,null,null,null,null,null,null,null,null,null,null,165,"07.01. 21:00",-0.9,0]
[null,null,null,null,null,null,null,null,null,null,null,null,null,null,null,null,null,null,null,null,null,null,null,null,null,null,null,166,"07.01. 22:00",-1.3,0]
[null,null,null,null,null,null,null,null,null,null,null,null,null,null,null,null,null,null,null,null,null,null,null,null,null,null,null,167,"07.01. 23:00",-1.6,0]
[null,null,null,null,null,null,null,null,null,null,null,null,null,null,null,null,null,null,null,null,null,null,null,null,null,null,null,168,"08.01. 00:00",-1.9,0]
[null,null,null,null,null,null,null,null,null,null,null,null,null,null,null,null,null,null,null,null,null,null,null,null,null,null,null,169,"08.01. 01:00",-2.2999999999999998,0]
[null,null,null,null,null,null,null,null,null,null,null,null,null,null,null,null,null,null,null,null,null,null,null,null,null,null,null,170,"08.01. 02:00",-2.6,0]
[null,null,null,null,null,null,null,null,null,null,null,null,null,null,null,null,null,null,null,null,null,null,null,null,null,null,null,171,"08.01. 03:00",-2.2999999999999998,0]
[null,null,null,null,null,null,null,null,null,null,null,null,null,null,null,null,null,null,null,null,null,null,null,null,null,null,null,172,"08.01. 04:00",-2.5,0]
[null,null,null,null,null,null,null,null,null,null,null,null,null,null,null,null,null,null,null,null,null,null,null,null,null,null,null,173,"08.01. 05:00",-2.7,0]
[null,null,null,null,null,null,null,null,null,null,null,null,null,null,null,null,null,null,null,null,null,null,null,null,null,null,null,174,"08.01. 06:00",-2.5,0]
[null,null,null,null,null,null,null,null,null,null,null,null,null,null,null,null,null,null,null,null,null,null,null,null,null,null,null,175,"08.01. 07:00",-2.6,0]
[null,null,null,null,null,null,null,null,null,null,null,null,null,null,null,null,null,null,null,null,null,null,null,null,null,null,null,176,"08.01. 08:00",-2.6,0]
[null,null,null,null,null,null,null,null,null,null,null,null,null,null,null,null,null,null,null,null,null,null,null,null,null,null,null,177,"08.01. 09:00",-2.2000000000000002,0]
[null,null,null,null,null,null,null,null,null,null,null,null,null,null,null,null,null,null,null,null,null,null,null,null,null,null,null,178,"08.01. 10:00",-1.7,0]
[null,null,null,null,null,null,null,null,null,null,null,null,null,null,null,null,null,null,null,null,null,null,null,null,null,null,null,179,"08.01. 11:00",-0.5,0]
[null,null,null,null,null,null,null,null,null,null,null,null,null,null,null,null,null,null,null,null,null,null,null,null,null,null,null,180,"08.01. 12:00",0.4,0]
[null,null,null,null,null,null,null,null,null,null,null,null,null,null,null,null,null,null,null,null,null,null,null,null,null,null,null,181,"08.01. 13:00",1.4,0]
[null,null,null,null,null,null,null,null,null,null,null,null,null,null,null,null,null,null,null,null,null,null,null,null,null,null,null,182,"08.01. 14:00",2,0]
[null,null,null,null,null,null,null,null,null,null,null,null,null,null,null,null,null,null,null,null,null,null,null,null,null,null,null,183,"08.01. 15:00",2,0]
[null,null,null,null,null,null,null,null,null,null,null,null,null,null,null,null,null,null,null,null,null,null,null,null,null,null,null,184,"08.01. 16:00",1.2,0]
[null,null,null,null,null,null,null,null,null,null,null,null,null,null,null,null,null,null,null,null,null,null,null,null,null,null,null,185,"08.01. 17:00",0.9,0]
[null,null,null,null,null,null,null,null,null,null,null,null,null,null,null,null,null,null,null,null,null,null,null,null,null,null,null,186,"08.01. 18:00",0.6,0]
[null,null,null,null,null,null,null,null,null,null,null,null,null,null,null,null,null,null,null,null,null,null,null,null,null,null,null,187,"08.01. 19:00",0.2,0]
[null,null,null,null,null,null,null,null,null,null,null,null,null,null,null,null,null,null,null,null,null,null,null,null,null,null,null,188,"08.01. 20:00",-0.1,0]
[null,null,null,null,null,null,null,null,null,null,null,null,null,null,null,null,null,null,null,null,null,null,null,null,null,null,null,189,"08.01. 21:00",-0.4,0]
[null,null,null,null,null,null,null,null,null,null,null,null,null,null,null,null,null,null,null,null,null,null,null,null,null,null,null,190,"08.01. 22:00",-0.8,0]
[null,null,null,null,null,null,null,null,null,null,null,null,null,null,null,null,null,null,null,null,null,null,null,null,null,null,null,191,"08.01. 23:00",-1.1000000000000001,0]
[null,null,null,null,null,null,null,null,null,null,null,null,null,null,null,null,null,null,null,null,null,null,null,null,null,null,null,192,"09.01. 00:00",-1.3,{"$f":"IF(AD232<=$AC$25,1,0)","v":0}]
[null,null,null,null,null,null,null,null,null,null,null,null,null,null,null,null,null,null,null,null,null,null,null,null,null,null,null,193,"09.01. 01:00",-1.6,0]
[null,null,null,null,null,null,null,null,null,null,null,null,null,null,null,null,null,null,null,null,null,null,null,null,null,null,null,194,"09.01. 02:00",-1.8,0]
[null,null,null,null,null,null,null,null,null,null,null,null,null,null,null,null,null,null,null,null,null,null,null,null,null,null,null,195,"09.01. 03:00",-1.6,0]
[null,null,null,null,null,null,null,null,null,null,null,null,null,null,null,null,null,null,null,null,null,null,null,null,null,null,null,196,"09.01. 04:00",-1.7,0]
[null,null,null,null,null,null,null,null,null,null,null,null,null,null,null,null,null,null,null,null,null,null,null,null,null,null,null,197,"09.01. 05:00",-1.9,0]
[null,null,null,null,null,null,null,null,null,null,null,null,null,null,null,null,null,null,null,null,null,null,null,null,null,null,null,198,"09.01. 06:00",-1.7,0]
[null,null,null,null,null,null,null,null,null,null,null,null,null,null,null,null,null,null,null,null,null,null,null,null,null,null,null,199,"09.01. 07:00",-1.8,0]
[null,null,null,null,null,null,null,null,null,null,null,null,null,null,null,null,null,null,null,null,null,null,null,null,null,null,null,200,"09.01. 08:00",-1.8,0]
[null,null,null,null,null,null,null,null,null,null,null,null,null,null,null,null,null,null,null,null,null,null,null,null,null,null,null,201,"09.01. 09:00",-1.6,0]
[null,null,null,null,null,null,null,null,null,null,null,null,null,null,null,null,null,null,null,null,null,null,null,null,null,null,null,202,"09.01. 10:00",-1.2,0]
[null,null,null,null,null,null,null,null,null,null,null,null,null,null,null,null,null,null,null,null,null,null,null,null,null,null,null,203,"09.01. 11:00",-0.9,0]
[null,null,null,null,null,null,null,null,null,null,null,null,null,null,null,null,null,null,null,null,null,null,null,null,null,null,null,204,"09.01. 12:00",-0.8,0]
[null,null,null,null,null,null,null,null,null,null,null,null,null,null,null,null,null,null,null,null,null,null,null,null,null,null,null,205,"09.01. 13:00",-0.8,0]
[null,null,null,null,null,null,null,null,null,null,null,null,null,null,null,null,null,null,null,null,null,null,null,null,null,null,null,206,"09.01. 14:00",-0.9,0]
[null,null,null,null,null,null,null,null,null,null,null,null,null,null,null,null,null,null,null,null,null,null,null,null,null,null,null,207,"09.01. 15:00",-1,0]
[null,null,null,null,null,null,null,null,null,null,null,null,null,null,null,null,null,null,null,null,null,null,null,null,null,null,null,208,"09.01. 16:00",-1.2,0]
[null,null,null,null,null,null,null,null,null,null,null,null,null,null,null,null,null,null,null,null,null,null,null,null,null,null,null,209,"09.01. 17:00",-1.5,0]
[null,null,null,null,null,null,null,null,null,null,null,null,null,null,null,null,null,null,null,null,null,null,null,null,null,null,null,210,"09.01. 18:00",-1.8,0]
[null,null,null,null,null,null,null,null,null,null,null,null,null,null,null,null,null,null,null,null,null,null,null,null,null,null,null,211,"09.01. 19:00",-2.1,0]
[null,null,null,null,null,null,null,null,null,null,null,null,null,null,null,null,null,null,null,null,null,null,null,null,null,null,null,212,"09.01. 20:00",-2.5,0]
[null,null,null,null,null,null,null,null,null,null,null,null,null,null,null,null,null,null,null,null,null,null,null,null,null,null,null,213,"09.01. 21:00",-2.8,0]
[null,null,null,null,null,null,null,null,null,null,null,null,null,null,null,null,null,null,null,null,null,null,null,null,null,null,null,214,"09.01. 22:00",-3.1,0]
[null,null,null,null,null,null,null,null,null,null,null,null,null,null,null,null,null,null,null,null,null,null,null,null,null,null,null,215,"09.01. 23:00",-3.4,0]
[null,null,null,null,null,null,null,null,null,null,null,null,null,null,null,null,null,null,null,null,null,null,null,null,null,null,null,216,"10.01. 00:00",-4,0]
[null,null,null,null,null,null,null,null,null,null,null,null,null,null,null,null,null,null,null,null,null,null,null,null,null,null,null,217,"10.01. 01:00",-4.7,0]
[null,null,null,null,null,null,null,null,null,null,null,null,null,null,null,null,null,null,null,null,null,null,null,null,null,null,null,218,"10.01. 02:00",-5.3,1]
[null,null,null,null,null,null,null,null,null,null,null,null,null,null,null,null,null,null,null,null,null,null,null,null,null,null,null,219,"10.01. 03:00",-4.8,0]
[null,null,null,null,null,null,null,null,null,null,null,null,null,null,null,null,null,null,null,null,null,null,null,null,null,null,null,220,"10.01. 04:00",-5.2,1]
[null,null,null,null,null,null,null,null,null,null,null,null,null,null,null,null,null,null,null,null,null,null,null,null,null,null,null,221,"10.01. 05:00",-5.6,1]
[null,null,null,null,null,null,null,null,null,null,null,null,null,null,null,null,null,null,null,null,null,null,null,null,null,null,null,222,"10.01. 06:00",-5.3,1]
[null,null,null,null,null,null,null,null,null,null,null,null,null,null,null,null,null,null,null,null,null,null,null,null,null,null,null,223,"10.01. 07:00",-5.6,1]
[null,null,null,null,null,null,null,null,null,null,null,null,null,null,null,null,null,null,null,null,null,null,null,null,null,null,null,224,"10.01. 08:00",-5.5,1]
[null,null,null,null,null,null,null,null,null,null,null,null,null,null,null,null,null,null,null,null,null,null,null,null,null,null,null,225,"10.01. 09:00",-4.0999999999999996,0]
[null,null,null,null,null,null,null,null,null,null,null,null,null,null,null,null,null,null,null,null,null,null,null,null,null,null,null,226,"10.01. 10:00",-2.8,0]
[null,null,null,null,null,null,null,null,null,null,null,null,null,null,null,null,null,null,null,null,null,null,null,null,null,null,null,227,"10.01. 11:00",-1.8,0]
[null,null,null,null,null,null,null,null,null,null,null,null,null,null,null,null,null,null,null,null,null,null,null,null,null,null,null,228,"10.01. 12:00",-1.2,0]
[null,null,null,null,null,null,null,null,null,null,null,null,null,null,null,null,null,null,null,null,null,null,null,null,null,null,null,229,"10.01. 13:00",-1,0]
[null,null,null,null,null,null,null,null,null,null,null,null,null,null,null,null,null,null,null,null,null,null,null,null,null,null,null,230,"10.01. 14:00",-1.1000000000000001,0]
[null,null,null,null,null,null,null,null,null,null,null,null,null,null,null,null,null,null,null,null,null,null,null,null,null,null,null,231,"10.01. 15:00",-1.7,0]
[null,null,null,null,null,null,null,null,null,null,null,null,null,null,null,null,null,null,null,null,null,null,null,null,null,null,null,232,"10.01. 16:00",-2.6,0]
[null,null,null,null,null,null,null,null,null,null,null,null,null,null,null,null,null,null,null,null,null,null,null,null,null,null,null,233,"10.01. 17:00",-3.1,0]
[null,null,null,null,null,null,null,null,null,null,null,null,null,null,null,null,null,null,null,null,null,null,null,null,null,null,null,234,"10.01. 18:00",-3.6,0]
[null,null,null,null,null,null,null,null,null,null,null,null,null,null,null,null,null,null,null,null,null,null,null,null,null,null,null,235,"10.01. 19:00",-4.0999999999999996,0]
[null,null,null,null,null,null,null,null,null,null,null,null,null,null,null,null,null,null,null,null,null,null,null,null,null,null,null,236,"10.01. 20:00",-4.5999999999999996,0]
[null,null,null,null,null,null,null,null,null,null,null,null,null,null,null,null,null,null,null,null,null,null,null,null,null,null,null,237,"10.01. 21:00",-5.0999999999999996,1]
[null,null,null,null,null,null,null,null,null,null,null,null,null,null,null,null,null,null,null,null,null,null,null,null,null,null,null,238,"10.01. 22:00",-5.7,1]
[null,null,null,null,null,null,null,null,null,null,null,null,null,null,null,null,null,null,null,null,null,null,null,null,null,null,null,239,"10.01. 23:00",-6.2,1]
[null,null,null,null,null,null,null,null,null,null,null,null,null,null,null,null,null,null,null,null,null,null,null,null,null,null,null,240,"11.01. 00:00",-6.3,1]
[null,null,null,null,null,null,null,null,null,null,null,null,null,null,null,null,null,null,null,null,null,null,null,null,null,null,null,241,"11.01. 01:00",-6.5,1]
[null,null,null,null,null,null,null,null,null,null,null,null,null,null,null,null,null,null,null,null,null,null,null,null,null,null,null,242,"11.01. 02:00",-6.7,1]
[null,null,null,null,null,null,null,null,null,null,null,null,null,null,null,null,null,null,null,null,null,null,null,null,null,null,null,243,"11.01. 03:00",-6.5,1]
[null,null,null,null,null,null,null,null,null,null,null,null,null,null,null,null,null,null,null,null,null,null,null,null,null,null,null,244,"11.01. 04:00",-6.6,1]
[null,null,null,null,null,null,null,null,null,null,null,null,null,null,null,null,null,null,null,null,null,null,null,null,null,null,null,245,"11.01. 05:00",-6.6,1]
[null,null,null,null,null,null,null,null,null,null,null,null,null,null,null,null,null,null,null,null,null,null,null,null,null,null,null,246,"11.01. 06:00",-6.5,1]
[null,null,null,null,null,null,null,null,null,null,null,null,null,null,null,null,null,null,null,null,null,null,null,null,null,null,null,247,"11.01. 07:00",-6.5,1]
[null,null,null,null,null,null,null,null,null,null,null,null,null,null,null,null,null,null,null,null,null,null,null,null,null,null,null,248,"11.01. 08:00",-6.3,1]
[null,null,null,null,null,null,null,null,null,null,null,null,null,null,null,null,null,null,null,null,null,null,null,null,null,null,null,249,"11.01. 09:00",-4.3,0]
[null,null,null,null,null,null,null,null,null,null,null,null,null,null,null,null,null,null,null,null,null,null,null,null,null,null,null,250,"11.01. 10:00",-2.4,0]
[null,null,null,null,null,null,null,null,null,null,null,null,null,null,null,null,null,null,null,null,null,null,null,null,null,null,null,251,"11.01. 11:00",-0.8,0]
[null,null,null,null,null,null,null,null,null,null,null,null,null,null,null,null,null,null,null,null,null,null,null,null,null,null,null,252,"11.01. 12:00",0.4,0]
[null,null,null,null,null,null,null,null,null,null,null,null,null,null,null,null,null,null,null,null,null,null,null,null,null,null,null,253,"11.01. 13:00",1,0]
[null,null,null,null,null,null,null,null,null,null,null,null,null,null,null,null,null,null,null,null,null,null,null,null,null,null,null,254,"11.01. 14:00",1.2,0]
[null,null,null,null,null,null,null,null,null,null,null,null,null,null,null,null,null,null,null,null,null,null,null,null,null,null,null,255,"11.01. 15:00",0.7,0]
[null,null,null,null,null,null,null,null,null,null,null,null,null,null,null,null,null,null,null,null,null,null,null,null,null,null,null,256,"11.01. 16:00",-0.5,{"$f":"IF(AD296<=$AC$25,1,0)","v":0}]
[null,null,null,null,null,null,null,null,null,null,null,null,null,null,null,null,null,null,null,null,null,null,null,null,null,null,null,257,"11.01. 17:00",-1,0]
[null,null,null,null,null,null,null,null,null,null,null,null,null,null,null,null,null,null,null,null,null,null,null,null,null,null,null,258,"11.01. 18:00",-1.4,0]
[null,null,null,null,null,null,null,null,null,null,null,null,null,null,null,null,null,null,null,null,null,null,null,null,null,null,null,259,"11.01. 19:00",-1.8,0]
[null,null,null,null,null,null,null,null,null,null,null,null,null,null,null,null,null,null,null,null,null,null,null,null,null,null,null,260,"11.01. 20:00",-2.2999999999999998,0]
[null,null,null,null,null,null,null,null,null,null,null,null,null,null,null,null,null,null,null,null,null,null,null,null,null,null,null,261,"11.01. 21:00",-2.7,0]
[null,null,null,null,null,null,null,null,null,null,null,null,null,null,null,null,null,null,null,null,null,null,null,null,null,null,null,262,"11.01. 22:00",-3.2,0]
[null,null,null,null,null,null,null,null,null,null,null,null,null,null,null,null,null,null,null,null,null,null,null,null,null,null,null,263,"11.01. 23:00",-3.6,0]
[null,null,null,null,null,null,null,null,null,null,null,null,null,null,null,null,null,null,null,null,null,null,null,null,null,null,null,264,"12.01. 00:00",-4.0999999999999996,0]
[null,null,null,null,null,null,null,null,null,null,null,null,null,null,null,null,null,null,null,null,null,null,null,null,null,null,null,265,"12.01. 01:00",-4.5999999999999996,0]
[null,null,null,null,null,null,null,null,null,null,null,null,null,null,null,null,null,null,null,null,null,null,null,null,null,null,null,266,"12.01. 02:00",-5.2,1]
[null,null,null,null,null,null,null,null,null,null,null,null,null,null,null,null,null,null,null,null,null,null,null,null,null,null,null,267,"12.01. 03:00",-4.7,0]
[null,null,null,null,null,null,null,null,null,null,null,null,null,null,null,null,null,null,null,null,null,null,null,null,null,null,null,268,"12.01. 04:00",-5,1]
[null,null,null,null,null,null,null,null,null,null,null,null,null,null,null,null,null,null,null,null,null,null,null,null,null,null,null,269,"12.01. 05:00",-5.3,1]
[null,null,null,null,null,null,null,null,null,null,null,null,null,null,null,null,null,null,null,null,null,null,null,null,null,null,null,270,"12.01. 06:00",-5,1]
[null,null,null,null,null,null,null,null,null,null,null,null,null,null,null,null,null,null,null,null,null,null,null,null,null,null,null,271,"12.01. 07:00",-5.2,1]
[null,null,null,null,null,null,null,null,null,null,null,null,null,null,null,null,null,null,null,null,null,null,null,null,null,null,null,272,"12.01. 08:00",-5.0999999999999996,1]
[null,null,null,null,null,null,null,null,null,null,null,null,null,null,null,null,null,null,null,null,null,null,null,null,null,null,null,273,"12.01. 09:00",-3.6,0]
[null,null,null,null,null,null,null,null,null,null,null,null,null,null,null,null,null,null,null,null,null,null,null,null,null,null,null,274,"12.01. 10:00",-2.1,0]
[null,null,null,null,null,null,null,null,null,null,null,null,null,null,null,null,null,null,null,null,null,null,null,null,null,null,null,275,"12.01. 11:00",-0.8,0]
[null,null,null,null,null,null,null,null,null,null,null,null,null,null,null,null,null,null,null,null,null,null,null,null,null,null,null,276,"12.01. 12:00",0.1,0]
[null,null,null,null,null,null,null,null,null,null,null,null,null,null,null,null,null,null,null,null,null,null,null,null,null,null,null,277,"12.01. 13:00",0.6,0]
[null,null,null,null,null,null,null,null,null,null,null,null,null,null,null,null,null,null,null,null,null,null,null,null,null,null,null,278,"12.01. 14:00",0.8,0]
[null,null,null,null,null,null,null,null,null,null,null,null,null,null,null,null,null,null,null,null,null,null,null,null,null,null,null,279,"12.01. 15:00",0.3,0]
[null,null,null,null,null,null,null,null,null,null,null,null,null,null,null,null,null,null,null,null,null,null,null,null,null,null,null,280,"12.01. 16:00",-0.7,0]
[null,null,null,null,null,null,null,null,null,null,null,null,null,null,null,null,null,null,null,null,null,null,null,null,null,null,null,281,"12.01. 17:00",-1.4,0]
[null,null,null,null,null,null,null,null,null,null,null,null,null,null,null,null,null,null,null,null,null,null,null,null,null,null,null,282,"12.01. 18:00",-2.1,0]
[null,null,null,null,null,null,null,null,null,null,null,null,null,null,null,null,null,null,null,null,null,null,null,null,null,null,null,283,"12.01. 19:00",-2.7,0]
[null,null,null,null,null,null,null,null,null,null,null,null,null,null,null,null,null,null,null,null,null,null,null,null,null,null,null,284,"12.01. 20:00",-3.4,0]
[null,null,null,null,null,null,null,null,null,null,null,null,null,null,null,null,null,null,null,null,null,null,null,null,null,null,null,285,"12.01. 21:00",-4,0]
[null,null,null,null,null,null,null,null,null,null,null,null,null,null,null,null,null,null,null,null,null,null,null,null,null,null,null,286,"12.01. 22:00",-4.7,0]
[null,null,null,null,null,null,null,null,null,null,null,null,null,null,null,null,null,null,null,null,null,null,null,null,null,null,null,287,"12.01. 23:00",-5.4,1]
[null,null,null,null,null,null,null,null,null,null,null,null,null,null,null,null,null,null,null,null,null,null,null,null,null,null,null,288,"13.01. 00:00",-5.9,1]
[null,null,null,null,null,null,null,null,null,null,null,null,null,null,null,null,null,null,null,null,null,null,null,null,null,null,null,289,"13.01. 01:00",-6.5,1]
[null,null,null,null,null,null,null,null,null,null,null,null,null,null,null,null,null,null,null,null,null,null,null,null,null,null,null,290,"13.01. 02:00",-7.1,1]
[null,null,null,null,null,null,null,null,null,null,null,null,null,null,null,null,null,null,null,null,null,null,null,null,null,null,null,291,"13.01. 03:00",-6.8,1]
[null,null,null,null,null,null,null,null,null,null,null,null,null,null,null,null,null,null,null,null,null,null,null,null,null,null,null,292,"13.01. 04:00",-7.1,1]
[null,null,null,null,null,null,null,null,null,null,null,null,null,null,null,null,null,null,null,null,null,null,null,null,null,null,null,293,"13.01. 05:00",-7.5,1]
[null,null,null,null,null,null,null,null,null,null,null,null,null,null,null,null,null,null,null,null,null,null,null,null,null,null,null,294,"13.01. 06:00",-7.3,1]
[null,null,null,null,null,null,null,null,null,null,null,null,null,null,null,null,null,null,null,null,null,null,null,null,null,null,null,295,"13.01. 07:00",-7.6,1]
[null,null,null,null,null,null,null,null,null,null,null,null,null,null,null,null,null,null,null,null,null,null,null,null,null,null,null,296,"13.01. 08:00",-7.6,1]
[null,null,null,null,null,null,null,null,null,null,null,null,null,null,null,null,null,null,null,null,null,null,null,null,null,null,null,297,"13.01. 09:00",-6.9,1]
[null,null,null,null,null,null,null,null,null,null,null,null,null,null,null,null,null,null,null,null,null,null,null,null,null,null,null,298,"13.01. 10:00",-6.6,1]
[null,null,null,null,null,null,null,null,null,null,null,null,null,null,null,null,null,null,null,null,null,null,null,null,null,null,null,299,"13.01. 11:00",-6.4,1]
[null,null,null,null,null,null,null,null,null,null,null,null,null,null,null,null,null,null,null,null,null,null,null,null,null,null,null,300,"13.01. 12:00",-6.3,1]
[null,null,null,null,null,null,null,null,null,null,null,null,null,null,null,null,null,null,null,null,null,null,null,null,null,null,null,301,"13.01. 13:00",-6.2,1]
[null,null,null,null,null,null,null,null,null,null,null,null,null,null,null,null,null,null,null,null,null,null,null,null,null,null,null,302,"13.01. 14:00",-6.2,1]
[null,null,null,null,null,null,null,null,null,null,null,null,null,null,null,null,null,null,null,null,null,null,null,null,null,null,null,303,"13.01. 15:00",-6.3,1]
[null,null,null,null,null,null,null,null,null,null,null,null,null,null,null,null,null,null,null,null,null,null,null,null,null,null,null,304,"13.01. 16:00",-6.8,1]
[null,null,null,null,null,null,null,null,null,null,null,null,null,null,null,null,null,null,null,null,null,null,null,null,null,null,null,305,"13.01. 17:00",-7.1,1]
[null,null,null,null,null,null,null,null,null,null,null,null,null,null,null,null,null,null,null,null,null,null,null,null,null,null,null,306,"13.01. 18:00",-7.4,1]
[null,null,null,null,null,null,null,null,null,null,null,null,null,null,null,null,null,null,null,null,null,null,null,null,null,null,null,307,"13.01. 19:00",-7.8,1]
[null,null,null,null,null,null,null,null,null,null,null,null,null,null,null,null,null,null,null,null,null,null,null,null,null,null,null,308,"13.01. 20:00",-8.1,1]
[null,null,null,null,null,null,null,null,null,null,null,null,null,null,null,null,null,null,null,null,null,null,null,null,null,null,null,309,"13.01. 21:00",-8.4,1]
[null,null,null,null,null,null,null,null,null,null,null,null,null,null,null,null,null,null,null,null,null,null,null,null,null,null,null,310,"13.01. 22:00",-8.6999999999999993,1]
[null,null,null,null,null,null,null,null,null,null,null,null,null,null,null,null,null,null,null,null,null,null,null,null,null,null,null,311,"13.01. 23:00",-9.1,1]
[null,null,null,null,null,null,null,null,null,null,null,null,null,null,null,null,null,null,null,null,null,null,null,null,null,null,null,312,"14.01. 00:00",-8.9,1]
[null,null,null,null,null,null,null,null,null,null,null,null,null,null,null,null,null,null,null,null,null,null,null,null,null,null,null,313,"14.01. 01:00",-8.6,1]
[null,null,null,null,null,null,null,null,null,null,null,null,null,null,null,null,null,null,null,null,null,null,null,null,null,null,null,314,"14.01. 02:00",-8.3000000000000007,1]
[null,null,null,null,null,null,null,null,null,null,null,null,null,null,null,null,null,null,null,null,null,null,null,null,null,null,null,315,"14.01. 03:00",-8.4,1]
[null,null,null,null,null,null,null,null,null,null,null,null,null,null,null,null,null,null,null,null,null,null,null,null,null,null,null,316,"14.01. 04:00",-8.1999999999999993,1]
[null,null,null,null,null,null,null,null,null,null,null,null,null,null,null,null,null,null,null,null,null,null,null,null,null,null,null,317,"14.01. 05:00",-8,1]
[null,null,null,null,null,null,null,null,null,null,null,null,null,null,null,null,null,null,null,null,null,null,null,null,null,null,null,318,"14.01. 06:00",-8.1,1]
[null,null,null,null,null,null,null,null,null,null,null,null,null,null,null,null,null,null,null,null,null,null,null,null,null,null,null,319,"14.01. 07:00",-7.9,1]
[null,null,null,null,null,null,null,null,null,null,null,null,null,null,null,null,null,null,null,null,null,null,null,null,null,null,null,320,"14.01. 08:00",-7.6,{"$f":"IF(AD360<=$AC$25,1,0)","v":1}]
[null,null,null,null,null,null,null,null,null,null,null,null,null,null,null,null,null,null,null,null,null,null,null,null,null,null,null,321,"14.01. 09:00",-5.2,1]
[null,null,null,null,null,null,null,null,null,null,null,null,null,null,null,null,null,null,null,null,null,null,null,null,null,null,null,322,"14.01. 10:00",-4.0999999999999996,0]
[null,null,null,null,null,null,null,null,null,null,null,null,null,null,null,null,null,null,null,null,null,null,null,null,null,null,null,323,"14.01. 11:00",-4.5999999999999996,0]
[null,null,null,null,null,null,null,null,null,null,null,null,null,null,null,null,null,null,null,null,null,null,null,null,null,null,null,324,"14.01. 12:00",-4.0999999999999996,0]
[null,null,null,null,null,null,null,null,null,null,null,null,null,null,null,null,null,null,null,null,null,null,null,null,null,null,null,325,"14.01. 13:00",-3.4,0]
[null,null,null,null,null,null,null,null,null,null,null,null,null,null,null,null,null,null,null,null,null,null,null,null,null,null,null,326,"14.01. 14:00",-2.2000000000000002,0]
[null,null,null,null,null,null,null,null,null,null,null,null,null,null,null,null,null,null,null,null,null,null,null,null,null,null,null,327,"14.01. 15:00",-1.6,0]
[null,null,null,null,null,null,null,null,null,null,null,null,null,null,null,null,null,null,null,null,null,null,null,null,null,null,null,328,"14.01. 16:00",-2.2999999999999998,0]
[null,null,null,null,null,null,null,null,null,null,null,null,null,null,null,null,null,null,null,null,null,null,null,null,null,null,null,329,"14.01. 17:00",-2.6,0]
[null,null,null,null,null,null,null,null,null,null,null,null,null,null,null,null,null,null,null,null,null,null,null,null,null,null,null,330,"14.01. 18:00",-2.8,0]
[null,null,null,null,null,null,null,null,null,null,null,null,null,null,null,null,null,null,null,null,null,null,null,null,null,null,null,331,"14.01. 19:00",-3.1,0]
[null,null,null,null,null,null,null,null,null,null,null,null,null,null,null,null,null,null,null,null,null,null,null,null,null,null,null,332,"14.01. 20:00",-3.4,0]
[null,null,null,null,null,null,null,null,null,null,null,null,null,null,null,null,null,null,null,null,null,null,null,null,null,null,null,333,"14.01. 21:00",-3.7,0]
[null,null,null,null,null,null,null,null,null,null,null,null,null,null,null,null,null,null,null,null,null,null,null,null,null,null,null,334,"14.01. 22:00",-4,0]
[null,null,null,null,null,null,null,null,null,null,null,null,null,null,null,null,null,null,null,null,null,null,null,null,null,null,null,335,"14.01. 23:00",-4.3,0]
[null,null,null,null,null,null,null,null,null,null,null,null,null,null,null,null,null,null,null,null,null,null,null,null,null,null,null,336,"15.01. 00:00",-4.9000000000000004,0]
[null,null,null,null,null,null,null,null,null,null,null,null,null,null,null,null,null,null,null,null,null,null,null,null,null,null,null,337,"15.01. 01:00",-5.8,1]
[null,null,null,null,null,null,null,null,null,null,null,null,null,null,null,null,null,null,null,null,null,null,null,null,null,null,null,338,"15.01. 02:00",-6.7,1]
[null,null,null,null,null,null,null,null,null,null,null,null,null,null,null,null,null,null,null,null,null,null,null,null,null,null,null,339,"15.01. 03:00",-6.4,1]
[null,null,null,null,null,null,null,null,null,null,null,null,null,null,null,null,null,null,null,null,null,null,null,null,null,null,null,340,"15.01. 04:00",-7,1]
[null,null,null,null,null,null,null,null,null,null,null,null,null,null,null,null,null,null,null,null,null,null,null,null,null,null,null,341,"15.01. 05:00",-7.6,1]
[null,null,null,null,null,null,null,null,null,null,null,null,null,null,null,null,null,null,null,null,null,null,null,null,null,null,null,342,"15.01. 06:00",-7.5,1]
[null,null,null,null,null,null,null,null,null,null,null,null,null,null,null,null,null,null,null,null,null,null,null,null,null,null,null,343,"15.01. 07:00",-8,1]
[null,null,null,null,null,null,null,null,null,null,null,null,null,null,null,null,null,null,null,null,null,null,null,null,null,null,null,344,"15.01. 08:00",-8.3000000000000007,1]
[null,null,null,null,null,null,null,null,null,null,null,null,null,null,null,null,null,null,null,null,null,null,null,null,null,null,null,345,"15.01. 09:00",-8.6,1]
[null,null,null,null,null,null,null,null,null,null,null,null,null,null,null,null,null,null,null,null,null,null,null,null,null,null,null,346,"15.01. 10:00",-9,1]
[null,null,null,null,null,null,null,null,null,null,null,null,null,null,null,null,null,null,null,null,null,null,null,null,null,null,null,347,"15.01. 11:00",-9.4,1]
[null,null,null,null,null,null,null,null,null,null,null,null,null,null,null,null,null,null,null,null,null,null,null,null,null,null,null,348,"15.01. 12:00",-9.6999999999999993,1]
[null,null,null,null,null,null,null,null,null,null,null,null,null,null,null,null,null,null,null,null,null,null,null,null,null,null,null,349,"15.01. 13:00",-10.1,1]
[null,null,null,null,null,null,null,null,null,null,null,null,null,null,null,null,null,null,null,null,null,null,null,null,null,null,null,350,"15.01. 14:00",-9.3000000000000007,1]
[null,null,null,null,null,null,null,null,null,null,null,null,null,null,null,null,null,null,null,null,null,null,null,null,null,null,null,351,"15.01. 15:00",-9.3000000000000007,1]
[null,null,null,null,null,null,null,null,null,null,null,null,null,null,null,null,null,null,null,null,null,null,null,null,null,null,null,352,"15.01. 16:00",-9.3000000000000007,1]
[null,null,null,null,null,null,null,null,null,null,null,null,null,null,null,null,null,null,null,null,null,null,null,null,null,null,null,353,"15.01. 17:00",-9.3000000000000007,1]
[null,null,null,null,null,null,null,null,null,null,null,null,null,null,null,null,null,null,null,null,null,null,null,null,null,null,null,354,"15.01. 18:00",-10.1,1]
[null,null,null,null,null,null,null,null,null,null,null,null,null,null,null,null,null,null,null,null,null,null,null,null,null,null,null,355,"15.01. 19:00",-9.8000000000000007,1]
[null,null,null,null,null,null,null,null,null,null,null,null,null,null,null,null,null,null,null,null,null,null,null,null,null,null,null,356,"15.01. 20:00",-9.5,1]
[null,null,null,null,null,null,null,null,null,null,null,null,null,null,null,null,null,null,null,null,null,null,null,null,null,null,null,357,"15.01. 21:00",-9.1999999999999993,1]
[null,null,null,null,null,null,null,null,null,null,null,null,null,null,null,null,null,null,null,null,null,null,null,null,null,null,null,358,"15.01. 22:00",-8.9,1]
[null,null,null,null,null,null,null,null,null,null,null,null,null,null,null,null,null,null,null,null,null,null,null,null,null,null,null,359,"15.01. 23:00",-8.6,1]
[null,null,null,null,null,null,null,null,null,null,null,null,null,null,null,null,null,null,null,null,null,null,null,null,null,null,null,360,"16.01. 00:00",-7.7,1]
[null,null,null,null,null,null,null,null,null,null,null,null,null,null,null,null,null,null,null,null,null,null,null,null,null,null,null,361,"16.01. 01:00",-6.7,1]
[null,null,null,null,null,null,null,null,null,null,null,null,null,null,null,null,null,null,null,null,null,null,null,null,null,null,null,362,"16.01. 02:00",-5.7,1]
[null,null,null,null,null,null,null,null,null,null,null,null,null,null,null,null,null,null,null,null,null,null,null,null,null,null,null,363,"16.01. 03:00",-6.3,1]
[null,null,null,null,null,null,null,null,null,null,null,null,null,null,null,null,null,null,null,null,null,null,null,null,null,null,null,364,"16.01. 04:00",-5.7,1]
[null,null,null,null,null,null,null,null,null,null,null,null,null,null,null,null,null,null,null,null,null,null,null,null,null,null,null,365,"16.01. 05:00",-5.0999999999999996,1]
[null,null,null,null,null,null,null,null,null,null,null,null,null,null,null,null,null,null,null,null,null,null,null,null,null,null,null,366,"16.01. 06:00",-5.5,1]
[null,null,null,null,null,null,null,null,null,null,null,null,null,null,null,null,null,null,null,null,null,null,null,null,null,null,null,367,"16.01. 07:00",-5,1]
[null,null,null,null,null,null,null,null,null,null,null,null,null,null,null,null,null,null,null,null,null,null,null,null,null,null,null,368,"16.01. 08:00",-4.5999999999999996,0]
[null,null,null,null,null,null,null,null,null,null,null,null,null,null,null,null,null,null,null,null,null,null,null,null,null,null,null,369,"16.01. 09:00",-3.1,0]
[null,null,null,null,null,null,null,null,null,null,null,null,null,null,null,null,null,null,null,null,null,null,null,null,null,null,null,370,"16.01. 10:00",-1.6,0]
[null,null,null,null,null,null,null,null,null,null,null,null,null,null,null,null,null,null,null,null,null,null,null,null,null,null,null,371,"16.01. 11:00",-0.4,0]
[null,null,null,null,null,null,null,null,null,null,null,null,null,null,null,null,null,null,null,null,null,null,null,null,null,null,null,372,"16.01. 12:00",0.5,0]
[null,null,null,null,null,null,null,null,null,null,null,null,null,null,null,null,null,null,null,null,null,null,null,null,null,null,null,373,"16.01. 13:00",1.3,0]
[null,null,null,null,null,null,null,null,null,null,null,null,null,null,null,null,null,null,null,null,null,null,null,null,null,null,null,374,"16.01. 14:00",1.6,0]
[null,null,null,null,null,null,null,null,null,null,null,null,null,null,null,null,null,null,null,null,null,null,null,null,null,null,null,375,"16.01. 15:00",1.5,0]
[null,null,null,null,null,null,null,null,null,null,null,null,null,null,null,null,null,null,null,null,null,null,null,null,null,null,null,376,"16.01. 16:00",0.9,0]
[null,null,null,null,null,null,null,null,null,null,null,null,null,null,null,null,null,null,null,null,null,null,null,null,null,null,null,377,"16.01. 17:00",1.2,0]
[null,null,null,null,null,null,null,null,null,null,null,null,null,null,null,null,null,null,null,null,null,null,null,null,null,null,null,378,"16.01. 18:00",1.5,0]
[null,null,null,null,null,null,null,null,null,null,null,null,null,null,null,null,null,null,null,null,null,null,null,null,null,null,null,379,"16.01. 19:00",1.8,0]
[null,null,null,null,null,null,null,null,null,null,null,null,null,null,null,null,null,null,null,null,null,null,null,null,null,null,null,380,"16.01. 20:00",2.1,0]
[null,null,null,null,null,null,null,null,null,null,null,null,null,null,null,null,null,null,null,null,null,null,null,null,null,null,null,381,"16.01. 21:00",2.4,0]
[null,null,null,null,null,null,null,null,null,null,null,null,null,null,null,null,null,null,null,null,null,null,null,null,null,null,null,382,"16.01. 22:00",2.7,0]
[null,null,null,null,null,null,null,null,null,null,null,null,null,null,null,null,null,null,null,null,null,null,null,null,null,null,null,383,"16.01. 23:00",3,0]
[null,null,null,null,null,null,null,null,null,null,null,null,null,null,null,null,null,null,null,null,null,null,null,null,null,null,null,384,"17.01. 00:00",2.5,{"$f":"IF(AD424<=$AC$25,1,0)","v":0}]
[null,null,null,null,null,null,null,null,null,null,null,null,null,null,null,null,null,null,null,null,null,null,null,null,null,null,null,385,"17.01. 01:00",1.8,0]
[null,null,null,null,null,null,null,null,null,null,null,null,null,null,null,null,null,null,null,null,null,null,null,null,null,null,null,386,"17.01. 02:00",1,0]
[null,null,null,null,null,null,null,null,null,null,null,null,null,null,null,null,null,null,null,null,null,null,null,null,null,null,null,387,"17.01. 03:00",1.4,0]
[null,null,null,null,null,null,null,null,null,null,null,null,null,null,null,null,null,null,null,null,null,null,null,null,null,null,null,388,"17.01. 04:00",1,0]
[null,null,null,null,null,null,null,null,null,null,null,null,null,null,null,null,null,null,null,null,null,null,null,null,null,null,null,389,"17.01. 05:00",0.6,0]
[null,null,null,null,null,null,null,null,null,null,null,null,null,null,null,null,null,null,null,null,null,null,null,null,null,null,null,390,"17.01. 06:00",0.8,0]
[null,null,null,null,null,null,null,null,null,null,null,null,null,null,null,null,null,null,null,null,null,null,null,null,null,null,null,391,"17.01. 07:00",0.4,0]
[null,null,null,null,null,null,null,null,null,null,null,null,null,null,null,null,null,null,null,null,null,null,null,null,null,null,null,392,"17.01. 08:00",0.2,0]
[null,null,null,null,null,null,null,null,null,null,null,null,null,null,null,null,null,null,null,null,null,null,null,null,null,null,null,393,"17.01. 09:00",-0.6,0]
[null,null,null,null,null,null,null,null,null,null,null,null,null,null,null,null,null,null,null,null,null,null,null,null,null,null,null,394,"17.01. 10:00",-1.3,0]
[null,null,null,null,null,null,null,null,null,null,null,null,null,null,null,null,null,null,null,null,null,null,null,null,null,null,null,395,"17.01. 11:00",-2,0]
[null,null,null,null,null,null,null,null,null,null,null,null,null,null,null,null,null,null,null,null,null,null,null,null,null,null,null,396,"17.01. 12:00",-2.5,0]
[null,null,null,null,null,null,null,null,null,null,null,null,null,null,null,null,null,null,null,null,null,null,null,null,null,null,null,397,"17.01. 13:00",-2.9,0]
[null,null,null,null,null,null,null,null,null,null,null,null,null,null,null,null,null,null,null,null,null,null,null,null,null,null,null,398,"17.01. 14:00",-3.1,0]
[null,null,null,null,null,null,null,null,null,null,null,null,null,null,null,null,null,null,null,null,null,null,null,null,null,null,null,399,"17.01. 15:00",-0.8,0]
[null,null,null,null,null,null,null,null,null,null,null,null,null,null,null,null,null,null,null,null,null,null,null,null,null,null,null,400,"17.01. 16:00",-0.5,0]
[null,null,null,null,null,null,null,null,null,null,null,null,null,null,null,null,null,null,null,null,null,null,null,null,null,null,null,401,"17.01. 17:00",-1.1000000000000001,0]
[null,null,null,null,null,null,null,null,null,null,null,null,null,null,null,null,null,null,null,null,null,null,null,null,null,null,null,402,"17.01. 18:00",-1.8,0]
[null,null,null,null,null,null,null,null,null,null,null,null,null,null,null,null,null,null,null,null,null,null,null,null,null,null,null,403,"17.01. 19:00",-2.4,0]
[null,null,null,null,null,null,null,null,null,null,null,null,null,null,null,null,null,null,null,null,null,null,null,null,null,null,null,404,"17.01. 20:00",-3.1,0]
[null,null,null,null,null,null,null,null,null,null,null,null,null,null,null,null,null,null,null,null,null,null,null,null,null,null,null,405,"17.01. 21:00",-3.7,0]
[null,null,null,null,null,null,null,null,null,null,null,null,null,null,null,null,null,null,null,null,null,null,null,null,null,null,null,406,"17.01. 22:00",-4.4000000000000004,0]
[null,null,null,null,null,null,null,null,null,null,null,null,null,null,null,null,null,null,null,null,null,null,null,null,null,null,null,407,"17.01. 23:00",-5,1]
[null,null,null,null,null,null,null,null,null,null,null,null,null,null,null,null,null,null,null,null,null,null,null,null,null,null,null,408,"18.01. 00:00",-5.0999999999999996,1]
[null,null,null,null,null,null,null,null,null,null,null,null,null,null,null,null,null,null,null,null,null,null,null,null,null,null,null,409,"18.01. 01:00",-5.0999999999999996,1]
[null,null,null,null,null,null,null,null,null,null,null,null,null,null,null,null,null,null,null,null,null,null,null,null,null,null,null,410,"18.01. 02:00",-5.0999999999999996,1]
[null,null,null,null,null,null,null,null,null,null,null,null,null,null,null,null,null,null,null,null,null,null,null,null,null,null,null,411,"18.01. 03:00",-5.0999999999999996,1]
[null,null,null,null,null,null,null,null,null,null,null,null,null,null,null,null,null,null,null,null,null,null,null,null,null,null,null,412,"18.01. 04:00",-5.0999999999999996,1]
[null,null,null,null,null,null,null,null,null,null,null,null,null,null,null,null,null,null,null,null,null,null,null,null,null,null,null,413,"18.01. 05:00",-5.0999999999999996,1]
[null,null,null,null,null,null,null,null,null,null,null,null,null,null,null,null,null,null,null,null,null,null,null,null,null,null,null,414,"18.01. 06:00",-5,1]
[null,null,null,null,null,null,null,null,null,null,null,null,null,null,null,null,null,null,null,null,null,null,null,null,null,null,null,415,"18.01. 07:00",-5,1]
[null,null,null,null,null,null,null,null,null,null,null,null,null,null,null,null,null,null,null,null,null,null,null,null,null,null,null,416,"18.01. 08:00",-4.7,0]
[null,null,null,null,null,null,null,null,null,null,null,null,null,null,null,null,null,null,null,null,null,null,null,null,null,null,null,417,"18.01. 09:00",-2.4,0]
[null,null,null,null,null,null,null,null,null,null,null,null,null,null,null,null,null,null,null,null,null,null,null,null,null,null,null,418,"18.01. 10:00",-0.7,0]
[null,null,null,null,null,null,null,null,null,null,null,null,null,null,null,null,null,null,null,null,null,null,null,null,null,null,null,419,"18.01. 11:00",0.3,0]
[null,null,null,null,null,null,null,null,null,null,null,null,null,null,null,null,null,null,null,null,null,null,null,null,null,null,null,420,"18.01. 12:00",0.9,0]
[null,null,null,null,null,null,null,null,null,null,null,null,null,null,null,null,null,null,null,null,null,null,null,null,null,null,null,421,"18.01. 13:00",1.4,0]
[null,null,null,null,null,null,null,null,null,null,null,null,null,null,null,null,null,null,null,null,null,null,null,null,null,null,null,422,"18.01. 14:00",1.5,0]
[null,null,null,null,null,null,null,null,null,null,null,null,null,null,null,null,null,null,null,null,null,null,null,null,null,null,null,423,"18.01. 15:00",0.7,0]
[null,null,null,null,null,null,null,null,null,null,null,null,null,null,null,null,null,null,null,null,null,null,null,null,null,null,null,424,"18.01. 16:00",-0.4,0]
[null,null,null,null,null,null,null,null,null,null,null,null,null,null,null,null,null,null,null,null,null,null,null,null,null,null,null,425,"18.01. 17:00",-0.4,0]
[null,null,null,null,null,null,null,null,null,null,null,null,null,null,null,null,null,null,null,null,null,null,null,null,null,null,null,426,"18.01. 18:00",-0.5,0]
[null,null,null,null,null,null,null,null,null,null,null,null,null,null,null,null,null,null,null,null,null,null,null,null,null,null,null,427,"18.01. 19:00",-0.6,0]
[null,null,null,null,null,null,null,null,null,null,null,null,null,null,null,null,null,null,null,null,null,null,null,null,null,null,null,428,"18.01. 20:00",-0.7,0]
[null,null,null,null,null,null,null,null,null,null,null,null,null,null,null,null,null,null,null,null,null,null,null,null,null,null,null,429,"18.01. 21:00",-0.7,0]
[null,null,null,null,null,null,null,null,null,null,null,null,null,null,null,null,null,null,null,null,null,null,null,null,null,null,null,430,"18.01. 22:00",-0.8,0]
[null,null,null,null,null,null,null,null,null,null,null,null,null,null,null,null,null,null,null,null,null,null,null,null,null,null,null,431,"18.01. 23:00",-0.9,0]
[null,null,null,null,null,null,null,null,null,null,null,null,null,null,null,null,null,null,null,null,null,null,null,null,null,null,null,432,"19.01. 00:00",-1,0]
[null,null,null,null,null,null,null,null,null,null,null,null,null,null,null,null,null,null,null,null,null,null,null,null,null,null,null,433,"19.01. 01:00",-1.1000000000000001,0]
[null,null,null,null,null,null,null,null,null,null,null,null,null,null,null,null,null,null,null,null,null,null,null,null,null,null,null,434,"19.01. 02:00",-1.2,0]
[null,null,null,null,null,null,null,null,null,null,null,null,null,null,null,null,null,null,null,null,null,null,null,null,null,null,null,435,"19.01. 03:00",-1.1000000000000001,0]
[null,null,null,null,null,null,null,null,null,null,null,null,null,null,null,null,null,null,null,null,null,null,null,null,null,null,null,436,"19.01. 04:00",-1.1000000000000001,0]
[null,null,null,null,null,null,null,null,null,null,null,null,null,null,null,null,null,null,null,null,null,null,null,null,null,null,null,437,"19.01. 05:00",-1.2,0]
[null,null,null,null,null,null,null,null,null,null,null,null,null,null,null,null,null,null,null,null,null,null,null,null,null,null,null,438,"19.01. 06:00",-1.1000000000000001,0]
[null,null,null,null,null,null,null,null,null,null,null,null,null,null,null,null,null,null,null,null,null,null,null,null,null,null,null,439,"19.01. 07:00",-1.1000000000000001,0]
[null,null,null,null,null,null,null,null,null,null,null,null,null,null,null,null,null,null,null,null,null,null,null,null,null,null,null,440,"19.01. 08:00",-1,0]
[null,null,null,null,null,null,null,null,null,null,null,null,null,null,null,null,null,null,null,null,null,null,null,null,null,null,null,441,"19.01. 09:00",-0.3,0]
[null,null,null,null,null,null,null,null,null,null,null,null,null,null,null,null,null,null,null,null,null,null,null,null,null,null,null,442,"19.01. 10:00",-0.3,0]
[null,null,null,null,null,null,null,null,null,null,null,null,null,null,null,null,null,null,null,null,null,null,null,null,null,null,null,443,"19.01. 11:00",-0.2,0]
[null,null,null,null,null,null,null,null,null,null,null,null,null,null,null,null,null,null,null,null,null,null,null,null,null,null,null,444,"19.01. 12:00",-0.1,0]
[null,null,null,null,null,null,null,null,null,null,null,null,null,null,null,null,null,null,null,null,null,null,null,null,null,null,null,445,"19.01. 13:00",1.6,0]
[null,null,null,null,null,null,null,null,null,null,null,null,null,null,null,null,null,null,null,null,null,null,null,null,null,null,null,446,"19.01. 14:00",2.8,0]
[null,null,null,null,null,null,null,null,null,null,null,null,null,null,null,null,null,null,null,null,null,null,null,null,null,null,null,447,"19.01. 15:00",3.3,0]
[null,null,null,null,null,null,null,null,null,null,null,null,null,null,null,null,null,null,null,null,null,null,null,null,null,null,null,448,"19.01. 16:00",3,{"$f":"IF(AD488<=$AC$25,1,0)","v":0}]
[null,null,null,null,null,null,null,null,null,null,null,null,null,null,null,null,null,null,null,null,null,null,null,null,null,null,null,449,"19.01. 17:00",2.7,0]
[null,null,null,null,null,null,null,null,null,null,null,null,null,null,null,null,null,null,null,null,null,null,null,null,null,null,null,450,"19.01. 18:00",2.4,0]
[null,null,null,null,null,null,null,null,null,null,null,null,null,null,null,null,null,null,null,null,null,null,null,null,null,null,null,451,"19.01. 19:00",2.1,0]
[null,null,null,null,null,null,null,null,null,null,null,null,null,null,null,null,null,null,null,null,null,null,null,null,null,null,null,452,"19.01. 20:00",1.9,0]
[null,null,null,null,null,null,null,null,null,null,null,null,null,null,null,null,null,null,null,null,null,null,null,null,null,null,null,453,"19.01. 21:00",1.6,0]
[null,null,null,null,null,null,null,null,null,null,null,null,null,null,null,null,null,null,null,null,null,null,null,null,null,null,null,454,"19.01. 22:00",1.3,0]
[null,null,null,null,null,null,null,null,null,null,null,null,null,null,null,null,null,null,null,null,null,null,null,null,null,null,null,455,"19.01. 23:00",1,0]
[null,null,null,null,null,null,null,null,null,null,null,null,null,null,null,null,null,null,null,null,null,null,null,null,null,null,null,456,"20.01. 00:00",0.7,0]
[null,null,null,null,null,null,null,null,null,null,null,null,null,null,null,null,null,null,null,null,null,null,null,null,null,null,null,457,"20.01. 01:00",0.2,0]
[null,null,null,null,null,null,null,null,null,null,null,null,null,null,null,null,null,null,null,null,null,null,null,null,null,null,null,458,"20.01. 02:00",-0.2,0]
[null,null,null,null,null,null,null,null,null,null,null,null,null,null,null,null,null,null,null,null,null,null,null,null,null,null,null,459,"20.01. 03:00",0.1,0]
[null,null,null,null,null,null,null,null,null,null,null,null,null,null,null,null,null,null,null,null,null,null,null,null,null,null,null,460,"20.01. 04:00",-0.1,0]
[null,null,null,null,null,null,null,null,null,null,null,null,null,null,null,null,null,null,null,null,null,null,null,null,null,null,null,461,"20.01. 05:00",-0.3,0]
[null,null,null,null,null,null,null,null,null,null,null,null,null,null,null,null,null,null,null,null,null,null,null,null,null,null,null,462,"20.01. 06:00",-0.1,0]
[null,null,null,null,null,null,null,null,null,null,null,null,null,null,null,null,null,null,null,null,null,null,null,null,null,null,null,463,"20.01. 07:00",-0.3,0]
[null,null,null,null,null,null,null,null,null,null,null,null,null,null,null,null,null,null,null,null,null,null,null,null,null,null,null,464,"20.01. 08:00",-0.1,0]
[null,null,null,null,null,null,null,null,null,null,null,null,null,null,null,null,null,null,null,null,null,null,null,null,null,null,null,465,"20.01. 09:00",2,0]
[null,null,null,null,null,null,null,null,null,null,null,null,null,null,null,null,null,null,null,null,null,null,null,null,null,null,null,466,"20.01. 10:00",2.1,0]
[null,null,null,null,null,null,null,null,null,null,null,null,null,null,null,null,null,null,null,null,null,null,null,null,null,null,null,467,"20.01. 11:00",2.6,0]
[null,null,null,null,null,null,null,null,null,null,null,null,null,null,null,null,null,null,null,null,null,null,null,null,null,null,null,468,"20.01. 12:00",2.9,0]
[null,null,null,null,null,null,null,null,null,null,null,null,null,null,null,null,null,null,null,null,null,null,null,null,null,null,null,469,"20.01. 13:00",4.0999999999999996,0]
[null,null,null,null,null,null,null,null,null,null,null,null,null,null,null,null,null,null,null,null,null,null,null,null,null,null,null,470,"20.01. 14:00",4,0]
[null,null,null,null,null,null,null,null,null,null,null,null,null,null,null,null,null,null,null,null,null,null,null,null,null,null,null,471,"20.01. 15:00",4,0]
[null,null,null,null,null,null,null,null,null,null,null,null,null,null,null,null,null,null,null,null,null,null,null,null,null,null,null,472,"20.01. 16:00",3.2,0]
[null,null,null,null,null,null,null,null,null,null,null,null,null,null,null,null,null,null,null,null,null,null,null,null,null,null,null,473,"20.01. 17:00",2.9,0]
[null,null,null,null,null,null,null,null,null,null,null,null,null,null,null,null,null,null,null,null,null,null,null,null,null,null,null,474,"20.01. 18:00",2.5,0]
[null,null,null,null,null,null,null,null,null,null,null,null,null,null,null,null,null,null,null,null,null,null,null,null,null,null,null,475,"20.01. 19:00",2.1,0]
[null,null,null,null,null,null,null,null,null,null,null,null,null,null,null,null,null,null,null,null,null,null,null,null,null,null,null,476,"20.01. 20:00",1.7,0]
[null,null,null,null,null,null,null,null,null,null,null,null,null,null,null,null,null,null,null,null,null,null,null,null,null,null,null,477,"20.01. 21:00",1.4,0]
[null,null,null,null,null,null,null,null,null,null,null,null,null,null,null,null,null,null,null,null,null,null,null,null,null,null,null,478,"20.01. 22:00",1,0]
[null,null,null,null,null,null,null,null,null,null,null,null,null,null,null,null,null,null,null,null,null,null,null,null,null,null,null,479,"20.01. 23:00",0.6,0]
[null,null,null,null,null,null,null,null,null,null,null,null,null,null,null,null,null,null,null,null,null,null,null,null,null,null,null,480,"21.01. 00:00",0.5,0]
[null,null,null,null,null,null,null,null,null,null,null,null,null,null,null,null,null,null,null,null,null,null,null,null,null,null,null,481,"21.01. 01:00",0.3,0]
[null,null,null,null,null,null,null,null,null,null,null,null,null,null,null,null,null,null,null,null,null,null,null,null,null,null,null,482,"21.01. 02:00",0.2,0]
[null,null,null,null,null,null,null,null,null,null,null,null,null,null,null,null,null,null,null,null,null,null,null,null,null,null,null,483,"21.01. 03:00",0.3,0]
[null,null,null,null,null,null,null,null,null,null,null,null,null,null,null,null,null,null,null,null,null,null,null,null,null,null,null,484,"21.01. 04:00",0.3,0]
[null,null,null,null,null,null,null,null,null,null,null,null,null,null,null,null,null,null,null,null,null,null,null,null,null,null,null,485,"21.01. 05:00",0.2,0]
[null,null,null,null,null,null,null,null,null,null,null,null,null,null,null,null,null,null,null,null,null,null,null,null,null,null,null,486,"21.01. 06:00",0.3,0]
[null,null,null,null,null,null,null,null,null,null,null,null,null,null,null,null,null,null,null,null,null,null,null,null,null,null,null,487,"21.01. 07:00",0.3,0]
[null,null,null,null,null,null,null,null,null,null,null,null,null,null,null,null,null,null,null,null,null,null,null,null,null,null,null,488,"21.01. 08:00",0.5,0]
[null,null,null,null,null,null,null,null,null,null,null,null,null,null,null,null,null,null,null,null,null,null,null,null,null,null,null,489,"21.01. 09:00",1.9,0]
[null,null,null,null,null,null,null,null,null,null,null,null,null,null,null,null,null,null,null,null,null,null,null,null,null,null,null,490,"21.01. 10:00",2.5,0]
[null,null,null,null,null,null,null,null,null,null,null,null,null,null,null,null,null,null,null,null,null,null,null,null,null,null,null,491,"21.01. 11:00",3.2,0]
[null,null,null,null,null,null,null,null,null,null,null,null,null,null,null,null,null,null,null,null,null,null,null,null,null,null,null,492,"21.01. 12:00",4.5,0]
[null,null,null,null,null,null,null,null,null,null,null,null,null,null,null,null,null,null,null,null,null,null,null,null,null,null,null,493,"21.01. 13:00",4.7,0]
[null,null,null,null,null,null,null,null,null,null,null,null,null,null,null,null,null,null,null,null,null,null,null,null,null,null,null,494,"21.01. 14:00",4.0999999999999996,0]
[null,null,null,null,null,null,null,null,null,null,null,null,null,null,null,null,null,null,null,null,null,null,null,null,null,null,null,495,"21.01. 15:00",3.8,0]
[null,null,null,null,null,null,null,null,null,null,null,null,null,null,null,null,null,null,null,null,null,null,null,null,null,null,null,496,"21.01. 16:00",3.1,0]
[null,null,null,null,null,null,null,null,null,null,null,null,null,null,null,null,null,null,null,null,null,null,null,null,null,null,null,497,"21.01. 17:00",2.9,0]
[null,null,null,null,null,null,null,null,null,null,null,null,null,null,null,null,null,null,null,null,null,null,null,null,null,null,null,498,"21.01. 18:00",2.8,0]
[null,null,null,null,null,null,null,null,null,null,null,null,null,null,null,null,null,null,null,null,null,null,null,null,null,null,null,499,"21.01. 19:00",2.6,0]
[null,null,null,null,null,null,null,null,null,null,null,null,null,null,null,null,null,null,null,null,null,null,null,null,null,null,null,500,"21.01. 20:00",2.4,0]
[null,null,null,null,null,null,null,null,null,null,null,null,null,null,null,null,null,null,null,null,null,null,null,null,null,null,null,501,"21.01. 21:00",2.2999999999999998,0]
[null,null,null,null,null,null,null,null,null,null,null,null,null,null,null,null,null,null,null,null,null,null,null,null,null,null,null,502,"21.01. 22:00",2.1,0]
[null,null,null,null,null,null,null,null,null,null,null,null,null,null,null,null,null,null,null,null,null,null,null,null,null,null,null,503,"21.01. 23:00",1.9,0]
[null,null,null,null,null,null,null,null,null,null,null,null,null,null,null,null,null,null,null,null,null,null,null,null,null,null,null,504,"22.01. 00:00",1.7,0]
[null,null,null,null,null,null,null,null,null,null,null,null,null,null,null,null,null,null,null,null,null,null,null,null,null,null,null,505,"22.01. 01:00",1.5,0]
[null,null,null,null,null,null,null,null,null,null,null,null,null,null,null,null,null,null,null,null,null,null,null,null,null,null,null,506,"22.01. 02:00",1.3,0]
[null,null,null,null,null,null,null,null,null,null,null,null,null,null,null,null,null,null,null,null,null,null,null,null,null,null,null,507,"22.01. 03:00",1.5,0]
[null,null,null,null,null,null,null,null,null,null,null,null,null,null,null,null,null,null,null,null,null,null,null,null,null,null,null,508,"22.01. 04:00",1.3,0]
[null,null,null,null,null,null,null,null,null,null,null,null,null,null,null,null,null,null,null,null,null,null,null,null,null,null,null,509,"22.01. 05:00",1.2,0]
[null,null,null,null,null,null,null,null,null,null,null,null,null,null,null,null,null,null,null,null,null,null,null,null,null,null,null,510,"22.01. 06:00",1.3,0]
[null,null,null,null,null,null,null,null,null,null,null,null,null,null,null,null,null,null,null,null,null,null,null,null,null,null,null,511,"22.01. 07:00",1.2,0]
[null,null,null,null,null,null,null,null,null,null,null,null,null,null,null,null,null,null,null,null,null,null,null,null,null,null,null,512,"22.01. 08:00",1.4,{"$f":"IF(AD552<=$AC$25,1,0)","v":0}]
[null,null,null,null,null,null,null,null,null,null,null,null,null,null,null,null,null,null,null,null,null,null,null,null,null,null,null,513,"22.01. 09:00",2.4,0]
[null,null,null,null,null,null,null,null,null,null,null,null,null,null,null,null,null,null,null,null,null,null,null,null,null,null,null,514,"22.01. 10:00",2.7,0]
[null,null,null,null,null,null,null,null,null,null,null,null,null,null,null,null,null,null,null,null,null,null,null,null,null,null,null,515,"22.01. 11:00",3.2,0]
[null,null,null,null,null,null,null,null,null,null,null,null,null,null,null,null,null,null,null,null,null,null,null,null,null,null,null,516,"22.01. 12:00",3.7,0]
[null,null,null,null,null,null,null,null,null,null,null,null,null,null,null,null,null,null,null,null,null,null,null,null,null,null,null,517,"22.01. 13:00",4.2,0]
[null,null,null,null,null,null,null,null,null,null,null,null,null,null,null,null,null,null,null,null,null,null,null,null,null,null,null,518,"22.01. 14:00",4.4000000000000004,0]
[null,null,null,null,null,null,null,null,null,null,null,null,null,null,null,null,null,null,null,null,null,null,null,null,null,null,null,519,"22.01. 15:00",4.2,0]
[null,null,null,null,null,null,null,null,null,null,null,null,null,null,null,null,null,null,null,null,null,null,null,null,null,null,null,520,"22.01. 16:00",3.6,0]
[null,null,null,null,null,null,null,null,null,null,null,null,null,null,null,null,null,null,null,null,null,null,null,null,null,null,null,521,"22.01. 17:00",3.4,0]
[null,null,null,null,null,null,null,null,null,null,null,null,null,null,null,null,null,null,null,null,null,null,null,null,null,null,null,522,"22.01. 18:00",3.1,0]
[null,null,null,null,null,null,null,null,null,null,null,null,null,null,null,null,null,null,null,null,null,null,null,null,null,null,null,523,"22.01. 19:00",2.9,0]
[null,null,null,null,null,null,null,null,null,null,null,null,null,null,null,null,null,null,null,null,null,null,null,null,null,null,null,524,"22.01. 20:00",2.7,0]
[null,null,null,null,null,null,null,null,null,null,null,null,null,null,null,null,null,null,null,null,null,null,null,null,null,null,null,525,"22.01. 21:00",2.4,0]
[null,null,null,null,null,null,null,null,null,null,null,null,null,null,null,null,null,null,null,null,null,null,null,null,null,null,null,526,"22.01. 22:00",2.2000000000000002,0]
[null,null,null,null,null,null,null,null,null,null,null,null,null,null,null,null,null,null,null,null,null,null,null,null,null,null,null,527,"22.01. 23:00",1.9,0]
[null,null,null,null,null,null,null,null,null,null,null,null,null,null,null,null,null,null,null,null,null,null,null,null,null,null,null,528,"23.01. 00:00",1.8,0]
[null,null,null,null,null,null,null,null,null,null,null,null,null,null,null,null,null,null,null,null,null,null,null,null,null,null,null,529,"23.01. 01:00",1.6,0]
[null,null,null,null,null,null,null,null,null,null,null,null,null,null,null,null,null,null,null,null,null,null,null,null,null,null,null,530,"23.01. 02:00",1.4,0]
[null,null,null,null,null,null,null,null,null,null,null,null,null,null,null,null,null,null,null,null,null,null,null,null,null,null,null,531,"23.01. 03:00",1.5,0]
[null,null,null,null,null,null,null,null,null,null,null,null,null,null,null,null,null,null,null,null,null,null,null,null,null,null,null,532,"23.01. 04:00",1.4,0]
[null,null,null,null,null,null,null,null,null,null,null,null,null,null,null,null,null,null,null,null,null,null,null,null,null,null,null,533,"23.01. 05:00",1.2,0]
[null,null,null,null,null,null,null,null,null,null,null,null,null,null,null,null,null,null,null,null,null,null,null,null,null,null,null,534,"23.01. 06:00",1.3,0]
[null,null,null,null,null,null,null,null,null,null,null,null,null,null,null,null,null,null,null,null,null,null,null,null,null,null,null,535,"23.01. 07:00",1.2,0]
[null,null,null,null,null,null,null,null,null,null,null,null,null,null,null,null,null,null,null,null,null,null,null,null,null,null,null,536,"23.01. 08:00",1.5,0]
[null,null,null,null,null,null,null,null,null,null,null,null,null,null,null,null,null,null,null,null,null,null,null,null,null,null,null,537,"23.01. 09:00",2.6,0]
[null,null,null,null,null,null,null,null,null,null,null,null,null,null,null,null,null,null,null,null,null,null,null,null,null,null,null,538,"23.01. 10:00",3.7,0]
[null,null,null,null,null,null,null,null,null,null,null,null,null,null,null,null,null,null,null,null,null,null,null,null,null,null,null,539,"23.01. 11:00",4,0]
[null,null,null,null,null,null,null,null,null,null,null,null,null,null,null,null,null,null,null,null,null,null,null,null,null,null,null,540,"23.01. 12:00",4.2,0]
[null,null,null,null,null,null,null,null,null,null,null,null,null,null,null,null,null,null,null,null,null,null,null,null,null,null,null,541,"23.01. 13:00",4.2,0]
[null,null,null,null,null,null,null,null,null,null,null,null,null,null,null,null,null,null,null,null,null,null,null,null,null,null,null,542,"23.01. 14:00",4.0999999999999996,0]
[null,null,null,null,null,null,null,null,null,null,null,null,null,null,null,null,null,null,null,null,null,null,null,null,null,null,null,543,"23.01. 15:00",3.7,0]
[null,null,null,null,null,null,null,null,null,null,null,null,null,null,null,null,null,null,null,null,null,null,null,null,null,null,null,544,"23.01. 16:00",3.2,0]
[null,null,null,null,null,null,null,null,null,null,null,null,null,null,null,null,null,null,null,null,null,null,null,null,null,null,null,545,"23.01. 17:00",3.2,0]
[null,null,null,null,null,null,null,null,null,null,null,null,null,null,null,null,null,null,null,null,null,null,null,null,null,null,null,546,"23.01. 18:00",3.3,0]
[null,null,null,null,null,null,null,null,null,null,null,null,null,null,null,null,null,null,null,null,null,null,null,null,null,null,null,547,"23.01. 19:00",3.3,0]
[null,null,null,null,null,null,null,null,null,null,null,null,null,null,null,null,null,null,null,null,null,null,null,null,null,null,null,548,"23.01. 20:00",3.3,0]
[null,null,null,null,null,null,null,null,null,null,null,null,null,null,null,null,null,null,null,null,null,null,null,null,null,null,null,549,"23.01. 21:00",3.3,0]
[null,null,null,null,null,null,null,null,null,null,null,null,null,null,null,null,null,null,null,null,null,null,null,null,null,null,null,550,"23.01. 22:00",3.4,0]
[null,null,null,null,null,null,null,null,null,null,null,null,null,null,null,null,null,null,null,null,null,null,null,null,null,null,null,551,"23.01. 23:00",3.4,0]
[null,null,null,null,null,null,null,null,null,null,null,null,null,null,null,null,null,null,null,null,null,null,null,null,null,null,null,552,"24.01. 00:00",3.5,0]
[null,null,null,null,null,null,null,null,null,null,null,null,null,null,null,null,null,null,null,null,null,null,null,null,null,null,null,553,"24.01. 01:00",3.7,0]
[null,null,null,null,null,null,null,null,null,null,null,null,null,null,null,null,null,null,null,null,null,null,null,null,null,null,null,554,"24.01. 02:00",3.8,0]
[null,null,null,null,null,null,null,null,null,null,null,null,null,null,null,null,null,null,null,null,null,null,null,null,null,null,null,555,"24.01. 03:00",3.7,0]
[null,null,null,null,null,null,null,null,null,null,null,null,null,null,null,null,null,null,null,null,null,null,null,null,null,null,null,556,"24.01. 04:00",3.8,0]
[null,null,null,null,null,null,null,null,null,null,null,null,null,null,null,null,null,null,null,null,null,null,null,null,null,null,null,557,"24.01. 05:00",3.9,0]
[null,null,null,null,null,null,null,null,null,null,null,null,null,null,null,null,null,null,null,null,null,null,null,null,null,null,null,558,"24.01. 06:00",3.9,0]
[null,null,null,null,null,null,null,null,null,null,null,null,null,null,null,null,null,null,null,null,null,null,null,null,null,null,null,559,"24.01. 07:00",4,0]
[null,null,null,null,null,null,null,null,null,null,null,null,null,null,null,null,null,null,null,null,null,null,null,null,null,null,null,560,"24.01. 08:00",4.2,0]
[null,null,null,null,null,null,null,null,null,null,null,null,null,null,null,null,null,null,null,null,null,null,null,null,null,null,null,561,"24.01. 09:00",5.3,0]
[null,null,null,null,null,null,null,null,null,null,null,null,null,null,null,null,null,null,null,null,null,null,null,null,null,null,null,562,"24.01. 10:00",6.1,0]
[null,null,null,null,null,null,null,null,null,null,null,null,null,null,null,null,null,null,null,null,null,null,null,null,null,null,null,563,"24.01. 11:00",7,0]
[null,null,null,null,null,null,null,null,null,null,null,null,null,null,null,null,null,null,null,null,null,null,null,null,null,null,null,564,"24.01. 12:00",7.5,0]
[null,null,null,null,null,null,null,null,null,null,null,null,null,null,null,null,null,null,null,null,null,null,null,null,null,null,null,565,"24.01. 13:00",7.7,0]
[null,null,null,null,null,null,null,null,null,null,null,null,null,null,null,null,null,null,null,null,null,null,null,null,null,null,null,566,"24.01. 14:00",7.8,0]
[null,null,null,null,null,null,null,null,null,null,null,null,null,null,null,null,null,null,null,null,null,null,null,null,null,null,null,567,"24.01. 15:00",7.6,0]
[null,null,null,null,null,null,null,null,null,null,null,null,null,null,null,null,null,null,null,null,null,null,null,null,null,null,null,568,"24.01. 16:00",7.2,0]
[null,null,null,null,null,null,null,null,null,null,null,null,null,null,null,null,null,null,null,null,null,null,null,null,null,null,null,569,"24.01. 17:00",7.2,0]
[null,null,null,null,null,null,null,null,null,null,null,null,null,null,null,null,null,null,null,null,null,null,null,null,null,null,null,570,"24.01. 18:00",7.1,0]
[null,null,null,null,null,null,null,null,null,null,null,null,null,null,null,null,null,null,null,null,null,null,null,null,null,null,null,571,"24.01. 19:00",7.1,0]
[null,null,null,null,null,null,null,null,null,null,null,null,null,null,null,null,null,null,null,null,null,null,null,null,null,null,null,572,"24.01. 20:00",7.1,0]
[null,null,null,null,null,null,null,null,null,null,null,null,null,null,null,null,null,null,null,null,null,null,null,null,null,null,null,573,"24.01. 21:00",7,0]
[null,null,null,null,null,null,null,null,null,null,null,null,null,null,null,null,null,null,null,null,null,null,null,null,null,null,null,574,"24.01. 22:00",7,0]
[null,null,null,null,null,null,null,null,null,null,null,null,null,null,null,null,null,null,null,null,null,null,null,null,null,null,null,575,"24.01. 23:00",6.9,0]
[null,null,null,null,null,null,null,null,null,null,null,null,null,null,null,null,null,null,null,null,null,null,null,null,null,null,null,576,"25.01. 00:00",6.8,{"$f":"IF(AD616<=$AC$25,1,0)","v":0}]
[null,null,null,null,null,null,null,null,null,null,null,null,null,null,null,null,null,null,null,null,null,null,null,null,null,null,null,577,"25.01. 01:00",6.6,0]
[null,null,null,null,null,null,null,null,null,null,null,null,null,null,null,null,null,null,null,null,null,null,null,null,null,null,null,578,"25.01. 02:00",6.4,0]
[null,null,null,null,null,null,null,null,null,null,null,null,null,null,null,null,null,null,null,null,null,null,null,null,null,null,null,579,"25.01. 03:00",6.6,0]
[null,null,null,null,null,null,null,null,null,null,null,null,null,null,null,null,null,null,null,null,null,null,null,null,null,null,null,580,"25.01. 04:00",6.5,0]
[null,null,null,null,null,null,null,null,null,null,null,null,null,null,null,null,null,null,null,null,null,null,null,null,null,null,null,581,"25.01. 05:00",6.4,0]
[null,null,null,null,null,null,null,null,null,null,null,null,null,null,null,null,null,null,null,null,null,null,null,null,null,null,null,582,"25.01. 06:00",6.5,0]
[null,null,null,null,null,null,null,null,null,null,null,null,null,null,null,null,null,null,null,null,null,null,null,null,null,null,null,583,"25.01. 07:00",6.4,0]
[null,null,null,null,null,null,null,null,null,null,null,null,null,null,null,null,null,null,null,null,null,null,null,null,null,null,null,584,"25.01. 08:00",6.5,0]
[null,null,null,null,null,null,null,null,null,null,null,null,null,null,null,null,null,null,null,null,null,null,null,null,null,null,null,585,"25.01. 09:00",7,0]
[null,null,null,null,null,null,null,null,null,null,null,null,null,null,null,null,null,null,null,null,null,null,null,null,null,null,null,586,"25.01. 10:00",7.3,0]
[null,null,null,null,null,null,null,null,null,null,null,null,null,null,null,null,null,null,null,null,null,null,null,null,null,null,null,587,"25.01. 11:00",7.6,0]
[null,null,null,null,null,null,null,null,null,null,null,null,null,null,null,null,null,null,null,null,null,null,null,null,null,null,null,588,"25.01. 12:00",7.7,0]
[null,null,null,null,null,null,null,null,null,null,null,null,null,null,null,null,null,null,null,null,null,null,null,null,null,null,null,589,"25.01. 13:00",7.9,0]
[null,null,null,null,null,null,null,null,null,null,null,null,null,null,null,null,null,null,null,null,null,null,null,null,null,null,null,590,"25.01. 14:00",7.9,0]
[null,null,null,null,null,null,null,null,null,null,null,null,null,null,null,null,null,null,null,null,null,null,null,null,null,null,null,591,"25.01. 15:00",7.8,0]
[null,null,null,null,null,null,null,null,null,null,null,null,null,null,null,null,null,null,null,null,null,null,null,null,null,null,null,592,"25.01. 16:00",7.6,0]
[null,null,null,null,null,null,null,null,null,null,null,null,null,null,null,null,null,null,null,null,null,null,null,null,null,null,null,593,"25.01. 17:00",7.3,0]
[null,null,null,null,null,null,null,null,null,null,null,null,null,null,null,null,null,null,null,null,null,null,null,null,null,null,null,594,"25.01. 18:00",7,0]
[null,null,null,null,null,null,null,null,null,null,null,null,null,null,null,null,null,null,null,null,null,null,null,null,null,null,null,595,"25.01. 19:00",6.7,0]
[null,null,null,null,null,null,null,null,null,null,null,null,null,null,null,null,null,null,null,null,null,null,null,null,null,null,null,596,"25.01. 20:00",6.3,0]
[null,null,null,null,null,null,null,null,null,null,null,null,null,null,null,null,null,null,null,null,null,null,null,null,null,null,null,597,"25.01. 21:00",6,0]
[null,null,null,null,null,null,null,null,null,null,null,null,null,null,null,null,null,null,null,null,null,null,null,null,null,null,null,598,"25.01. 22:00",5.7,0]
[null,null,null,null,null,null,null,null,null,null,null,null,null,null,null,null,null,null,null,null,null,null,null,null,null,null,null,599,"25.01. 23:00",5.3,0]
[null,null,null,null,null,null,null,null,null,null,null,null,null,null,null,null,null,null,null,null,null,null,null,null,null,null,null,600,"26.01. 00:00",5,0]
[null,null,null,null,null,null,null,null,null,null,null,null,null,null,null,null,null,null,null,null,null,null,null,null,null,null,null,601,"26.01. 01:00",4.5999999999999996,0]
[null,null,null,null,null,null,null,null,null,null,null,null,null,null,null,null,null,null,null,null,null,null,null,null,null,null,null,602,"26.01. 02:00",4.2,0]
[null,null,null,null,null,null,null,null,null,null,null,null,null,null,null,null,null,null,null,null,null,null,null,null,null,null,null,603,"26.01. 03:00",4.5,0]
[null,null,null,null,null,null,null,null,null,null,null,null,null,null,null,null,null,null,null,null,null,null,null,null,null,null,null,604,"26.01. 04:00",4.3,0]
[null,null,null,null,null,null,null,null,null,null,null,null,null,null,null,null,null,null,null,null,null,null,null,null,null,null,null,605,"26.01. 05:00",4.0999999999999996,0]
[null,null,null,null,null,null,null,null,null,null,null,null,null,null,null,null,null,null,null,null,null,null,null,null,null,null,null,606,"26.01. 06:00",4.3,0]
[null,null,null,null,null,null,null,null,null,null,null,null,null,null,null,null,null,null,null,null,null,null,null,null,null,null,null,607,"26.01. 07:00",4.2,0]
[null,null,null,null,null,null,null,null,null,null,null,null,null,null,null,null,null,null,null,null,null,null,null,null,null,null,null,608,"26.01. 08:00",4.2,0]
[null,null,null,null,null,null,null,null,null,null,null,null,null,null,null,null,null,null,null,null,null,null,null,null,null,null,null,609,"26.01. 09:00",4.3,0]
[null,null,null,null,null,null,null,null,null,null,null,null,null,null,null,null,null,null,null,null,null,null,null,null,null,null,null,610,"26.01. 10:00",4.5,0]
[null,null,null,null,null,null,null,null,null,null,null,null,null,null,null,null,null,null,null,null,null,null,null,null,null,null,null,611,"26.01. 11:00",4.5,0]
[null,null,null,null,null,null,null,null,null,null,null,null,null,null,null,null,null,null,null,null,null,null,null,null,null,null,null,612,"26.01. 12:00",4.5999999999999996,0]
[null,null,null,null,null,null,null,null,null,null,null,null,null,null,null,null,null,null,null,null,null,null,null,null,null,null,null,613,"26.01. 13:00",6.1,0]
[null,null,null,null,null,null,null,null,null,null,null,null,null,null,null,null,null,null,null,null,null,null,null,null,null,null,null,614,"26.01. 14:00",6.9,0]
[null,null,null,null,null,null,null,null,null,null,null,null,null,null,null,null,null,null,null,null,null,null,null,null,null,null,null,615,"26.01. 15:00",7.1,0]
[null,null,null,null,null,null,null,null,null,null,null,null,null,null,null,null,null,null,null,null,null,null,null,null,null,null,null,616,"26.01. 16:00",6.9,0]
[null,null,null,null,null,null,null,null,null,null,null,null,null,null,null,null,null,null,null,null,null,null,null,null,null,null,null,617,"26.01. 17:00",6.4,0]
[null,null,null,null,null,null,null,null,null,null,null,null,null,null,null,null,null,null,null,null,null,null,null,null,null,null,null,618,"26.01. 18:00",5.9,0]
[null,null,null,null,null,null,null,null,null,null,null,null,null,null,null,null,null,null,null,null,null,null,null,null,null,null,null,619,"26.01. 19:00",5.4,0]
[null,null,null,null,null,null,null,null,null,null,null,null,null,null,null,null,null,null,null,null,null,null,null,null,null,null,null,620,"26.01. 20:00",4.9000000000000004,0]
[null,null,null,null,null,null,null,null,null,null,null,null,null,null,null,null,null,null,null,null,null,null,null,null,null,null,null,621,"26.01. 21:00",4.3,0]
[null,null,null,null,null,null,null,null,null,null,null,null,null,null,null,null,null,null,null,null,null,null,null,null,null,null,null,622,"26.01. 22:00",3.8,0]
[null,null,null,null,null,null,null,null,null,null,null,null,null,null,null,null,null,null,null,null,null,null,null,null,null,null,null,623,"26.01. 23:00",3.3,0]
[null,null,null,null,null,null,null,null,null,null,null,null,null,null,null,null,null,null,null,null,null,null,null,null,null,null,null,624,"27.01. 00:00",2.9,0]
[null,null,null,null,null,null,null,null,null,null,null,null,null,null,null,null,null,null,null,null,null,null,null,null,null,null,null,625,"27.01. 01:00",2.4,0]
[null,null,null,null,null,null,null,null,null,null,null,null,null,null,null,null,null,null,null,null,null,null,null,null,null,null,null,626,"27.01. 02:00",2,0]
[null,null,null,null,null,null,null,null,null,null,null,null,null,null,null,null,null,null,null,null,null,null,null,null,null,null,null,627,"27.01. 03:00",2.4,0]
[null,null,null,null,null,null,null,null,null,null,null,null,null,null,null,null,null,null,null,null,null,null,null,null,null,null,null,628,"27.01. 04:00",2.1,0]
[null,null,null,null,null,null,null,null,null,null,null,null,null,null,null,null,null,null,null,null,null,null,null,null,null,null,null,629,"27.01. 05:00",1.9,0]
[null,null,null,null,null,null,null,null,null,null,null,null,null,null,null,null,null,null,null,null,null,null,null,null,null,null,null,630,"27.01. 06:00",2.1,0]
[null,null,null,null,null,null,null,null,null,null,null,null,null,null,null,null,null,null,null,null,null,null,null,null,null,null,null,631,"27.01. 07:00",2,0]
[null,null,null,null,null,null,null,null,null,null,null,null,null,null,null,null,null,null,null,null,null,null,null,null,null,null,null,632,"27.01. 08:00",2.2999999999999998,0]
[null,null,null,null,null,null,null,null,null,null,null,null,null,null,null,null,null,null,null,null,null,null,null,null,null,null,null,633,"27.01. 09:00",4,0]
[null,null,null,null,null,null,null,null,null,null,null,null,null,null,null,null,null,null,null,null,null,null,null,null,null,null,null,634,"27.01. 10:00",5.3,0]
[null,null,null,null,null,null,null,null,null,null,null,null,null,null,null,null,null,null,null,null,null,null,null,null,null,null,null,635,"27.01. 11:00",6.3,0]
[null,null,null,null,null,null,null,null,null,null,null,null,null,null,null,null,null,null,null,null,null,null,null,null,null,null,null,636,"27.01. 12:00",7.6,0]
[null,null,null,null,null,null,null,null,null,null,null,null,null,null,null,null,null,null,null,null,null,null,null,null,null,null,null,637,"27.01. 13:00",8,0]
[null,null,null,null,null,null,null,null,null,null,null,null,null,null,null,null,null,null,null,null,null,null,null,null,null,null,null,638,"27.01. 14:00",7.4,0]
[null,null,null,null,null,null,null,null,null,null,null,null,null,null,null,null,null,null,null,null,null,null,null,null,null,null,null,639,"27.01. 15:00",7.1,0]
[null,null,null,null,null,null,null,null,null,null,null,null,null,null,null,null,null,null,null,null,null,null,null,null,null,null,null,640,"27.01. 16:00",6.5,{"$f":"IF(AD680<=$AC$25,1,0)","v":0}]
[null,null,null,null,null,null,null,null,null,null,null,null,null,null,null,null,null,null,null,null,null,null,null,null,null,null,null,641,"27.01. 17:00",5.9,0]
[null,null,null,null,null,null,null,null,null,null,null,null,null,null,null,null,null,null,null,null,null,null,null,null,null,null,null,642,"27.01. 18:00",5.3,0]
[null,null,null,null,null,null,null,null,null,null,null,null,null,null,null,null,null,null,null,null,null,null,null,null,null,null,null,643,"27.01. 19:00",4.7,0]
[null,null,null,null,null,null,null,null,null,null,null,null,null,null,null,null,null,null,null,null,null,null,null,null,null,null,null,644,"27.01. 20:00",4.0999999999999996,0]
[null,null,null,null,null,null,null,null,null,null,null,null,null,null,null,null,null,null,null,null,null,null,null,null,null,null,null,645,"27.01. 21:00",3.5,0]
[null,null,null,null,null,null,null,null,null,null,null,null,null,null,null,null,null,null,null,null,null,null,null,null,null,null,null,646,"27.01. 22:00",2.8,0]
[null,null,null,null,null,null,null,null,null,null,null,null,null,null,null,null,null,null,null,null,null,null,null,null,null,null,null,647,"27.01. 23:00",2.2000000000000002,0]
[null,null,null,null,null,null,null,null,null,null,null,null,null,null,null,null,null,null,null,null,null,null,null,null,null,null,null,648,"28.01. 00:00",1.8,0]
[null,null,null,null,null,null,null,null,null,null,null,null,null,null,null,null,null,null,null,null,null,null,null,null,null,null,null,649,"28.01. 01:00",1.1000000000000001,0]
[null,null,null,null,null,null,null,null,null,null,null,null,null,null,null,null,null,null,null,null,null,null,null,null,null,null,null,650,"28.01. 02:00",0.5,0]
[null,null,null,null,null,null,null,null,null,null,null,null,null,null,null,null,null,null,null,null,null,null,null,null,null,null,null,651,"28.01. 03:00",0.8,0]
[null,null,null,null,null,null,null,null,null,null,null,null,null,null,null,null,null,null,null,null,null,null,null,null,null,null,null,652,"28.01. 04:00",0.5,0]
[null,null,null,null,null,null,null,null,null,null,null,null,null,null,null,null,null,null,null,null,null,null,null,null,null,null,null,653,"28.01. 05:00",0.1,0]
[null,null,null,null,null,null,null,null,null,null,null,null,null,null,null,null,null,null,null,null,null,null,null,null,null,null,null,654,"28.01. 06:00",0.3,0]
[null,null,null,null,null,null,null,null,null,null,null,null,null,null,null,null,null,null,null,null,null,null,null,null,null,null,null,655,"28.01. 07:00",-0.05,0]
[null,null,null,null,null,null,null,null,null,null,null,null,null,null,null,null,null,null,null,null,null,null,null,null,null,null,null,656,"28.01. 08:00",0.5,0]
[null,null,null,null,null,null,null,null,null,null,null,null,null,null,null,null,null,null,null,null,null,null,null,null,null,null,null,657,"28.01. 09:00",2.8,0]
[null,null,null,null,null,null,null,null,null,null,null,null,null,null,null,null,null,null,null,null,null,null,null,null,null,null,null,658,"28.01. 10:00",4.8,0]
[null,null,null,null,null,null,null,null,null,null,null,null,null,null,null,null,null,null,null,null,null,null,null,null,null,null,null,659,"28.01. 11:00",6.8,0]
[null,null,null,null,null,null,null,null,null,null,null,null,null,null,null,null,null,null,null,null,null,null,null,null,null,null,null,660,"28.01. 12:00",8,0]
[null,null,null,null,null,null,null,null,null,null,null,null,null,null,null,null,null,null,null,null,null,null,null,null,null,null,null,661,"28.01. 13:00",8.8000000000000007,0]
[null,null,null,null,null,null,null,null,null,null,null,null,null,null,null,null,null,null,null,null,null,null,null,null,null,null,null,662,"28.01. 14:00",8.6999999999999993,0]
[null,null,null,null,null,null,null,null,null,null,null,null,null,null,null,null,null,null,null,null,null,null,null,null,null,null,null,663,"28.01. 15:00",7.9,0]
[null,null,null,null,null,null,null,null,null,null,null,null,null,null,null,null,null,null,null,null,null,null,null,null,null,null,null,664,"28.01. 16:00",6.6,0]
[null,null,null,null,null,null,null,null,null,null,null,null,null,null,null,null,null,null,null,null,null,null,null,null,null,null,null,665,"28.01. 17:00",5.8,0]
[null,null,null,null,null,null,null,null,null,null,null,null,null,null,null,null,null,null,null,null,null,null,null,null,null,null,null,666,"28.01. 18:00",5.0999999999999996,0]
[null,null,null,null,null,null,null,null,null,null,null,null,null,null,null,null,null,null,null,null,null,null,null,null,null,null,null,667,"28.01. 19:00",4.3,0]
[null,null,null,null,null,null,null,null,null,null,null,null,null,null,null,null,null,null,null,null,null,null,null,null,null,null,null,668,"28.01. 20:00",3.5,0]
[null,null,null,null,null,null,null,null,null,null,null,null,null,null,null,null,null,null,null,null,null,null,null,null,null,null,null,669,"28.01. 21:00",2.7,0]
[null,null,null,null,null,null,null,null,null,null,null,null,null,null,null,null,null,null,null,null,null,null,null,null,null,null,null,670,"28.01. 22:00",1.9,0]
[null,null,null,null,null,null,null,null,null,null,null,null,null,null,null,null,null,null,null,null,null,null,null,null,null,null,null,671,"28.01. 23:00",1.2,0]
[null,null,null,null,null,null,null,null,null,null,null,null,null,null,null,null,null,null,null,null,null,null,null,null,null,null,null,672,"29.01. 00:00",0.9,0]
[null,null,null,null,null,null,null,null,null,null,null,null,null,null,null,null,null,null,null,null,null,null,null,null,null,null,null,673,"29.01. 01:00",0.7,0]
[null,null,null,null,null,null,null,null,null,null,null,null,null,null,null,null,null,null,null,null,null,null,null,null,null,null,null,674,"29.01. 02:00",0.5,0]
[null,null,null,null,null,null,null,null,null,null,null,null,null,null,null,null,null,null,null,null,null,null,null,null,null,null,null,675,"29.01. 03:00",0.7,0]
[null,null,null,null,null,null,null,null,null,null,null,null,null,null,null,null,null,null,null,null,null,null,null,null,null,null,null,676,"29.01. 04:00",0.6,0]
[null,null,null,null,null,null,null,null,null,null,null,null,null,null,null,null,null,null,null,null,null,null,null,null,null,null,null,677,"29.01. 05:00",0.5,0]
[null,null,null,null,null,null,null,null,null,null,null,null,null,null,null,null,null,null,null,null,null,null,null,null,null,null,null,678,"29.01. 06:00",0.6,0]
[null,null,null,null,null,null,null,null,null,null,null,null,null,null,null,null,null,null,null,null,null,null,null,null,null,null,null,679,"29.01. 07:00",0.6,0]
[null,null,null,null,null,null,null,null,null,null,null,null,null,null,null,null,null,null,null,null,null,null,null,null,null,null,null,680,"29.01. 08:00",0.6,0]
[null,null,null,null,null,null,null,null,null,null,null,null,null,null,null,null,null,null,null,null,null,null,null,null,null,null,null,681,"29.01. 09:00",1.1000000000000001,0]
[null,null,null,null,null,null,null,null,null,null,null,null,null,null,null,null,null,null,null,null,null,null,null,null,null,null,null,682,"29.01. 10:00",1.5,0]
[null,null,null,null,null,null,null,null,null,null,null,null,null,null,null,null,null,null,null,null,null,null,null,null,null,null,null,683,"29.01. 11:00",1.9,0]
[null,null,null,null,null,null,null,null,null,null,null,null,null,null,null,null,null,null,null,null,null,null,null,null,null,null,null,684,"29.01. 12:00",2.2999999999999998,0]
[null,null,null,null,null,null,null,null,null,null,null,null,null,null,null,null,null,null,null,null,null,null,null,null,null,null,null,685,"29.01. 13:00",4,0]
[null,null,null,null,null,null,null,null,null,null,null,null,null,null,null,null,null,null,null,null,null,null,null,null,null,null,null,686,"29.01. 14:00",4.9000000000000004,0]
[null,null,null,null,null,null,null,null,null,null,null,null,null,null,null,null,null,null,null,null,null,null,null,null,null,null,null,687,"29.01. 15:00",5.2,0]
[null,null,null,null,null,null,null,null,null,null,null,null,null,null,null,null,null,null,null,null,null,null,null,null,null,null,null,688,"29.01. 16:00",4.9000000000000004,0]
[null,null,null,null,null,null,null,null,null,null,null,null,null,null,null,null,null,null,null,null,null,null,null,null,null,null,null,689,"29.01. 17:00",4.4000000000000004,0]
[null,null,null,null,null,null,null,null,null,null,null,null,null,null,null,null,null,null,null,null,null,null,null,null,null,null,null,690,"29.01. 18:00",4,0]
[null,null,null,null,null,null,null,null,null,null,null,null,null,null,null,null,null,null,null,null,null,null,null,null,null,null,null,691,"29.01. 19:00",3.6,0]
[null,null,null,null,null,null,null,null,null,null,null,null,null,null,null,null,null,null,null,null,null,null,null,null,null,null,null,692,"29.01. 20:00",3.2,0]
[null,null,null,null,null,null,null,null,null,null,null,null,null,null,null,null,null,null,null,null,null,null,null,null,null,null,null,693,"29.01. 21:00",2.7,0]
[null,null,null,null,null,null,null,null,null,null,null,null,null,null,null,null,null,null,null,null,null,null,null,null,null,null,null,694,"29.01. 22:00",2.2999999999999998,0]
[null,null,null,null,null,null,null,null,null,null,null,null,null,null,null,null,null,null,null,null,null,null,null,null,null,null,null,695,"29.01. 23:00",1.9,0]
[null,null,null,null,null,null,null,null,null,null,null,null,null,null,null,null,null,null,null,null,null,null,null,null,null,null,null,696,"30.01. 00:00",1.5,0]
[null,null,null,null,null,null,null,null,null,null,null,null,null,null,null,null,null,null,null,null,null,null,null,null,null,null,null,697,"30.01. 01:00",1,0]
[null,null,null,null,null,null,null,null,null,null,null,null,null,null,null,null,null,null,null,null,null,null,null,null,null,null,null,698,"30.01. 02:00",0.5,0]
[null,null,null,null,null,null,null,null,null,null,null,null,null,null,null,null,null,null,null,null,null,null,null,null,null,null,null,699,"30.01. 03:00",0.9,0]
[null,null,null,null,null,null,null,null,null,null,null,null,null,null,null,null,null,null,null,null,null,null,null,null,null,null,null,700,"30.01. 04:00",0.7,0]
[null,null,null,null,null,null,null,null,null,null,null,null,null,null,null,null,null,null,null,null,null,null,null,null,null,null,null,701,"30.01. 05:00",0.4,0]
[null,null,null,null,null,null,null,null,null,null,null,null,null,null,null,null,null,null,null,null,null,null,null,null,null,null,null,702,"30.01. 06:00",0.7,0]
[null,null,null,null,null,null,null,null,null,null,null,null,null,null,null,null,null,null,null,null,null,null,null,null,null,null,null,703,"30.01. 07:00",0.5,0]
[null,null,null,null,null,null,null,null,null,null,null,null,null,null,null,null,null,null,null,null,null,null,null,null,null,null,null,704,"30.01. 08:00",0.7,{"$f":"IF(AD744<=$AC$25,1,0)","v":0}]
[null,null,null,null,null,null,null,null,null,null,null,null,null,null,null,null,null,null,null,null,null,null,null,null,null,null,null,705,"30.01. 09:00",1.7,0]
[null,null,null,null,null,null,null,null,null,null,null,null,null,null,null,null,null,null,null,null,null,null,null,null,null,null,null,706,"30.01. 10:00",2.9,0]
[null,null,null,null,null,null,null,null,null,null,null,null,null,null,null,null,null,null,null,null,null,null,null,null,null,null,null,707,"30.01. 11:00",4,0]
[null,null,null,null,null,null,null,null,null,null,null,null,null,null,null,null,null,null,null,null,null,null,null,null,null,null,null,708,"30.01. 12:00",4.7,0]
[null,null,null,null,null,null,null,null,null,null,null,null,null,null,null,null,null,null,null,null,null,null,null,null,null,null,null,709,"30.01. 13:00",4.8,0]
[null,null,null,null,null,null,null,null,null,null,null,null,null,null,null,null,null,null,null,null,null,null,null,null,null,null,null,710,"30.01. 14:00",3.9,0]
[null,null,null,null,null,null,null,null,null,null,null,null,null,null,null,null,null,null,null,null,null,null,null,null,null,null,null,711,"30.01. 15:00",3.1,0]
[null,null,null,null,null,null,null,null,null,null,null,null,null,null,null,null,null,null,null,null,null,null,null,null,null,null,null,712,"30.01. 16:00",2.6,0]
[null,null,null,null,null,null,null,null,null,null,null,null,null,null,null,null,null,null,null,null,null,null,null,null,null,null,null,713,"30.01. 17:00",2.2000000000000002,0]
[null,null,null,null,null,null,null,null,null,null,null,null,null,null,null,null,null,null,null,null,null,null,null,null,null,null,null,714,"30.01. 18:00",1.8,0]
[null,null,null,null,null,null,null,null,null,null,null,null,null,null,null,null,null,null,null,null,null,null,null,null,null,null,null,715,"30.01. 19:00",1.5,0]
[null,null,null,null,null,null,null,null,null,null,null,null,null,null,null,null,null,null,null,null,null,null,null,null,null,null,null,716,"30.01. 20:00",1.1000000000000001,0]
[null,null,null,null,null,null,null,null,null,null,null,null,null,null,null,null,null,null,null,null,null,null,null,null,null,null,null,717,"30.01. 21:00",0.8,0]
[null,null,null,null,null,null,null,null,null,null,null,null,null,null,null,null,null,null,null,null,null,null,null,null,null,null,null,718,"30.01. 22:00",0.4,0]
[null,null,null,null,null,null,null,null,null,null,null,null,null,null,null,null,null,null,null,null,null,null,null,null,null,null,null,719,"30.01. 23:00",0.02,0]
[null,null,null,null,null,null,null,null,null,null,null,null,null,null,null,null,null,null,null,null,null,null,null,null,null,null,null,720,"31.01. 00:00",-0.2,0]
[null,null,null,null,null,null,null,null,null,null,null,null,null,null,null,null,null,null,null,null,null,null,null,null,null,null,null,721,"31.01. 01:00",-0.5,0]
[null,null,null,null,null,null,null,null,null,null,null,null,null,null,null,null,null,null,null,null,null,null,null,null,null,null,null,722,"31.01. 02:00",-0.8,0]
[null,null,null,null,null,null,null,null,null,null,null,null,null,null,null,null,null,null,null,null,null,null,null,null,null,null,null,723,"31.01. 03:00",-0.5,0]
[null,null,null,null,null,null,null,null,null,null,null,null,null,null,null,null,null,null,null,null,null,null,null,null,null,null,null,724,"31.01. 04:00",-0.6,0]
[null,null,null,null,null,null,null,null,null,null,null,null,null,null,null,null,null,null,null,null,null,null,null,null,null,null,null,725,"31.01. 05:00",-0.7,0]
[null,null,null,null,null,null,null,null,null,null,null,null,null,null,null,null,null,null,null,null,null,null,null,null,null,null,null,726,"31.01. 06:00",-0.6,0]
[null,null,null,null,null,null,null,null,null,null,null,null,null,null,null,null,null,null,null,null,null,null,null,null,null,null,null,727,"31.01. 07:00",-0.6,0]
[null,null,null,null,null,null,null,null,null,null,null,null,null,null,null,null,null,null,null,null,null,null,null,null,null,null,null,728,"31.01. 08:00",-0.3,0]
[null,null,null,null,null,null,null,null,null,null,null,null,null,null,null,null,null,null,null,null,null,null,null,null,null,null,null,729,"31.01. 09:00",0.9,0]
[null,null,null,null,null,null,null,null,null,null,null,null,null,null,null,null,null,null,null,null,null,null,null,null,null,null,null,730,"31.01. 10:00",2,0]
[null,null,null,null,null,null,null,null,null,null,null,null,null,null,null,null,null,null,null,null,null,null,null,null,null,null,null,731,"31.01. 11:00",3.5,0]
[null,null,null,null,null,null,null,null,null,null,null,null,null,null,null,null,null,null,null,null,null,null,null,null,null,null,null,732,"31.01. 12:00",4,0]
[null,null,null,null,null,null,null,null,null,null,null,null,null,null,null,null,null,null,null,null,null,null,null,null,null,null,null,733,"31.01. 13:00",4.0999999999999996,0]
[null,null,null,null,null,null,null,null,null,null,null,null,null,null,null,null,null,null,null,null,null,null,null,null,null,null,null,734,"31.01. 14:00",4.3,0]
[null,null,null,null,null,null,null,null,null,null,null,null,null,null,null,null,null,null,null,null,null,null,null,null,null,null,null,735,"31.01. 15:00",3.5,0]
[null,null,null,null,null,null,null,null,null,null,null,null,null,null,null,null,null,null,null,null,null,null,null,null,null,null,null,736,"31.01. 16:00",2.8,0]
[null,null,null,null,null,null,null,null,null,null,null,null,null,null,null,null,null,null,null,null,null,null,null,null,null,null,null,737,"31.01. 17:00",2.2000000000000002,0]
[null,null,null,null,null,null,null,null,null,null,null,null,null,null,null,null,null,null,null,null,null,null,null,null,null,null,null,738,"31.01. 18:00",1.7,0]
[null,null,null,null,null,null,null,null,null,null,null,null,null,null,null,null,null,null,null,null,null,null,null,null,null,null,null,739,"31.01. 19:00",1.2,0]
[null,null,null,null,null,null,null,null,null,null,null,null,null,null,null,null,null,null,null,null,null,null,null,null,null,null,null,740,"31.01. 20:00",0.6,0]
[null,null,null,null,null,null,null,null,null,null,null,null,null,null,null,null,null,null,null,null,null,null,null,null,null,null,null,741,"31.01. 21:00",0.1,0]
[null,null,null,null,null,null,null,null,null,null,null,null,null,null,null,null,null,null,null,null,null,null,null,null,null,null,null,742,"31.01. 22:00",-0.4,0]
[null,null,null,null,null,null,null,null,null,null,null,null,null,null,null,null,null,null,null,null,null,null,null,null,null,null,null,743,"31.01. 23:00",-0.9,0]
[null,null,null,null,null,null,null,null,null,null,null,null,null,null,null,null,null,null,null,null,null,null,null,null,null,null,null,744,"01.02. 00:00",-1.5,0]
[null,null,null,null,null,null,null,null,null,null,null,null,null,null,null,null,null,null,null,null,null,null,null,null,null,null,null,745,"01.02. 01:00",-2.1,0]
[null,null,null,null,null,null,null,null,null,null,null,null,null,null,null,null,null,null,null,null,null,null,null,null,null,null,null,746,"01.02. 02:00",-2.8,0]
[null,null,null,null,null,null,null,null,null,null,null,null,null,null,null,null,null,null,null,null,null,null,null,null,null,null,null,747,"01.02. 03:00",-2.2999999999999998,0]
[null,null,null,null,null,null,null,null,null,null,null,null,null,null,null,null,null,null,null,null,null,null,null,null,null,null,null,748,"01.02. 04:00",-2.7,0]
[null,null,null,null,null,null,null,null,null,null,null,null,null,null,null,null,null,null,null,null,null,null,null,null,null,null,null,749,"01.02. 05:00",-3.1,0]
[null,null,null,null,null,null,null,null,null,null,null,null,null,null,null,null,null,null,null,null,null,null,null,null,null,null,null,750,"01.02. 06:00",-2.8,0]
[null,null,null,null,null,null,null,null,null,null,null,null,null,null,null,null,null,null,null,null,null,null,null,null,null,null,null,751,"01.02. 07:00",-3.1,0]
[null,null,null,null,null,null,null,null,null,null,null,null,null,null,null,null,null,null,null,null,null,null,null,null,null,null,null,752,"01.02. 08:00",-3.1,0]
[null,null,null,null,null,null,null,null,null,null,null,null,null,null,null,null,null,null,null,null,null,null,null,null,null,null,null,753,"01.02. 09:00",-2.7,0]
[null,null,null,null,null,null,null,null,null,null,null,null,null,null,null,null,null,null,null,null,null,null,null,null,null,null,null,754,"01.02. 10:00",-2.2999999999999998,0]
[null,null,null,null,null,null,null,null,null,null,null,null,null,null,null,null,null,null,null,null,null,null,null,null,null,null,null,755,"01.02. 11:00",-1.7,0]
[null,null,null,null,null,null,null,null,null,null,null,null,null,null,null,null,null,null,null,null,null,null,null,null,null,null,null,756,"01.02. 12:00",-1.6,0]
[null,null,null,null,null,null,null,null,null,null,null,null,null,null,null,null,null,null,null,null,null,null,null,null,null,null,null,757,"01.02. 13:00",-1.7,0]
[null,null,null,null,null,null,null,null,null,null,null,null,null,null,null,null,null,null,null,null,null,null,null,null,null,null,null,758,"01.02. 14:00",-2,0]
[null,null,null,null,null,null,null,null,null,null,null,null,null,null,null,null,null,null,null,null,null,null,null,null,null,null,null,759,"01.02. 15:00",-2.4,0]
[null,null,null,null,null,null,null,null,null,null,null,null,null,null,null,null,null,null,null,null,null,null,null,null,null,null,null,760,"01.02. 16:00",-2.8,0]
[null,null,null,null,null,null,null,null,null,null,null,null,null,null,null,null,null,null,null,null,null,null,null,null,null,null,null,761,"01.02. 17:00",-3.1,0]
[null,null,null,null,null,null,null,null,null,null,null,null,null,null,null,null,null,null,null,null,null,null,null,null,null,null,null,762,"01.02. 18:00",-3.4,0]
[null,null,null,null,null,null,null,null,null,null,null,null,null,null,null,null,null,null,null,null,null,null,null,null,null,null,null,763,"01.02. 19:00",-3.8,0]
[null,null,null,null,null,null,null,null,null,null,null,null,null,null,null,null,null,null,null,null,null,null,null,null,null,null,null,764,"01.02. 20:00",-4.0999999999999996,0]
[null,null,null,null,null,null,null,null,null,null,null,null,null,null,null,null,null,null,null,null,null,null,null,null,null,null,null,765,"01.02. 21:00",-4.4000000000000004,0]
[null,null,null,null,null,null,null,null,null,null,null,null,null,null,null,null,null,null,null,null,null,null,null,null,null,null,null,766,"01.02. 22:00",-4.8,0]
[null,null,null,null,null,null,null,null,null,null,null,null,null,null,null,null,null,null,null,null,null,null,null,null,null,null,null,767,"01.02. 23:00",-5.0999999999999996,1]
[null,null,null,null,null,null,null,null,null,null,null,null,null,null,null,null,null,null,null,null,null,null,null,null,null,null,null,768,"02.02. 00:00",-5.0999999999999996,{"$f":"IF(AD808<=$AC$25,1,0)","v":1}]
[null,null,null,null,null,null,null,null,null,null,null,null,null,null,null,null,null,null,null,null,null,null,null,null,null,null,null,769,"02.02. 01:00",-5,1]
[null,null,null,null,null,null,null,null,null,null,null,null,null,null,null,null,null,null,null,null,null,null,null,null,null,null,null,770,"02.02. 02:00",-4.9000000000000004,0]
[null,null,null,null,null,null,null,null,null,null,null,null,null,null,null,null,null,null,null,null,null,null,null,null,null,null,null,771,"02.02. 03:00",-4.9000000000000004,0]
[null,null,null,null,null,null,null,null,null,null,null,null,null,null,null,null,null,null,null,null,null,null,null,null,null,null,null,772,"02.02. 04:00",-4.8,0]
[null,null,null,null,null,null,null,null,null,null,null,null,null,null,null,null,null,null,null,null,null,null,null,null,null,null,null,773,"02.02. 05:00",-4.8,0]
[null,null,null,null,null,null,null,null,null,null,null,null,null,null,null,null,null,null,null,null,null,null,null,null,null,null,null,774,"02.02. 06:00",-4.7,0]
[null,null,null,null,null,null,null,null,null,null,null,null,null,null,null,null,null,null,null,null,null,null,null,null,null,null,null,775,"02.02. 07:00",-4.7,0]
[null,null,null,null,null,null,null,null,null,null,null,null,null,null,null,null,null,null,null,null,null,null,null,null,null,null,null,776,"02.02. 08:00",-4.0999999999999996,0]
[null,null,null,null,null,null,null,null,null,null,null,null,null,null,null,null,null,null,null,null,null,null,null,null,null,null,null,777,"02.02. 09:00",-4,0]
[null,null,null,null,null,null,null,null,null,null,null,null,null,null,null,null,null,null,null,null,null,null,null,null,null,null,null,778,"02.02. 10:00",-2.7,0]
[null,null,null,null,null,null,null,null,null,null,null,null,null,null,null,null,null,null,null,null,null,null,null,null,null,null,null,779,"02.02. 11:00",-1.8,0]
[null,null,null,null,null,null,null,null,null,null,null,null,null,null,null,null,null,null,null,null,null,null,null,null,null,null,null,780,"02.02. 12:00",-0.8,0]
[null,null,null,null,null,null,null,null,null,null,null,null,null,null,null,null,null,null,null,null,null,null,null,null,null,null,null,781,"02.02. 13:00",-0.3,0]
[null,null,null,null,null,null,null,null,null,null,null,null,null,null,null,null,null,null,null,null,null,null,null,null,null,null,null,782,"02.02. 14:00",0.4,0]
[null,null,null,null,null,null,null,null,null,null,null,null,null,null,null,null,null,null,null,null,null,null,null,null,null,null,null,783,"02.02. 15:00",0.7,0]
[null,null,null,null,null,null,null,null,null,null,null,null,null,null,null,null,null,null,null,null,null,null,null,null,null,null,null,784,"02.02. 16:00",0.4,0]
[null,null,null,null,null,null,null,null,null,null,null,null,null,null,null,null,null,null,null,null,null,null,null,null,null,null,null,785,"02.02. 17:00",-0.04,0]
[null,null,null,null,null,null,null,null,null,null,null,null,null,null,null,null,null,null,null,null,null,null,null,null,null,null,null,786,"02.02. 18:00",-0.4,0]
[null,null,null,null,null,null,null,null,null,null,null,null,null,null,null,null,null,null,null,null,null,null,null,null,null,null,null,787,"02.02. 19:00",-0.8,0]
[null,null,null,null,null,null,null,null,null,null,null,null,null,null,null,null,null,null,null,null,null,null,null,null,null,null,null,788,"02.02. 20:00",-1.2,0]
[null,null,null,null,null,null,null,null,null,null,null,null,null,null,null,null,null,null,null,null,null,null,null,null,null,null,null,789,"02.02. 21:00",-1.7,0]
[null,null,null,null,null,null,null,null,null,null,null,null,null,null,null,null,null,null,null,null,null,null,null,null,null,null,null,790,"02.02. 22:00",-2.1,0]
[null,null,null,null,null,null,null,null,null,null,null,null,null,null,null,null,null,null,null,null,null,null,null,null,null,null,null,791,"02.02. 23:00",-2.5,0]
[null,null,null,null,null,null,null,null,null,null,null,null,null,null,null,null,null,null,null,null,null,null,null,null,null,null,null,792,"03.02. 00:00",-3.1,0]
[null,null,null,null,null,null,null,null,null,null,null,null,null,null,null,null,null,null,null,null,null,null,null,null,null,null,null,793,"03.02. 01:00",-3.8,0]
[null,null,null,null,null,null,null,null,null,null,null,null,null,null,null,null,null,null,null,null,null,null,null,null,null,null,null,794,"03.02. 02:00",-4.5,0]
[null,null,null,null,null,null,null,null,null,null,null,null,null,null,null,null,null,null,null,null,null,null,null,null,null,null,null,795,"03.02. 03:00",-4,0]
[null,null,null,null,null,null,null,null,null,null,null,null,null,null,null,null,null,null,null,null,null,null,null,null,null,null,null,796,"03.02. 04:00",-4.4000000000000004,0]
[null,null,null,null,null,null,null,null,null,null,null,null,null,null,null,null,null,null,null,null,null,null,null,null,null,null,null,797,"03.02. 05:00",-4.8,0]
[null,null,null,null,null,null,null,null,null,null,null,null,null,null,null,null,null,null,null,null,null,null,null,null,null,null,null,798,"03.02. 06:00",-4.5,0]
[null,null,null,null,null,null,null,null,null,null,null,null,null,null,null,null,null,null,null,null,null,null,null,null,null,null,null,799,"03.02. 07:00",-4.8,0]
[null,null,null,null,null,null,null,null,null,null,null,null,null,null,null,null,null,null,null,null,null,null,null,null,null,null,null,800,"03.02. 08:00",-4.8,0]
[null,null,null,null,null,null,null,null,null,null,null,null,null,null,null,null,null,null,null,null,null,null,null,null,null,null,null,801,"03.02. 09:00",-4.3,0]
[null,null,null,null,null,null,null,null,null,null,null,null,null,null,null,null,null,null,null,null,null,null,null,null,null,null,null,802,"03.02. 10:00",-4,0]
[null,null,null,null,null,null,null,null,null,null,null,null,null,null,null,null,null,null,null,null,null,null,null,null,null,null,null,803,"03.02. 11:00",-3.4,0]
[null,null,null,null,null,null,null,null,null,null,null,null,null,null,null,null,null,null,null,null,null,null,null,null,null,null,null,804,"03.02. 12:00",-3,0]
[null,null,null,null,null,null,null,null,null,null,null,null,null,null,null,null,null,null,null,null,null,null,null,null,null,null,null,805,"03.02. 13:00",-2.9,0]
[null,null,null,null,null,null,null,null,null,null,null,null,null,null,null,null,null,null,null,null,null,null,null,null,null,null,null,806,"03.02. 14:00",-2.9,0]
[null,null,null,null,null,null,null,null,null,null,null,null,null,null,null,null,null,null,null,null,null,null,null,null,null,null,null,807,"03.02. 15:00",-3,0]
[null,null,null,null,null,null,null,null,null,null,null,null,null,null,null,null,null,null,null,null,null,null,null,null,null,null,null,808,"03.02. 16:00",-3.5,0]
[null,null,null,null,null,null,null,null,null,null,null,null,null,null,null,null,null,null,null,null,null,null,null,null,null,null,null,809,"03.02. 17:00",-4,0]
[null,null,null,null,null,null,null,null,null,null,null,null,null,null,null,null,null,null,null,null,null,null,null,null,null,null,null,810,"03.02. 18:00",-4.5,0]
[null,null,null,null,null,null,null,null,null,null,null,null,null,null,null,null,null,null,null,null,null,null,null,null,null,null,null,811,"03.02. 19:00",-4.9000000000000004,0]
[null,null,null,null,null,null,null,null,null,null,null,null,null,null,null,null,null,null,null,null,null,null,null,null,null,null,null,812,"03.02. 20:00",-5.4,1]
[null,null,null,null,null,null,null,null,null,null,null,null,null,null,null,null,null,null,null,null,null,null,null,null,null,null,null,813,"03.02. 21:00",-5.9,1]
[null,null,null,null,null,null,null,null,null,null,null,null,null,null,null,null,null,null,null,null,null,null,null,null,null,null,null,814,"03.02. 22:00",-6.3,1]
[null,null,null,null,null,null,null,null,null,null,null,null,null,null,null,null,null,null,null,null,null,null,null,null,null,null,null,815,"03.02. 23:00",-6.8,1]
[null,null,null,null,null,null,null,null,null,null,null,null,null,null,null,null,null,null,null,null,null,null,null,null,null,null,null,816,"04.02. 00:00",-6.9,1]
[null,null,null,null,null,null,null,null,null,null,null,null,null,null,null,null,null,null,null,null,null,null,null,null,null,null,null,817,"04.02. 01:00",-6.9,1]
[null,null,null,null,null,null,null,null,null,null,null,null,null,null,null,null,null,null,null,null,null,null,null,null,null,null,null,818,"04.02. 02:00",-6.9,1]
[null,null,null,null,null,null,null,null,null,null,null,null,null,null,null,null,null,null,null,null,null,null,null,null,null,null,null,819,"04.02. 03:00",-6.8,1]
[null,null,null,null,null,null,null,null,null,null,null,null,null,null,null,null,null,null,null,null,null,null,null,null,null,null,null,820,"04.02. 04:00",-6.9,1]
[null,null,null,null,null,null,null,null,null,null,null,null,null,null,null,null,null,null,null,null,null,null,null,null,null,null,null,821,"04.02. 05:00",-6.9,1]
[null,null,null,null,null,null,null,null,null,null,null,null,null,null,null,null,null,null,null,null,null,null,null,null,null,null,null,822,"04.02. 06:00",-6.8,1]
[null,null,null,null,null,null,null,null,null,null,null,null,null,null,null,null,null,null,null,null,null,null,null,null,null,null,null,823,"04.02. 07:00",-6.8,1]
[null,null,null,null,null,null,null,null,null,null,null,null,null,null,null,null,null,null,null,null,null,null,null,null,null,null,null,824,"04.02. 08:00",-6.1,1]
[null,null,null,null,null,null,null,null,null,null,null,null,null,null,null,null,null,null,null,null,null,null,null,null,null,null,null,825,"04.02. 09:00",-5.3,1]
[null,null,null,null,null,null,null,null,null,null,null,null,null,null,null,null,null,null,null,null,null,null,null,null,null,null,null,826,"04.02. 10:00",-4.4000000000000004,0]
[null,null,null,null,null,null,null,null,null,null,null,null,null,null,null,null,null,null,null,null,null,null,null,null,null,null,null,827,"04.02. 11:00",-3.8,0]
[null,null,null,null,null,null,null,null,null,null,null,null,null,null,null,null,null,null,null,null,null,null,null,null,null,null,null,828,"04.02. 12:00",-3.1,0]
[null,null,null,null,null,null,null,null,null,null,null,null,null,null,null,null,null,null,null,null,null,null,null,null,null,null,null,829,"04.02. 13:00",-3,0]
[null,null,null,null,null,null,null,null,null,null,null,null,null,null,null,null,null,null,null,null,null,null,null,null,null,null,null,830,"04.02. 14:00",-3.2,0]
[null,null,null,null,null,null,null,null,null,null,null,null,null,null,null,null,null,null,null,null,null,null,null,null,null,null,null,831,"04.02. 15:00",-3.3,0]
[null,null,null,null,null,null,null,null,null,null,null,null,null,null,null,null,null,null,null,null,null,null,null,null,null,null,null,832,"04.02. 16:00",-3.6,{"$f":"IF(AD872<=$AC$25,1,0)","v":0}]
[null,null,null,null,null,null,null,null,null,null,null,null,null,null,null,null,null,null,null,null,null,null,null,null,null,null,null,833,"04.02. 17:00",-4.0999999999999996,0]
[null,null,null,null,null,null,null,null,null,null,null,null,null,null,null,null,null,null,null,null,null,null,null,null,null,null,null,834,"04.02. 18:00",-4.5,0]
[null,null,null,null,null,null,null,null,null,null,null,null,null,null,null,null,null,null,null,null,null,null,null,null,null,null,null,835,"04.02. 19:00",-4.9000000000000004,0]
[null,null,null,null,null,null,null,null,null,null,null,null,null,null,null,null,null,null,null,null,null,null,null,null,null,null,null,836,"04.02. 20:00",-5.3,1]
[null,null,null,null,null,null,null,null,null,null,null,null,null,null,null,null,null,null,null,null,null,null,null,null,null,null,null,837,"04.02. 21:00",-5.7,1]
[null,null,null,null,null,null,null,null,null,null,null,null,null,null,null,null,null,null,null,null,null,null,null,null,null,null,null,838,"04.02. 22:00",-6.1,1]
[null,null,null,null,null,null,null,null,null,null,null,null,null,null,null,null,null,null,null,null,null,null,null,null,null,null,null,839,"04.02. 23:00",-6.5,1]
[null,null,null,null,null,null,null,null,null,null,null,null,null,null,null,null,null,null,null,null,null,null,null,null,null,null,null,840,"05.02. 00:00",-6.9,1]
[null,null,null,null,null,null,null,null,null,null,null,null,null,null,null,null,null,null,null,null,null,null,null,null,null,null,null,841,"05.02. 01:00",-7.4,1]
[null,null,null,null,null,null,null,null,null,null,null,null,null,null,null,null,null,null,null,null,null,null,null,null,null,null,null,842,"05.02. 02:00",-7.9,1]
[null,null,null,null,null,null,null,null,null,null,null,null,null,null,null,null,null,null,null,null,null,null,null,null,null,null,null,843,"05.02. 03:00",-7.4,1]
[null,null,null,null,null,null,null,null,null,null,null,null,null,null,null,null,null,null,null,null,null,null,null,null,null,null,null,844,"05.02. 04:00",-7.6,1]
[null,null,null,null,null,null,null,null,null,null,null,null,null,null,null,null,null,null,null,null,null,null,null,null,null,null,null,845,"05.02. 05:00",-7.9,1]
[null,null,null,null,null,null,null,null,null,null,null,null,null,null,null,null,null,null,null,null,null,null,null,null,null,null,null,846,"05.02. 06:00",-7.5,1]
[null,null,null,null,null,null,null,null,null,null,null,null,null,null,null,null,null,null,null,null,null,null,null,null,null,null,null,847,"05.02. 07:00",-7.7,1]
[null,null,null,null,null,null,null,null,null,null,null,null,null,null,null,null,null,null,null,null,null,null,null,null,null,null,null,848,"05.02. 08:00",-5.9,1]
[null,null,null,null,null,null,null,null,null,null,null,null,null,null,null,null,null,null,null,null,null,null,null,null,null,null,null,849,"05.02. 09:00",-3.8,0]
[null,null,null,null,null,null,null,null,null,null,null,null,null,null,null,null,null,null,null,null,null,null,null,null,null,null,null,850,"05.02. 10:00",-1.7,0]
[null,null,null,null,null,null,null,null,null,null,null,null,null,null,null,null,null,null,null,null,null,null,null,null,null,null,null,851,"05.02. 11:00",-0.4,0]
[null,null,null,null,null,null,null,null,null,null,null,null,null,null,null,null,null,null,null,null,null,null,null,null,null,null,null,852,"05.02. 12:00",0.7,0]
[null,null,null,null,null,null,null,null,null,null,null,null,null,null,null,null,null,null,null,null,null,null,null,null,null,null,null,853,"05.02. 13:00",1.4,0]
[null,null,null,null,null,null,null,null,null,null,null,null,null,null,null,null,null,null,null,null,null,null,null,null,null,null,null,854,"05.02. 14:00",1.5,0]
[null,null,null,null,null,null,null,null,null,null,null,null,null,null,null,null,null,null,null,null,null,null,null,null,null,null,null,855,"05.02. 15:00",1,0]
[null,null,null,null,null,null,null,null,null,null,null,null,null,null,null,null,null,null,null,null,null,null,null,null,null,null,null,856,"05.02. 16:00",0.1,0]
[null,null,null,null,null,null,null,null,null,null,null,null,null,null,null,null,null,null,null,null,null,null,null,null,null,null,null,857,"05.02. 17:00",-1.3,0]
[null,null,null,null,null,null,null,null,null,null,null,null,null,null,null,null,null,null,null,null,null,null,null,null,null,null,null,858,"05.02. 18:00",-1.6,0]
[null,null,null,null,null,null,null,null,null,null,null,null,null,null,null,null,null,null,null,null,null,null,null,null,null,null,null,859,"05.02. 19:00",-1.8,0]
[null,null,null,null,null,null,null,null,null,null,null,null,null,null,null,null,null,null,null,null,null,null,null,null,null,null,null,860,"05.02. 20:00",-2.1,0]
[null,null,null,null,null,null,null,null,null,null,null,null,null,null,null,null,null,null,null,null,null,null,null,null,null,null,null,861,"05.02. 21:00",-2.2999999999999998,0]
[null,null,null,null,null,null,null,null,null,null,null,null,null,null,null,null,null,null,null,null,null,null,null,null,null,null,null,862,"05.02. 22:00",-2.6,0]
[null,null,null,null,null,null,null,null,null,null,null,null,null,null,null,null,null,null,null,null,null,null,null,null,null,null,null,863,"05.02. 23:00",-2.8,0]
[null,null,null,null,null,null,null,null,null,null,null,null,null,null,null,null,null,null,null,null,null,null,null,null,null,null,null,864,"06.02. 00:00",-3.1,0]
[null,null,null,null,null,null,null,null,null,null,null,null,null,null,null,null,null,null,null,null,null,null,null,null,null,null,null,865,"06.02. 01:00",-3.4,0]
[null,null,null,null,null,null,null,null,null,null,null,null,null,null,null,null,null,null,null,null,null,null,null,null,null,null,null,866,"06.02. 02:00",-3.6,0]
[null,null,null,null,null,null,null,null,null,null,null,null,null,null,null,null,null,null,null,null,null,null,null,null,null,null,null,867,"06.02. 03:00",-3.4,0]
[null,null,null,null,null,null,null,null,null,null,null,null,null,null,null,null,null,null,null,null,null,null,null,null,null,null,null,868,"06.02. 04:00",-3.5,0]
[null,null,null,null,null,null,null,null,null,null,null,null,null,null,null,null,null,null,null,null,null,null,null,null,null,null,null,869,"06.02. 05:00",-3.7,0]
[null,null,null,null,null,null,null,null,null,null,null,null,null,null,null,null,null,null,null,null,null,null,null,null,null,null,null,870,"06.02. 06:00",-3.5,0]
[null,null,null,null,null,null,null,null,null,null,null,null,null,null,null,null,null,null,null,null,null,null,null,null,null,null,null,871,"06.02. 07:00",-3.6,0]
[null,null,null,null,null,null,null,null,null,null,null,null,null,null,null,null,null,null,null,null,null,null,null,null,null,null,null,872,"06.02. 08:00",-3.5,0]
[null,null,null,null,null,null,null,null,null,null,null,null,null,null,null,null,null,null,null,null,null,null,null,null,null,null,null,873,"06.02. 09:00",-2.9,0]
[null,null,null,null,null,null,null,null,null,null,null,null,null,null,null,null,null,null,null,null,null,null,null,null,null,null,null,874,"06.02. 10:00",-2.5,0]
[null,null,null,null,null,null,null,null,null,null,null,null,null,null,null,null,null,null,null,null,null,null,null,null,null,null,null,875,"06.02. 11:00",-2,0]
[null,null,null,null,null,null,null,null,null,null,null,null,null,null,null,null,null,null,null,null,null,null,null,null,null,null,null,876,"06.02. 12:00",-1.8,0]
[null,null,null,null,null,null,null,null,null,null,null,null,null,null,null,null,null,null,null,null,null,null,null,null,null,null,null,877,"06.02. 13:00",-0.3,0]
[null,null,null,null,null,null,null,null,null,null,null,null,null,null,null,null,null,null,null,null,null,null,null,null,null,null,null,878,"06.02. 14:00",0.5,0]
[null,null,null,null,null,null,null,null,null,null,null,null,null,null,null,null,null,null,null,null,null,null,null,null,null,null,null,879,"06.02. 15:00",0.8,0]
[null,null,null,null,null,null,null,null,null,null,null,null,null,null,null,null,null,null,null,null,null,null,null,null,null,null,null,880,"06.02. 16:00",0.5,0]
[null,null,null,null,null,null,null,null,null,null,null,null,null,null,null,null,null,null,null,null,null,null,null,null,null,null,null,881,"06.02. 17:00",-0.3,0]
[null,null,null,null,null,null,null,null,null,null,null,null,null,null,null,null,null,null,null,null,null,null,null,null,null,null,null,882,"06.02. 18:00",-0.6,0]
[null,null,null,null,null,null,null,null,null,null,null,null,null,null,null,null,null,null,null,null,null,null,null,null,null,null,null,883,"06.02. 19:00",-1,0]
[null,null,null,null,null,null,null,null,null,null,null,null,null,null,null,null,null,null,null,null,null,null,null,null,null,null,null,884,"06.02. 20:00",-1.3,0]
[null,null,null,null,null,null,null,null,null,null,null,null,null,null,null,null,null,null,null,null,null,null,null,null,null,null,null,885,"06.02. 21:00",-1.7,0]
[null,null,null,null,null,null,null,null,null,null,null,null,null,null,null,null,null,null,null,null,null,null,null,null,null,null,null,886,"06.02. 22:00",-2,0]
[null,null,null,null,null,null,null,null,null,null,null,null,null,null,null,null,null,null,null,null,null,null,null,null,null,null,null,887,"06.02. 23:00",-2.4,0]
[null,null,null,null,null,null,null,null,null,null,null,null,null,null,null,null,null,null,null,null,null,null,null,null,null,null,null,888,"07.02. 00:00",-2.7,0]
[null,null,null,null,null,null,null,null,null,null,null,null,null,null,null,null,null,null,null,null,null,null,null,null,null,null,null,889,"07.02. 01:00",-3,0]
[null,null,null,null,null,null,null,null,null,null,null,null,null,null,null,null,null,null,null,null,null,null,null,null,null,null,null,890,"07.02. 02:00",-3.3,0]
[null,null,null,null,null,null,null,null,null,null,null,null,null,null,null,null,null,null,null,null,null,null,null,null,null,null,null,891,"07.02. 03:00",-3,0]
[null,null,null,null,null,null,null,null,null,null,null,null,null,null,null,null,null,null,null,null,null,null,null,null,null,null,null,892,"07.02. 04:00",-3.2,0]
[null,null,null,null,null,null,null,null,null,null,null,null,null,null,null,null,null,null,null,null,null,null,null,null,null,null,null,893,"07.02. 05:00",-3.3,0]
[null,null,null,null,null,null,null,null,null,null,null,null,null,null,null,null,null,null,null,null,null,null,null,null,null,null,null,894,"07.02. 06:00",-3.1,0]
[null,null,null,null,null,null,null,null,null,null,null,null,null,null,null,null,null,null,null,null,null,null,null,null,null,null,null,895,"07.02. 07:00",-3.3,0]
[null,null,null,null,null,null,null,null,null,null,null,null,null,null,null,null,null,null,null,null,null,null,null,null,null,null,null,896,"07.02. 08:00",-2,{"$f":"IF(AD936<=$AC$25,1,0)","v":0}]
[null,null,null,null,null,null,null,null,null,null,null,null,null,null,null,null,null,null,null,null,null,null,null,null,null,null,null,897,"07.02. 09:00",-0.3,0]
[null,null,null,null,null,null,null,null,null,null,null,null,null,null,null,null,null,null,null,null,null,null,null,null,null,null,null,898,"07.02. 10:00",1.6,0]
[null,null,null,null,null,null,null,null,null,null,null,null,null,null,null,null,null,null,null,null,null,null,null,null,null,null,null,899,"07.02. 11:00",2.5,0]
[null,null,null,null,null,null,null,null,null,null,null,null,null,null,null,null,null,null,null,null,null,null,null,null,null,null,null,900,"07.02. 12:00",3.5,0]
[null,null,null,null,null,null,null,null,null,null,null,null,null,null,null,null,null,null,null,null,null,null,null,null,null,null,null,901,"07.02. 13:00",3.8,0]
[null,null,null,null,null,null,null,null,null,null,null,null,null,null,null,null,null,null,null,null,null,null,null,null,null,null,null,902,"07.02. 14:00",3.6,0]
[null,null,null,null,null,null,null,null,null,null,null,null,null,null,null,null,null,null,null,null,null,null,null,null,null,null,null,903,"07.02. 15:00",2.8,0]
[null,null,null,null,null,null,null,null,null,null,null,null,null,null,null,null,null,null,null,null,null,null,null,null,null,null,null,904,"07.02. 16:00",1.6,0]
[null,null,null,null,null,null,null,null,null,null,null,null,null,null,null,null,null,null,null,null,null,null,null,null,null,null,null,905,"07.02. 17:00",0.6,0]
[null,null,null,null,null,null,null,null,null,null,null,null,null,null,null,null,null,null,null,null,null,null,null,null,null,null,null,906,"07.02. 18:00",0.3,0]
[null,null,null,null,null,null,null,null,null,null,null,null,null,null,null,null,null,null,null,null,null,null,null,null,null,null,null,907,"07.02. 19:00",0.03,0]
[null,null,null,null,null,null,null,null,null,null,null,null,null,null,null,null,null,null,null,null,null,null,null,null,null,null,null,908,"07.02. 20:00",-0.3,0]
[null,null,null,null,null,null,null,null,null,null,null,null,null,null,null,null,null,null,null,null,null,null,null,null,null,null,null,909,"07.02. 21:00",-0.5,0]
[null,null,null,null,null,null,null,null,null,null,null,null,null,null,null,null,null,null,null,null,null,null,null,null,null,null,null,910,"07.02. 22:00",-0.8,0]
[null,null,null,null,null,null,null,null,null,null,null,null,null,null,null,null,null,null,null,null,null,null,null,null,null,null,null,911,"07.02. 23:00",-1.1000000000000001,0]
[null,null,null,null,null,null,null,null,null,null,null,null,null,null,null,null,null,null,null,null,null,null,null,null,null,null,null,912,"08.02. 00:00",-1.3,0]
[null,null,null,null,null,null,null,null,null,null,null,null,null,null,null,null,null,null,null,null,null,null,null,null,null,null,null,913,"08.02. 01:00",-1.6,0]
[null,null,null,null,null,null,null,null,null,null,null,null,null,null,null,null,null,null,null,null,null,null,null,null,null,null,null,914,"08.02. 02:00",-1.9,0]
[null,null,null,null,null,null,null,null,null,null,null,null,null,null,null,null,null,null,null,null,null,null,null,null,null,null,null,915,"08.02. 03:00",-1.7,0]
[null,null,null,null,null,null,null,null,null,null,null,null,null,null,null,null,null,null,null,null,null,null,null,null,null,null,null,916,"08.02. 04:00",-1.8,0]
[null,null,null,null,null,null,null,null,null,null,null,null,null,null,null,null,null,null,null,null,null,null,null,null,null,null,null,917,"08.02. 05:00",-2,0]
[null,null,null,null,null,null,null,null,null,null,null,null,null,null,null,null,null,null,null,null,null,null,null,null,null,null,null,918,"08.02. 06:00",-1.9,0]
[null,null,null,null,null,null,null,null,null,null,null,null,null,null,null,null,null,null,null,null,null,null,null,null,null,null,null,919,"08.02. 07:00",-2,0]
[null,null,null,null,null,null,null,null,null,null,null,null,null,null,null,null,null,null,null,null,null,null,null,null,null,null,null,920,"08.02. 08:00",-1.7,0]
[null,null,null,null,null,null,null,null,null,null,null,null,null,null,null,null,null,null,null,null,null,null,null,null,null,null,null,921,"08.02. 09:00",-1.4,0]
[null,null,null,null,null,null,null,null,null,null,null,null,null,null,null,null,null,null,null,null,null,null,null,null,null,null,null,922,"08.02. 10:00",-1.1000000000000001,0]
[null,null,null,null,null,null,null,null,null,null,null,null,null,null,null,null,null,null,null,null,null,null,null,null,null,null,null,923,"08.02. 11:00",-0.8,0]
[null,null,null,null,null,null,null,null,null,null,null,null,null,null,null,null,null,null,null,null,null,null,null,null,null,null,null,924,"08.02. 12:00",-0.7,0]
[null,null,null,null,null,null,null,null,null,null,null,null,null,null,null,null,null,null,null,null,null,null,null,null,null,null,null,925,"08.02. 13:00",-0.7,0]
[null,null,null,null,null,null,null,null,null,null,null,null,null,null,null,null,null,null,null,null,null,null,null,null,null,null,null,926,"08.02. 14:00",-0.8,0]
[null,null,null,null,null,null,null,null,null,null,null,null,null,null,null,null,null,null,null,null,null,null,null,null,null,null,null,927,"08.02. 15:00",-0.9,0]
[null,null,null,null,null,null,null,null,null,null,null,null,null,null,null,null,null,null,null,null,null,null,null,null,null,null,null,928,"08.02. 16:00",-1.1000000000000001,0]
[null,null,null,null,null,null,null,null,null,null,null,null,null,null,null,null,null,null,null,null,null,null,null,null,null,null,null,929,"08.02. 17:00",-1.4,0]
[null,null,null,null,null,null,null,null,null,null,null,null,null,null,null,null,null,null,null,null,null,null,null,null,null,null,null,930,"08.02. 18:00",-1.6,0]
[null,null,null,null,null,null,null,null,null,null,null,null,null,null,null,null,null,null,null,null,null,null,null,null,null,null,null,931,"08.02. 19:00",-1.9,0]
[null,null,null,null,null,null,null,null,null,null,null,null,null,null,null,null,null,null,null,null,null,null,null,null,null,null,null,932,"08.02. 20:00",-2.1,0]
[null,null,null,null,null,null,null,null,null,null,null,null,null,null,null,null,null,null,null,null,null,null,null,null,null,null,null,933,"08.02. 21:00",-2.2999999999999998,0]
[null,null,null,null,null,null,null,null,null,null,null,null,null,null,null,null,null,null,null,null,null,null,null,null,null,null,null,934,"08.02. 22:00",-2.6,0]
[null,null,null,null,null,null,null,null,null,null,null,null,null,null,null,null,null,null,null,null,null,null,null,null,null,null,null,935,"08.02. 23:00",-2.8,0]
[null,null,null,null,null,null,null,null,null,null,null,null,null,null,null,null,null,null,null,null,null,null,null,null,null,null,null,936,"09.02. 00:00",-2.9,0]
[null,null,null,null,null,null,null,null,null,null,null,null,null,null,null,null,null,null,null,null,null,null,null,null,null,null,null,937,"09.02. 01:00",-3,0]
[null,null,null,null,null,null,null,null,null,null,null,null,null,null,null,null,null,null,null,null,null,null,null,null,null,null,null,938,"09.02. 02:00",-3,0]
[null,null,null,null,null,null,null,null,null,null,null,null,null,null,null,null,null,null,null,null,null,null,null,null,null,null,null,939,"09.02. 03:00",-2.9,0]
[null,null,null,null,null,null,null,null,null,null,null,null,null,null,null,null,null,null,null,null,null,null,null,null,null,null,null,940,"09.02. 04:00",-2.9,0]
[null,null,null,null,null,null,null,null,null,null,null,null,null,null,null,null,null,null,null,null,null,null,null,null,null,null,null,941,"09.02. 05:00",-2.9,0]
[null,null,null,null,null,null,null,null,null,null,null,null,null,null,null,null,null,null,null,null,null,null,null,null,null,null,null,942,"09.02. 06:00",-2.8,0]
[null,null,null,null,null,null,null,null,null,null,null,null,null,null,null,null,null,null,null,null,null,null,null,null,null,null,null,943,"09.02. 07:00",-2.8,0]
[null,null,null,null,null,null,null,null,null,null,null,null,null,null,null,null,null,null,null,null,null,null,null,null,null,null,null,944,"09.02. 08:00",-0.6,0]
[null,null,null,null,null,null,null,null,null,null,null,null,null,null,null,null,null,null,null,null,null,null,null,null,null,null,null,945,"09.02. 09:00",0.7,0]
[null,null,null,null,null,null,null,null,null,null,null,null,null,null,null,null,null,null,null,null,null,null,null,null,null,null,null,946,"09.02. 10:00",1.1000000000000001,0]
[null,null,null,null,null,null,null,null,null,null,null,null,null,null,null,null,null,null,null,null,null,null,null,null,null,null,null,947,"09.02. 11:00",2.4,0]
[null,null,null,null,null,null,null,null,null,null,null,null,null,null,null,null,null,null,null,null,null,null,null,null,null,null,null,948,"09.02. 12:00",3.4,0]
[null,null,null,null,null,null,null,null,null,null,null,null,null,null,null,null,null,null,null,null,null,null,null,null,null,null,null,949,"09.02. 13:00",4.5999999999999996,0]
[null,null,null,null,null,null,null,null,null,null,null,null,null,null,null,null,null,null,null,null,null,null,null,null,null,null,null,950,"09.02. 14:00",4.9000000000000004,0]
[null,null,null,null,null,null,null,null,null,null,null,null,null,null,null,null,null,null,null,null,null,null,null,null,null,null,null,951,"09.02. 15:00",4.2,0]
[null,null,null,null,null,null,null,null,null,null,null,null,null,null,null,null,null,null,null,null,null,null,null,null,null,null,null,952,"09.02. 16:00",3.2,0]
[null,null,null,null,null,null,null,null,null,null,null,null,null,null,null,null,null,null,null,null,null,null,null,null,null,null,null,953,"09.02. 17:00",2.2000000000000002,0]
[null,null,null,null,null,null,null,null,null,null,null,null,null,null,null,null,null,null,null,null,null,null,null,null,null,null,null,954,"09.02. 18:00",1.8,0]
[null,null,null,null,null,null,null,null,null,null,null,null,null,null,null,null,null,null,null,null,null,null,null,null,null,null,null,955,"09.02. 19:00",1.5,0]
[null,null,null,null,null,null,null,null,null,null,null,null,null,null,null,null,null,null,null,null,null,null,null,null,null,null,null,956,"09.02. 20:00",1.2,0]
[null,null,null,null,null,null,null,null,null,null,null,null,null,null,null,null,null,null,null,null,null,null,null,null,null,null,null,957,"09.02. 21:00",0.9,0]
[null,null,null,null,null,null,null,null,null,null,null,null,null,null,null,null,null,null,null,null,null,null,null,null,null,null,null,958,"09.02. 22:00",0.5,0]
[null,null,null,null,null,null,null,null,null,null,null,null,null,null,null,null,null,null,null,null,null,null,null,null,null,null,null,959,"09.02. 23:00",0.2,0]
[null,null,null,null,null,null,null,null,null,null,null,null,null,null,null,null,null,null,null,null,null,null,null,null,null,null,null,960,"10.02. 00:00",-0.3,{"$f":"IF(AD1000<=$AC$25,1,0)","v":0}]
[null,null,null,null,null,null,null,null,null,null,null,null,null,null,null,null,null,null,null,null,null,null,null,null,null,null,null,965,"10.02. 05:00",-1.5,0]
[null,null,null,null,null,null,null,null,null,null,null,null,null,null,null,null,null,null,null,null,null,null,null,null,null,null,null,970,"10.02. 10:00",0.5,0]
[null,null,null,null,null,null,null,null,null,null,null,null,null,null,null,null,null,null,null,null,null,null,null,null,null,null,null,979,"10.02. 19:00",-2E-3,0]
[null,null,null,null,null,null,null,null,null,null,null,null,null,null,null,null,null,null,null,null,null,null,null,null,null,null,null,987,"11.02. 03:00",-0.1,0]
[null,null,null,null,null,null,null,null,null,null,null,null,null,null,null,null,null,null,null,null,null,null,null,null,null,null,null,993,"11.02. 09:00",3.6,0]
[null,null,null,null,null,null,null,null,null,null,null,null,null,null,null,null,null,null,null,null,null,null,null,null,null,null,null,1004,"11.02. 20:00",4.4000000000000004,0]
[null,null,null,null,null,null,null,null,null,null,null,null,null,null,null,null,null,null,null,null,null,null,null,null,null,null,null,1007,"11.02. 23:00",5.0999999999999996,0]
[null,null,null,null,null,null,null,null,null,null,null,null,null,null,null,null,null,null,null,null,null,null,null,null,null,null,null,1013,"12.02. 05:00",4.3,0]
[null,null,null,null,null,null,null,null,null,null,null,null,null,null,null,null,null,null,null,null,null,null,null,null,null,null,null,1021,"12.02. 13:00",9.9,0]
[null,null,null,null,null,null,null,null,null,null,null,null,null,null,null,null,null,null,null,null,null,null,null,null,null,null,null,1030,"12.02. 22:00",6.3,0]
[null,null,null,null,null,null,null,null,null,null,null,null,null,null,null,null,null,null,null,null,null,null,null,null,null,null,null,1039,"13.02. 07:00",6.1,0]
[null,null,null,null,null,null,null,null,null,null,null,null,null,null,null,null,null,null,null,null,null,null,null,null,null,null,null,1044,"13.02. 12:00",9.6,0]
[null,null,null,null,null,null,null,null,null,null,null,null,null,null,null,null,null,null,null,null,null,null,null,null,null,null,null,1056,"14.02. 00:00",5.2,0]
[null,null,null,null,null,null,null,null,null,null,null,null,null,null,null,null,null,null,null,null,null,null,null,null,null,null,null,1061,"14.02. 05:00",2.7,0]
[null,null,null,null,null,null,null,null,null,null,null,null,null,null,null,null,null,null,null,null,null,null,null,null,null,null,null,1073,"14.02. 17:00",3.1,0]
[null,null,null,null,null,null,null,null,null,null,null,null,null,null,null,null,null,null,null,null,null,null,null,null,null,null,null,1075,"14.02. 19:00",1.6,0]
[null,null,null,null,null,null,null,null,null,null,null,null,null,null,null,null,null,null,null,null,null,null,null,null,null,null,null,1082,"15.02. 02:00",-1.7,0]
[null,null,null,null,null,null,null,null,null,null,null,null,null,null,null,null,null,null,null,null,null,null,null,null,null,null,null,1089,"15.02. 09:00",-0.8,0]
[null,null,null,null,null,null,null,null,null,null,null,null,null,null,null,null,null,null,null,null,null,null,null,null,null,null,null,1099,"15.02. 19:00",-0.6,0]
[null,null,null,null,null,null,null,null,null,null,null,null,null,null,null,null,null,null,null,null,null,null,null,null,null,null,null,1108,"16.02. 04:00",-2.2999999999999998,0]
[null,null,null,null,null,null,null,null,null,null,null,null,null,null,null,null,null,null,null,null,null,null,null,null,null,null,null,1112,"16.02. 08:00",-0.1,0]
[null,null,null,null,null,null,null,null,null,null,null,null,null,null,null,null,null,null,null,null,null,null,null,null,null,null,null,1125,"16.02. 21:00",1.7,0]
[null,null,null,null,null,null,null,null,null,null,null,null,null,null,null,null,null,null,null,null,null,null,null,null,null,null,null,1133,"17.02. 05:00",-0.8,0]
[null,null,null,null,null,null,null,null,null,null,null,null,null,null,null,null,null,null,null,null,null,null,null,null,null,null,null,1134,"17.02. 06:00",-0.6,0]
[null,null,null,null,null,null,null,null,null,null,null,null,null,null,null,null,null,null,null,null,null,null,null,null,null,null,null,1147,"17.02. 19:00",4.2,0]
[null,null,null,null,null,null,null,null,null,null,null,null,null,null,null,null,null,null,null,null,null,null,null,null,null,null,null,1151,"17.02. 23:00",2.1,0]
[null,null,null,null,null,null,null,null,null,null,null,null,null,null,null,null,null,null,null,null,null,null,null,null,null,null,null,1157,"18.02. 05:00",1.5,0]
[null,null,null,null,null,null,null,null,null,null,null,null,null,null,null,null,null,null,null,null,null,null,null,null,null,null,null,1168,"18.02. 16:00",7.4,0]
[null,null,null,null,null,null,null,null,null,null,null,null,null,null,null,null,null,null,null,null,null,null,null,null,null,null,null,1178,"19.02. 02:00",1.4,0]
[null,null,null,null,null,null,null,null,null,null,null,null,null,null,null,null,null,null,null,null,null,null,null,null,null,null,null,1185,"19.02. 09:00",2.5,0]
[null,null,null,null,null,null,null,null,null,null,null,null,null,null,null,null,null,null,null,null,null,null,null,null,null,null,null,1194,"19.02. 18:00",2.2000000000000002,0]
[null,null,null,null,null,null,null,null,null,null,null,null,null,null,null,null,null,null,null,null,null,null,null,null,null,null,null,1201,"20.02. 01:00",-0.2,0]
[null,null,null,null,null,null,null,null,null,null,null,null,null,null,null,null,null,null,null,null,null,null,null,null,null,null,null,1203,"20.02. 03:00",-0.2,0]
[null,null,null,null,null,null,null,null,null,null,null,null,null,null,null,null,null,null,null,null,null,null,null,null,null,null,null,1215,"20.02. 15:00",9.1999999999999993,0]
[null,null,null,null,null,null,null,null,null,null,null,null,null,null,null,null,null,null,null,null,null,null,null,null,null,null,null,1220,"20.02. 20:00",5.5,0]
[null,null,null,null,null,null,null,null,null,null,null,null,null,null,null,null,null,null,null,null,null,null,null,null,null,null,null,1229,"21.02. 05:00",1.4,0]
[null,null,null,null,null,null,null,null,null,null,null,null,null,null,null,null,null,null,null,null,null,null,null,null,null,null,null,1237,"21.02. 13:00",10.8,0]
[null,null,null,null,null,null,null,null,null,null,null,null,null,null,null,null,null,null,null,null,null,null,null,null,null,null,null,1243,"21.02. 19:00",6.4,0]
[null,null,null,null,null,null,null,null,null,null,null,null,null,null,null,null,null,null,null,null,null,null,null,null,null,null,null,1254,"22.02. 06:00",3.2,0]
[null,null,null,null,null,null,null,null,null,null,null,null,null,null,null,null,null,null,null,null,null,null,null,null,null,null,null,1255,"22.02. 07:00",3.3,0]
[null,null,null,null,null,null,null,null,null,null,null,null,null,null,null,null,null,null,null,null,null,null,null,null,null,null,null,1266,"22.02. 18:00",9.9,0]
[null,null,null,null,null,null,null,null,null,null,null,null,null,null,null,null,null,null,null,null,null,null,null,null,null,null,null,1272,"23.02. 00:00",3.1,0]
[null,null,null,null,null,null,null,null,null,null,null,null,null,null,null,null,null,null,null,null,null,null,null,null,null,null,null,1280,"23.02. 08:00",0.7,{"$f":"IF(AD1320<=$AC$25,1,0)","v":0}]
[null,null,null,null,null,null,null,null,null,null,null,null,null,null,null,null,null,null,null,null,null,null,null,null,null,null,null,1289,"23.02. 17:00",2.4,0]
[null,null,null,null,null,null,null,null,null,null,null,null,null,null,null,null,null,null,null,null,null,null,null,null,null,null,null,1297,"24.02. 01:00",-3,0]
[null,null,null,null,null,null,null,null,null,null,null,null,null,null,null,null,null,null,null,null,null,null,null,null,null,null,null,1306,"24.02. 10:00",1.1000000000000001,0]
[null,null,null,null,null,null,null,null,null,null,null,null,null,null,null,null,null,null,null,null,null,null,null,null,null,null,null,1311,"24.02. 15:00",4,0]
[null,null,null,null,null,null,null,null,null,null,null,null,null,null,null,null,null,null,null,null,null,null,null,null,null,null,null,1315,"24.02. 19:00",2.8,0]
[null,null,null,null,null,null,null,null,null,null,null,null,null,null,null,null,null,null,null,null,null,null,null,null,null,null,null,1325,"25.02. 05:00",2.2000000000000002,0]
[null,null,null,null,null,null,null,null,null,null,null,null,null,null,null,null,null,null,null,null,null,null,null,null,null,null,null,1332,"25.02. 12:00",6.6,0]
[null,null,null,null,null,null,null,null,null,null,null,null,null,null,null,null,null,null,null,null,null,null,null,null,null,null,null,1341,"25.02. 21:00",6.1,0]
[null,null,null,null,null,null,null,null,null,null,null,null,null,null,null,null,null,null,null,null,null,null,null,null,null,null,null,1348,"26.02. 04:00",3.4,0]
[null,null,null,null,null,null,null,null,null,null,null,null,null,null,null,null,null,null,null,null,null,null,null,null,null,null,null,1358,"26.02. 14:00",6.7,0]
[null,null,null,null,null,null,null,null,null,null,null,null,null,null,null,null,null,null,null,null,null,null,null,null,null,null,null,1362,"26.02. 18:00",6.4,0]
[null,null,null,null,null,null,null,null,null,null,null,null,null,null,null,null,null,null,null,null,null,null,null,null,null,null,null,1375,"27.02. 07:00",0.4,0]
[null,null,null,null,null,null,null,null,null,null,null,null,null,null,null,null,null,null,null,null,null,null,null,null,null,null,null,1376,"27.02. 08:00",2,0]
[null,null,null,null,null,null,null,null,null,null,null,null,null,null,null,null,null,null,null,null,null,null,null,null,null,null,null,1384,"27.02. 16:00",4.4000000000000004,0]
[null,null,null,null,null,null,null,null,null,null,null,null,null,null,null,null,null,null,null,null,null,null,null,null,null,null,null,1393,"28.02. 01:00",-3.3,0]
[null,null,null,null,null,null,null,null,null,null,null,null,null,null,null,null,null,null,null,null,null,null,null,null,null,null,null,1401,"28.02. 09:00",-0.8,0]
[null,null,null,null,null,null,null,null,null,null,null,null,null,null,null,null,null,null,null,null,null,null,null,null,null,null,null,1410,"28.02. 18:00",0.7,0]
[null,null,null,null,null,null,null,null,null,null,null,null,null,null,null,null,null,null,null,null,null,null,null,null,null,null,null,1416,"01.03. 00:00",-3.3,0]
[null,null,null,null,null,null,null,null,null,null,null,null,null,null,null,null,null,null,null,null,null,null,null,null,null,null,null,1427,"01.03. 11:00",-2.8,0]
[null,null,null,null,null,null,null,null,null,null,null,null,null,null,null,null,null,null,null,null,null,null,null,null,null,null,null,1430,"01.03. 14:00",0.6,0]
[null,null,null,null,null,null,null,null,null,null,null,null,null,null,null,null,null,null,null,null,null,null,null,null,null,null,null,1436,"01.03. 20:00",-0.02,0]
[null,null,null,null,null,null,null,null,null,null,null,null,null,null,null,null,null,null,null,null,null,null,null,null,null,null,null,1444,"02.03. 04:00",-2.5,0]
[null,null,null,null,null,null,null,null,null,null,null,null,null,null,null,null,null,null,null,null,null,null,null,null,null,null,null,1453,"02.03. 13:00",4.7,0]
[null,null,null,null,null,null,null,null,null,null,null,null,null,null,null,null,null,null,null,null,null,null,null,null,null,null,null,1465,"03.03. 01:00",-2.4,0]
[null,null,null,null,null,null,null,null,null,null,null,null,null,null,null,null,null,null,null,null,null,null,null,null,null,null,null,1470,"03.03. 06:00",-2.7,0]
[null,null,null,null,null,null,null,null,null,null,null,null,null,null,null,null,null,null,null,null,null,null,null,null,null,null,null,1475,"03.03. 11:00",1.7,0]
[null,null,null,null,null,null,null,null,null,null,null,null,null,null,null,null,null,null,null,null,null,null,null,null,null,null,null,1487,"03.03. 23:00",-2.6,0]
[null,null,null,null,null,null,null,null,null,null,null,null,null,null,null,null,null,null,null,null,null,null,null,null,null,null,null,1496,"04.03. 08:00",-1.4,0]
[null,null,null,null,null,null,null,null,null,null,null,null,null,null,null,null,null,null,null,null,null,null,null,null,null,null,null,1502,"04.03. 14:00",6.8,0]
[null,null,null,null,null,null,null,null,null,null,null,null,null,null,null,null,null,null,null,null,null,null,null,null,null,null,null,1505,"04.03. 17:00",4.4000000000000004,0]
[null,null,null,null,null,null,null,null,null,null,null,null,null,null,null,null,null,null,null,null,null,null,null,null,null,null,null,1512,"05.03. 00:00",-0.3,0]
[null,null,null,null,null,null,null,null,null,null,null,null,null,null,null,null,null,null,null,null,null,null,null,null,null,null,null,1522,"05.03. 10:00",2.6,0]
[null,null,null,null,null,null,null,null,null,null,null,null,null,null,null,null,null,null,null,null,null,null,null,null,null,null,null,1533,"05.03. 21:00",1.8,0]
[null,null,null,null,null,null,null,null,null,null,null,null,null,null,null,null,null,null,null,null,null,null,null,null,null,null,null,1539,"06.03. 03:00",0.8,0]
[null,null,null,null,null,null,null,null,null,null,null,null,null,null,null,null,null,null,null,null,null,null,null,null,null,null,null,1547,"06.03. 11:00",4.4000000000000004,0]
[null,null,null,null,null,null,null,null,null,null,null,null,null,null,null,null,null,null,null,null,null,null,null,null,null,null,null,1556,"06.03. 20:00",4.3,0]
[null,null,null,null,null,null,null,null,null,null,null,null,null,null,null,null,null,null,null,null,null,null,null,null,null,null,null,1557,"06.03. 21:00",3.6,0]
[null,null,null,null,null,null,null,null,null,null,null,null,null,null,null,null,null,null,null,null,null,null,null,null,null,null,null,1570,"07.03. 10:00",4,0]
[null,null,null,null,null,null,null,null,null,null,null,null,null,null,null,null,null,null,null,null,null,null,null,null,null,null,null,1574,"07.03. 14:00",6.1,0]
[null,null,null,null,null,null,null,null,null,null,null,null,null,null,null,null,null,null,null,null,null,null,null,null,null,null,null,1584,"08.03. 00:00",-0.3,0]
[null,null,null,null,null,null,null,null,null,null,null,null,null,null,null,null,null,null,null,null,null,null,null,null,null,null,null,1591,"08.03. 07:00",-0.01,0]
[null,null,null,null,null,null,null,null,null,null,null,null,null,null,null,null,null,null,null,null,null,null,null,null,null,null,null,1598,"08.03. 14:00",10.3,0]
[null,null,null,null,null,null,null,null,null,null,null,null,null,null,null,null,null,null,null,null,null,null,null,null,null,null,null,1608,"09.03. 00:00",6.7,0]
[null,null,null,null,null,null,null,null,null,null,null,null,null,null,null,null,null,null,null,null,null,null,null,null,null,null,null,1615,"09.03. 07:00",7.4,0]
[null,null,null,null,null,null,null,null,null,null,null,null,null,null,null,null,null,null,null,null,null,null,null,null,null,null,null,1617,"09.03. 09:00",12.6,0]
[null,null,null,null,null,null,null,null,null,null,null,null,null,null,null,null,null,null,null,null,null,null,null,null,null,null,null,1629,"09.03. 21:00",13.3,0]
[null,null,null,null,null,null,null,null,null,null,null,null,null,null,null,null,null,null,null,null,null,null,null,null,null,null,null,1634,"10.03. 02:00",9.5,0]
[null,null,null,null,null,null,null,null,null,null,null,null,null,null,null,null,null,null,null,null,null,null,null,null,null,null,null,1643,"10.03. 11:00",8.5,0]
[null,null,null,null,null,null,null,null,null,null,null,null,null,null,null,null,null,null,null,null,null,null,null,null,null,null,null,1652,"10.03. 20:00",6.2,0]
[null,null,null,null,null,null,null,null,null,null,null,null,null,null,null,null,null,null,null,null,null,null,null,null,null,null,null,1660,"11.03. 04:00",3.4,0]
[null,null,null,null,null,null,null,null,null,null,null,null,null,null,null,null,null,null,null,null,null,null,null,null,null,null,null,1666,"11.03. 10:00",6.4,0]
[null,null,null,null,null,null,null,null,null,null,null,null,null,null,null,null,null,null,null,null,null,null,null,null,null,null,null,1677,"11.03. 21:00",7.7,0]
[null,null,null,null,null,null,null,null,null,null,null,null,null,null,null,null,null,null,null,null,null,null,null,null,null,null,null,1680,"12.03. 00:00",6.4,0]
[null,null,null,null,null,null,null,null,null,null,null,null,null,null,null,null,null,null,null,null,null,null,null,null,null,null,null,1686,"12.03. 06:00",5.5,0]
[null,null,null,null,null,null,null,null,null,null,null,null,null,null,null,null,null,null,null,null,null,null,null,null,null,null,null,1694,"12.03. 14:00",16.3,0]
[null,null,null,null,null,null,null,null,null,null,null,null,null,null,null,null,null,null,null,null,null,null,null,null,null,null,null,1703,"12.03. 23:00",8.1999999999999993,0]
[null,null,null,null,null,null,null,null,null,null,null,null,null,null,null,null,null,null,null,null,null,null,null,null,null,null,null,1712,"13.03. 08:00",6.9,0]
[null,null,null,null,null,null,null,null,null,null,null,null,null,null,null,null,null,null,null,null,null,null,null,null,null,null,null,1717,"13.03. 13:00",9.1999999999999993,0]
[null,null,null,null,null,null,null,null,null,null,null,null,null,null,null,null,null,null,null,null,null,null,null,null,null,null,null,1729,"14.03. 01:00",6.4,0]
[null,null,null,null,null,null,null,null,null,null,null,null,null,null,null,null,null,null,null,null,null,null,null,null,null,null,null,1734,"14.03. 06:00",6.7,0]
[null,null,null,null,null,null,null,null,null,null,null,null,null,null,null,null,null,null,null,null,null,null,null,null,null,null,null,1738,"14.03. 10:00",10.4,0]
[null,null,null,null,null,null,null,null,null,null,null,null,null,null,null,null,null,null,null,null,null,null,null,null,null,null,null,1748,"14.03. 20:00",13.7,0]
[null,null,null,null,null,null,null,null,null,null,null,null,null,null,null,null,null,null,null,null,null,null,null,null,null,null,null,1755,"15.03. 03:00",10.4,0]
[null,null,null,null,null,null,null,null,null,null,null,null,null,null,null,null,null,null,null,null,null,null,null,null,null,null,null,1762,"15.03. 10:00",13.3,0]
[null,null,null,null,null,null,null,null,null,null,null,null,null,null,null,null,null,null,null,null,null,null,null,null,null,null,null,1772,"15.03. 20:00",10.3,0]
[null,null,null,null,null,null,null,null,null,null,null,null,null,null,null,null,null,null,null,null,null,null,null,null,null,null,null,1776,"16.03. 00:00",6.8,0]
[null,null,null,null,null,null,null,null,null,null,null,null,null,null,null,null,null,null,null,null,null,null,null,null,null,null,null,1789,"16.03. 13:00",11,0]
[null,null,null,null,null,null,null,null,null,null,null,null,null,null,null,null,null,null,null,null,null,null,null,null,null,null,null,1798,"16.03. 22:00",5.9,0]
[null,null,null,null,null,null,null,null,null,null,null,null,null,null,null,null,null,null,null,null,null,null,null,null,null,null,null,1799,"16.03. 23:00",5.2,0]
[null,null,null,null,null,null,null,null,null,null,null,null,null,null,null,null,null,null,null,null,null,null,null,null,null,null,null,1807,"17.03. 07:00",4.9000000000000004,0]
[null,null,null,null,null,null,null,null,null,null,null,null,null,null,null,null,null,null,null,null,null,null,null,null,null,null,null,1820,"17.03. 20:00",5.8,0]
[null,null,null,null,null,null,null,null,null,null,null,null,null,null,null,null,null,null,null,null,null,null,null,null,null,null,null,1824,"18.03. 00:00",3.1,0]
[null,null,null,null,null,null,null,null,null,null,null,null,null,null,null,null,null,null,null,null,null,null,null,null,null,null,null,1830,"18.03. 06:00",1.8,0]
[null,null,null,null,null,null,null,null,null,null,null,null,null,null,null,null,null,null,null,null,null,null,null,null,null,null,null,1841,"18.03. 17:00",11.6,0]
[null,null,null,null,null,null,null,null,null,null,null,null,null,null,null,null,null,null,null,null,null,null,null,null,null,null,null,1844,"18.03. 20:00",7.8,0]
[null,null,null,null,null,null,null,null,null,null,null,null,null,null,null,null,null,null,null,null,null,null,null,null,null,null,null,1858,"19.03. 10:00",6.8,0]
[null,null,null,null,null,null,null,null,null,null,null,null,null,null,null,null,null,null,null,null,null,null,null,null,null,null,null,1859,"19.03. 11:00",7.9,0]
[null,null,null,null,null,null,null,null,null,null,null,null,null,null,null,null,null,null,null,null,null,null,null,null,null,null,null,1867,"19.03. 19:00",7.8,0]
[null,null,null,null,null,null,null,null,null,null,null,null,null,null,null,null,null,null,null,null,null,null,null,null,null,null,null,1876,"20.03. 04:00",2.8,0]
[null,null,null,null,null,null,null,null,null,null,null,null,null,null,null,null,null,null,null,null,null,null,null,null,null,null,null,1888,"20.03. 16:00",7.3,0]
[null,null,null,null,null,null,null,null,null,null,null,null,null,null,null,null,null,null,null,null,null,null,null,null,null,null,null,1893,"20.03. 21:00",6.2,0]
[null,null,null,null,null,null,null,null,null,null,null,null,null,null,null,null,null,null,null,null,null,null,null,null,null,null,null,1902,"21.03. 06:00",7.2,0]
[null,null,null,null,null,null,null,null,null,null,null,null,null,null,null,null,null,null,null,null,null,null,null,null,null,null,null,1910,"21.03. 14:00",12.8,0]
[null,null,null,null,null,null,null,null,null,null,null,null,null,null,null,null,null,null,null,null,null,null,null,null,null,null,null,1916,"21.03. 20:00",10.4,0]
[null,null,null,null,null,null,null,null,null,null,null,null,null,null,null,null,null,null,null,null,null,null,null,null,null,null,null,1919,"21.03. 23:00",9.4,0]
[null,null,null,null,null,null,null,null,null,null,null,null,null,null,null,null,null,null,null,null,null,null,null,null,null,null,null,1933,"22.03. 13:00",6,0]
[null,null,null,null,null,null,null,null,null,null,null,null,null,null,null,null,null,null,null,null,null,null,null,null,null,null,null,1936,"22.03. 16:00",5.6,0]
[null,null,null,null,null,null,null,null,null,null,null,null,null,null,null,null,null,null,null,null,null,null,null,null,null,null,null,1945,"23.03. 01:00",-0.5,0]
[null,null,null,null,null,null,null,null,null,null,null,null,null,null,null,null,null,null,null,null,null,null,null,null,null,null,null,1953,"23.03. 09:00",4.5999999999999996,0]
[null,null,null,null,null,null,null,null,null,null,null,null,null,null,null,null,null,null,null,null,null,null,null,null,null,null,null,1962,"23.03. 18:00",1.2,0]
[null,null,null,null,null,null,null,null,null,null,null,null,null,null,null,null,null,null,null,null,null,null,null,null,null,null,null,1970,"24.03. 02:00",0.3,0]
[null,null,null,null,null,null,null,null,null,null,null,null,null,null,null,null,null,null,null,null,null,null,null,null,null,null,null,1979,"24.03. 11:00",3.9,0]
[null,null,null,null,null,null,null,null,null,null,null,null,null,null,null,null,null,null,null,null,null,null,null,null,null,null,null,1984,"24.03. 16:00",5.0999999999999996,{"$f":"IF(AD2024<=$AC$25,1,0)","v":0}]
[null,null,null,null,null,null,null,null,null,null,null,null,null,null,null,null,null,null,null,null,null,null,null,null,null,null,null,1988,"24.03. 20:00",3.5,0]
[null,null,null,null,null,null,null,null,null,null,null,null,null,null,null,null,null,null,null,null,null,null,null,null,null,null,null,1998,"25.03. 06:00",2.1,0]
[null,null,null,null,null,null,null,null,null,null,null,null,null,null,null,null,null,null,null,null,null,null,null,null,null,null,null,2005,"25.03. 13:00",9.5,0]
[null,null,null,null,null,null,null,null,null,null,null,null,null,null,null,null,null,null,null,null,null,null,null,null,null,null,null,2014,"25.03. 22:00",5.2,0]
[null,null,null,null,null,null,null,null,null,null,null,null,null,null,null,null,null,null,null,null,null,null,null,null,null,null,null,2021,"26.03. 05:00",3.4,0]
[null,null,null,null,null,null,null,null,null,null,null,null,null,null,null,null,null,null,null,null,null,null,null,null,null,null,null,2031,"26.03. 15:00",14.7,0]
[null,null,null,null,null,null,null,null,null,null,null,null,null,null,null,null,null,null,null,null,null,null,null,null,null,null,null,2035,"26.03. 19:00",11.5,0]
[null,null,null,null,null,null,null,null,null,null,null,null,null,null,null,null,null,null,null,null,null,null,null,null,null,null,null,2040,"27.03. 00:00",7.8,0]
[null,null,null,null,null,null,null,null,null,null,null,null,null,null,null,null,null,null,null,null,null,null,null,null,null,null,null,2049,"27.03. 09:00",8.9,0]
[null,null,null,null,null,null,null,null,null,null,null,null,null,null,null,null,null,null,null,null,null,null,null,null,null,null,null,2057,"27.03. 17:00",11.8,0]
[null,null,null,null,null,null,null,null,null,null,null,null,null,null,null,null,null,null,null,null,null,null,null,null,null,null,null,2066,"28.03. 02:00",3,0]
[null,null,null,null,null,null,null,null,null,null,null,null,null,null,null,null,null,null,null,null,null,null,null,null,null,null,null,2074,"28.03. 10:00",12.3,0]
[null,null,null,null,null,null,null,null,null,null,null,null,null,null,null,null,null,null,null,null,null,null,null,null,null,null,null,2080,"28.03. 16:00",16.100000000000001,0]
[null,null,null,null,null,null,null,null,null,null,null,null,null,null,null,null,null,null,null,null,null,null,null,null,null,null,null,2091,"29.03. 04:00",0.9,0]
[null,null,null,null,null,null,null,null,null,null,null,null,null,null,null,null,null,null,null,null,null,null,null,null,null,null,null,2100,"29.03. 13:00",8,0]
[null,null,null,null,null,null,null,null,null,null,null,null,null,null,null,null,null,null,null,null,null,null,null,null,null,null,null,2103,"29.03. 16:00",9,0]
[null,null,null,null,null,null,null,null,null,null,null,null,null,null,null,null,null,null,null,null,null,null,null,null,null,null,null,2109,"29.03. 22:00",1.9,0]
[null,null,null,null,null,null,null,null,null,null,null,null,null,null,null,null,null,null,null,null,null,null,null,null,null,null,null,2117,"30.03. 06:00",-2.2000000000000002,0]
[null,null,null,null,null,null,null,null,null,null,null,null,null,null,null,null,null,null,null,null,null,null,null,null,null,null,null,2126,"30.03. 15:00",9.5,0]
[null,null,null,null,null,null,null,null,null,null,null,null,null,null,null,null,null,null,null,null,null,null,null,null,null,null,null,2131,"30.03. 20:00",4.7,0]
[null,null,null,null,null,null,null,null,null,null,null,null,null,null,null,null,null,null,null,null,null,null,null,null,null,null,null,2143,"31.03. 08:00",2.1,0]
[null,null,null,null,null,null,null,null,null,null,null,null,null,null,null,null,null,null,null,null,null,null,null,null,null,null,null,2148,"31.03. 13:00",6.7,0]
[null,null,null,null,null,null,null,null,null,null,null,null,null,null,null,null,null,null,null,null,null,null,null,null,null,null,null,2160,"01.04. 01:00",1,0]
[null,null,null,null,null,null,null,null,null,null,null,null,null,null,null,null,null,null,null,null,null,null,null,null,null,null,null,2161,"01.04. 02:00",-0.03,0]
[null,null,null,null,null,null,null,null,null,null,null,null,null,null,null,null,null,null,null,null,null,null,null,null,null,null,null,2175,"01.04. 16:00",6.1,0]
[null,null,null,null,null,null,null,null,null,null,null,null,null,null,null,null,null,null,null,null,null,null,null,null,null,null,null,2178,"01.04. 19:00",3.6,0]
[null,null,null,null,null,null,null,null,null,null,null,null,null,null,null,null,null,null,null,null,null,null,null,null,null,null,null,2185,"02.04. 02:00",0.2,0]
[null,null,null,null,null,null,null,null,null,null,null,null,null,null,null,null,null,null,null,null,null,null,null,null,null,null,null,2195,"02.04. 12:00",1.8,0]
[null,null,null,null,null,null,null,null,null,null,null,null,null,null,null,null,null,null,null,null,null,null,null,null,null,null,null,2199,"02.04. 16:00",2.2999999999999998,0]
[null,null,null,null,null,null,null,null,null,null,null,null,null,null,null,null,null,null,null,null,null,null,null,null,null,null,null,2212,"03.04. 05:00",-0.6,0]
[null,null,null,null,null,null,null,null,null,null,null,null,null,null,null,null,null,null,null,null,null,null,null,null,null,null,null,2220,"03.04. 13:00",7.9,0]
[null,null,null,null,null,null,null,null,null,null,null,null,null,null,null,null,null,null,null,null,null,null,null,null,null,null,null,2221,"03.04. 14:00",8.6,0]
[null,null,null,null,null,null,null,null,null,null,null,null,null,null,null,null,null,null,null,null,null,null,null,null,null,null,null,2234,"04.04. 03:00",2.1,0]
[null,null,null,null,null,null,null,null,null,null,null,null,null,null,null,null,null,null,null,null,null,null,null,null,null,null,null,2238,"04.04. 07:00",2.2000000000000002,0]
[null,null,null,null,null,null,null,null,null,null,null,null,null,null,null,null,null,null,null,null,null,null,null,null,null,null,null,2247,"04.04. 16:00",10.5,0]
[null,null,null,null,null,null,null,null,null,null,null,null,null,null,null,null,null,null,null,null,null,null,null,null,null,null,null,2257,"05.04. 02:00",7.2,0]
[null,null,null,null,null,null,null,null,null,null,null,null,null,null,null,null,null,null,null,null,null,null,null,null,null,null,null,2264,"05.04. 09:00",8.1999999999999993,0]
[null,null,null,null,null,null,null,null,null,null,null,null,null,null,null,null,null,null,null,null,null,null,null,null,null,null,null,2271,"05.04. 16:00",9.5,0]
[null,null,null,null,null,null,null,null,null,null,null,null,null,null,null,null,null,null,null,null,null,null,null,null,null,null,null,2281,"06.04. 02:00",6.6,0]
[null,null,null,null,null,null,null,null,null,null,null,null,null,null,null,null,null,null,null,null,null,null,null,null,null,null,null,2288,"06.04. 09:00",10.8,0]
[null,null,null,null,null,null,null,null,null,null,null,null,null,null,null,null,null,null,null,null,null,null,null,null,null,null,null,2290,"06.04. 11:00",14.5,0]
[null,null,null,null,null,null,null,null,null,null,null,null,null,null,null,null,null,null,null,null,null,null,null,null,null,null,null,2302,"06.04. 23:00",11.5,0]
[null,null,null,null,null,null,null,null,null,null,null,null,null,null,null,null,null,null,null,null,null,null,null,null,null,null,null,2307,"07.04. 04:00",9.9,0]
[null,null,null,null,null,null,null,null,null,null,null,null,null,null,null,null,null,null,null,null,null,null,null,null,null,null,null,2316,"07.04. 13:00",19.7,0]
[null,null,null,null,null,null,null,null,null,null,null,null,null,null,null,null,null,null,null,null,null,null,null,null,null,null,null,2325,"07.04. 22:00",14.3,0]
[null,null,null,null,null,null,null,null,null,null,null,null,null,null,null,null,null,null,null,null,null,null,null,null,null,null,null,2333,"08.04. 06:00",9.4,0]
[null,null,null,null,null,null,null,null,null,null,null,null,null,null,null,null,null,null,null,null,null,null,null,null,null,null,null,2339,"08.04. 12:00",12.5,0]
[null,null,null,null,null,null,null,null,null,null,null,null,null,null,null,null,null,null,null,null,null,null,null,null,null,null,null,2342,"08.04. 15:00",11.2,0]
[null,null,null,null,null,null,null,null,null,null,null,null,null,null,null,null,null,null,null,null,null,null,null,null,null,null,null,2353,"09.04. 02:00",6,0]
[null,null,null,null,null,null,null,null,null,null,null,null,null,null,null,null,null,null,null,null,null,null,null,null,null,null,null,2359,"09.04. 08:00",9.5,0]
[null,null,null,null,null,null,null,null,null,null,null,null,null,null,null,null,null,null,null,null,null,null,null,null,null,null,null,2367,"09.04. 16:00",20.6,0]
[null,null,null,null,null,null,null,null,null,null,null,null,null,null,null,null,null,null,null,null,null,null,null,null,null,null,null,2376,"10.04. 01:00",9.8000000000000007,0]
[null,null,null,null,null,null,null,null,null,null,null,null,null,null,null,null,null,null,null,null,null,null,null,null,null,null,null,2384,"10.04. 09:00",11.2,0]
[null,null,null,null,null,null,null,null,null,null,null,null,null,null,null,null,null,null,null,null,null,null,null,null,null,null,null,2393,"10.04. 18:00",14.3,0]
[null,null,null,null,null,null,null,null,null,null,null,null,null,null,null,null,null,null,null,null,null,null,null,null,null,null,null,2402,"11.04. 03:00",4.4000000000000004,0]
[null,null,null,null,null,null,null,null,null,null,null,null,null,null,null,null,null,null,null,null,null,null,null,null,null,null,null,2407,"11.04. 08:00",8.1,0]
[null,null,null,null,null,null,null,null,null,null,null,null,null,null,null,null,null,null,null,null,null,null,null,null,null,null,null,2411,"11.04. 12:00",13.7,0]
[null,null,null,null,null,null,null,null,null,null,null,null,null,null,null,null,null,null,null,null,null,null,null,null,null,null,null,2421,"11.04. 22:00",8.5,0]
[null,null,null,null,null,null,null,null,null,null,null,null,null,null,null,null,null,null,null,null,null,null,null,null,null,null,null,2428,"12.04. 05:00",7.3,0]
[null,null,null,null,null,null,null,null,null,null,null,null,null,null,null,null,null,null,null,null,null,null,null,null,null,null,null,2435,"12.04. 12:00",11.6,0]
[null,null,null,null,null,null,null,null,null,null,null,null,null,null,null,null,null,null,null,null,null,null,null,null,null,null,null,2445,"12.04. 22:00",10,0]
[null,null,null,null,null,null,null,null,null,null,null,null,null,null,null,null,null,null,null,null,null,null,null,null,null,null,null,2449,"13.04. 02:00",9.6,0]
[null,null,null,null,null,null,null,null,null,null,null,null,null,null,null,null,null,null,null,null,null,null,null,null,null,null,null,2462,"13.04. 15:00",16.5,0]
[null,null,null,null,null,null,null,null,null,null,null,null,null,null,null,null,null,null,null,null,null,null,null,null,null,null,null,2463,"13.04. 16:00",15.7,0]
[null,null,null,null,null,null,null,null,null,null,null,null,null,null,null,null,null,null,null,null,null,null,null,null,null,null,null,2472,"14.04. 01:00",10.3,0]
[null,null,null,null,null,null,null,null,null,null,null,null,null,null,null,null,null,null,null,null,null,null,null,null,null,null,null,2480,"14.04. 09:00",12.6,0]
[null,null,null,null,null,null,null,null,null,null,null,null,null,null,null,null,null,null,null,null,null,null,null,null,null,null,null,2486,"14.04. 15:00",17,0]
[null,null,null,null,null,null,null,null,null,null,null,null,null,null,null,null,null,null,null,null,null,null,null,null,null,null,null,2497,"15.04. 02:00",8.3000000000000007,0]
[null,null,null,null,null,null,null,null,null,null,null,null,null,null,null,null,null,null,null,null,null,null,null,null,null,null,null,2503,"15.04. 08:00",11.4,0]
[null,null,null,null,null,null,null,null,null,null,null,null,null,null,null,null,null,null,null,null,null,null,null,null,null,null,null,2514,"15.04. 19:00",17.100000000000001,0]
[null,null,null,null,null,null,null,null,null,null,null,null,null,null,null,null,null,null,null,null,null,null,null,null,null,null,null,2517,"15.04. 22:00",14.1,0]
[null,null,null,null,null,null,null,null,null,null,null,null,null,null,null,null,null,null,null,null,null,null,null,null,null,null,null,2523,"16.04. 04:00",10.199999999999999,0]
[null,null,null,null,null,null,null,null,null,null,null,null,null,null,null,null,null,null,null,null,null,null,null,null,null,null,null,2531,"16.04. 12:00",9.1999999999999993,0]
[null,null,null,null,null,null,null,null,null,null,null,null,null,null,null,null,null,null,null,null,null,null,null,null,null,null,null,2540,"16.04. 21:00",7.3,0]
[null,null,null,null,null,null,null,null,null,null,null,null,null,null,null,null,null,null,null,null,null,null,null,null,null,null,null,2549,"17.04. 06:00",4.2,0]
[null,null,null,null,null,null,null,null,null,null,null,null,null,null,null,null,null,null,null,null,null,null,null,null,null,null,null,2554,"17.04. 11:00",9.8000000000000007,0]
[null,null,null,null,null,null,null,null,null,null,null,null,null,null,null,null,null,null,null,null,null,null,null,null,null,null,null,2566,"17.04. 23:00",7,0]
[null,null,null,null,null,null,null,null,null,null,null,null,null,null,null,null,null,null,null,null,null,null,null,null,null,null,null,2575,"18.04. 08:00",7.9,0]
[null,null,null,null,null,null,null,null,null,null,null,null,null,null,null,null,null,null,null,null,null,null,null,null,null,null,null,2583,"18.04. 16:00",11.8,0]
[null,null,null,null,null,null,null,null,null,null,null,null,null,null,null,null,null,null,null,null,null,null,null,null,null,null,null,2589,"18.04. 22:00",7.6,0]
[null,null,null,null,null,null,null,null,null,null,null,null,null,null,null,null,null,null,null,null,null,null,null,null,null,null,null,2592,"19.04. 01:00",5.4,0]
[null,null,null,null,null,null,null,null,null,null,null,null,null,null,null,null,null,null,null,null,null,null,null,null,null,null,null,2599,"19.04. 08:00",5.2,0]
[null,null,null,null,null,null,null,null,null,null,null,null,null,null,null,null,null,null,null,null,null,null,null,null,null,null,null,2609,"19.04. 18:00",5.4,0]
[null,null,null,null,null,null,null,null,null,null,null,null,null,null,null,null,null,null,null,null,null,null,null,null,null,null,null,2618,"20.04. 03:00",4.0999999999999996,0]
[null,null,null,null,null,null,null,null,null,null,null,null,null,null,null,null,null,null,null,null,null,null,null,null,null,null,null,2626,"20.04. 11:00",10.9,0]
[null,null,null,null,null,null,null,null,null,null,null,null,null,null,null,null,null,null,null,null,null,null,null,null,null,null,null,2635,"20.04. 20:00",9.6,0]
[null,null,null,null,null,null,null,null,null,null,null,null,null,null,null,null,null,null,null,null,null,null,null,null,null,null,null,2643,"21.04. 04:00",7.9,0]
[null,null,null,null,null,null,null,null,null,null,null,null,null,null,null,null,null,null,null,null,null,null,null,null,null,null,null,2644,"21.04. 05:00",7.7,0]
[null,null,null,null,null,null,null,null,null,null,null,null,null,null,null,null,null,null,null,null,null,null,null,null,null,null,null,2657,"21.04. 18:00",12.6,0]
[null,null,null,null,null,null,null,null,null,null,null,null,null,null,null,null,null,null,null,null,null,null,null,null,null,null,null,2661,"21.04. 22:00",9.1999999999999993,0]
[null,null,null,null,null,null,null,null,null,null,null,null,null,null,null,null,null,null,null,null,null,null,null,null,null,null,null,2671,"22.04. 08:00",9.6,0]
[null,null,null,null,null,null,null,null,null,null,null,null,null,null,null,null,null,null,null,null,null,null,null,null,null,null,null,2678,"22.04. 15:00",18,0]
[null,null,null,null,null,null,null,null,null,null,null,null,null,null,null,null,null,null,null,null,null,null,null,null,null,null,null,2685,"22.04. 22:00",10,0]
[null,null,null,null,null,null,null,null,null,null,null,null,null,null,null,null,null,null,null,null,null,null,null,null,null,null,null,2695,"23.04. 08:00",6.9,0]
[null,null,null,null,null,null,null,null,null,null,null,null,null,null,null,null,null,null,null,null,null,null,null,null,null,null,null,2704,"23.04. 17:00",13,0]
[null,null,null,null,null,null,null,null,null,null,null,null,null,null,null,null,null,null,null,null,null,null,null,null,null,null,null,2708,"23.04. 21:00",7.4,0]
[null,null,null,null,null,null,null,null,null,null,null,null,null,null,null,null,null,null,null,null,null,null,null,null,null,null,null,2713,"24.04. 02:00",1.2,0]
[null,null,null,null,null,null,null,null,null,null,null,null,null,null,null,null,null,null,null,null,null,null,null,null,null,null,null,2725,"24.04. 14:00",12.9,0]
[null,null,null,null,null,null,null,null,null,null,null,null,null,null,null,null,null,null,null,null,null,null,null,null,null,null,null,2730,"24.04. 19:00",9.5,0]
[null,null,null,null,null,null,null,null,null,null,null,null,null,null,null,null,null,null,null,null,null,null,null,null,null,null,null,2739,"25.04. 04:00",4.5999999999999996,0]
[null,null,null,null,null,null,null,null,null,null,null,null,null,null,null,null,null,null,null,null,null,null,null,null,null,null,null,2747,"25.04. 12:00",6.2,0]
[null,null,null,null,null,null,null,null,null,null,null,null,null,null,null,null,null,null,null,null,null,null,null,null,null,null,null,2753,"25.04. 18:00",6.2,0]
[null,null,null,null,null,null,null,null,null,null,null,null,null,null,null,null,null,null,null,null,null,null,null,null,null,null,null,2764,"26.04. 05:00",4.5999999999999996,0]
[null,null,null,null,null,null,null,null,null,null,null,null,null,null,null,null,null,null,null,null,null,null,null,null,null,null,null,2765,"26.04. 06:00",4.5999999999999996,0]
[null,null,null,null,null,null,null,null,null,null,null,null,null,null,null,null,null,null,null,null,null,null,null,null,null,null,null,2776,"26.04. 17:00",10.4,0]
[null,null,null,null,null,null,null,null,null,null,null,null,null,null,null,null,null,null,null,null,null,null,null,null,null,null,null,2782,"26.04. 23:00",5.4,0]
[null,null,null,null,null,null,null,null,null,null,null,null,null,null,null,null,null,null,null,null,null,null,null,null,null,null,null,2790,"27.04. 07:00",2.6,0]
[null,null,null,null,null,null,null,null,null,null,null,null,null,null,null,null,null,null,null,null,null,null,null,null,null,null,null,2799,"27.04. 16:00",11.6,0]
[null,null,null,null,null,null,null,null,null,null,null,null,null,null,null,null,null,null,null,null,null,null,null,null,null,null,null,2804,"27.04. 21:00",6.5,0]
[null,null,null,null,null,null,null,null,null,null,null,null,null,null,null,null,null,null,null,null,null,null,null,null,null,null,null,2816,"28.04. 09:00",5.9,{"$f":"IF(AD2856<=$AC$25,1,0)","v":0}]
[null,null,null,null,null,null,null,null,null,null,null,null,null,null,null,null,null,null,null,null,null,null,null,null,null,null,null,2821,"28.04. 14:00",11.1,0]
[null,null,null,null,null,null,null,null,null,null,null,null,null,null,null,null,null,null,null,null,null,null,null,null,null,null,null,2825,"28.04. 18:00",10.199999999999999,0]
[null,null,null,null,null,null,null,null,null,null,null,null,null,null,null,null,null,null,null,null,null,null,null,null,null,null,null,2835,"29.04. 04:00",0.7,0]
[null,null,null,null,null,null,null,null,null,null,null,null,null,null,null,null,null,null,null,null,null,null,null,null,null,null,null,2842,"29.04. 11:00",5.6,0]
[null,null,null,null,null,null,null,null,null,null,null,null,null,null,null,null,null,null,null,null,null,null,null,null,null,null,null,2851,"29.04. 20:00",6.6,0]
[null,null,null,null,null,null,null,null,null,null,null,null,null,null,null,null,null,null,null,null,null,null,null,null,null,null,null,2858,"30.04. 03:00",1,0]
[null,null,null,null,null,null,null,null,null,null,null,null,null,null,null,null,null,null,null,null,null,null,null,null,null,null,null,2868,"30.04. 13:00",4.4000000000000004,0]
[null,null,null,null,null,null,null,null,null,null,null,null,null,null,null,null,null,null,null,null,null,null,null,null,null,null,null,2872,"30.04. 17:00",6,0]
[null,null,null,null,null,null,null,null,null,null,null,null,null,null,null,null,null,null,null,null,null,null,null,null,null,null,null,2885,"01.05. 06:00",4.9000000000000004,0]
[null,null,null,null,null,null,null,null,null,null,null,null,null,null,null,null,null,null,null,null,null,null,null,null,null,null,null,2886,"01.05. 07:00",5.0999999999999996,0]
[null,null,null,null,null,null,null,null,null,null,null,null,null,null,null,null,null,null,null,null,null,null,null,null,null,null,null,2894,"01.05. 15:00",15,0]
[null,null,null,null,null,null,null,null,null,null,null,null,null,null,null,null,null,null,null,null,null,null,null,null,null,null,null,2907,"02.05. 04:00",7.2,0]
[null,null,null,null,null,null,null,null,null,null,null,null,null,null,null,null,null,null,null,null,null,null,null,null,null,null,null,2911,"02.05. 08:00",7.9,0]
[null,null,null,null,null,null,null,null,null,null,null,null,null,null,null,null,null,null,null,null,null,null,null,null,null,null,null,2920,"02.05. 17:00",9,0]
[null,null,null,null,null,null,null,null,null,null,null,null,null,null,null,null,null,null,null,null,null,null,null,null,null,null,null,2930,"03.05. 03:00",4.5999999999999996,0]
[null,null,null,null,null,null,null,null,null,null,null,null,null,null,null,null,null,null,null,null,null,null,null,null,null,null,null,2937,"03.05. 10:00",11.2,0]
[null,null,null,null,null,null,null,null,null,null,null,null,null,null,null,null,null,null,null,null,null,null,null,null,null,null,null,2944,"03.05. 17:00",11.7,{"$f":"IF(AD2984<=$AC$25,1,0)","v":0}]
[null,null,null,null,null,null,null,null,null,null,null,null,null,null,null,null,null,null,null,null,null,null,null,null,null,null,null,2946,"03.05. 19:00",10,0]
[null,null,null,null,null,null,null,null,null,null,null,null,null,null,null,null,null,null,null,null,null,null,null,null,null,null,null,2954,"04.05. 03:00",5.3,0]
[null,null,null,null,null,null,null,null,null,null,null,null,null,null,null,null,null,null,null,null,null,null,null,null,null,null,null,2963,"04.05. 12:00",9.9,0]
[null,null,null,null,null,null,null,null,null,null,null,null,null,null,null,null,null,null,null,null,null,null,null,null,null,null,null,2975,"05.05. 00:00",5.5,0]
[null,null,null,null,null,null,null,null,null,null,null,null,null,null,null,null,null,null,null,null,null,null,null,null,null,null,null,2980,"05.05. 05:00",6,0]
[null,null,null,null,null,null,null,null,null,null,null,null,null,null,null,null,null,null,null,null,null,null,null,null,null,null,null,2989,"05.05. 14:00",13.9,0]
[null,null,null,null,null,null,null,null,null,null,null,null,null,null,null,null,null,null,null,null,null,null,null,null,null,null,null,2997,"05.05. 22:00",12.9,0]
[null,null,null,null,null,null,null,null,null,null,null,null,null,null,null,null,null,null,null,null,null,null,null,null,null,null,null,3006,"06.05. 07:00",12,0]
[null,null,null,null,null,null,null,null,null,null,null,null,null,null,null,null,null,null,null,null,null,null,null,null,null,null,null,3012,"06.05. 13:00",20.5,0]
[null,null,null,null,null,null,null,null,null,null,null,null,null,null,null,null,null,null,null,null,null,null,null,null,null,null,null,3015,"06.05. 16:00",21.6,0]
[null,null,null,null,null,null,null,null,null,null,null,null,null,null,null,null,null,null,null,null,null,null,null,null,null,null,null,3026,"07.05. 03:00",9.9,0]
[null,null,null,null,null,null,null,null,null,null,null,null,null,null,null,null,null,null,null,null,null,null,null,null,null,null,null,3032,"07.05. 09:00",11.6,0]
[null,null,null,null,null,null,null,null,null,null,null,null,null,null,null,null,null,null,null,null,null,null,null,null,null,null,null,3040,"07.05. 17:00",14.2,0]
[null,null,null,null,null,null,null,null,null,null,null,null,null,null,null,null,null,null,null,null,null,null,null,null,null,null,null,3049,"08.05. 02:00",7.6,0]
[null,null,null,null,null,null,null,null,null,null,null,null,null,null,null,null,null,null,null,null,null,null,null,null,null,null,null,3057,"08.05. 10:00",13.8,0]
[null,null,null,null,null,null,null,null,null,null,null,null,null,null,null,null,null,null,null,null,null,null,null,null,null,null,null,3066,"08.05. 19:00",16.899999999999999,0]
[null,null,null,null,null,null,null,null,null,null,null,null,null,null,null,null,null,null,null,null,null,null,null,null,null,null,null,3067,"08.05. 20:00",15.7,0]
[null,null,null,null,null,null,null,null,null,null,null,null,null,null,null,null,null,null,null,null,null,null,null,null,null,null,null,3080,"09.05. 09:00",9.4,0]
[null,null,null,null,null,null,null,null,null,null,null,null,null,null,null,null,null,null,null,null,null,null,null,null,null,null,null,3084,"09.05. 13:00",11,0]
[null,null,null,null,null,null,null,null,null,null,null,null,null,null,null,null,null,null,null,null,null,null,null,null,null,null,null,3094,"09.05. 23:00",7,0]
[null,null,null,null,null,null,null,null,null,null,null,null,null,null,null,null,null,null,null,null,null,null,null,null,null,null,null,3101,"10.05. 06:00",6.1,0]
[null,null,null,null,null,null,null,null,null,null,null,null,null,null,null,null,null,null,null,null,null,null,null,null,null,null,null,3108,"10.05. 13:00",17.899999999999999,0]
[null,null,null,null,null,null,null,null,null,null,null,null,null,null,null,null,null,null,null,null,null,null,null,null,null,null,null,3118,"10.05. 23:00",11.6,0]
[null,null,null,null,null,null,null,null,null,null,null,null,null,null,null,null,null,null,null,null,null,null,null,null,null,null,null,3122,"11.05. 03:00",8.1999999999999993,0]
[null,null,null,null,null,null,null,null,null,null,null,null,null,null,null,null,null,null,null,null,null,null,null,null,null,null,null,3127,"11.05. 08:00",10.8,0]
[null,null,null,null,null,null,null,null,null,null,null,null,null,null,null,null,null,null,null,null,null,null,null,null,null,null,null,3136,"11.05. 17:00",17.399999999999999,{"$f":"IF(AD3176<=$AC$25,1,0)","v":0}]
[null,null,null,null,null,null,null,null,null,null,null,null,null,null,null,null,null,null,null,null,null,null,null,null,null,null,null,3144,"12.05. 01:00",6.7,0]
[null,null,null,null,null,null,null,null,null,null,null,null,null,null,null,null,null,null,null,null,null,null,null,null,null,null,null,3153,"12.05. 10:00",12.3,0]
[null,null,null,null,null,null,null,null,null,null,null,null,null,null,null,null,null,null,null,null,null,null,null,null,null,null,null,3159,"12.05. 16:00",17,0]
[null,null,null,null,null,null,null,null,null,null,null,null,null,null,null,null,null,null,null,null,null,null,null,null,null,null,null,3170,"13.05. 03:00",7.4,0]
[null,null,null,null,null,null,null,null,null,null,null,null,null,null,null,null,null,null,null,null,null,null,null,null,null,null,null,3176,"13.05. 09:00",8.8000000000000007,0]
[null,null,null,null,null,null,null,null,null,null,null,null,null,null,null,null,null,null,null,null,null,null,null,null,null,null,null,3187,"13.05. 20:00",13,0]
[null,null,null,null,null,null,null,null,null,null,null,null,null,null,null,null,null,null,null,null,null,null,null,null,null,null,null,3190,"13.05. 23:00",8.9,0]
[null,null,null,null,null,null,null,null,null,null,null,null,null,null,null,null,null,null,null,null,null,null,null,null,null,null,null,3196,"14.05. 05:00",4.7,0]
[null,null,null,null,null,null,null,null,null,null,null,null,null,null,null,null,null,null,null,null,null,null,null,null,null,null,null,3204,"14.05. 13:00",14.4,0]
[null,null,null,null,null,null,null,null,null,null,null,null,null,null,null,null,null,null,null,null,null,null,null,null,null,null,null,3213,"14.05. 22:00",8.5,0]
[null,null,null,null,null,null,null,null,null,null,null,null,null,null,null,null,null,null,null,null,null,null,null,null,null,null,null,3222,"15.05. 07:00",7.3,0]
[null,null,null,null,null,null,null,null,null,null,null,null,null,null,null,null,null,null,null,null,null,null,null,null,null,null,null,3227,"15.05. 12:00",16.100000000000001,0]
[null,null,null,null,null,null,null,null,null,null,null,null,null,null,null,null,null,null,null,null,null,null,null,null,null,null,null,3239,"16.05. 00:00",10.7,0]
[null,null,null,null,null,null,null,null,null,null,null,null,null,null,null,null,null,null,null,null,null,null,null,null,null,null,null,3241,"16.05. 02:00",9.8000000000000007,0]
[null,null,null,null,null,null,null,null,null,null,null,null,null,null,null,null,null,null,null,null,null,null,null,null,null,null,null,3248,"16.05. 09:00",15.7,0]
[null,null,null,null,null,null,null,null,null,null,null,null,null,null,null,null,null,null,null,null,null,null,null,null,null,null,null,3262,"16.05. 23:00",13.9,0]
[null,null,null,null,null,null,null,null,null,null,null,null,null,null,null,null,null,null,null,null,null,null,null,null,null,null,null,3265,"17.05. 02:00",9.6999999999999993,0]
[null,null,null,null,null,null,null,null,null,null,null,null,null,null,null,null,null,null,null,null,null,null,null,null,null,null,null,3272,"17.05. 09:00",13.5,0]
[null,null,null,null,null,null,null,null,null,null,null,null,null,null,null,null,null,null,null,null,null,null,null,null,null,null,null,3282,"17.05. 19:00",16.100000000000001,0]
[null,null,null,null,null,null,null,null,null,null,null,null,null,null,null,null,null,null,null,null,null,null,null,null,null,null,null,3286,"17.05. 23:00",10.9,0]
[null,null,null,null,null,null,null,null,null,null,null,null,null,null,null,null,null,null,null,null,null,null,null,null,null,null,null,3299,"18.05. 12:00",20,0]
[null,null,null,null,null,null,null,null,null,null,null,null,null,null,null,null,null,null,null,null,null,null,null,null,null,null,null,3308,"18.05. 21:00",16.5,0]
[null,null,null,null,null,null,null,null,null,null,null,null,null,null,null,null,null,null,null,null,null,null,null,null,null,null,null,3309,"18.05. 22:00",15.1,0]
[null,null,null,null,null,null,null,null,null,null,null,null,null,null,null,null,null,null,null,null,null,null,null,null,null,null,null,3317,"19.05. 06:00",10.9,0]
[null,null,null,null,null,null,null,null,null,null,null,null,null,null,null,null,null,null,null,null,null,null,null,null,null,null,null,3330,"19.05. 19:00",17.100000000000001,0]
[null,null,null,null,null,null,null,null,null,null,null,null,null,null,null,null,null,null,null,null,null,null,null,null,null,null,null,3334,"19.05. 23:00",13.2,0]
[null,null,null,null,null,null,null,null,null,null,null,null,null,null,null,null,null,null,null,null,null,null,null,null,null,null,null,3344,"20.05. 09:00",14.6,0]
[null,null,null,null,null,null,null,null,null,null,null,null,null,null,null,null,null,null,null,null,null,null,null,null,null,null,null,3351,"20.05. 16:00",18.3,0]
[null,null,null,null,null,null,null,null,null,null,null,null,null,null,null,null,null,null,null,null,null,null,null,null,null,null,null,3358,"20.05. 23:00",13.9,0]
[null,null,null,null,null,null,null,null,null,null,null,null,null,null,null,null,null,null,null,null,null,null,null,null,null,null,null,3368,"21.05. 09:00",14.5,0]
[null,null,null,null,null,null,null,null,null,null,null,null,null,null,null,null,null,null,null,null,null,null,null,null,null,null,null,3369,"21.05. 10:00",15.7,0]
[null,null,null,null,null,null,null,null,null,null,null,null,null,null,null,null,null,null,null,null,null,null,null,null,null,null,null,3381,"21.05. 22:00",12.3,0]
[null,null,null,null,null,null,null,null,null,null,null,null,null,null,null,null,null,null,null,null,null,null,null,null,null,null,null,3386,"22.05. 03:00",10.4,0]
[null,null,null,null,null,null,null,null,null,null,null,null,null,null,null,null,null,null,null,null,null,null,null,null,null,null,null,3398,"22.05. 15:00",17.7,0]
[null,null,null,null,null,null,null,null,null,null,null,null,null,null,null,null,null,null,null,null,null,null,null,null,null,null,null,3403,"22.05. 20:00",17.8,0]
[null,null,null,null,null,null,null,null,null,null,null,null,null,null,null,null,null,null,null,null,null,null,null,null,null,null,null,3412,"23.05. 05:00",13.4,0]
[null,null,null,null,null,null,null,null,null,null,null,null,null,null,null,null,null,null,null,null,null,null,null,null,null,null,null,3420,"23.05. 13:00",15.8,0]
[null,null,null,null,null,null,null,null,null,null,null,null,null,null,null,null,null,null,null,null,null,null,null,null,null,null,null,3426,"23.05. 19:00",14.1,0]
[null,null,null,null,null,null,null,null,null,null,null,null,null,null,null,null,null,null,null,null,null,null,null,null,null,null,null,3429,"23.05. 22:00",12.9,0]
[null,null,null,null,null,null,null,null,null,null,null,null,null,null,null,null,null,null,null,null,null,null,null,null,null,null,null,3440,"24.05. 09:00",14.4,0]
[null,null,null,null,null,null,null,null,null,null,null,null,null,null,null,null,null,null,null,null,null,null,null,null,null,null,null,3446,"24.05. 15:00",21,0]
[null,null,null,null,null,null,null,null,null,null,null,null,null,null,null,null,null,null,null,null,null,null,null,null,null,null,null,3455,"25.05. 00:00",17.8,0]
[null,null,null,null,null,null,null,null,null,null,null,null,null,null,null,null,null,null,null,null,null,null,null,null,null,null,null,3463,"25.05. 08:00",18.2,0]
[null,null,null,null,null,null,null,null,null,null,null,null,null,null,null,null,null,null,null,null,null,null,null,null,null,null,null,3472,"25.05. 17:00",21.6,0]
[null,null,null,null,null,null,null,null,null,null,null,null,null,null,null,null,null,null,null,null,null,null,null,null,null,null,null,3477,"25.05. 22:00",17.899999999999999,0]
[null,null,null,null,null,null,null,null,null,null,null,null,null,null,null,null,null,null,null,null,null,null,null,null,null,null,null,3489,"26.05. 10:00",21.2,0]
[null,null,null,null,null,null,null,null,null,null,null,null,null,null,null,null,null,null,null,null,null,null,null,null,null,null,null,3494,"26.05. 15:00",25.8,0]
[null,null,null,null,null,null,null,null,null,null,null,null,null,null,null,null,null,null,null,null,null,null,null,null,null,null,null,3498,"26.05. 19:00",24.9,0]
[null,null,null,null,null,null,null,null,null,null,null,null,null,null,null,null,null,null,null,null,null,null,null,null,null,null,null,3508,"27.05. 05:00",15.7,0]
[null,null,null,null,null,null,null,null,null,null,null,null,null,null,null,null,null,null,null,null,null,null,null,null,null,null,null,3515,"27.05. 12:00",23,0]
[null,null,null,null,null,null,null,null,null,null,null,null,null,null,null,null,null,null,null,null,null,null,null,null,null,null,null,3524,"27.05. 21:00",20.2,0]
[null,null,null,null,null,null,null,null,null,null,null,null,null,null,null,null,null,null,null,null,null,null,null,null,null,null,null,3531,"28.05. 04:00",15.5,0]
[null,null,null,null,null,null,null,null,null,null,null,null,null,null,null,null,null,null,null,null,null,null,null,null,null,null,null,3541,"28.05. 14:00",19.3,0]
[null,null,null,null,null,null,null,null,null,null,null,null,null,null,null,null,null,null,null,null,null,null,null,null,null,null,null,3545,"28.05. 18:00",18.100000000000001,0]
[null,null,null,null,null,null,null,null,null,null,null,null,null,null,null,null,null,null,null,null,null,null,null,null,null,null,null,3550,"28.05. 23:00",15.2,0]
[null,null,null,null,null,null,null,null,null,null,null,null,null,null,null,null,null,null,null,null,null,null,null,null,null,null,null,3559,"29.05. 08:00",16.2,0]
[null,null,null,null,null,null,null,null,null,null,null,null,null,null,null,null,null,null,null,null,null,null,null,null,null,null,null,3567,"29.05. 16:00",18.3,0]
[null,null,null,null,null,null,null,null,null,null,null,null,null,null,null,null,null,null,null,null,null,null,null,null,null,null,null,3573,"29.05. 22:00",16.5,0]
[null,null,null,null,null,null,null,null,null,null,null,null,null,null,null,null,null,null,null,null,null,null,null,null,null,null,null,3584,"30.05. 09:00",17.8,{"$f":"IF(AD3624<=$AC$25,1,0)","v":0}]
[null,null,null,null,null,null,null,null,null,null,null,null,null,null,null,null,null,null,null,null,null,null,null,null,null,null,null,3590,"30.05. 15:00",21.1,0]
[null,null,null,null,null,null,null,null,null,null,null,null,null,null,null,null,null,null,null,null,null,null,null,null,null,null,null,3601,"31.05. 02:00",16.3,0]
[null,null,null,null,null,null,null,null,null,null,null,null,null,null,null,null,null,null,null,null,null,null,null,null,null,null,null,3610,"31.05. 11:00",18.5,0]
[null,null,null,null,null,null,null,null,null,null,null,null,null,null,null,null,null,null,null,null,null,null,null,null,null,null,null,3617,"31.05. 18:00",19.600000000000001,0]
[null,null,null,null,null,null,null,null,null,null,null,null,null,null,null,null,null,null,null,null,null,null,null,null,null,null,null,3619,"31.05. 20:00",18.7,0]
[null,null,null,null,null,null,null,null,null,null,null,null,null,null,null,null,null,null,null,null,null,null,null,null,null,null,null,3627,"01.06. 04:00",11.7,0]
[null,null,null,null,null,null,null,null,null,null,null,null,null,null,null,null,null,null,null,null,null,null,null,null,null,null,null,3636,"01.06. 13:00",19.600000000000001,0]
[null,null,null,null,null,null,null,null,null,null,null,null,null,null,null,null,null,null,null,null,null,null,null,null,null,null,null,3641,"01.06. 18:00",17,0]
[null,null,null,null,null,null,null,null,null,null,null,null,null,null,null,null,null,null,null,null,null,null,null,null,null,null,null,3653,"02.06. 06:00",10.5,0]
[null,null,null,null,null,null,null,null,null,null,null,null,null,null,null,null,null,null,null,null,null,null,null,null,null,null,null,3662,"02.06. 15:00",22.5,0]
[null,null,null,null,null,null,null,null,null,null,null,null,null,null,null,null,null,null,null,null,null,null,null,null,null,null,null,3670,"02.06. 23:00",16,0]
[null,null,null,null,null,null,null,null,null,null,null,null,null,null,null,null,null,null,null,null,null,null,null,null,null,null,null,3671,"03.06. 00:00",15.1,0]
[null,null,null,null,null,null,null,null,null,null,null,null,null,null,null,null,null,null,null,null,null,null,null,null,null,null,null,3685,"03.06. 14:00",18.7,0]
[null,null,null,null,null,null,null,null,null,null,null,null,null,null,null,null,null,null,null,null,null,null,null,null,null,null,null,3688,"03.06. 17:00",18.3,0]
[null,null,null,null,null,null,null,null,null,null,null,null,null,null,null,null,null,null,null,null,null,null,null,null,null,null,null,3699,"04.06. 04:00",11.6,0]
[null,null,null,null,null,null,null,null,null,null,null,null,null,null,null,null,null,null,null,null,null,null,null,null,null,null,null,3705,"04.06. 10:00",14,0]
[null,null,null,null,null,null,null,null,null,null,null,null,null,null,null,null,null,null,null,null,null,null,null,null,null,null,null,3713,"04.06. 18:00",14.2,0]
[null,null,null,null,null,null,null,null,null,null,null,null,null,null,null,null,null,null,null,null,null,null,null,null,null,null,null,3722,"05.06. 03:00",8.8000000000000007,0]
[null,null,null,null,null,null,null,null,null,null,null,null,null,null,null,null,null,null,null,null,null,null,null,null,null,null,null,3730,"05.06. 11:00",15.1,0]
[null,null,null,null,null,null,null,null,null,null,null,null,null,null,null,null,null,null,null,null,null,null,null,null,null,null,null,3731,"05.06. 12:00",16.5,0]
[null,null,null,null,null,null,null,null,null,null,null,null,null,null,null,null,null,null,null,null,null,null,null,null,null,null,null,3744,"06.06. 01:00",12.4,0]
[null,null,null,null,null,null,null,null,null,null,null,null,null,null,null,null,null,null,null,null,null,null,null,null,null,null,null,3748,"06.06. 05:00",11.7,0]
[null,null,null,null,null,null,null,null,null,null,null,null,null,null,null,null,null,null,null,null,null,null,null,null,null,null,null,3757,"06.06. 14:00",16.399999999999999,0]
[null,null,null,null,null,null,null,null,null,null,null,null,null,null,null,null,null,null,null,null,null,null,null,null,null,null,null,3767,"07.06. 00:00",11.7,0]
[null,null,null,null,null,null,null,null,null,null,null,null,null,null,null,null,null,null,null,null,null,null,null,null,null,null,null,3774,"07.06. 07:00",11.4,0]
[null,null,null,null,null,null,null,null,null,null,null,null,null,null,null,null,null,null,null,null,null,null,null,null,null,null,null,3781,"07.06. 14:00",17.399999999999999,0]
[null,null,null,null,null,null,null,null,null,null,null,null,null,null,null,null,null,null,null,null,null,null,null,null,null,null,null,3791,"08.06. 00:00",11.8,0]
[null,null,null,null,null,null,null,null,null,null,null,null,null,null,null,null,null,null,null,null,null,null,null,null,null,null,null,3795,"08.06. 04:00",12,0]
[null,null,null,null,null,null,null,null,null,null,null,null,null,null,null,null,null,null,null,null,null,null,null,null,null,null,null,3800,"08.06. 09:00",14.1,0]
[null,null,null,null,null,null,null,null,null,null,null,null,null,null,null,null,null,null,null,null,null,null,null,null,null,null,null,3809,"08.06. 18:00",17.3,0]
[null,null,null,null,null,null,null,null,null,null,null,null,null,null,null,null,null,null,null,null,null,null,null,null,null,null,null,3817,"09.06. 02:00",13.5,0]
[null,null,null,null,null,null,null,null,null,null,null,null,null,null,null,null,null,null,null,null,null,null,null,null,null,null,null,3826,"09.06. 11:00",16.2,0]
[null,null,null,null,null,null,null,null,null,null,null,null,null,null,null,null,null,null,null,null,null,null,null,null,null,null,null,3832,"09.06. 17:00",19,0]
[null,null,null,null,null,null,null,null,null,null,null,null,null,null,null,null,null,null,null,null,null,null,null,null,null,null,null,3843,"10.06. 04:00",8.6,0]
[null,null,null,null,null,null,null,null,null,null,null,null,null,null,null,null,null,null,null,null,null,null,null,null,null,null,null,3849,"10.06. 10:00",14.6,0]
[null,null,null,null,null,null,null,null,null,null,null,null,null,null,null,null,null,null,null,null,null,null,null,null,null,null,null,3852,"10.06. 13:00",15.1,0]
[null,null,null,null,null,null,null,null,null,null,null,null,null,null,null,null,null,null,null,null,null,null,null,null,null,null,null,3863,"11.06. 00:00",5.4,0]
[null,null,null,null,null,null,null,null,null,null,null,null,null,null,null,null,null,null,null,null,null,null,null,null,null,null,null,3869,"11.06. 06:00",6,0]
[null,null,null,null,null,null,null,null,null,null,null,null,null,null,null,null,null,null,null,null,null,null,null,null,null,null,null,3877,"11.06. 14:00",16.600000000000001,0]
[null,null,null,null,null,null,null,null,null,null,null,null,null,null,null,null,null,null,null,null,null,null,null,null,null,null,null,3886,"11.06. 23:00",8.4,0]
[null,null,null,null,null,null,null,null,null,null,null,null,null,null,null,null,null,null,null,null,null,null,null,null,null,null,null,3891,"12.06. 04:00",5.5,0]
[null,null,null,null,null,null,null,null,null,null,null,null,null,null,null,null,null,null,null,null,null,null,null,null,null,null,null,3903,"12.06. 16:00",18.399999999999999,0]
[null,null,null,null,null,null,null,null,null,null,null,null,null,null,null,null,null,null,null,null,null,null,null,null,null,null,null,3912,"13.06. 01:00",8.1999999999999993,0]
[null,null,null,null,null,null,null,null,null,null,null,null,null,null,null,null,null,null,null,null,null,null,null,null,null,null,null,3914,"13.06. 03:00",7.6,0]
[null,null,null,null,null,null,null,null,null,null,null,null,null,null,null,null,null,null,null,null,null,null,null,null,null,null,null,3921,"13.06. 10:00",13.9,0]
[null,null,null,null,null,null,null,null,null,null,null,null,null,null,null,null,null,null,null,null,null,null,null,null,null,null,null,3928,"13.06. 17:00",17.100000000000001,0]
[null,null,null,null,null,null,null,null,null,null,null,null,null,null,null,null,null,null,null,null,null,null,null,null,null,null,null,3938,"14.06. 03:00",8.9,0]
[null,null,null,null,null,null,null,null,null,null,null,null,null,null,null,null,null,null,null,null,null,null,null,null,null,null,null,3945,"14.06. 10:00",17.3,0]
[null,null,null,null,null,null,null,null,null,null,null,null,null,null,null,null,null,null,null,null,null,null,null,null,null,null,null,3955,"14.06. 20:00",14,0]
[null,null,null,null,null,null,null,null,null,null,null,null,null,null,null,null,null,null,null,null,null,null,null,null,null,null,null,3959,"15.06. 00:00",11.2,0]
[null,null,null,null,null,null,null,null,null,null,null,null,null,null,null,null,null,null,null,null,null,null,null,null,null,null,null,3972,"15.06. 13:00",22.7,0]
[null,null,null,null,null,null,null,null,null,null,null,null,null,null,null,null,null,null,null,null,null,null,null,null,null,null,null,3973,"15.06. 14:00",22.6,0]
[null,null,null,null,null,null,null,null,null,null,null,null,null,null,null,null,null,null,null,null,null,null,null,null,null,null,null,3982,"15.06. 23:00",14.5,0]
[null,null,null,null,null,null,null,null,null,null,null,null,null,null,null,null,null,null,null,null,null,null,null,null,null,null,null,3990,"16.06. 07:00",14,0]
[null,null,null,null,null,null,null,null,null,null,null,null,null,null,null,null,null,null,null,null,null,null,null,null,null,null,null,3996,"16.06. 13:00",21.1,0]
[null,null,null,null,null,null,null,null,null,null,null,null,null,null,null,null,null,null,null,null,null,null,null,null,null,null,null,4007,"17.06. 00:00",15.9,0]
[null,null,null,null,null,null,null,null,null,null,null,null,null,null,null,null,null,null,null,null,null,null,null,null,null,null,null,4017,"17.06. 10:00",26.4,0]
[null,null,null,null,null,null,null,null,null,null,null,null,null,null,null,null,null,null,null,null,null,null,null,null,null,null,null,4024,"17.06. 17:00",26.1,0]
[null,null,null,null,null,null,null,null,null,null,null,null,null,null,null,null,null,null,null,null,null,null,null,null,null,null,null,4031,"18.06. 00:00",19.5,0]
[null,null,null,null,null,null,null,null,null,null,null,null,null,null,null,null,null,null,null,null,null,null,null,null,null,null,null,4033,"18.06. 02:00",16.7,0]
[null,null,null,null,null,null,null,null,null,null,null,null,null,null,null,null,null,null,null,null,null,null,null,null,null,null,null,4041,"18.06. 10:00",17.5,0]
[null,null,null,null,null,null,null,null,null,null,null,null,null,null,null,null,null,null,null,null,null,null,null,null,null,null,null,4050,"18.06. 19:00",19.2,0]
[null,null,null,null,null,null,null,null,null,null,null,null,null,null,null,null,null,null,null,null,null,null,null,null,null,null,null,4059,"19.06. 04:00",12,0]
[null,null,null,null,null,null,null,null,null,null,null,null,null,null,null,null,null,null,null,null,null,null,null,null,null,null,null,4064,"19.06. 09:00",18.899999999999999,0]
[null,null,null,null,null,null,null,null,null,null,null,null,null,null,null,null,null,null,null,null,null,null,null,null,null,null,null,4076,"19.06. 21:00",17,0]
[null,null,null,null,null,null,null,null,null,null,null,null,null,null,null,null,null,null,null,null,null,null,null,null,null,null,null,4085,"20.06. 06:00",15.6,0]
[null,null,null,null,null,null,null,null,null,null,null,null,null,null,null,null,null,null,null,null,null,null,null,null,null,null,null,4093,"20.06. 14:00",25.2,0]
[null,null,null,null,null,null,null,null,null,null,null,null,null,null,null,null,null,null,null,null,null,null,null,null,null,null,null,4099,"20.06. 20:00",20.9,0]
[null,null,null,null,null,null,null,null,null,null,null,null,null,null,null,null,null,null,null,null,null,null,null,null,null,null,null,4102,"20.06. 23:00",18,0]
[null,null,null,null,null,null,null,null,null,null,null,null,null,null,null,null,null,null,null,null,null,null,null,null,null,null,null,4113,"21.06. 10:00",23.6,0]
[null,null,null,null,null,null,null,null,null,null,null,null,null,null,null,null,null,null,null,null,null,null,null,null,null,null,null,4119,"21.06. 16:00",28.1,0]
[null,null,null,null,null,null,null,null,null,null,null,null,null,null,null,null,null,null,null,null,null,null,null,null,null,null,null,4128,"22.06. 01:00",21.8,0]
[null,null,null,null,null,null,null,null,null,null,null,null,null,null,null,null,null,null,null,null,null,null,null,null,null,null,null,4136,"22.06. 09:00",24.4,0]
[null,null,null,null,null,null,null,null,null,null,null,null,null,null,null,null,null,null,null,null,null,null,null,null,null,null,null,4145,"22.06. 18:00",26.9,0]
[null,null,null,null,null,null,null,null,null,null,null,null,null,null,null,null,null,null,null,null,null,null,null,null,null,null,null,4150,"22.06. 23:00",22.8,0]
[null,null,null,null,null,null,null,null,null,null,null,null,null,null,null,null,null,null,null,null,null,null,null,null,null,null,null,4154,"23.06. 03:00",20.399999999999999,0]
[null,null,null,null,null,null,null,null,null,null,null,null,null,null,null,null,null,null,null,null,null,null,null,null,null,null,null,4167,"23.06. 16:00",26.8,0]
[null,null,null,null,null,null,null,null,null,null,null,null,null,null,null,null,null,null,null,null,null,null,null,null,null,null,null,4171,"23.06. 20:00",24,0]
[null,null,null,null,null,null,null,null,null,null,null,null,null,null,null,null,null,null,null,null,null,null,null,null,null,null,null,4181,"24.06. 06:00",16.600000000000001,0]
[null,null,null,null,null,null,null,null,null,null,null,null,null,null,null,null,null,null,null,null,null,null,null,null,null,null,null,4188,"24.06. 13:00",26.1,0]
[null,null,null,null,null,null,null,null,null,null,null,null,null,null,null,null,null,null,null,null,null,null,null,null,null,null,null,4195,"24.06. 20:00",23.1,0]
[null,null,null,null,null,null,null,null,null,null,null,null,null,null,null,null,null,null,null,null,null,null,null,null,null,null,null,4205,"25.06. 06:00",17.5,0]
[null,null,null,null,null,null,null,null,null,null,null,null,null,null,null,null,null,null,null,null,null,null,null,null,null,null,null,4214,"25.06. 15:00",21.7,0]
[null,null,null,null,null,null,null,null,null,null,null,null,null,null,null,null,null,null,null,null,null,null,null,null,null,null,null,4218,"25.06. 19:00",20.399999999999999,0]
[null,null,null,null,null,null,null,null,null,null,null,null,null,null,null,null,null,null,null,null,null,null,null,null,null,null,null,4223,"26.06. 00:00",17.7,0]
[null,null,null,null,null,null,null,null,null,null,null,null,null,null,null,null,null,null,null,null,null,null,null,null,null,null,null,4232,"26.06. 09:00",19.100000000000001,0]
[null,null,null,null,null,null,null,null,null,null,null,null,null,null,null,null,null,null,null,null,null,null,null,null,null,null,null,4240,"26.06. 17:00",20.3,0]
[null,null,null,null,null,null,null,null,null,null,null,null,null,null,null,null,null,null,null,null,null,null,null,null,null,null,null,4246,"26.06. 23:00",16.8,0]
[null,null,null,null,null,null,null,null,null,null,null,null,null,null,null,null,null,null,null,null,null,null,null,null,null,null,null,4257,"27.06. 10:00",21.9,0]
[null,null,null,null,null,null,null,null,null,null,null,null,null,null,null,null,null,null,null,null,null,null,null,null,null,null,null,4263,"27.06. 16:00",26.3,0]
[null,null,null,null,null,null,null,null,null,null,null,null,null,null,null,null,null,null,null,null,null,null,null,null,null,null,null,4274,"28.06. 03:00",18.399999999999999,0]
[null,null,null,null,null,null,null,null,null,null,null,null,null,null,null,null,null,null,null,null,null,null,null,null,null,null,null,4275,"28.06. 04:00",18.5,0]
[null,null,null,null,null,null,null,null,null,null,null,null,null,null,null,null,null,null,null,null,null,null,null,null,null,null,null,4283,"28.06. 12:00",26.3,0]
[null,null,null,null,null,null,null,null,null,null,null,null,null,null,null,null,null,null,null,null,null,null,null,null,null,null,null,4292,"28.06. 21:00",21.2,0]
[null,null,null,null,null,null,null,null,null,null,null,null,null,null,null,null,null,null,null,null,null,null,null,null,null,null,null,4300,"29.06. 05:00",16.5,0]
[null,null,null,null,null,null,null,null,null,null,null,null,null,null,null,null,null,null,null,null,null,null,null,null,null,null,null,4309,"29.06. 14:00",20.9,0]
[null,null,null,null,null,null,null,null,null,null,null,null,null,null,null,null,null,null,null,null,null,null,null,null,null,null,null,4314,"29.06. 19:00",19.8,0]
[null,null,null,null,null,null,null,null,null,null,null,null,null,null,null,null,null,null,null,null,null,null,null,null,null,null,null,4326,"30.06. 07:00",13.1,0]
[null,null,null,null,null,null,null,null,null,null,null,null,null,null,null,null,null,null,null,null,null,null,null,null,null,null,null,4328,"30.06. 09:00",15.8,0]
[null,null,null,null,null,null,null,null,null,null,null,null,null,null,null,null,null,null,null,null,null,null,null,null,null,null,null,4335,"30.06. 16:00",20.9,0]
[null,null,null,null,null,null,null,null,null,null,null,null,null,null,null,null,null,null,null,null,null,null,null,null,null,null,null,4349,"01.07. 06:00",19,0]
[null,null,null,null,null,null,null,null,null,null,null,null,null,null,null,null,null,null,null,null,null,null,null,null,null,null,null,4352,"01.07. 09:00",22.3,{"$f":"IF(AD4392<=$AC$25,1,0)","v":0}]
[null,null,null,null,null,null,null,null,null,null,null,null,null,null,null,null,null,null,null,null,null,null,null,null,null,null,null,4361,"01.07. 18:00",30.3,0]
[null,null,null,null,null,null,null,null,null,null,null,null,null,null,null,null,null,null,null,null,null,null,null,null,null,null,null,4372,"02.07. 05:00",20,0]
[null,null,null,null,null,null,null,null,null,null,null,null,null,null,null,null,null,null,null,null,null,null,null,null,null,null,null,4378,"02.07. 11:00",24.6,0]
[null,null,null,null,null,null,null,null,null,null,null,null,null,null,null,null,null,null,null,null,null,null,null,null,null,null,null,4386,"02.07. 19:00",24.4,0]
[null,null,null,null,null,null,null,null,null,null,null,null,null,null,null,null,null,null,null,null,null,null,null,null,null,null,null,4395,"03.07. 04:00",18.3,0]
[null,null,null,null,null,null,null,null,null,null,null,null,null,null,null,null,null,null,null,null,null,null,null,null,null,null,null,4396,"03.07. 05:00",18.3,0]
[null,null,null,null,null,null,null,null,null,null,null,null,null,null,null,null,null,null,null,null,null,null,null,null,null,null,null,4404,"03.07. 13:00",26.1,0]
[null,null,null,null,null,null,null,null,null,null,null,null,null,null,null,null,null,null,null,null,null,null,null,null,null,null,null,4417,"04.07. 02:00",18.8,0]
[null,null,null,null,null,null,null,null,null,null,null,null,null,null,null,null,null,null,null,null,null,null,null,null,null,null,null,4421,"04.07. 06:00",19,0]
[null,null,null,null,null,null,null,null,null,null,null,null,null,null,null,null,null,null,null,null,null,null,null,null,null,null,null,4430,"04.07. 15:00",23.6,0]
[null,null,null,null,null,null,null,null,null,null,null,null,null,null,null,null,null,null,null,null,null,null,null,null,null,null,null,4440,"05.07. 01:00",15.6,0]
[null,null,null,null,null,null,null,null,null,null,null,null,null,null,null,null,null,null,null,null,null,null,null,null,null,null,null,4447,"05.07. 08:00",19.399999999999999,0]
[null,null,null,null,null,null,null,null,null,null,null,null,null,null,null,null,null,null,null,null,null,null,null,null,null,null,null,4454,"05.07. 15:00",27.5,0]
[null,null,null,null,null,null,null,null,null,null,null,null,null,null,null,null,null,null,null,null,null,null,null,null,null,null,null,4456,"05.07. 17:00",27.2,0]
[null,null,null,null,null,null,null,null,null,null,null,null,null,null,null,null,null,null,null,null,null,null,null,null,null,null,null,4468,"06.07. 05:00",19.2,0]
[null,null,null,null,null,null,null,null,null,null,null,null,null,null,null,null,null,null,null,null,null,null,null,null,null,null,null,4473,"06.07. 10:00",23.7,0]
[null,null,null,null,null,null,null,null,null,null,null,null,null,null,null,null,null,null,null,null,null,null,null,null,null,null,null,4485,"06.07. 22:00",21.2,0]
[null,null,null,null,null,null,null,null,null,null,null,null,null,null,null,null,null,null,null,null,null,null,null,null,null,null,null,4490,"07.07. 03:00",18.8,0]
[null,null,null,null,null,null,null,null,null,null,null,null,null,null,null,null,null,null,null,null,null,null,null,null,null,null,null,4499,"07.07. 12:00",21.4,0]
[null,null,null,null,null,null,null,null,null,null,null,null,null,null,null,null,null,null,null,null,null,null,null,null,null,null,null,4507,"07.07. 20:00",20.3,0]
[null,null,null,null,null,null,null,null,null,null,null,null,null,null,null,null,null,null,null,null,null,null,null,null,null,null,null,4516,"08.07. 05:00",12.2,0]
[null,null,null,null,null,null,null,null,null,null,null,null,null,null,null,null,null,null,null,null,null,null,null,null,null,null,null,4522,"08.07. 11:00",18.8,0]
[null,null,null,null,null,null,null,null,null,null,null,null,null,null,null,null,null,null,null,null,null,null,null,null,null,null,null,4525,"08.07. 14:00",20.6,0]
[null,null,null,null,null,null,null,null,null,null,null,null,null,null,null,null,null,null,null,null,null,null,null,null,null,null,null,4536,"09.07. 01:00",11.4,0]
[null,null,null,null,null,null,null,null,null,null,null,null,null,null,null,null,null,null,null,null,null,null,null,null,null,null,null,4542,"09.07. 07:00",14.6,0]
[null,null,null,null,null,null,null,null,null,null,null,null,null,null,null,null,null,null,null,null,null,null,null,null,null,null,null,4550,"09.07. 15:00",26.8,0]
[null,null,null,null,null,null,null,null,null,null,null,null,null,null,null,null,null,null,null,null,null,null,null,null,null,null,null,4559,"10.07. 00:00",18.100000000000001,0]
[null,null,null,null,null,null,null,null,null,null,null,null,null,null,null,null,null,null,null,null,null,null,null,null,null,null,null,4564,"10.07. 05:00",16.100000000000001,0]
[null,null,null,null,null,null,null,null,null,null,null,null,null,null,null,null,null,null,null,null,null,null,null,null,null,null,null,4576,"10.07. 17:00",21.6,0]
[null,null,null,null,null,null,null,null,null,null,null,null,null,null,null,null,null,null,null,null,null,null,null,null,null,null,null,4577,"10.07. 18:00",20.8,0]
[null,null,null,null,null,null,null,null,null,null,null,null,null,null,null,null,null,null,null,null,null,null,null,null,null,null,null,4587,"11.07. 04:00",15.7,0]
[null,null,null,null,null,null,null,null,null,null,null,null,null,null,null,null,null,null,null,null,null,null,null,null,null,null,null,4594,"11.07. 11:00",20.9,0]
[null,null,null,null,null,null,null,null,null,null,null,null,null,null,null,null,null,null,null,null,null,null,null,null,null,null,null,4601,"11.07. 18:00",21.2,0]
[null,null,null,null,null,null,null,null,null,null,null,null,null,null,null,null,null,null,null,null,null,null,null,null,null,null,null,4611,"12.07. 04:00",12.3,0]
[null,null,null,null,null,null,null,null,null,null,null,null,null,null,null,null,null,null,null,null,null,null,null,null,null,null,null,4618,"12.07. 11:00",14,0]
[null,null,null,null,null,null,null,null,null,null,null,null,null,null,null,null,null,null,null,null,null,null,null,null,null,null,null,4628,"12.07. 21:00",12,0]
[null,null,null,null,null,null,null,null,null,null,null,null,null,null,null,null,null,null,null,null,null,null,null,null,null,null,null,4632,"13.07. 01:00",11.8,0]
[null,null,null,null,null,null,null,null,null,null,null,null,null,null,null,null,null,null,null,null,null,null,null,null,null,null,null,4637,"13.07. 06:00",13.2,0]
[null,null,null,null,null,null,null,null,null,null,null,null,null,null,null,null,null,null,null,null,null,null,null,null,null,null,null,4646,"13.07. 15:00",21.5,0]
[null,null,null,null,null,null,null,null,null,null,null,null,null,null,null,null,null,null,null,null,null,null,null,null,null,null,null,4654,"13.07. 23:00",17.2,0]
[null,null,null,null,null,null,null,null,null,null,null,null,null,null,null,null,null,null,null,null,null,null,null,null,null,null,null,4663,"14.07. 08:00",14.4,0]
[null,null,null,null,null,null,null,null,null,null,null,null,null,null,null,null,null,null,null,null,null,null,null,null,null,null,null,4669,"14.07. 14:00",18.100000000000001,0]
[null,null,null,null,null,null,null,null,null,null,null,null,null,null,null,null,null,null,null,null,null,null,null,null,null,null,null,4680,"15.07. 01:00",7.5,0]
[null,null,null,null,null,null,null,null,null,null,null,null,null,null,null,null,null,null,null,null,null,null,null,null,null,null,null,4683,"15.07. 04:00",6.5,0]
[null,null,null,null,null,null,null,null,null,null,null,null,null,null,null,null,null,null,null,null,null,null,null,null,null,null,null,4697,"15.07. 18:00",15.4,0]
[null,null,null,null,null,null,null,null,null,null,null,null,null,null,null,null,null,null,null,null,null,null,null,null,null,null,null,4704,"16.07. 01:00",9.6999999999999993,0]
[null,null,null,null,null,null,null,null,null,null,null,null,null,null,null,null,null,null,null,null,null,null,null,null,null,null,null,4706,"16.07. 03:00",9.9,0]
[null,null,null,null,null,null,null,null,null,null,null,null,null,null,null,null,null,null,null,null,null,null,null,null,null,null,null,4714,"16.07. 11:00",20.399999999999999,0]
[null,null,null,null,null,null,null,null,null,null,null,null,null,null,null,null,null,null,null,null,null,null,null,null,null,null,null,4723,"16.07. 20:00",21.6,0]
[null,null,null,null,null,null,null,null,null,null,null,null,null,null,null,null,null,null,null,null,null,null,null,null,null,null,null,4732,"17.07. 05:00",15,0]
[null,null,null,null,null,null,null,null,null,null,null,null,null,null,null,null,null,null,null,null,null,null,null,null,null,null,null,4737,"17.07. 10:00",21.9,0]
[null,null,null,null,null,null,null,null,null,null,null,null,null,null,null,null,null,null,null,null,null,null,null,null,null,null,null,4749,"17.07. 22:00",19.100000000000001,0]
[null,null,null,null,null,null,null,null,null,null,null,null,null,null,null,null,null,null,null,null,null,null,null,null,null,null,null,4751,"18.07. 00:00",15.4,0]
[null,null,null,null,null,null,null,null,null,null,null,null,null,null,null,null,null,null,null,null,null,null,null,null,null,null,null,4758,"18.07. 07:00",15.3,0]
[null,null,null,null,null,null,null,null,null,null,null,null,null,null,null,null,null,null,null,null,null,null,null,null,null,null,null,4772,"18.07. 21:00",18.7,0]
[null,null,null,null,null,null,null,null,null,null,null,null,null,null,null,null,null,null,null,null,null,null,null,null,null,null,null,4775,"19.07. 00:00",12.8,0]
[null,null,null,null,null,null,null,null,null,null,null,null,null,null,null,null,null,null,null,null,null,null,null,null,null,null,null,4786,"19.07. 11:00",13.9,0]
[null,null,null,null,null,null,null,null,null,null,null,null,null,null,null,null,null,null,null,null,null,null,null,null,null,null,null,4792,"19.07. 17:00",14.7,0]
[null,null,null,null,null,null,null,null,null,null,null,null,null,null,null,null,null,null,null,null,null,null,null,null,null,null,null,4800,"20.07. 01:00",9.8000000000000007,{"$f":"IF(AD4840<=$AC$25,1,0)","v":0}]
[null,null,null,null,null,null,null,null,null,null,null,null,null,null,null,null,null,null,null,null,null,null,null,null,null,null,null,4809,"20.07. 10:00",17.5,0]
[null,null,null,null,null,null,null,null,null,null,null,null,null,null,null,null,null,null,null,null,null,null,null,null,null,null,null,4818,"20.07. 19:00",16.600000000000001,0]
[null,null,null,null,null,null,null,null,null,null,null,null,null,null,null,null,null,null,null,null,null,null,null,null,null,null,null,4823,"21.07. 00:00",15.1,0]
[null,null,null,null,null,null,null,null,null,null,null,null,null,null,null,null,null,null,null,null,null,null,null,null,null,null,null,4827,"21.07. 04:00",13.8,0]
[null,null,null,null,null,null,null,null,null,null,null,null,null,null,null,null,null,null,null,null,null,null,null,null,null,null,null,4840,"21.07. 17:00",20.2,0]
[null,null,null,null,null,null,null,null,null,null,null,null,null,null,null,null,null,null,null,null,null,null,null,null,null,null,null,4844,"21.07. 21:00",17.899999999999999,0]
[null,null,null,null,null,null,null,null,null,null,null,null,null,null,null,null,null,null,null,null,null,null,null,null,null,null,null,4854,"22.07. 07:00",11.4,0]
[null,null,null,null,null,null,null,null,null,null,null,null,null,null,null,null,null,null,null,null,null,null,null,null,null,null,null,4861,"22.07. 14:00",17.7,0]
[null,null,null,null,null,null,null,null,null,null,null,null,null,null,null,null,null,null,null,null,null,null,null,null,null,null,null,4868,"22.07. 21:00",13.7,0]
[null,null,null,null,null,null,null,null,null,null,null,null,null,null,null,null,null,null,null,null,null,null,null,null,null,null,null,4878,"23.07. 07:00",14.5,0]
[null,null,null,null,null,null,null,null,null,null,null,null,null,null,null,null,null,null,null,null,null,null,null,null,null,null,null,4879,"23.07. 08:00",16.3,0]
[null,null,null,null,null,null,null,null,null,null,null,null,null,null,null,null,null,null,null,null,null,null,null,null,null,null,null,4891,"23.07. 20:00",24,0]
[null,null,null,null,null,null,null,null,null,null,null,null,null,null,null,null,null,null,null,null,null,null,null,null,null,null,null,4896,"24.07. 01:00",20.8,0]
[null,null,null,null,null,null,null,null,null,null,null,null,null,null,null,null,null,null,null,null,null,null,null,null,null,null,null,4905,"24.07. 10:00",19.8,0]
[null,null,null,null,null,null,null,null,null,null,null,null,null,null,null,null,null,null,null,null,null,null,null,null,null,null,null,4913,"24.07. 18:00",19.3,0]
[null,null,null,null,null,null,null,null,null,null,null,null,null,null,null,null,null,null,null,null,null,null,null,null,null,null,null,4919,"25.07. 00:00",16.600000000000001,0]
[null,null,null,null,null,null,null,null,null,null,null,null,null,null,null,null,null,null,null,null,null,null,null,null,null,null,null,4930,"25.07. 11:00",18.7,0]
[null,null,null,null,null,null,null,null,null,null,null,null,null,null,null,null,null,null,null,null,null,null,null,null,null,null,null,4936,"25.07. 17:00",20.2,0]
[null,null,null,null,null,null,null,null,null,null,null,null,null,null,null,null,null,null,null,null,null,null,null,null,null,null,null,4939,"25.07. 20:00",17.3,0]
[null,null,null,null,null,null,null,null,null,null,null,null,null,null,null,null,null,null,null,null,null,null,null,null,null,null,null,4950,"26.07. 07:00",13.4,0]
[null,null,null,null,null,null,null,null,null,null,null,null,null,null,null,null,null,null,null,null,null,null,null,null,null,null,null,4956,"26.07. 13:00",18.899999999999999,0]
[null,null,null,null,null,null,null,null,null,null,null,null,null,null,null,null,null,null,null,null,null,null,null,null,null,null,null,4965,"26.07. 22:00",19.600000000000001,0]
[null,null,null,null,null,null,null,null,null,null,null,null,null,null,null,null,null,null,null,null,null,null,null,null,null,null,null,4973,"27.07. 06:00",15.7,0]
[null,null,null,null,null,null,null,null,null,null,null,null,null,null,null,null,null,null,null,null,null,null,null,null,null,null,null,4982,"27.07. 15:00",19.2,0]
[null,null,null,null,null,null,null,null,null,null,null,null,null,null,null,null,null,null,null,null,null,null,null,null,null,null,null,4987,"27.07. 20:00",16.5,0]
[null,null,null,null,null,null,null,null,null,null,null,null,null,null,null,null,null,null,null,null,null,null,null,null,null,null,null,4999,"28.07. 08:00",12.6,0]
[null,null,null,null,null,null,null,null,null,null,null,null,null,null,null,null,null,null,null,null,null,null,null,null,null,null,null,5001,"28.07. 10:00",12.9,0]
[null,null,null,null,null,null,null,null,null,null,null,null,null,null,null,null,null,null,null,null,null,null,null,null,null,null,null,5008,"28.07. 17:00",19.899999999999999,0]
[null,null,null,null,null,null,null,null,null,null,null,null,null,null,null,null,null,null,null,null,null,null,null,null,null,null,null,5015,"29.07. 00:00",15.7,0]
[null,null,null,null,null,null,null,null,null,null,null,null,null,null,null,null,null,null,null,null,null,null,null,null,null,null,null,5025,"29.07. 10:00",17.399999999999999,0]
[null,null,null,null,null,null,null,null,null,null,null,null,null,null,null,null,null,null,null,null,null,null,null,null,null,null,null,5034,"29.07. 19:00",16.100000000000001,0]
[null,null,null,null,null,null,null,null,null,null,null,null,null,null,null,null,null,null,null,null,null,null,null,null,null,null,null,5038,"29.07. 23:00",14.5,0]
[null,null,null,null,null,null,null,null,null,null,null,null,null,null,null,null,null,null,null,null,null,null,null,null,null,null,null,5051,"30.07. 12:00",23.6,0]
[null,null,null,null,null,null,null,null,null,null,null,null,null,null,null,null,null,null,null,null,null,null,null,null,null,null,null,5059,"30.07. 20:00",19.5,0]
[null,null,null,null,null,null,null,null,null,null,null,null,null,null,null,null,null,null,null,null,null,null,null,null,null,null,null,5060,"30.07. 21:00",19.2,0]
[null,null,null,null,null,null,null,null,null,null,null,null,null,null,null,null,null,null,null,null,null,null,null,null,null,null,null,5069,"31.07. 06:00",17.8,0]
[null,null,null,null,null,null,null,null,null,null,null,null,null,null,null,null,null,null,null,null,null,null,null,null,null,null,null,5077,"31.07. 14:00",24.2,0]
[null,null,null,null,null,null,null,null,null,null,null,null,null,null,null,null,null,null,null,null,null,null,null,null,null,null,null,5083,"31.07. 20:00",22,0]
[null,null,null,null,null,null,null,null,null,null,null,null,null,null,null,null,null,null,null,null,null,null,null,null,null,null,null,5094,"01.08. 07:00",19.899999999999999,0]
[null,null,null,null,null,null,null,null,null,null,null,null,null,null,null,null,null,null,null,null,null,null,null,null,null,null,null,5104,"01.08. 17:00",24,0]
[null,null,null,null,null,null,null,null,null,null,null,null,null,null,null,null,null,null,null,null,null,null,null,null,null,null,null,5111,"02.08. 00:00",19.100000000000001,0]
[null,null,null,null,null,null,null,null,null,null,null,null,null,null,null,null,null,null,null,null,null,null,null,null,null,null,null,5120,"02.08. 09:00",23.2,{"$f":"IF(AD5160<=$AC$25,1,0)","v":0}]
[null,null,null,null,null,null,null,null,null,null,null,null,null,null,null,null,null,null,null,null,null,null,null,null,null,null,null,5127,"02.08. 16:00",28.8,0]
[null,null,null,null,null,null,null,null,null,null,null,null,null,null,null,null,null,null,null,null,null,null,null,null,null,null,null,5129,"02.08. 18:00",28.2,0]
[null,null,null,null,null,null,null,null,null,null,null,null,null,null,null,null,null,null,null,null,null,null,null,null,null,null,null,5141,"03.08. 06:00",18.100000000000001,0]
[null,null,null,null,null,null,null,null,null,null,null,null,null,null,null,null,null,null,null,null,null,null,null,null,null,null,null,5146,"03.08. 11:00",24.4,0]
[null,null,null,null,null,null,null,null,null,null,null,null,null,null,null,null,null,null,null,null,null,null,null,null,null,null,null,5151,"03.08. 16:00",26.2,0]
[null,null,null,null,null,null,null,null,null,null,null,null,null,null,null,null,null,null,null,null,null,null,null,null,null,null,null,5163,"04.08. 04:00",13.4,0]
[null,null,null,null,null,null,null,null,null,null,null,null,null,null,null,null,null,null,null,null,null,null,null,null,null,null,null,5172,"04.08. 13:00",22,0]
[null,null,null,null,null,null,null,null,null,null,null,null,null,null,null,null,null,null,null,null,null,null,null,null,null,null,null,5180,"04.08. 21:00",16,0]
[null,null,null,null,null,null,null,null,null,null,null,null,null,null,null,null,null,null,null,null,null,null,null,null,null,null,null,5181,"04.08. 22:00",14.9,0]
[null,null,null,null,null,null,null,null,null,null,null,null,null,null,null,null,null,null,null,null,null,null,null,null,null,null,null,5195,"05.08. 12:00",22.4,0]
[null,null,null,null,null,null,null,null,null,null,null,null,null,null,null,null,null,null,null,null,null,null,null,null,null,null,null,5198,"05.08. 15:00",25.1,0]
[null,null,null,null,null,null,null,null,null,null,null,null,null,null,null,null,null,null,null,null,null,null,null,null,null,null,null,5209,"06.08. 02:00",15.8,0]
[null,null,null,null,null,null,null,null,null,null,null,null,null,null,null,null,null,null,null,null,null,null,null,null,null,null,null,5215,"06.08. 08:00",16.899999999999999,0]
[null,null,null,null,null,null,null,null,null,null,null,null,null,null,null,null,null,null,null,null,null,null,null,null,null,null,null,5223,"06.08. 16:00",22,0]
[null,null,null,null,null,null,null,null,null,null,null,null,null,null,null,null,null,null,null,null,null,null,null,null,null,null,null,5232,"07.08. 01:00",16.399999999999999,0]
[null,null,null,null,null,null,null,null,null,null,null,null,null,null,null,null,null,null,null,null,null,null,null,null,null,null,null,5237,"07.08. 06:00",15.6,0]
[null,null,null,null,null,null,null,null,null,null,null,null,null,null,null,null,null,null,null,null,null,null,null,null,null,null,null,5241,"07.08. 10:00",21.2,0]
[null,null,null,null,null,null,null,null,null,null,null,null,null,null,null,null,null,null,null,null,null,null,null,null,null,null,null,5254,"07.08. 23:00",17.399999999999999,0]
[null,null,null,null,null,null,null,null,null,null,null,null,null,null,null,null,null,null,null,null,null,null,null,null,null,null,null,5258,"08.08. 03:00",14.6,0]
[null,null,null,null,null,null,null,null,null,null,null,null,null,null,null,null,null,null,null,null,null,null,null,null,null,null,null,5267,"08.08. 12:00",23.5,0]
[null,null,null,null,null,null,null,null,null,null,null,null,null,null,null,null,null,null,null,null,null,null,null,null,null,null,null,5274,"08.08. 19:00",22.9,0]
[null,null,null,null,null,null,null,null,null,null,null,null,null,null,null,null,null,null,null,null,null,null,null,null,null,null,null,5284,"09.08. 05:00",13.7,0]
[null,null,null,null,null,null,null,null,null,null,null,null,null,null,null,null,null,null,null,null,null,null,null,null,null,null,null,5291,"09.08. 12:00",24.2,0]
[null,null,null,null,null,null,null,null,null,null,null,null,null,null,null,null,null,null,null,null,null,null,null,null,null,null,null,5301,"09.08. 22:00",19.8,0]
[null,null,null,null,null,null,null,null,null,null,null,null,null,null,null,null,null,null,null,null,null,null,null,null,null,null,null,5305,"10.08. 02:00",15.1,0]
[null,null,null,null,null,null,null,null,null,null,null,null,null,null,null,null,null,null,null,null,null,null,null,null,null,null,null,5310,"10.08. 07:00",16.399999999999999,0]
[null,null,null,null,null,null,null,null,null,null,null,null,null,null,null,null,null,null,null,null,null,null,null,null,null,null,null,5319,"10.08. 16:00",27.1,0]
[null,null,null,null,null,null,null,null,null,null,null,null,null,null,null,null,null,null,null,null,null,null,null,null,null,null,null,5327,"11.08. 00:00",18.5,0]
[null,null,null,null,null,null,null,null,null,null,null,null,null,null,null,null,null,null,null,null,null,null,null,null,null,null,null,5336,"11.08. 09:00",23.1,0]
[null,null,null,null,null,null,null,null,null,null,null,null,null,null,null,null,null,null,null,null,null,null,null,null,null,null,null,5342,"11.08. 15:00",26.3,0]
[null,null,null,null,null,null,null,null,null,null,null,null,null,null,null,null,null,null,null,null,null,null,null,null,null,null,null,5353,"12.08. 02:00",20.3,0]
[null,null,null,null,null,null,null,null,null,null,null,null,null,null,null,null,null,null,null,null,null,null,null,null,null,null,null,5356,"12.08. 05:00",20.399999999999999,0]
[null,null,null,null,null,null,null,null,null,null,null,null,null,null,null,null,null,null,null,null,null,null,null,null,null,null,null,5362,"12.08. 11:00",28.5,0]
[null,null,null,null,null,null,null,null,null,null,null,null,null,null,null,null,null,null,null,null,null,null,null,null,null,null,null,5370,"12.08. 19:00",29.3,0]
[null,null,null,null,null,null,null,null,null,null,null,null,null,null,null,null,null,null,null,null,null,null,null,null,null,null,null,5379,"13.08. 04:00",18.399999999999999,0]
[null,null,null,null,null,null,null,null,null,null,null,null,null,null,null,null,null,null,null,null,null,null,null,null,null,null,null,5387,"13.08. 12:00",25.5,0]
[null,null,null,null,null,null,null,null,null,null,null,null,null,null,null,null,null,null,null,null,null,null,null,null,null,null,null,5396,"13.08. 21:00",22.4,0]
[null,null,null,null,null,null,null,null,null,null,null,null,null,null,null,null,null,null,null,null,null,null,null,null,null,null,null,5401,"14.08. 02:00",16.100000000000001,0]
[null,null,null,null,null,null,null,null,null,null,null,null,null,null,null,null,null,null,null,null,null,null,null,null,null,null,null,5413,"14.08. 14:00",25.4,0]
[null,null,null,null,null,null,null,null,null,null,null,null,null,null,null,null,null,null,null,null,null,null,null,null,null,null,null,5422,"14.08. 23:00",19.3,0]
[null,null,null,null,null,null,null,null,null,null,null,null,null,null,null,null,null,null,null,null,null,null,null,null,null,null,null,5424,"15.08. 01:00",17.8,0]
[null,null,null,null,null,null,null,null,null,null,null,null,null,null,null,null,null,null,null,null,null,null,null,null,null,null,null,5431,"15.08. 08:00",17.7,0]
[null,null,null,null,null,null,null,null,null,null,null,null,null,null,null,null,null,null,null,null,null,null,null,null,null,null,null,5438,"15.08. 15:00",21.6,0]
[null,null,null,null,null,null,null,null,null,null,null,null,null,null,null,null,null,null,null,null,null,null,null,null,null,null,null,5448,"16.08. 01:00",16,0]
[null,null,null,null,null,null,null,null,null,null,null,null,null,null,null,null,null,null,null,null,null,null,null,null,null,null,null,5459,"16.08. 12:00",20.100000000000001,0]
[null,null,null,null,null,null,null,null,null,null,null,null,null,null,null,null,null,null,null,null,null,null,null,null,null,null,null,5465,"16.08. 18:00",21.8,0]
[null,null,null,null,null,null,null,null,null,null,null,null,null,null,null,null,null,null,null,null,null,null,null,null,null,null,null,5473,"17.08. 02:00",15.2,0]
[null,null,null,null,null,null,null,null,null,null,null,null,null,null,null,null,null,null,null,null,null,null,null,null,null,null,null,5482,"17.08. 11:00",18.7,0]
[null,null,null,null,null,null,null,null,null,null,null,null,null,null,null,null,null,null,null,null,null,null,null,null,null,null,null,5483,"17.08. 12:00",20.6,0]
[null,null,null,null,null,null,null,null,null,null,null,null,null,null,null,null,null,null,null,null,null,null,null,null,null,null,null,5496,"18.08. 01:00",14.6,0]
[null,null,null,null,null,null,null,null,null,null,null,null,null,null,null,null,null,null,null,null,null,null,null,null,null,null,null,5500,"18.08. 05:00",13.4,0]
[null,null,null,null,null,null,null,null,null,null,null,null,null,null,null,null,null,null,null,null,null,null,null,null,null,null,null,5506,"18.08. 11:00",18.7,0]
[null,null,null,null,null,null,null,null,null,null,null,null,null,null,null,null,null,null,null,null,null,null,null,null,null,null,null,5517,"18.08. 22:00",15.4,0]
[null,null,null,null,null,null,null,null,null,null,null,null,null,null,null,null,null,null,null,null,null,null,null,null,null,null,null,5527,"19.08. 08:00",13.5,0]
[null,null,null,null,null,null,null,null,null,null,null,null,null,null,null,null,null,null,null,null,null,null,null,null,null,null,null,5534,"19.08. 15:00",14.5,0]
[null,null,null,null,null,null,null,null,null,null,null,null,null,null,null,null,null,null,null,null,null,null,null,null,null,null,null,5541,"19.08. 22:00",12.4,0]
[null,null,null,null,null,null,null,null,null,null,null,null,null,null,null,null,null,null,null,null,null,null,null,null,null,null,null,5543,"20.08. 00:00",11.6,0]
[null,null,null,null,null,null,null,null,null,null,null,null,null,null,null,null,null,null,null,null,null,null,null,null,null,null,null,5555,"20.08. 12:00",16.2,0]
[null,null,null,null,null,null,null,null,null,null,null,null,null,null,null,null,null,null,null,null,null,null,null,null,null,null,null,5560,"20.08. 17:00",18.3,0]
[null,null,null,null,null,null,null,null,null,null,null,null,null,null,null,null,null,null,null,null,null,null,null,null,null,null,null,5569,"21.08. 02:00",13.4,0]
[null,null,null,null,null,null,null,null,null,null,null,null,null,null,null,null,null,null,null,null,null,null,null,null,null,null,null,5578,"21.08. 11:00",17.5,0]
[null,null,null,null,null,null,null,null,null,null,null,null,null,null,null,null,null,null,null,null,null,null,null,null,null,null,null,5586,"21.08. 19:00",18.100000000000001,0]
[null,null,null,null,null,null,null,null,null,null,null,null,null,null,null,null,null,null,null,null,null,null,null,null,null,null,null,5592,"22.08. 01:00",13.7,0]
[null,null,null,null,null,null,null,null,null,null,null,null,null,null,null,null,null,null,null,null,null,null,null,null,null,null,null,5603,"22.08. 12:00",17.899999999999999,0]
[null,null,null,null,null,null,null,null,null,null,null,null,null,null,null,null,null,null,null,null,null,null,null,null,null,null,null,5609,"22.08. 18:00",16.7,0]
[null,null,null,null,null,null,null,null,null,null,null,null,null,null,null,null,null,null,null,null,null,null,null,null,null,null,null,5612,"22.08. 21:00",14.9,0]
[null,null,null,null,null,null,null,null,null,null,null,null,null,null,null,null,null,null,null,null,null,null,null,null,null,null,null,5623,"23.08. 08:00",14.9,0]
[null,null,null,null,null,null,null,null,null,null,null,null,null,null,null,null,null,null,null,null,null,null,null,null,null,null,null,5629,"23.08. 14:00",17.100000000000001,0]
[null,null,null,null,null,null,null,null,null,null,null,null,null,null,null,null,null,null,null,null,null,null,null,null,null,null,null,5638,"23.08. 23:00",11.7,0]
[null,null,null,null,null,null,null,null,null,null,null,null,null,null,null,null,null,null,null,null,null,null,null,null,null,null,null,5646,"24.08. 07:00",9.8000000000000007,0]
[null,null,null,null,null,null,null,null,null,null,null,null,null,null,null,null,null,null,null,null,null,null,null,null,null,null,null,5655,"24.08. 16:00",17.5,0]
[null,null,null,null,null,null,null,null,null,null,null,null,null,null,null,null,null,null,null,null,null,null,null,null,null,null,null,5660,"24.08. 21:00",12.3,0]
[null,null,null,null,null,null,null,null,null,null,null,null,null,null,null,null,null,null,null,null,null,null,null,null,null,null,null,5664,"25.08. 01:00",9,0]
[null,null,null,null,null,null,null,null,null,null,null,null,null,null,null,null,null,null,null,null,null,null,null,null,null,null,null,5674,"25.08. 11:00",18.600000000000001,0]
[null,null,null,null,null,null,null,null,null,null,null,null,null,null,null,null,null,null,null,null,null,null,null,null,null,null,null,5681,"25.08. 18:00",20.5,0]
[null,null,null,null,null,null,null,null,null,null,null,null,null,null,null,null,null,null,null,null,null,null,null,null,null,null,null,5688,"26.08. 01:00",14.1,0]
[null,null,null,null,null,null,null,null,null,null,null,null,null,null,null,null,null,null,null,null,null,null,null,null,null,null,null,5698,"26.08. 11:00",15.5,0]
[null,null,null,null,null,null,null,null,null,null,null,null,null,null,null,null,null,null,null,null,null,null,null,null,null,null,null,5705,"26.08. 18:00",15.1,0]
[null,null,null,null,null,null,null,null,null,null,null,null,null,null,null,null,null,null,null,null,null,null,null,null,null,null,null,5715,"27.08. 04:00",13.4,0]
[null,null,null,null,null,null,null,null,null,null,null,null,null,null,null,null,null,null,null,null,null,null,null,null,null,null,null,5724,"27.08. 13:00",22.7,0]
[null,null,null,null,null,null,null,null,null,null,null,null,null,null,null,null,null,null,null,null,null,null,null,null,null,null,null,5725,"27.08. 14:00",21.8,0]
[null,null,null,null,null,null,null,null,null,null,null,null,null,null,null,null,null,null,null,null,null,null,null,null,null,null,null,5733,"27.08. 22:00",17.899999999999999,0]
[null,null,null,null,null,null,null,null,null,null,null,null,null,null,null,null,null,null,null,null,null,null,null,null,null,null,null,5742,"28.08. 07:00",17.100000000000001,0]
[null,null,null,null,null,null,null,null,null,null,null,null,null,null,null,null,null,null,null,null,null,null,null,null,null,null,null,5750,"28.08. 15:00",23.2,0]
[null,null,null,null,null,null,null,null,null,null,null,null,null,null,null,null,null,null,null,null,null,null,null,null,null,null,null,5756,"28.08. 21:00",18.600000000000001,0]
[null,null,null,null,null,null,null,null,null,null,null,null,null,null,null,null,null,null,null,null,null,null,null,null,null,null,null,5767,"29.08. 08:00",19.899999999999999,0]
[null,null,null,null,null,null,null,null,null,null,null,null,null,null,null,null,null,null,null,null,null,null,null,null,null,null,null,5770,"29.08. 11:00",23.6,0]
[null,null,null,null,null,null,null,null,null,null,null,null,null,null,null,null,null,null,null,null,null,null,null,null,null,null,null,5784,"30.08. 01:00",16.8,0]
[null,null,null,null,null,null,null,null,null,null,null,null,null,null,null,null,null,null,null,null,null,null,null,null,null,null,null,5785,"30.08. 02:00",16,0]
[null,null,null,null,null,null,null,null,null,null,null,null,null,null,null,null,null,null,null,null,null,null,null,null,null,null,null,5793,"30.08. 10:00",17.600000000000001,0]
[null,null,null,null,null,null,null,null,null,null,null,null,null,null,null,null,null,null,null,null,null,null,null,null,null,null,null,5802,"30.08. 19:00",18.8,0]
[null,null,null,null,null,null,null,null,null,null,null,null,null,null,null,null,null,null,null,null,null,null,null,null,null,null,null,5814,"31.08. 07:00",13.8,0]
[null,null,null,null,null,null,null,null,null,null,null,null,null,null,null,null,null,null,null,null,null,null,null,null,null,null,null,5819,"31.08. 12:00",20.100000000000001,0]
[null,null,null,null,null,null,null,null,null,null,null,null,null,null,null,null,null,null,null,null,null,null,null,null,null,null,null,5824,"31.08. 17:00",20.5,{"$f":"IF(AD5864<=$AC$25,1,0)","v":0}]
[null,null,null,null,null,null,null,null,null,null,null,null,null,null,null,null,null,null,null,null,null,null,null,null,null,null,null,5836,"01.09. 05:00",8.6999999999999993,0]
[null,null,null,null,null,null,null,null,null,null,null,null,null,null,null,null,null,null,null,null,null,null,null,null,null,null,null,5838,"01.09. 07:00",10.7,0]
[null,null,null,null,null,null,null,null,null,null,null,null,null,null,null,null,null,null,null,null,null,null,null,null,null,null,null,5845,"01.09. 14:00",17.399999999999999,0]
[null,null,null,null,null,null,null,null,null,null,null,null,null,null,null,null,null,null,null,null,null,null,null,null,null,null,null,5859,"02.09. 04:00",9.1,0]
[null,null,null,null,null,null,null,null,null,null,null,null,null,null,null,null,null,null,null,null,null,null,null,null,null,null,null,5862,"02.09. 07:00",10.7,0]
[null,null,null,null,null,null,null,null,null,null,null,null,null,null,null,null,null,null,null,null,null,null,null,null,null,null,null,5871,"02.09. 16:00",17.600000000000001,0]
[null,null,null,null,null,null,null,null,null,null,null,null,null,null,null,null,null,null,null,null,null,null,null,null,null,null,null,5882,"03.09. 03:00",11.4,0]
[null,null,null,null,null,null,null,null,null,null,null,null,null,null,null,null,null,null,null,null,null,null,null,null,null,null,null,5888,"03.09. 09:00",13.7,{"$f":"IF(AD5928<=$AC$25,1,0)","v":0}]
[null,null,null,null,null,null,null,null,null,null,null,null,null,null,null,null,null,null,null,null,null,null,null,null,null,null,null,5896,"03.09. 17:00",16.8,0]
[null,null,null,null,null,null,null,null,null,null,null,null,null,null,null,null,null,null,null,null,null,null,null,null,null,null,null,5905,"04.09. 02:00",10.7,0]
[null,null,null,null,null,null,null,null,null,null,null,null,null,null,null,null,null,null,null,null,null,null,null,null,null,null,null,5910,"04.09. 07:00",11.3,0]
[null,null,null,null,null,null,null,null,null,null,null,null,null,null,null,null,null,null,null,null,null,null,null,null,null,null,null,5914,"04.09. 11:00",15.9,0]
[null,null,null,null,null,null,null,null,null,null,null,null,null,null,null,null,null,null,null,null,null,null,null,null,null,null,null,5927,"05.09. 00:00",10.8,0]
[null,null,null,null,null,null,null,null,null,null,null,null,null,null,null,null,null,null,null,null,null,null,null,null,null,null,null,5931,"05.09. 04:00",9.6,0]
[null,null,null,null,null,null,null,null,null,null,null,null,null,null,null,null,null,null,null,null,null,null,null,null,null,null,null,5940,"05.09. 13:00",21.1,0]
[null,null,null,null,null,null,null,null,null,null,null,null,null,null,null,null,null,null,null,null,null,null,null,null,null,null,null,5947,"05.09. 20:00",17.399999999999999,0]
[null,null,null,null,null,null,null,null,null,null,null,null,null,null,null,null,null,null,null,null,null,null,null,null,null,null,null,5957,"06.09. 06:00",11.8,0]
[null,null,null,null,null,null,null,null,null,null,null,null,null,null,null,null,null,null,null,null,null,null,null,null,null,null,null,5964,"06.09. 13:00",23.2,0]
[null,null,null,null,null,null,null,null,null,null,null,null,null,null,null,null,null,null,null,null,null,null,null,null,null,null,null,5966,"06.09. 15:00",24.3,0]
[null,null,null,null,null,null,null,null,null,null,null,null,null,null,null,null,null,null,null,null,null,null,null,null,null,null,null,5978,"07.09. 03:00",12.7,0]
[null,null,null,null,null,null,null,null,null,null,null,null,null,null,null,null,null,null,null,null,null,null,null,null,null,null,null,5983,"07.09. 08:00",15.6,0]
[null,null,null,null,null,null,null,null,null,null,null,null,null,null,null,null,null,null,null,null,null,null,null,null,null,null,null,5992,"07.09. 17:00",22.1,0]
[null,null,null,null,null,null,null,null,null,null,null,null,null,null,null,null,null,null,null,null,null,null,null,null,null,null,null,6000,"08.09. 01:00",13.1,0]
[null,null,null,null,null,null,null,null,null,null,null,null,null,null,null,null,null,null,null,null,null,null,null,null,null,null,null,6006,"08.09. 07:00",12.6,0]
[null,null,null,null,null,null,null,null,null,null,null,null,null,null,null,null,null,null,null,null,null,null,null,null,null,null,null,6017,"08.09. 18:00",21.1,0]
[null,null,null,null,null,null,null,null,null,null,null,null,null,null,null,null,null,null,null,null,null,null,null,null,null,null,null,6026,"09.09. 03:00",13.8,0]
[null,null,null,null,null,null,null,null,null,null,null,null,null,null,null,null,null,null,null,null,null,null,null,null,null,null,null,6029,"09.09. 06:00",14.4,0]
[null,null,null,null,null,null,null,null,null,null,null,null,null,null,null,null,null,null,null,null,null,null,null,null,null,null,null,6035,"09.09. 12:00",23.1,0]
[null,null,null,null,null,null,null,null,null,null,null,null,null,null,null,null,null,null,null,null,null,null,null,null,null,null,null,6043,"09.09. 20:00",21.9,0]
[null,null,null,null,null,null,null,null,null,null,null,null,null,null,null,null,null,null,null,null,null,null,null,null,null,null,null,6052,"10.09. 05:00",19.600000000000001,0]
[null,null,null,null,null,null,null,null,null,null,null,null,null,null,null,null,null,null,null,null,null,null,null,null,null,null,null,6060,"10.09. 13:00",19.2,0]
[null,null,null,null,null,null,null,null,null,null,null,null,null,null,null,null,null,null,null,null,null,null,null,null,null,null,null,6069,"10.09. 22:00",17.899999999999999,0]
[null,null,null,null,null,null,null,null,null,null,null,null,null,null,null,null,null,null,null,null,null,null,null,null,null,null,null,6074,"11.09. 03:00",15.3,0]
[null,null,null,null,null,null,null,null,null,null,null,null,null,null,null,null,null,null,null,null,null,null,null,null,null,null,null,6086,"11.09. 15:00",22.5,0]
[null,null,null,null,null,null,null,null,null,null,null,null,null,null,null,null,null,null,null,null,null,null,null,null,null,null,null,6087,"11.09. 16:00",21.7,0]
[null,null,null,null,null,null,null,null,null,null,null,null,null,null,null,null,null,null,null,null,null,null,null,null,null,null,null,6097,"12.09. 02:00",12.2,0]
[null,null,null,null,null,null,null,null,null,null,null,null,null,null,null,null,null,null,null,null,null,null,null,null,null,null,null,6104,"12.09. 09:00",15.7,0]
[null,null,null,null,null,null,null,null,null,null,null,null,null,null,null,null,null,null,null,null,null,null,null,null,null,null,null,6111,"12.09. 16:00",22.3,0]
[null,null,null,null,null,null,null,null,null,null,null,null,null,null,null,null,null,null,null,null,null,null,null,null,null,null,null,6121,"13.09. 02:00",11.9,0]
[null,null,null,null,null,null,null,null,null,null,null,null,null,null,null,null,null,null,null,null,null,null,null,null,null,null,null,6125,"13.09. 06:00",11.6,0]
[null,null,null,null,null,null,null,null,null,null,null,null,null,null,null,null,null,null,null,null,null,null,null,null,null,null,null,6138,"13.09. 19:00",16,0]
[null,null,null,null,null,null,null,null,null,null,null,null,null,null,null,null,null,null,null,null,null,null,null,null,null,null,null,6146,"14.09. 03:00",8.3000000000000007,0]
[null,null,null,null,null,null,null,null,null,null,null,null,null,null,null,null,null,null,null,null,null,null,null,null,null,null,null,6147,"14.09. 04:00",8.8000000000000007,0]
[null,null,null,null,null,null,null,null,null,null,null,null,null,null,null,null,null,null,null,null,null,null,null,null,null,null,null,6156,"14.09. 13:00",18.600000000000001,0]
[null,null,null,null,null,null,null,null,null,null,null,null,null,null,null,null,null,null,null,null,null,null,null,null,null,null,null,6164,"14.09. 21:00",14.5,0]
[null,null,null,null,null,null,null,null,null,null,null,null,null,null,null,null,null,null,null,null,null,null,null,null,null,null,null,6173,"15.09. 06:00",12.3,0]
[null,null,null,null,null,null,null,null,null,null,null,null,null,null,null,null,null,null,null,null,null,null,null,null,null,null,null,6179,"15.09. 12:00",13.9,0]
[null,null,null,null,null,null,null,null,null,null,null,null,null,null,null,null,null,null,null,null,null,null,null,null,null,null,null,6190,"15.09. 23:00",15.7,0]
[null,null,null,null,null,null,null,null,null,null,null,null,null,null,null,null,null,null,null,null,null,null,null,null,null,null,null,6193,"16.09. 02:00",12.8,0]
[null,null,null,null,null,null,null,null,null,null,null,null,null,null,null,null,null,null,null,null,null,null,null,null,null,null,null,6207,"16.09. 16:00",21.3,0]
[null,null,null,null,null,null,null,null,null,null,null,null,null,null,null,null,null,null,null,null,null,null,null,null,null,null,null,6214,"16.09. 23:00",12.4,0]
[null,null,null,null,null,null,null,null,null,null,null,null,null,null,null,null,null,null,null,null,null,null,null,null,null,null,null,6216,"17.09. 01:00",10.199999999999999,0]
[null,null,null,null,null,null,null,null,null,null,null,null,null,null,null,null,null,null,null,null,null,null,null,null,null,null,null,6228,"17.09. 13:00",18.2,0]
[null,null,null,null,null,null,null,null,null,null,null,null,null,null,null,null,null,null,null,null,null,null,null,null,null,null,null,6233,"17.09. 18:00",16.8,0]
[null,null,null,null,null,null,null,null,null,null,null,null,null,null,null,null,null,null,null,null,null,null,null,null,null,null,null,6242,"18.09. 03:00",6.9,0]
[null,null,null,null,null,null,null,null,null,null,null,null,null,null,null,null,null,null,null,null,null,null,null,null,null,null,null,6251,"18.09. 12:00",16.2,0]
[null,null,null,null,null,null,null,null,null,null,null,null,null,null,null,null,null,null,null,null,null,null,null,null,null,null,null,6259,"18.09. 20:00",13.1,0]
[null,null,null,null,null,null,null,null,null,null,null,null,null,null,null,null,null,null,null,null,null,null,null,null,null,null,null,6265,"19.09. 02:00",6.7,0]
[null,null,null,null,null,null,null,null,null,null,null,null,null,null,null,null,null,null,null,null,null,null,null,null,null,null,null,6268,"19.09. 05:00",6,0]
[null,null,null,null,null,null,null,null,null,null,null,null,null,null,null,null,null,null,null,null,null,null,null,null,null,null,null,6282,"19.09. 19:00",14.5,0]
[null,null,null,null,null,null,null,null,null,null,null,null,null,null,null,null,null,null,null,null,null,null,null,null,null,null,null,6285,"19.09. 22:00",11.6,0]
[null,null,null,null,null,null,null,null,null,null,null,null,null,null,null,null,null,null,null,null,null,null,null,null,null,null,null,6296,"20.09. 09:00",11,0]
[null,null,null,null,null,null,null,null,null,null,null,null,null,null,null,null,null,null,null,null,null,null,null,null,null,null,null,6302,"20.09. 15:00",13.8,0]
[null,null,null,null,null,null,null,null,null,null,null,null,null,null,null,null,null,null,null,null,null,null,null,null,null,null,null,6310,"20.09. 23:00",10.8,0]
[null,null,null,null,null,null,null,null,null,null,null,null,null,null,null,null,null,null,null,null,null,null,null,null,null,null,null,6319,"21.09. 08:00",11,0]
[null,null,null,null,null,null,null,null,null,null,null,null,null,null,null,null,null,null,null,null,null,null,null,null,null,null,null,6328,"21.09. 17:00",13.9,0]
[null,null,null,null,null,null,null,null,null,null,null,null,null,null,null,null,null,null,null,null,null,null,null,null,null,null,null,6333,"21.09. 22:00",12.7,0]
[null,null,null,null,null,null,null,null,null,null,null,null,null,null,null,null,null,null,null,null,null,null,null,null,null,null,null,6337,"22.09. 02:00",11.8,0]
[null,null,null,null,null,null,null,null,null,null,null,null,null,null,null,null,null,null,null,null,null,null,null,null,null,null,null,6347,"22.09. 12:00",14,0]
[null,null,null,null,null,null,null,null,null,null,null,null,null,null,null,null,null,null,null,null,null,null,null,null,null,null,null,6354,"22.09. 19:00",13.5,0]
[null,null,null,null,null,null,null,null,null,null,null,null,null,null,null,null,null,null,null,null,null,null,null,null,null,null,null,6361,"23.09. 02:00",11.3,0]
[null,null,null,null,null,null,null,null,null,null,null,null,null,null,null,null,null,null,null,null,null,null,null,null,null,null,null,6371,"23.09. 12:00",11.9,0]
[null,null,null,null,null,null,null,null,null,null,null,null,null,null,null,null,null,null,null,null,null,null,null,null,null,null,null,6378,"23.09. 19:00",11.5,0]
[null,null,null,null,null,null,null,null,null,null,null,null,null,null,null,null,null,null,null,null,null,null,null,null,null,null,null,6388,"24.09. 05:00",9.5,0]
[null,null,null,null,null,null,null,null,null,null,null,null,null,null,null,null,null,null,null,null,null,null,null,null,null,null,null,6389,"24.09. 06:00",9.6,0]
[null,null,null,null,null,null,null,null,null,null,null,null,null,null,null,null,null,null,null,null,null,null,null,null,null,null,null,6398,"24.09. 15:00",12.2,0]
[null,null,null,null,null,null,null,null,null,null,null,null,null,null,null,null,null,null,null,null,null,null,null,null,null,null,null,6406,"24.09. 23:00",9.1999999999999993,0]
[null,null,null,null,null,null,null,null,null,null,null,null,null,null,null,null,null,null,null,null,null,null,null,null,null,null,null,6415,"25.09. 08:00",8.4,0]
[null,null,null,null,null,null,null,null,null,null,null,null,null,null,null,null,null,null,null,null,null,null,null,null,null,null,null,6423,"25.09. 16:00",13,0]
[null,null,null,null,null,null,null,null,null,null,null,null,null,null,null,null,null,null,null,null,null,null,null,null,null,null,null,6429,"25.09. 22:00",8.8000000000000007,0]
[null,null,null,null,null,null,null,null,null,null,null,null,null,null,null,null,null,null,null,null,null,null,null,null,null,null,null,6440,"26.09. 09:00",7,0]
[null,null,null,null,null,null,null,null,null,null,null,null,null,null,null,null,null,null,null,null,null,null,null,null,null,null,null,6443,"26.09. 12:00",11.7,0]
[null,null,null,null,null,null,null,null,null,null,null,null,null,null,null,null,null,null,null,null,null,null,null,null,null,null,null,6449,"26.09. 18:00",8.6,0]
[null,null,null,null,null,null,null,null,null,null,null,null,null,null,null,null,null,null,null,null,null,null,null,null,null,null,null,6457,"27.09. 02:00",8,0]
[null,null,null,null,null,null,null,null,null,null,null,null,null,null,null,null,null,null,null,null,null,null,null,null,null,null,null,6466,"27.09. 11:00",10.9,0]
[null,null,null,null,null,null,null,null,null,null,null,null,null,null,null,null,null,null,null,null,null,null,null,null,null,null,null,6475,"27.09. 20:00",10.9,0]
[null,null,null,null,null,null,null,null,null,null,null,null,null,null,null,null,null,null,null,null,null,null,null,null,null,null,null,6480,"28.09. 01:00",8.9,0]
[null,null,null,null,null,null,null,null,null,null,null,null,null,null,null,null,null,null,null,null,null,null,null,null,null,null,null,6492,"28.09. 13:00",10.6,0]
[null,null,null,null,null,null,null,null,null,null,null,null,null,null,null,null,null,null,null,null,null,null,null,null,null,null,null,6497,"28.09. 18:00",9.6999999999999993,0]
[null,null,null,null,null,null,null,null,null,null,null,null,null,null,null,null,null,null,null,null,null,null,null,null,null,null,null,6509,"29.09. 06:00",8.4,0]
[null,null,null,null,null,null,null,null,null,null,null,null,null,null,null,null,null,null,null,null,null,null,null,null,null,null,null,6511,"29.09. 08:00",9.1999999999999993,0]
[null,null,null,null,null,null,null,null,null,null,null,null,null,null,null,null,null,null,null,null,null,null,null,null,null,null,null,6518,"29.09. 15:00",16.5,0]
[null,null,null,null,null,null,null,null,null,null,null,null,null,null,null,null,null,null,null,null,null,null,null,null,null,null,null,6525,"29.09. 22:00",14,0]
[null,null,null,null,null,null,null,null,null,null,null,null,null,null,null,null,null,null,null,null,null,null,null,null,null,null,null,6535,"30.09. 08:00",13.2,0]
[null,null,null,null,null,null,null,null,null,null,null,null,null,null,null,null,null,null,null,null,null,null,null,null,null,null,null,6544,"30.09. 17:00",18.7,0]
[null,null,null,null,null,null,null,null,null,null,null,null,null,null,null,null,null,null,null,null,null,null,null,null,null,null,null,6548,"30.09. 21:00",13.5,0]
[null,null,null,null,null,null,null,null,null,null,null,null,null,null,null,null,null,null,null,null,null,null,null,null,null,null,null,6561,"01.10. 10:00",14.2,0]
[null,null,null,null,null,null,null,null,null,null,null,null,null,null,null,null,null,null,null,null,null,null,null,null,null,null,null,6569,"01.10. 18:00",14.8,0]
[null,null,null,null,null,null,null,null,null,null,null,null,null,null,null,null,null,null,null,null,null,null,null,null,null,null,null,6570,"01.10. 19:00",13.8,0]
[null,null,null,null,null,null,null,null,null,null,null,null,null,null,null,null,null,null,null,null,null,null,null,null,null,null,null,6583,"02.10. 08:00",9.3000000000000007,0]
[null,null,null,null,null,null,null,null,null,null,null,null,null,null,null,null,null,null,null,null,null,null,null,null,null,null,null,6587,"02.10. 12:00",14.4,0]
[null,null,null,null,null,null,null,null,null,null,null,null,null,null,null,null,null,null,null,null,null,null,null,null,null,null,null,6593,"02.10. 18:00",16.8,0]
[null,null,null,null,null,null,null,null,null,null,null,null,null,null,null,null,null,null,null,null,null,null,null,null,null,null,null,6604,"03.10. 05:00",7.2,0]
[null,null,null,null,null,null,null,null,null,null,null,null,null,null,null,null,null,null,null,null,null,null,null,null,null,null,null,6614,"03.10. 15:00",17,0]
[null,null,null,null,null,null,null,null,null,null,null,null,null,null,null,null,null,null,null,null,null,null,null,null,null,null,null,6621,"03.10. 22:00",8.6999999999999993,0]
[null,null,null,null,null,null,null,null,null,null,null,null,null,null,null,null,null,null,null,null,null,null,null,null,null,null,null,6630,"04.10. 07:00",5.6,0]
[null,null,null,null,null,null,null,null,null,null,null,null,null,null,null,null,null,null,null,null,null,null,null,null,null,null,null,6637,"04.10. 14:00",9.5,0]
[null,null,null,null,null,null,null,null,null,null,null,null,null,null,null,null,null,null,null,null,null,null,null,null,null,null,null,6639,"04.10. 16:00",11.7,0]
[null,null,null,null,null,null,null,null,null,null,null,null,null,null,null,null,null,null,null,null,null,null,null,null,null,null,null,6651,"05.10. 04:00",10.6,0]
[null,null,null,null,null,null,null,null,null,null,null,null,null,null,null,null,null,null,null,null,null,null,null,null,null,null,null,6656,"05.10. 09:00",11.6,{"$f":"IF(AD6696<=$AC$25,1,0)","v":0}]
[null,null,null,null,null,null,null,null,null,null,null,null,null,null,null,null,null,null,null,null,null,null,null,null,null,null,null,6665,"05.10. 18:00",12.4,0]
[null,null,null,null,null,null,null,null,null,null,null,null,null,null,null,null,null,null,null,null,null,null,null,null,null,null,null,6673,"06.10. 02:00",9.6999999999999993,0]
[null,null,null,null,null,null,null,null,null,null,null,null,null,null,null,null,null,null,null,null,null,null,null,null,null,null,null,6679,"06.10. 08:00",10.6,0]
[null,null,null,null,null,null,null,null,null,null,null,null,null,null,null,null,null,null,null,null,null,null,null,null,null,null,null,6690,"06.10. 19:00",10.7,0]
[null,null,null,null,null,null,null,null,null,null,null,null,null,null,null,null,null,null,null,null,null,null,null,null,null,null,null,6691,"06.10. 20:00",10.199999999999999,0]
[null,null,null,null,null,null,null,null,null,null,null,null,null,null,null,null,null,null,null,null,null,null,null,null,null,null,null,6702,"07.10. 07:00",7.7,0]
[null,null,null,null,null,null,null,null,null,null,null,null,null,null,null,null,null,null,null,null,null,null,null,null,null,null,null,6708,"07.10. 13:00",9.6999999999999993,0]
[null,null,null,null,null,null,null,null,null,null,null,null,null,null,null,null,null,null,null,null,null,null,null,null,null,null,null,6716,"07.10. 21:00",12.3,0]
[null,null,null,null,null,null,null,null,null,null,null,null,null,null,null,null,null,null,null,null,null,null,null,null,null,null,null,6725,"08.10. 06:00",8.4,0]
[null,null,null,null,null,null,null,null,null,null,null,null,null,null,null,null,null,null,null,null,null,null,null,null,null,null,null,6733,"08.10. 14:00",15.5,0]
[null,null,null,null,null,null,null,null,null,null,null,null,null,null,null,null,null,null,null,null,null,null,null,null,null,null,null,6742,"08.10. 23:00",7.7,0]
[null,null,null,null,null,null,null,null,null,null,null,null,null,null,null,null,null,null,null,null,null,null,null,null,null,null,null,6747,"09.10. 04:00",5.2,0]
[null,null,null,null,null,null,null,null,null,null,null,null,null,null,null,null,null,null,null,null,null,null,null,null,null,null,null,6751,"09.10. 08:00",7.4,0]
[null,null,null,null,null,null,null,null,null,null,null,null,null,null,null,null,null,null,null,null,null,null,null,null,null,null,null,6761,"09.10. 18:00",12.7,0]
[null,null,null,null,null,null,null,null,null,null,null,null,null,null,null,null,null,null,null,null,null,null,null,null,null,null,null,6768,"10.10. 01:00",9.1999999999999993,0]
[null,null,null,null,null,null,null,null,null,null,null,null,null,null,null,null,null,null,null,null,null,null,null,null,null,null,null,6777,"10.10. 10:00",10.5,0]
[null,null,null,null,null,null,null,null,null,null,null,null,null,null,null,null,null,null,null,null,null,null,null,null,null,null,null,6784,"10.10. 17:00",12.9,{"$f":"IF(AD6824<=$AC$25,1,0)","v":0}]
[null,null,null,null,null,null,null,null,null,null,null,null,null,null,null,null,null,null,null,null,null,null,null,null,null,null,null,6794,"11.10. 03:00",13.4,0]
[null,null,null,null,null,null,null,null,null,null,null,null,null,null,null,null,null,null,null,null,null,null,null,null,null,null,null,6798,"11.10. 07:00",13.5,0]
[null,null,null,null,null,null,null,null,null,null,null,null,null,null,null,null,null,null,null,null,null,null,null,null,null,null,null,6811,"11.10. 20:00",16.100000000000001,0]
[null,null,null,null,null,null,null,null,null,null,null,null,null,null,null,null,null,null,null,null,null,null,null,null,null,null,null,6812,"11.10. 21:00",15.6,0]
[null,null,null,null,null,null,null,null,null,null,null,null,null,null,null,null,null,null,null,null,null,null,null,null,null,null,null,6820,"12.10. 05:00",12.6,0]
[null,null,null,null,null,null,null,null,null,null,null,null,null,null,null,null,null,null,null,null,null,null,null,null,null,null,null,6829,"12.10. 14:00",12.3,0]
[null,null,null,null,null,null,null,null,null,null,null,null,null,null,null,null,null,null,null,null,null,null,null,null,null,null,null,6837,"12.10. 22:00",9.8000000000000007,0]
[null,null,null,null,null,null,null,null,null,null,null,null,null,null,null,null,null,null,null,null,null,null,null,null,null,null,null,6846,"13.10. 07:00",8,0]
[null,null,null,null,null,null,null,null,null,null,null,null,null,null,null,null,null,null,null,null,null,null,null,null,null,null,null,6852,"13.10. 13:00",10.5,0]
[null,null,null,null,null,null,null,null,null,null,null,null,null,null,null,null,null,null,null,null,null,null,null,null,null,null,null,6863,"14.10. 00:00",6.4,0]
[null,null,null,null,null,null,null,null,null,null,null,null,null,null,null,null,null,null,null,null,null,null,null,null,null,null,null,6866,"14.10. 03:00",4.2,0]
[null,null,null,null,null,null,null,null,null,null,null,null,null,null,null,null,null,null,null,null,null,null,null,null,null,null,null,6872,"14.10. 09:00",7.9,0]
[null,null,null,null,null,null,null,null,null,null,null,null,null,null,null,null,null,null,null,null,null,null,null,null,null,null,null,6880,"14.10. 17:00",12.1,0]
[null,null,null,null,null,null,null,null,null,null,null,null,null,null,null,null,null,null,null,null,null,null,null,null,null,null,null,6889,"15.10. 02:00",5.8,0]
[null,null,null,null,null,null,null,null,null,null,null,null,null,null,null,null,null,null,null,null,null,null,null,null,null,null,null,6901,"15.10. 14:00",14.5,0]
[null,null,null,null,null,null,null,null,null,null,null,null,null,null,null,null,null,null,null,null,null,null,null,null,null,null,null,6906,"15.10. 19:00",11.3,0]
[null,null,null,null,null,null,null,null,null,null,null,null,null,null,null,null,null,null,null,null,null,null,null,null,null,null,null,6911,"16.10. 00:00",11.9,0]
[null,null,null,null,null,null,null,null,null,null,null,null,null,null,null,null,null,null,null,null,null,null,null,null,null,null,null,6923,"16.10. 12:00",15.8,0]
[null,null,null,null,null,null,null,null,null,null,null,null,null,null,null,null,null,null,null,null,null,null,null,null,null,null,null,6932,"16.10. 21:00",15.7,0]
[null,null,null,null,null,null,null,null,null,null,null,null,null,null,null,null,null,null,null,null,null,null,null,null,null,null,null,6938,"17.10. 03:00",12.2,0]
[null,null,null,null,null,null,null,null,null,null,null,null,null,null,null,null,null,null,null,null,null,null,null,null,null,null,null,6941,"17.10. 06:00",12.6,0]
[null,null,null,null,null,null,null,null,null,null,null,null,null,null,null,null,null,null,null,null,null,null,null,null,null,null,null,6948,"17.10. 13:00",9.1999999999999993,0]
[null,null,null,null,null,null,null,null,null,null,null,null,null,null,null,null,null,null,null,null,null,null,null,null,null,null,null,6958,"17.10. 23:00",5.2,0]
[null,null,null,null,null,null,null,null,null,null,null,null,null,null,null,null,null,null,null,null,null,null,null,null,null,null,null,6969,"18.10. 10:00",2.2000000000000002,0]
[null,null,null,null,null,null,null,null,null,null,null,null,null,null,null,null,null,null,null,null,null,null,null,null,null,null,null,6975,"18.10. 16:00",2.6,0]
[null,null,null,null,null,null,null,null,null,null,null,null,null,null,null,null,null,null,null,null,null,null,null,null,null,null,null,6983,"19.10. 00:00",0.4,0]
[null,null,null,null,null,null,null,null,null,null,null,null,null,null,null,null,null,null,null,null,null,null,null,null,null,null,null,6992,"19.10. 09:00",5.4,0]
[null,null,null,null,null,null,null,null,null,null,null,null,null,null,null,null,null,null,null,null,null,null,null,null,null,null,null,6993,"19.10. 10:00",7.8,0]
[null,null,null,null,null,null,null,null,null,null,null,null,null,null,null,null,null,null,null,null,null,null,null,null,null,null,null,7006,"19.10. 23:00",8.5,0]
[null,null,null,null,null,null,null,null,null,null,null,null,null,null,null,null,null,null,null,null,null,null,null,null,null,null,null,7010,"20.10. 03:00",3.8,0]
[null,null,null,null,null,null,null,null,null,null,null,null,null,null,null,null,null,null,null,null,null,null,null,null,null,null,null,7020,"20.10. 13:00",8.6,0]
[null,null,null,null,null,null,null,null,null,null,null,null,null,null,null,null,null,null,null,null,null,null,null,null,null,null,null,7027,"20.10. 20:00",4.9000000000000004,0]
[null,null,null,null,null,null,null,null,null,null,null,null,null,null,null,null,null,null,null,null,null,null,null,null,null,null,null,7034,"21.10. 03:00",3.4,0]
[null,null,null,null,null,null,null,null,null,null,null,null,null,null,null,null,null,null,null,null,null,null,null,null,null,null,null,7044,"21.10. 13:00",11.9,0]
[null,null,null,null,null,null,null,null,null,null,null,null,null,null,null,null,null,null,null,null,null,null,null,null,null,null,null,7051,"21.10. 20:00",9.3000000000000007,0]
[null,null,null,null,null,null,null,null,null,null,null,null,null,null,null,null,null,null,null,null,null,null,null,null,null,null,null,7053,"21.10. 22:00",8.3000000000000007,0]
[null,null,null,null,null,null,null,null,null,null,null,null,null,null,null,null,null,null,null,null,null,null,null,null,null,null,null,7065,"22.10. 10:00",6.9,0]
[null,null,null,null,null,null,null,null,null,null,null,null,null,null,null,null,null,null,null,null,null,null,null,null,null,null,null,7070,"22.10. 15:00",9.6,0]
[null,null,null,null,null,null,null,null,null,null,null,null,null,null,null,null,null,null,null,null,null,null,null,null,null,null,null,7079,"23.10. 00:00",1.9,0]
[null,null,null,null,null,null,null,null,null,null,null,null,null,null,null,null,null,null,null,null,null,null,null,null,null,null,null,7088,"23.10. 09:00",1.8,0]
[null,null,null,null,null,null,null,null,null,null,null,null,null,null,null,null,null,null,null,null,null,null,null,null,null,null,null,7096,"23.10. 17:00",6.3,0]
[null,null,null,null,null,null,null,null,null,null,null,null,null,null,null,null,null,null,null,null,null,null,null,null,null,null,null,7102,"23.10. 23:00",4.5,0]
[null,null,null,null,null,null,null,null,null,null,null,null,null,null,null,null,null,null,null,null,null,null,null,null,null,null,null,7113,"24.10. 10:00",9.6,0]
[null,null,null,null,null,null,null,null,null,null,null,null,null,null,null,null,null,null,null,null,null,null,null,null,null,null,null,7116,"24.10. 13:00",14.8,0]
[null,null,null,null,null,null,null,null,null,null,null,null,null,null,null,null,null,null,null,null,null,null,null,null,null,null,null,7122,"24.10. 19:00",12.7,0]
[null,null,null,null,null,null,null,null,null,null,null,null,null,null,null,null,null,null,null,null,null,null,null,null,null,null,null,7130,"25.10. 02:00",10.8,0]
[null,null,null,null,null,null,null,null,null,null,null,null,null,null,null,null,null,null,null,null,null,null,null,null,null,null,null,7139,"25.10. 11:00",16,0]
[null,null,null,null,null,null,null,null,null,null,null,null,null,null,null,null,null,null,null,null,null,null,null,null,null,null,null,7148,"25.10. 20:00",13.7,0]
[null,null,null,null,null,null,null,null,null,null,null,null,null,null,null,null,null,null,null,null,null,null,null,null,null,null,null,7153,"26.10. 01:00",12.3,0]
[null,null,null,null,null,null,null,null,null,null,null,null,null,null,null,null,null,null,null,null,null,null,null,null,null,null,null,7165,"26.10. 13:00",16.3,0]
[null,null,null,null,null,null,null,null,null,null,null,null,null,null,null,null,null,null,null,null,null,null,null,null,null,null,null,7170,"26.10. 18:00",15.8,0]
[null,null,null,null,null,null,null,null,null,null,null,null,null,null,null,null,null,null,null,null,null,null,null,null,null,null,null,7174,"26.10. 22:00",12.8,0]
[null,null,null,null,null,null,null,null,null,null,null,null,null,null,null,null,null,null,null,null,null,null,null,null,null,null,null,7184,"27.10. 08:00",9,0]
[null,null,null,null,null,null,null,null,null,null,null,null,null,null,null,null,null,null,null,null,null,null,null,null,null,null,null,7191,"27.10. 15:00",11.1,0]
[null,null,null,null,null,null,null,null,null,null,null,null,null,null,null,null,null,null,null,null,null,null,null,null,null,null,null,7198,"27.10. 22:00",6.3,0]
[null,null,null,null,null,null,null,null,null,null,null,null,null,null,null,null,null,null,null,null,null,null,null,null,null,null,null,7208,"28.10. 08:00",8.1,0]
[null,null,null,null,null,null,null,null,null,null,null,null,null,null,null,null,null,null,null,null,null,null,null,null,null,null,null,7212,"28.10. 12:00",13.1,0]
[null,null,null,null,null,null,null,null,null,null,null,null,null,null,null,null,null,null,null,null,null,null,null,null,null,null,null,7225,"29.10. 01:00",8.3000000000000007,0]
[null,null,null,null,null,null,null,null,null,null,null,null,null,null,null,null,null,null,null,null,null,null,null,null,null,null,null,7234,"29.10. 10:00",7.3,0]
[null,null,null,null,null,null,null,null,null,null,null,null,null,null,null,null,null,null,null,null,null,null,null,null,null,null,null,7235,"29.10. 11:00",7.2,0]
[null,null,null,null,null,null,null,null,null,null,null,null,null,null,null,null,null,null,null,null,null,null,null,null,null,null,null,7243,"29.10. 19:00",6.5,0]
[null,null,null,null,null,null,null,null,null,null,null,null,null,null,null,null,null,null,null,null,null,null,null,null,null,null,null,7256,"30.10. 08:00",6.8,0]
[null,null,null,null,null,null,null,null,null,null,null,null,null,null,null,null,null,null,null,null,null,null,null,null,null,null,null,7260,"30.10. 12:00",8.6999999999999993,0]
[null,null,null,null,null,null,null,null,null,null,null,null,null,null,null,null,null,null,null,null,null,null,null,null,null,null,null,7266,"30.10. 18:00",8.3000000000000007,0]
[null,null,null,null,null,null,null,null,null,null,null,null,null,null,null,null,null,null,null,null,null,null,null,null,null,null,null,7277,"31.10. 05:00",6.9,0]
[null,null,null,null,null,null,null,null,null,null,null,null,null,null,null,null,null,null,null,null,null,null,null,null,null,null,null,7280,"31.10. 08:00",6.9,0]
[null,null,null,null,null,null,null,null,null,null,null,null,null,null,null,null,null,null,null,null,null,null,null,null,null,null,null,7294,"31.10. 22:00",5.2,0]
[null,null,null,null,null,null,null,null,null,null,null,null,null,null,null,null,null,null,null,null,null,null,null,null,null,null,null,7295,"31.10. 23:00",4.9000000000000004,0]
[null,null,null,null,null,null,null,null,null,null,null,null,null,null,null,null,null,null,null,null,null,null,null,null,null,null,null,7303,"01.11. 07:00",1.4,0]
[null,null,null,null,null,null,null,null,null,null,null,null,null,null,null,null,null,null,null,null,null,null,null,null,null,null,null,7312,"01.11. 16:00",5.9,0]
[null,null,null,null,null,null,null,null,null,null,null,null,null,null,null,null,null,null,null,null,null,null,null,null,null,null,null,7324,"02.11. 04:00",0.8,0]
[null,null,null,null,null,null,null,null,null,null,null,null,null,null,null,null,null,null,null,null,null,null,null,null,null,null,null,7329,"02.11. 09:00",2.1,0]
[null,null,null,null,null,null,null,null,null,null,null,null,null,null,null,null,null,null,null,null,null,null,null,null,null,null,null,7338,"02.11. 18:00",2.9,0]
[null,null,null,null,null,null,null,null,null,null,null,null,null,null,null,null,null,null,null,null,null,null,null,null,null,null,null,7346,"03.11. 02:00",2.1,0]
[null,null,null,null,null,null,null,null,null,null,null,null,null,null,null,null,null,null,null,null,null,null,null,null,null,null,null,7352,"03.11. 08:00",2.2000000000000002,0]
[null,null,null,null,null,null,null,null,null,null,null,null,null,null,null,null,null,null,null,null,null,null,null,null,null,null,null,7355,"03.11. 11:00",2.7,0]
[null,null,null,null,null,null,null,null,null,null,null,null,null,null,null,null,null,null,null,null,null,null,null,null,null,null,null,7369,"04.11. 01:00",3.2,0]
[null,null,null,null,null,null,null,null,null,null,null,null,null,null,null,null,null,null,null,null,null,null,null,null,null,null,null,7372,"04.11. 04:00",3.3,0]
[null,null,null,null,null,null,null,null,null,null,null,null,null,null,null,null,null,null,null,null,null,null,null,null,null,null,null,7381,"04.11. 13:00",7.1,0]
[null,null,null,null,null,null,null,null,null,null,null,null,null,null,null,null,null,null,null,null,null,null,null,null,null,null,null,7389,"04.11. 21:00",5.7,0]
[null,null,null,null,null,null,null,null,null,null,null,null,null,null,null,null,null,null,null,null,null,null,null,null,null,null,null,7398,"05.11. 06:00",4.0999999999999996,0]
[null,null,null,null,null,null,null,null,null,null,null,null,null,null,null,null,null,null,null,null,null,null,null,null,null,null,null,7406,"05.11. 14:00",4.8,0]
[null,null,null,null,null,null,null,null,null,null,null,null,null,null,null,null,null,null,null,null,null,null,null,null,null,null,null,7415,"05.11. 23:00",1.5,0]
[null,null,null,null,null,null,null,null,null,null,null,null,null,null,null,null,null,null,null,null,null,null,null,null,null,null,null,7420,"06.11. 04:00",-2,0]
[null,null,null,null,null,null,null,null,null,null,null,null,null,null,null,null,null,null,null,null,null,null,null,null,null,null,null,7424,"06.11. 08:00",-1,{"$f":"IF(AD7464<=$AC$25,1,0)","v":0}]
[null,null,null,null,null,null,null,null,null,null,null,null,null,null,null,null,null,null,null,null,null,null,null,null,null,null,null,7434,"06.11. 18:00",-0.4,0]
[null,null,null,null,null,null,null,null,null,null,null,null,null,null,null,null,null,null,null,null,null,null,null,null,null,null,null,7441,"07.11. 01:00",-5.0999999999999996,1]
[null,null,null,null,null,null,null,null,null,null,null,null,null,null,null,null,null,null,null,null,null,null,null,null,null,null,null,7450,"07.11. 10:00",1,0]
[null,null,null,null,null,null,null,null,null,null,null,null,null,null,null,null,null,null,null,null,null,null,null,null,null,null,null,7457,"07.11. 17:00",-2.2000000000000002,0]
[null,null,null,null,null,null,null,null,null,null,null,null,null,null,null,null,null,null,null,null,null,null,null,null,null,null,null,7467,"08.11. 03:00",-3.5,0]
[null,null,null,null,null,null,null,null,null,null,null,null,null,null,null,null,null,null,null,null,null,null,null,null,null,null,null,7471,"08.11. 07:00",-3.8,0]
[null,null,null,null,null,null,null,null,null,null,null,null,null,null,null,null,null,null,null,null,null,null,null,null,null,null,null,7476,"08.11. 12:00",3.2,0]
[null,null,null,null,null,null,null,null,null,null,null,null,null,null,null,null,null,null,null,null,null,null,null,null,null,null,null,7485,"08.11. 21:00",-0.1,0]
[null,null,null,null,null,null,null,null,null,null,null,null,null,null,null,null,null,null,null,null,null,null,null,null,null,null,null,7493,"09.11. 05:00",-2.6,0]
[null,null,null,null,null,null,null,null,null,null,null,null,null,null,null,null,null,null,null,null,null,null,null,null,null,null,null,7502,"09.11. 14:00",4,0]
[null,null,null,null,null,null,null,null,null,null,null,null,null,null,null,null,null,null,null,null,null,null,null,null,null,null,null,7510,"09.11. 22:00",-1.3,0]
[null,null,null,null,null,null,null,null,null,null,null,null,null,null,null,null,null,null,null,null,null,null,null,null,null,null,null,7516,"10.11. 04:00",-3.3,0]
[null,null,null,null,null,null,null,null,null,null,null,null,null,null,null,null,null,null,null,null,null,null,null,null,null,null,null,7527,"10.11. 15:00",0.7,0]
[null,null,null,null,null,null,null,null,null,null,null,null,null,null,null,null,null,null,null,null,null,null,null,null,null,null,null,7536,"11.11. 00:00",-1.2,0]
[null,null,null,null,null,null,null,null,null,null,null,null,null,null,null,null,null,null,null,null,null,null,null,null,null,null,null,7539,"11.11. 03:00",-0.9,0]
[null,null,null,null,null,null,null,null,null,null,null,null,null,null,null,null,null,null,null,null,null,null,null,null,null,null,null,7545,"11.11. 09:00",3.3,0]
[null,null,null,null,null,null,null,null,null,null,null,null,null,null,null,null,null,null,null,null,null,null,null,null,null,null,null,7553,"11.11. 17:00",4.8,0]
[null,null,null,null,null,null,null,null,null,null,null,null,null,null,null,null,null,null,null,null,null,null,null,null,null,null,null,7562,"12.11. 02:00",2.5,0]
[null,null,null,null,null,null,null,null,null,null,null,null,null,null,null,null,null,null,null,null,null,null,null,null,null,null,null,7567,"12.11. 07:00",2.2999999999999998,0]
[null,null,null,null,null,null,null,null,null,null,null,null,null,null,null,null,null,null,null,null,null,null,null,null,null,null,null,7579,"12.11. 19:00",1,0]
[null,null,null,null,null,null,null,null,null,null,null,null,null,null,null,null,null,null,null,null,null,null,null,null,null,null,null,7584,"13.11. 00:00",-0.2,0]
[null,null,null,null,null,null,null,null,null,null,null,null,null,null,null,null,null,null,null,null,null,null,null,null,null,null,null,7596,"13.11. 12:00",2.2999999999999998,0]
[null,null,null,null,null,null,null,null,null,null,null,null,null,null,null,null,null,null,null,null,null,null,null,null,null,null,null,7597,"13.11. 13:00",2.2999999999999998,0]
[null,null,null,null,null,null,null,null,null,null,null,null,null,null,null,null,null,null,null,null,null,null,null,null,null,null,null,7611,"14.11. 03:00",2,0]
[null,null,null,null,null,null,null,null,null,null,null,null,null,null,null,null,null,null,null,null,null,null,null,null,null,null,null,7614,"14.11. 06:00",2.2000000000000002,0]
[null,null,null,null,null,null,null,null,null,null,null,null,null,null,null,null,null,null,null,null,null,null,null,null,null,null,null,7621,"14.11. 13:00",5.5,0]
[null,null,null,null,null,null,null,null,null,null,null,null,null,null,null,null,null,null,null,null,null,null,null,null,null,null,null,7631,"14.11. 23:00",3.2,0]
[null,null,null,null,null,null,null,null,null,null,null,null,null,null,null,null,null,null,null,null,null,null,null,null,null,null,null,7635,"15.11. 03:00",2.4,0]
[null,null,null,null,null,null,null,null,null,null,null,null,null,null,null,null,null,null,null,null,null,null,null,null,null,null,null,7648,"15.11. 16:00",8,0]
[null,null,null,null,null,null,null,null,null,null,null,null,null,null,null,null,null,null,null,null,null,null,null,null,null,null,null,7656,"16.11. 00:00",4.7,0]
[null,null,null,null,null,null,null,null,null,null,null,null,null,null,null,null,null,null,null,null,null,null,null,null,null,null,null,7657,"16.11. 01:00",4.5,0]
[null,null,null,null,null,null,null,null,null,null,null,null,null,null,null,null,null,null,null,null,null,null,null,null,null,null,null,7670,"16.11. 14:00",12.7,0]
[null,null,null,null,null,null,null,null,null,null,null,null,null,null,null,null,null,null,null,null,null,null,null,null,null,null,null,7674,"16.11. 18:00",9.1999999999999993,0]
[null,null,null,null,null,null,null,null,null,null,null,null,null,null,null,null,null,null,null,null,null,null,null,null,null,null,null,7683,"17.11. 03:00",5.2,0]
[null,null,null,null,null,null,null,null,null,null,null,null,null,null,null,null,null,null,null,null,null,null,null,null,null,null,null,7693,"17.11. 13:00",11.2,0]
[null,null,null,null,null,null,null,null,null,null,null,null,null,null,null,null,null,null,null,null,null,null,null,null,null,null,null,7700,"17.11. 20:00",6.4,0]
[null,null,null,null,null,null,null,null,null,null,null,null,null,null,null,null,null,null,null,null,null,null,null,null,null,null,null,7707,"18.11. 03:00",4.9000000000000004,0]
[null,null,null,null,null,null,null,null,null,null,null,null,null,null,null,null,null,null,null,null,null,null,null,null,null,null,null,7717,"18.11. 13:00",10.8,0]
[null,null,null,null,null,null,null,null,null,null,null,null,null,null,null,null,null,null,null,null,null,null,null,null,null,null,null,7724,"18.11. 20:00",8.1,0]
[null,null,null,null,null,null,null,null,null,null,null,null,null,null,null,null,null,null,null,null,null,null,null,null,null,null,null,7726,"18.11. 22:00",8.3000000000000007,0]
[null,null,null,null,null,null,null,null,null,null,null,null,null,null,null,null,null,null,null,null,null,null,null,null,null,null,null,7738,"19.11. 10:00",10.9,0]
[null,null,null,null,null,null,null,null,null,null,null,null,null,null,null,null,null,null,null,null,null,null,null,null,null,null,null,7743,"19.11. 15:00",11.3,0]
[null,null,null,null,null,null,null,null,null,null,null,null,null,null,null,null,null,null,null,null,null,null,null,null,null,null,null,7752,"20.11. 00:00",9.5,0]
[null,null,null,null,null,null,null,null,null,null,null,null,null,null,null,null,null,null,null,null,null,null,null,null,null,null,null,7761,"20.11. 09:00",9.4,0]
[null,null,null,null,null,null,null,null,null,null,null,null,null,null,null,null,null,null,null,null,null,null,null,null,null,null,null,7769,"20.11. 17:00",9.1,0]
[null,null,null,null,null,null,null,null,null,null,null,null,null,null,null,null,null,null,null,null,null,null,null,null,null,null,null,7775,"20.11. 23:00",7.2,0]
[null,null,null,null,null,null,null,null,null,null,null,null,null,null,null,null,null,null,null,null,null,null,null,null,null,null,null,7778,"21.11. 02:00",6.2,0]
[null,null,null,null,null,null,null,null,null,null,null,null,null,null,null,null,null,null,null,null,null,null,null,null,null,null,null,7789,"21.11. 13:00",6.3,0]
[null,null,null,null,null,null,null,null,null,null,null,null,null,null,null,null,null,null,null,null,null,null,null,null,null,null,null,7795,"21.11. 19:00",5.3,0]
[null,null,null,null,null,null,null,null,null,null,null,null,null,null,null,null,null,null,null,null,null,null,null,null,null,null,null,7803,"22.11. 03:00",4.4000000000000004,0]
[null,null,null,null,null,null,null,null,null,null,null,null,null,null,null,null,null,null,null,null,null,null,null,null,null,null,null,7812,"22.11. 12:00",7,0]
[null,null,null,null,null,null,null,null,null,null,null,null,null,null,null,null,null,null,null,null,null,null,null,null,null,null,null,7820,"22.11. 20:00",7.6,0]
[null,null,null,null,null,null,null,null,null,null,null,null,null,null,null,null,null,null,null,null,null,null,null,null,null,null,null,7829,"23.11. 05:00",4.3,0]
[null,null,null,null,null,null,null,null,null,null,null,null,null,null,null,null,null,null,null,null,null,null,null,null,null,null,null,7838,"23.11. 14:00",9,0]
[null,null,null,null,null,null,null,null,null,null,null,null,null,null,null,null,null,null,null,null,null,null,null,null,null,null,null,7843,"23.11. 19:00",5.8,0]
[null,null,null,null,null,null,null,null,null,null,null,null,null,null,null,null,null,null,null,null,null,null,null,null,null,null,null,7847,"23.11. 23:00",3.5,0]
[null,null,null,null,null,null,null,null,null,null,null,null,null,null,null,null,null,null,null,null,null,null,null,null,null,null,null,7857,"24.11. 09:00",3.4,0]
[null,null,null,null,null,null,null,null,null,null,null,null,null,null,null,null,null,null,null,null,null,null,null,null,null,null,null,7864,"24.11. 16:00",6,0]
[null,null,null,null,null,null,null,null,null,null,null,null,null,null,null,null,null,null,null,null,null,null,null,null,null,null,null,7871,"24.11. 23:00",3.4,0]
[null,null,null,null,null,null,null,null,null,null,null,null,null,null,null,null,null,null,null,null,null,null,null,null,null,null,null,7881,"25.11. 09:00",4.7,0]
[null,null,null,null,null,null,null,null,null,null,null,null,null,null,null,null,null,null,null,null,null,null,null,null,null,null,null,7885,"25.11. 13:00",7.9,0]
[null,null,null,null,null,null,null,null,null,null,null,null,null,null,null,null,null,null,null,null,null,null,null,null,null,null,null,7898,"26.11. 02:00",3.7,0]
[null,null,null,null,null,null,null,null,null,null,null,null,null,null,null,null,null,null,null,null,null,null,null,null,null,null,null,7899,"26.11. 03:00",3.8,0]
[null,null,null,null,null,null,null,null,null,null,null,null,null,null,null,null,null,null,null,null,null,null,null,null,null,null,null,7908,"26.11. 12:00",6.3,0]
[null,null,null,null,null,null,null,null,null,null,null,null,null,null,null,null,null,null,null,null,null,null,null,null,null,null,null,7916,"26.11. 20:00",4.9000000000000004,0]
[null,null,null,null,null,null,null,null,null,null,null,null,null,null,null,null,null,null,null,null,null,null,null,null,null,null,null,7922,"27.11. 02:00",3.1,0]
[null,null,null,null,null,null,null,null,null,null,null,null,null,null,null,null,null,null,null,null,null,null,null,null,null,null,null,7933,"27.11. 13:00",4.5999999999999996,0]
[null,null,null,null,null,null,null,null,null,null,null,null,null,null,null,null,null,null,null,null,null,null,null,null,null,null,null,7939,"27.11. 19:00",2.6,0]
[null,null,null,null,null,null,null,null,null,null,null,null,null,null,null,null,null,null,null,null,null,null,null,null,null,null,null,7950,"28.11. 06:00",0.1,0]
[null,null,null,null,null,null,null,null,null,null,null,null,null,null,null,null,null,null,null,null,null,null,null,null,null,null,null,7953,"28.11. 09:00",2.2999999999999998,0]
[null,null,null,null,null,null,null,null,null,null,null,null,null,null,null,null,null,null,null,null,null,null,null,null,null,null,null,7959,"28.11. 15:00",3.1,0]
[null,null,null,null,null,null,null,null,null,null,null,null,null,null,null,null,null,null,null,null,null,null,null,null,null,null,null,7967,"28.11. 23:00",-0.5,0]
[null,null,null,null,null,null,null,null,null,null,null,null,null,null,null,null,null,null,null,null,null,null,null,null,null,null,null,7976,"29.11. 08:00",-0.5,0]
[null,null,null,null,null,null,null,null,null,null,null,null,null,null,null,null,null,null,null,null,null,null,null,null,null,null,null,7985,"29.11. 17:00",1.6,0]
[null,null,null,null,null,null,null,null,null,null,null,null,null,null,null,null,null,null,null,null,null,null,null,null,null,null,null,7990,"29.11. 22:00",0.4,0]
[null,null,null,null,null,null,null,null,null,null,null,null,null,null,null,null,null,null,null,null,null,null,null,null,null,null,null,8002,"30.11. 10:00",1,0]
[null,null,null,null,null,null,null,null,null,null,null,null,null,null,null,null,null,null,null,null,null,null,null,null,null,null,null,8011,"30.11. 19:00",0.8,0]
[null,null,null,null,null,null,null,null,null,null,null,null,null,null,null,null,null,null,null,null,null,null,null,null,null,null,null,8019,"01.12. 03:00",-0.5,0]
[null,null,null,null,null,null,null,null,null,null,null,null,null,null,null,null,null,null,null,null,null,null,null,null,null,null,null,8025,"01.12. 09:00",-0.8,0]
[null,null,null,null,null,null,null,null,null,null,null,null,null,null,null,null,null,null,null,null,null,null,null,null,null,null,null,8028,"01.12. 12:00",-0.6,0]
[null,null,null,null,null,null,null,null,null,null,null,null,null,null,null,null,null,null,null,null,null,null,null,null,null,null,null,8035,"01.12. 19:00",-2.2999999999999998,0]
[null,null,null,null,null,null,null,null,null,null,null,null,null,null,null,null,null,null,null,null,null,null,null,null,null,null,null,8045,"02.12. 05:00",-7.2,1]
[null,null,null,null,null,null,null,null,null,null,null,null,null,null,null,null,null,null,null,null,null,null,null,null,null,null,null,8054,"02.12. 14:00",-7.4,1]
[null,null,null,null,null,null,null,null,null,null,null,null,null,null,null,null,null,null,null,null,null,null,null,null,null,null,null,8062,"02.12. 22:00",-9.6999999999999993,1]
[null,null,null,null,null,null,null,null,null,null,null,null,null,null,null,null,null,null,null,null,null,null,null,null,null,null,null,8071,"03.12. 07:00",-6.8,1]
[null,null,null,null,null,null,null,null,null,null,null,null,null,null,null,null,null,null,null,null,null,null,null,null,null,null,null,8079,"03.12. 15:00",2.6,0]
[null,null,null,null,null,null,null,null,null,null,null,null,null,null,null,null,null,null,null,null,null,null,null,null,null,null,null,8080,"03.12. 16:00",1.5,0]
[null,null,null,null,null,null,null,null,null,null,null,null,null,null,null,null,null,null,null,null,null,null,null,null,null,null,null,8093,"04.12. 05:00",-4.5,0]
[null,null,null,null,null,null,null,null,null,null,null,null,null,null,null,null,null,null,null,null,null,null,null,null,null,null,null,8097,"04.12. 09:00",-5.0999999999999996,1]
[null,null,null,null,null,null,null,null,null,null,null,null,null,null,null,null,null,null,null,null,null,null,null,null,null,null,null,8107,"04.12. 19:00",-7.4,1]
[null,null,null,null,null,null,null,null,null,null,null,null,null,null,null,null,null,null,null,null,null,null,null,null,null,null,null,8114,"05.12. 02:00",-5.8,1]
[null,null,null,null,null,null,null,null,null,null,null,null,null,null,null,null,null,null,null,null,null,null,null,null,null,null,null,8121,"05.12. 09:00",-2.8,0]
[null,null,null,null,null,null,null,null,null,null,null,null,null,null,null,null,null,null,null,null,null,null,null,null,null,null,null,8131,"05.12. 19:00",2.9,0]
[null,null,null,null,null,null,null,null,null,null,null,null,null,null,null,null,null,null,null,null,null,null,null,null,null,null,null,8140,"06.12. 04:00",6.3,0]
[null,null,null,null,null,null,null,null,null,null,null,null,null,null,null,null,null,null,null,null,null,null,null,null,null,null,null,8144,"06.12. 08:00",6.1,0]
[null,null,null,null,null,null,null,null,null,null,null,null,null,null,null,null,null,null,null,null,null,null,null,null,null,null,null,8149,"06.12. 13:00",5.8,0]
[null,null,null,null,null,null,null,null,null,null,null,null,null,null,null,null,null,null,null,null,null,null,null,null,null,null,null,8158,"06.12. 22:00",4.4000000000000004,0]
[null,null,null,null,null,null,null,null,null,null,null,null,null,null,null,null,null,null,null,null,null,null,null,null,null,null,null,8166,"07.12. 06:00",1.2,0]
[null,null,null,null,null,null,null,null,null,null,null,null,null,null,null,null,null,null,null,null,null,null,null,null,null,null,null,8175,"07.12. 15:00",3.1,0]
[null,null,null,null,null,null,null,null,null,null,null,null,null,null,null,null,null,null,null,null,null,null,null,null,null,null,null,8183,"07.12. 23:00",-2.6,0]
[null,null,null,null,null,null,null,null,null,null,null,null,null,null,null,null,null,null,null,null,null,null,null,null,null,null,null,8189,"08.12. 05:00",-2.9,0]
[null,null,null,null,null,null,null,null,null,null,null,null,null,null,null,null,null,null,null,null,null,null,null,null,null,null,null,8200,"08.12. 16:00",2.9,0]
[null,null,null,null,null,null,null,null,null,null,null,null,null,null,null,null,null,null,null,null,null,null,null,null,null,null,null,8201,"08.12. 17:00",2.2999999999999998,0]
[null,null,null,null,null,null,null,null,null,null,null,null,null,null,null,null,null,null,null,null,null,null,null,null,null,null,null,8212,"09.12. 04:00",-3.6,0]
[null,null,null,null,null,null,null,null,null,null,null,null,null,null,null,null,null,null,null,null,null,null,null,null,null,null,null,8218,"09.12. 10:00",-3.5,0]
[null,null,null,null,null,null,null,null,null,null,null,null,null,null,null,null,null,null,null,null,null,null,null,null,null,null,null,8226,"09.12. 18:00",-3.7,0]
[null,null,null,null,null,null,null,null,null,null,null,null,null,null,null,null,null,null,null,null,null,null,null,null,null,null,null,8235,"10.12. 03:00",-4.7,0]
[null,null,null,null,null,null,null,null,null,null,null,null,null,null,null,null,null,null,null,null,null,null,null,null,null,null,null,8240,"10.12. 08:00",-3.7,0]
[null,null,null,null,null,null,null,null,null,null,null,null,null,null,null,null,null,null,null,null,null,null,null,null,null,null,null,8252,"10.12. 20:00",-0.6,0]
[null,null,null,null,null,null,null,null,null,null,null,null,null,null,null,null,null,null,null,null,null,null,null,null,null,null,null,8257,"11.12. 01:00",-1.5,0]
[null,null,null,null,null,null,null,null,null,null,null,null,null,null,null,null,null,null,null,null,null,null,null,null,null,null,null,8261,"11.12. 05:00",-2.1,0]
[null,null,null,null,null,null,null,null,null,null,null,null,null,null,null,null,null,null,null,null,null,null,null,null,null,null,null,8271,"11.12. 15:00",2.2000000000000002,0]
[null,null,null,null,null,null,null,null,null,null,null,null,null,null,null,null,null,null,null,null,null,null,null,null,null,null,null,8278,"11.12. 22:00",-0.9,0]
[null,null,null,null,null,null,null,null,null,null,null,null,null,null,null,null,null,null,null,null,null,null,null,null,null,null,null,8287,"12.12. 07:00",-1.9,0]
[null,null,null,null,null,null,null,null,null,null,null,null,null,null,null,null,null,null,null,null,null,null,null,null,null,null,null,8294,"12.12. 14:00",1.3,0]
[null,null,null,null,null,null,null,null,null,null,null,null,null,null,null,null,null,null,null,null,null,null,null,null,null,null,null,8304,"13.12. 00:00",0.2,0]
[null,null,null,null,null,null,null,null,null,null,null,null,null,null,null,null,null,null,null,null,null,null,null,null,null,null,null,8308,"13.12. 04:00",0.4,0]
[null,null,null,null,null,null,null,null,null,null,null,null,null,null,null,null,null,null,null,null,null,null,null,null,null,null,null,8321,"13.12. 17:00",4.0999999999999996,0]
[null,null,null,null,null,null,null,null,null,null,null,null,null,null,null,null,null,null,null,null,null,null,null,null,null,null,null,8322,"13.12. 18:00",3.9,0]
[null,null,null,null,null,null,null,null,null,null,null,null,null,null,null,null,null,null,null,null,null,null,null,null,null,null,null,8330,"14.12. 02:00",2,0]
[null,null,null,null,null,null,null,null,null,null,null,null,null,null,null,null,null,null,null,null,null,null,null,null,null,null,null,8343,"14.12. 15:00",2.6,0]
[null,null,null,null,null,null,null,null,null,null,null,null,null,null,null,null,null,null,null,null,null,null,null,null,null,null,null,8347,"14.12. 19:00",1.1000000000000001,0]
[null,null,null,null,null,null,null,null,null,null,null,null,null,null,null,null,null,null,null,null,null,null,null,null,null,null,null,8356,"15.12. 04:00",-1.7,0]
[null,null,null,null,null,null,null,null,null,null,null,null,null,null,null,null,null,null,null,null,null,null,null,null,null,null,null,8366,"15.12. 14:00",-2.8,0]
[null,null,null,null,null,null,null,null,null,null,null,null,null,null,null,null,null,null,null,null,null,null,null,null,null,null,null,8373,"15.12. 21:00",-2.6,0]
[null,null,null,null,null,null,null,null,null,null,null,null,null,null,null,null,null,null,null,null,null,null,null,null,null,null,null,8380,"16.12. 04:00",-1.4,0]
[null,null,null,null,null,null,null,null,null,null,null,null,null,null,null,null,null,null,null,null,null,null,null,null,null,null,null,8382,"16.12. 06:00",-1.3,0]
[null,null,null,null,null,null,null,null,null,null,null,null,null,null,null,null,null,null,null,null,null,null,null,null,null,null,null,8390,"16.12. 14:00",2.6,0]
[null,null,null,null,null,null,null,null,null,null,null,null,null,null,null,null,null,null,null,null,null,null,null,null,null,null,null,8399,"16.12. 23:00",1.9,0]
[null,null,null,null,null,null,null,null,null,null,null,null,null,null,null,null,null,null,null,null,null,null,null,null,null,null,null,8411,"17.12. 11:00",0.1,0]
[null,null,null,null,null,null,null,null,null,null,null,null,null,null,null,null,null,null,null,null,null,null,null,null,null,null,null,8416,"17.12. 16:00",-0.2,0]
[null,null,null,null,null,null,null,null,null,null,null,null,null,null,null,null,null,null,null,null,null,null,null,null,null,null,null,8425,"18.12. 01:00",-3.5,0]
[null,null,null,null,null,null,null,null,null,null,null,null,null,null,null,null,null,null,null,null,null,null,null,null,null,null,null,8433,"18.12. 09:00",-2.2999999999999998,0]
[null,null,null,null,null,null,null,null,null,null,null,null,null,null,null,null,null,null,null,null,null,null,null,null,null,null,null,8442,"18.12. 18:00",-0.4,0]
[null,null,null,null,null,null,null,null,null,null,null,null,null,null,null,null,null,null,null,null,null,null,null,null,null,null,null,8448,"19.12. 00:00",-0.9,{"$f":"IF(AD8488<=$AC$25,1,0)","v":0}]
[null,null,null,null,null,null,null,null,null,null,null,null,null,null,null,null,null,null,null,null,null,null,null,null,null,null,null,8451,"19.12. 03:00",-1.3,0]
[null,null,null,null,null,null,null,null,null,null,null,null,null,null,null,null,null,null,null,null,null,null,null,null,null,null,null,8462,"19.12. 14:00",0.3,0]
[null,null,null,null,null,null,null,null,null,null,null,null,null,null,null,null,null,null,null,null,null,null,null,null,null,null,null,8468,"19.12. 20:00",1.2,0]
[null,null,null,null,null,null,null,null,null,null,null,null,null,null,null,null,null,null,null,null,null,null,null,null,null,null,null,8476,"20.12. 04:00",3.3,0]
[null,null,null,null,null,null,null,null,null,null,null,null,null,null,null,null,null,null,null,null,null,null,null,null,null,null,null,8485,"20.12. 13:00",10.1,0]
[null,null,null,null,null,null,null,null,null,null,null,null,null,null,null,null,null,null,null,null,null,null,null,null,null,null,null,8493,"20.12. 21:00",8.4,0]
[null,null,null,null,null,null,null,null,null,null,null,null,null,null,null,null,null,null,null,null,null,null,null,null,null,null,null,8502,"21.12. 06:00",6.7,0]
[null,null,null,null,null,null,null,null,null,null,null,null,null,null,null,null,null,null,null,null,null,null,null,null,null,null,null,8503,"21.12. 07:00",6.5,0]
[null,null,null,null,null,null,null,null,null,null,null,null,null,null,null,null,null,null,null,null,null,null,null,null,null,null,null,8511,"21.12. 15:00",9.4,0]
[null,null,null,null,null,null,null,null,null,null,null,null,null,null,null,null,null,null,null,null,null,null,null,null,null,null,null,8512,"21.12. 16:00",8.6999999999999993,{"$f":"IF(AD8552<=$AC$25,1,0)","v":0}]
[null,null,null,null,null,null,null,null,null,null,null,null,null,null,null,null,null,null,null,null,null,null,null,null,null,null,null,8513,"21.12. 17:00",8.1999999999999993,0]
[null,null,null,null,null,null,null,null,null,null,null,null,null,null,null,null,null,null,null,null,null,null,null,null,null,null,null,8514,"21.12. 18:00",7.7,0]
[null,null,null,null,null,null,null,null,null,null,null,null,null,null,null,null,null,null,null,null,null,null,null,null,null,null,null,8515,"21.12. 19:00",7.2,0]
[null,null,null,null,null,null,null,null,null,null,null,null,null,null,null,null,null,null,null,null,null,null,null,null,null,null,null,8516,"21.12. 20:00",6.7,0]
[null,null,null,null,null,null,null,null,null,null,null,null,null,null,null,null,null,null,null,null,null,null,null,null,null,null,null,8517,"21.12. 21:00",6.2,0]
[null,null,null,null,null,null,null,null,null,null,null,null,null,null,null,null,null,null,null,null,null,null,null,null,null,null,null,8518,"21.12. 22:00",5.7,0]
[null,null,null,null,null,null,null,null,null,null,null,null,null,null,null,null,null,null,null,null,null,null,null,null,null,null,null,8519,"21.12. 23:00",5.2,0]
[null,null,null,null,null,null,null,null,null,null,null,null,null,null,null,null,null,null,null,null,null,null,null,null,null,null,null,8520,"22.12. 00:00",5,0]
[null,null,null,null,null,null,null,null,null,null,null,null,null,null,null,null,null,null,null,null,null,null,null,null,null,null,null,8521,"22.12. 01:00",4.7,0]
[null,null,null,null,null,null,null,null,null,null,null,null,null,null,null,null,null,null,null,null,null,null,null,null,null,null,null,8522,"22.12. 02:00",4.4000000000000004,0]
[null,null,null,null,null,null,null,null,null,null,null,null,null,null,null,null,null,null,null,null,null,null,null,null,null,null,null,8523,"22.12. 03:00",4.7,0]
[null,null,null,null,null,null,null,null,null,null,null,null,null,null,null,null,null,null,null,null,null,null,null,null,null,null,null,8524,"22.12. 04:00",4.5,0]
[null,null,null,null,null,null,null,null,null,null,null,null,null,null,null,null,null,null,null,null,null,null,null,null,null,null,null,8525,"22.12. 05:00",4.4000000000000004,0]
[null,null,null,null,null,null,null,null,null,null,null,null,null,null,null,null,null,null,null,null,null,null,null,null,null,null,null,8526,"22.12. 06:00",4.5999999999999996,0]
[null,null,null,null,null,null,null,null,null,null,null,null,null,null,null,null,null,null,null,null,null,null,null,null,null,null,null,8527,"22.12. 07:00",4.5,0]
[null,null,null,null,null,null,null,null,null,null,null,null,null,null,null,null,null,null,null,null,null,null,null,null,null,null,null,8528,"22.12. 08:00",4.5,0]
[null,null,null,null,null,null,null,null,null,null,null,null,null,null,null,null,null,null,null,null,null,null,null,null,null,null,null,8529,"22.12. 09:00",4.8,0]
[null,null,null,null,null,null,null,null,null,null,null,null,null,null,null,null,null,null,null,null,null,null,null,null,null,null,null,8530,"22.12. 10:00",4.9000000000000004,0]
[null,null,null,null,null,null,null,null,null,null,null,null,null,null,null,null,null,null,null,null,null,null,null,null,null,null,null,8531,"22.12. 11:00",5,0]
[null,null,null,null,null,null,null,null,null,null,null,null,null,null,null,null,null,null,null,null,null,null,null,null,null,null,null,8532,"22.12. 12:00",5.0999999999999996,0]
[null,null,null,null,null,null,null,null,null,null,null,null,null,null,null,null,null,null,null,null,null,null,null,null,null,null,null,8533,"22.12. 13:00",6.4,0]
[null,null,null,null,null,null,null,null,null,null,null,null,null,null,null,null,null,null,null,null,null,null,null,null,null,null,null,8534,"22.12. 14:00",7,0]
[null,null,null,null,null,null,null,null,null,null,null,null,null,null,null,null,null,null,null,null,null,null,null,null,null,null,null,8535,"22.12. 15:00",7,0]
[null,null,null,null,null,null,null,null,null,null,null,null,null,null,null,null,null,null,null,null,null,null,null,null,null,null,null,8536,"22.12. 16:00",6.6,0]
[null,null,null,null,null,null,null,null,null,null,null,null,null,null,null,null,null,null,null,null,null,null,null,null,null,null,null,8537,"22.12. 17:00",6.1,0]
[null,null,null,null,null,null,null,null,null,null,null,null,null,null,null,null,null,null,null,null,null,null,null,null,null,null,null,8538,"22.12. 18:00",5.7,0]
[null,null,null,null,null,null,null,null,null,null,null,null,null,null,null,null,null,null,null,null,null,null,null,null,null,null,null,8539,"22.12. 19:00",5.2,0]
[null,null,null,null,null,null,null,null,null,null,null,null,null,null,null,null,null,null,null,null,null,null,null,null,null,null,null,8540,"22.12. 20:00",4.8,0]
[null,null,null,null,null,null,null,null,null,null,null,null,null,null,null,null,null,null,null,null,null,null,null,null,null,null,null,8541,"22.12. 21:00",4.3,0]
[null,null,null,null,null,null,null,null,null,null,null,null,null,null,null,null,null,null,null,null,null,null,null,null,null,null,null,8542,"22.12. 22:00",3.9,0]
[null,null,null,null,null,null,null,null,null,null,null,null,null,null,null,null,null,null,null,null,null,null,null,null,null,null,null,8543,"22.12. 23:00",3.4,0]
[null,null,null,null,null,null,null,null,null,null,null,null,null,null,null,null,null,null,null,null,null,null,null,null,null,null,null,8544,"23.12. 00:00",3,0]
[null,null,null,null,null,null,null,null,null,null,null,null,null,null,null,null,null,null,null,null,null,null,null,null,null,null,null,8545,"23.12. 01:00",2.4,0]
[null,null,null,null,null,null,null,null,null,null,null,null,null,null,null,null,null,null,null,null,null,null,null,null,null,null,null,8546,"23.12. 02:00",1.9,0]
[null,null,null,null,null,null,null,null,null,null,null,null,null,null,null,null,null,null,null,null,null,null,null,null,null,null,null,8547,"23.12. 03:00",2.2999999999999998,0]
[null,null,null,null,null,null,null,null,null,null,null,null,null,null,null,null,null,null,null,null,null,null,null,null,null,null,null,8548,"23.12. 04:00",2,0]
[null,null,null,null,null,null,null,null,null,null,null,null,null,null,null,null,null,null,null,null,null,null,null,null,null,null,null,8549,"23.12. 05:00",1.7,0]
[null,null,null,null,null,null,null,null,null,null,null,null,null,null,null,null,null,null,null,null,null,null,null,null,null,null,null,8550,"23.12. 06:00",1.9,0]
[null,null,null,null,null,null,null,null,null,null,null,null,null,null,null,null,null,null,null,null,null,null,null,null,null,null,null,8551,"23.12. 07:00",1.6,0]
[null,null,null,null,null,null,null,null,null,null,null,null,null,null,null,null,null,null,null,null,null,null,null,null,null,null,null,8552,"23.12. 08:00",1.5,0]
[null,null,null,null,null,null,null,null,null,null,null,null,null,null,null,null,null,null,null,null,null,null,null,null,null,null,null,8553,"23.12. 09:00",1.4,0]
[null,null,null,null,null,null,null,null,null,null,null,null,null,null,null,null,null,null,null,null,null,null,null,null,null,null,null,8554,"23.12. 10:00",1.2,0]
[null,null,null,null,null,null,null,null,null,null,null,null,null,null,null,null,null,null,null,null,null,null,null,null,null,null,null,8555,"23.12. 11:00",1.1000000000000001,0]
[null,null,null,null,null,null,null,null,null,null,null,null,null,null,null,null,null,null,null,null,null,null,null,null,null,null,null,8556,"23.12. 12:00",1,0]
[null,null,null,null,null,null,null,null,null,null,null,null,null,null,null,null,null,null,null,null,null,null,null,null,null,null,null,8557,"23.12. 13:00",0.9,0]
[null,null,null,null,null,null,null,null,null,null,null,null,null,null,null,null,null,null,null,null,null,null,null,null,null,null,null,8558,"23.12. 14:00",0.8,0]
[null,null,null,null,null,null,null,null,null,null,null,null,null,null,null,null,null,null,null,null,null,null,null,null,null,null,null,8559,"23.12. 15:00",1,0]
[null,null,null,null,null,null,null,null,null,null,null,null,null,null,null,null,null,null,null,null,null,null,null,null,null,null,null,8560,"23.12. 16:00",0.9,0]
[null,null,null,null,null,null,null,null,null,null,null,null,null,null,null,null,null,null,null,null,null,null,null,null,null,null,null,8561,"23.12. 17:00",0.6,0]
[null,null,null,null,null,null,null,null,null,null,null,null,null,null,null,null,null,null,null,null,null,null,null,null,null,null,null,8562,"23.12. 18:00",0.2,0]
[null,null,null,null,null,null,null,null,null,null,null,null,null,null,null,null,null,null,null,null,null,null,null,null,null,null,null,8563,"23.12. 19:00",-0.1,0]
[null,null,null,null,null,null,null,null,null,null,null,null,null,null,null,null,null,null,null,null,null,null,null,null,null,null,null,8564,"23.12. 20:00",-0.5,0]
[null,null,null,null,null,null,null,null,null,null,null,null,null,null,null,null,null,null,null,null,null,null,null,null,null,null,null,8565,"23.12. 21:00",-0.8,0]
[null,null,null,null,null,null,null,null,null,null,null,null,null,null,null,null,null,null,null,null,null,null,null,null,null,null,null,8566,"23.12. 22:00",-1.2,0]
[null,null,null,null,null,null,null,null,null,null,null,null,null,null,null,null,null,null,null,null,null,null,null,null,null,null,null,8567,"23.12. 23:00",-1.5,0]
[null,null,null,null,null,null,null,null,null,null,null,null,null,null,null,null,null,null,null,null,null,null,null,null,null,null,null,8568,"24.12. 00:00",-1.5,0]
[null,null,null,null,null,null,null,null,null,null,null,null,null,null,null,null,null,null,null,null,null,null,null,null,null,null,null,8569,"24.12. 01:00",-1.5,0]
[null,null,null,null,null,null,null,null,null,null,null,null,null,null,null,null,null,null,null,null,null,null,null,null,null,null,null,8570,"24.12. 02:00",-1.5,0]
[null,null,null,null,null,null,null,null,null,null,null,null,null,null,null,null,null,null,null,null,null,null,null,null,null,null,null,8571,"24.12. 03:00",-1.4,0]
[null,null,null,null,null,null,null,null,null,null,null,null,null,null,null,null,null,null,null,null,null,null,null,null,null,null,null,8572,"24.12. 04:00",-1.4,0]
[null,null,null,null,null,null,null,null,null,null,null,null,null,null,null,null,null,null,null,null,null,null,null,null,null,null,null,8573,"24.12. 05:00",-1.4,0]
[null,null,null,null,null,null,null,null,null,null,null,null,null,null,null,null,null,null,null,null,null,null,null,null,null,null,null,8574,"24.12. 06:00",-1.3,0]
[null,null,null,null,null,null,null,null,null,null,null,null,null,null,null,null,null,null,null,null,null,null,null,null,null,null,null,8575,"24.12. 07:00",-1.3,0]
[null,null,null,null,null,null,null,null,null,null,null,null,null,null,null,null,null,null,null,null,null,null,null,null,null,null,null,8576,"24.12. 08:00",-1.1000000000000001,{"$f":"IF(AD8616<=$AC$25,1,0)","v":0}]
[null,null,null,null,null,null,null,null,null,null,null,null,null,null,null,null,null,null,null,null,null,null,null,null,null,null,null,8577,"24.12. 09:00",0.9,0]
[null,null,null,null,null,null,null,null,null,null,null,null,null,null,null,null,null,null,null,null,null,null,null,null,null,null,null,8578,"24.12. 10:00",2,0]
[null,null,null,null,null,null,null,null,null,null,null,null,null,null,null,null,null,null,null,null,null,null,null,null,null,null,null,8579,"24.12. 11:00",2.4,0]
[null,null,null,null,null,null,null,null,null,null,null,null,null,null,null,null,null,null,null,null,null,null,null,null,null,null,null,8580,"24.12. 12:00",4.7,0]
[null,null,null,null,null,null,null,null,null,null,null,null,null,null,null,null,null,null,null,null,null,null,null,null,null,null,null,8581,"24.12. 13:00",5,0]
[null,null,null,null,null,null,null,null,null,null,null,null,null,null,null,null,null,null,null,null,null,null,null,null,null,null,null,8582,"24.12. 14:00",5.2,0]
[null,null,null,null,null,null,null,null,null,null,null,null,null,null,null,null,null,null,null,null,null,null,null,null,null,null,null,8583,"24.12. 15:00",4.5,0]
[null,null,null,null,null,null,null,null,null,null,null,null,null,null,null,null,null,null,null,null,null,null,null,null,null,null,null,8584,"24.12. 16:00",3.5,0]
[null,null,null,null,null,null,null,null,null,null,null,null,null,null,null,null,null,null,null,null,null,null,null,null,null,null,null,8585,"24.12. 17:00",3.3,0]
[null,null,null,null,null,null,null,null,null,null,null,null,null,null,null,null,null,null,null,null,null,null,null,null,null,null,null,8586,"24.12. 18:00",3.2,0]
[null,null,null,null,null,null,null,null,null,null,null,null,null,null,null,null,null,null,null,null,null,null,null,null,null,null,null,8587,"24.12. 19:00",3.1,0]
[null,null,null,null,null,null,null,null,null,null,null,null,null,null,null,null,null,null,null,null,null,null,null,null,null,null,null,8588,"24.12. 20:00",3,0]
[null,null,null,null,null,null,null,null,null,null,null,null,null,null,null,null,null,null,null,null,null,null,null,null,null,null,null,8589,"24.12. 21:00",2.9,0]
[null,null,null,null,null,null,null,null,null,null,null,null,null,null,null,null,null,null,null,null,null,null,null,null,null,null,null,8590,"24.12. 22:00",2.8,0]
[null,null,null,null,null,null,null,null,null,null,null,null,null,null,null,null,null,null,null,null,null,null,null,null,null,null,null,8591,"24.12. 23:00",2.7,0]
[null,null,null,null,null,null,null,null,null,null,null,null,null,null,null,null,null,null,null,null,null,null,null,null,null,null,null,8592,"25.12. 00:00",2.4,0]
[null,null,null,null,null,null,null,null,null,null,null,null,null,null,null,null,null,null,null,null,null,null,null,null,null,null,null,8593,"25.12. 01:00",2.2000000000000002,0]
[null,null,null,null,null,null,null,null,null,null,null,null,null,null,null,null,null,null,null,null,null,null,null,null,null,null,null,8594,"25.12. 02:00",1.9,0]
[null,null,null,null,null,null,null,null,null,null,null,null,null,null,null,null,null,null,null,null,null,null,null,null,null,null,null,8595,"25.12. 03:00",2.2000000000000002,0]
[null,null,null,null,null,null,null,null,null,null,null,null,null,null,null,null,null,null,null,null,null,null,null,null,null,null,null,8596,"25.12. 04:00",2.1,0]
[null,null,null,null,null,null,null,null,null,null,null,null,null,null,null,null,null,null,null,null,null,null,null,null,null,null,null,8597,"25.12. 05:00",1.9,0]
[null,null,null,null,null,null,null,null,null,null,null,null,null,null,null,null,null,null,null,null,null,null,null,null,null,null,null,8598,"25.12. 06:00",2.1,0]
[null,null,null,null,null,null,null,null,null,null,null,null,null,null,null,null,null,null,null,null,null,null,null,null,null,null,null,8599,"25.12. 07:00",2,0]
[null,null,null,null,null,null,null,null,null,null,null,null,null,null,null,null,null,null,null,null,null,null,null,null,null,null,null,8600,"25.12. 08:00",2.1,0]
[null,null,null,null,null,null,null,null,null,null,null,null,null,null,null,null,null,null,null,null,null,null,null,null,null,null,null,8601,"25.12. 09:00",3.4,0]
[null,null,null,null,null,null,null,null,null,null,null,null,null,null,null,null,null,null,null,null,null,null,null,null,null,null,null,8602,"25.12. 10:00",5.2,0]
[null,null,null,null,null,null,null,null,null,null,null,null,null,null,null,null,null,null,null,null,null,null,null,null,null,null,null,8603,"25.12. 11:00",7.3,0]
[null,null,null,null,null,null,null,null,null,null,null,null,null,null,null,null,null,null,null,null,null,null,null,null,null,null,null,8604,"25.12. 12:00",8,0]
[null,null,null,null,null,null,null,null,null,null,null,null,null,null,null,null,null,null,null,null,null,null,null,null,null,null,null,8605,"25.12. 13:00",7.7,0]
[null,null,null,null,null,null,null,null,null,null,null,null,null,null,null,null,null,null,null,null,null,null,null,null,null,null,null,8606,"25.12. 14:00",7.8,0]
[null,null,null,null,null,null,null,null,null,null,null,null,null,null,null,null,null,null,null,null,null,null,null,null,null,null,null,8607,"25.12. 15:00",7.3,0]
[null,null,null,null,null,null,null,null,null,null,null,null,null,null,null,null,null,null,null,null,null,null,null,null,null,null,null,8608,"25.12. 16:00",6.2,0]
[null,null,null,null,null,null,null,null,null,null,null,null,null,null,null,null,null,null,null,null,null,null,null,null,null,null,null,8609,"25.12. 17:00",5.9,0]
[null,null,null,null,null,null,null,null,null,null,null,null,null,null,null,null,null,null,null,null,null,null,null,null,null,null,null,8610,"25.12. 18:00",5.5,0]
[null,null,null,null,null,null,null,null,null,null,null,null,null,null,null,null,null,null,null,null,null,null,null,null,null,null,null,8611,"25.12. 19:00",5.0999999999999996,0]
[null,null,null,null,null,null,null,null,null,null,null,null,null,null,null,null,null,null,null,null,null,null,null,null,null,null,null,8612,"25.12. 20:00",4.8,0]
[null,null,null,null,null,null,null,null,null,null,null,null,null,null,null,null,null,null,null,null,null,null,null,null,null,null,null,8613,"25.12. 21:00",4.4000000000000004,0]
[null,null,null,null,null,null,null,null,null,null,null,null,null,null,null,null,null,null,null,null,null,null,null,null,null,null,null,8614,"25.12. 22:00",4,0]
[null,null,null,null,null,null,null,null,null,null,null,null,null,null,null,null,null,null,null,null,null,null,null,null,null,null,null,8615,"25.12. 23:00",3.6,0]
[null,null,null,null,null,null,null,null,null,null,null,null,null,null,null,null,null,null,null,null,null,null,null,null,null,null,null,8616,"26.12. 00:00",3.3,0]
[null,null,null,null,null,null,null,null,null,null,null,null,null,null,null,null,null,null,null,null,null,null,null,null,null,null,null,8617,"26.12. 01:00",2.9,0]
[null,null,null,null,null,null,null,null,null,null,null,null,null,null,null,null,null,null,null,null,null,null,null,null,null,null,null,8618,"26.12. 02:00",2.5,0]
[null,null,null,null,null,null,null,null,null,null,null,null,null,null,null,null,null,null,null,null,null,null,null,null,null,null,null,8619,"26.12. 03:00",2.8,0]
[null,null,null,null,null,null,null,null,null,null,null,null,null,null,null,null,null,null,null,null,null,null,null,null,null,null,null,8620,"26.12. 04:00",2.6,0]
[null,null,null,null,null,null,null,null,null,null,null,null,null,null,null,null,null,null,null,null,null,null,null,null,null,null,null,8621,"26.12. 05:00",2.4,0]
[null,null,null,null,null,null,null,null,null,null,null,null,null,null,null,null,null,null,null,null,null,null,null,null,null,null,null,8622,"26.12. 06:00",2.6,0]
[null,null,null,null,null,null,null,null,null,null,null,null,null,null,null,null,null,null,null,null,null,null,null,null,null,null,null,8623,"26.12. 07:00",2.4,0]
[null,null,null,null,null,null,null,null,null,null,null,null,null,null,null,null,null,null,null,null,null,null,null,null,null,null,null,8624,"26.12. 08:00",2.5,0]
[null,null,null,null,null,null,null,null,null,null,null,null,null,null,null,null,null,null,null,null,null,null,null,null,null,null,null,8625,"26.12. 09:00",2.5,0]
[null,null,null,null,null,null,null,null,null,null,null,null,null,null,null,null,null,null,null,null,null,null,null,null,null,null,null,8626,"26.12. 10:00",3.1,0]
[null,null,null,null,null,null,null,null,null,null,null,null,null,null,null,null,null,null,null,null,null,null,null,null,null,null,null,8627,"26.12. 11:00",4.2,0]
[null,null,null,null,null,null,null,null,null,null,null,null,null,null,null,null,null,null,null,null,null,null,null,null,null,null,null,8628,"26.12. 12:00",5.0999999999999996,0]
[null,null,null,null,null,null,null,null,null,null,null,null,null,null,null,null,null,null,null,null,null,null,null,null,null,null,null,8629,"26.12. 13:00",5.4,0]
[null,null,null,null,null,null,null,null,null,null,null,null,null,null,null,null,null,null,null,null,null,null,null,null,null,null,null,8630,"26.12. 14:00",5.6,0]
[null,null,null,null,null,null,null,null,null,null,null,null,null,null,null,null,null,null,null,null,null,null,null,null,null,null,null,8631,"26.12. 15:00",5.5,0]
[null,null,null,null,null,null,null,null,null,null,null,null,null,null,null,null,null,null,null,null,null,null,null,null,null,null,null,8632,"26.12. 16:00",4.9000000000000004,0]
[null,null,null,null,null,null,null,null,null,null,null,null,null,null,null,null,null,null,null,null,null,null,null,null,null,null,null,8633,"26.12. 17:00",4.5,0]
[null,null,null,null,null,null,null,null,null,null,null,null,null,null,null,null,null,null,null,null,null,null,null,null,null,null,null,8634,"26.12. 18:00",4,0]
[null,null,null,null,null,null,null,null,null,null,null,null,null,null,null,null,null,null,null,null,null,null,null,null,null,null,null,8635,"26.12. 19:00",3.6,0]
[null,null,null,null,null,null,null,null,null,null,null,null,null,null,null,null,null,null,null,null,null,null,null,null,null,null,null,8636,"26.12. 20:00",3.1,0]
[null,null,null,null,null,null,null,null,null,null,null,null,null,null,null,null,null,null,null,null,null,null,null,null,null,null,null,8637,"26.12. 21:00",2.7,0]
[null,null,null,null,null,null,null,null,null,null,null,null,null,null,null,null,null,null,null,null,null,null,null,null,null,null,null,8638,"26.12. 22:00",2.2000000000000002,0]
[null,null,null,null,null,null,null,null,null,null,null,null,null,null,null,null,null,null,null,null,null,null,null,null,null,null,null,8639,"26.12. 23:00",1.8,0]
[null,null,null,null,null,null,null,null,null,null,null,null,null,null,null,null,null,null,null,null,null,null,null,null,null,null,null,8640,"27.12. 00:00",1.5,{"$f":"IF(AD8680<=$AC$25,1,0)","v":0}]
[null,null,null,null,null,null,null,null,null,null,null,null,null,null,null,null,null,null,null,null,null,null,null,null,null,null,null,8641,"27.12. 01:00",1.2,0]
[null,null,null,null,null,null,null,null,null,null,null,null,null,null,null,null,null,null,null,null,null,null,null,null,null,null,null,8642,"27.12. 02:00",0.9,0]
[null,null,null,null,null,null,null,null,null,null,null,null,null,null,null,null,null,null,null,null,null,null,null,null,null,null,null,8643,"27.12. 03:00",1.2,0]
[null,null,null,null,null,null,null,null,null,null,null,null,null,null,null,null,null,null,null,null,null,null,null,null,null,null,null,8644,"27.12. 04:00",1,0]
[null,null,null,null,null,null,null,null,null,null,null,null,null,null,null,null,null,null,null,null,null,null,null,null,null,null,null,8645,"27.12. 05:00",0.8,0]
[null,null,null,null,null,null,null,null,null,null,null,null,null,null,null,null,null,null,null,null,null,null,null,null,null,null,null,8646,"27.12. 06:00",1,0]
[null,null,null,null,null,null,null,null,null,null,null,null,null,null,null,null,null,null,null,null,null,null,null,null,null,null,null,8647,"27.12. 07:00",0.9,0]
[null,null,null,null,null,null,null,null,null,null,null,null,null,null,null,null,null,null,null,null,null,null,null,null,null,null,null,8648,"27.12. 08:00",1.1000000000000001,0]
[null,null,null,null,null,null,null,null,null,null,null,null,null,null,null,null,null,null,null,null,null,null,null,null,null,null,null,8649,"27.12. 09:00",3,0]
[null,null,null,null,null,null,null,null,null,null,null,null,null,null,null,null,null,null,null,null,null,null,null,null,null,null,null,8650,"27.12. 10:00",4.9000000000000004,0]
[null,null,null,null,null,null,null,null,null,null,null,null,null,null,null,null,null,null,null,null,null,null,null,null,null,null,null,8651,"27.12. 11:00",6.4,0]
[null,null,null,null,null,null,null,null,null,null,null,null,null,null,null,null,null,null,null,null,null,null,null,null,null,null,null,8652,"27.12. 12:00",7.3,0]
[null,null,null,null,null,null,null,null,null,null,null,null,null,null,null,null,null,null,null,null,null,null,null,null,null,null,null,8653,"27.12. 13:00",8,0]
[null,null,null,null,null,null,null,null,null,null,null,null,null,null,null,null,null,null,null,null,null,null,null,null,null,null,null,8654,"27.12. 14:00",8,0]
[null,null,null,null,null,null,null,null,null,null,null,null,null,null,null,null,null,null,null,null,null,null,null,null,null,null,null,8655,"27.12. 15:00",7.3,0]
[null,null,null,null,null,null,null,null,null,null,null,null,null,null,null,null,null,null,null,null,null,null,null,null,null,null,null,8656,"27.12. 16:00",6.1,0]
[null,null,null,null,null,null,null,null,null,null,null,null,null,null,null,null,null,null,null,null,null,null,null,null,null,null,null,8657,"27.12. 17:00",5.6,0]
[null,null,null,null,null,null,null,null,null,null,null,null,null,null,null,null,null,null,null,null,null,null,null,null,null,null,null,8658,"27.12. 18:00",5.0999999999999996,0]
[null,null,null,null,null,null,null,null,null,null,null,null,null,null,null,null,null,null,null,null,null,null,null,null,null,null,null,8659,"27.12. 19:00",4.5999999999999996,0]
[null,null,null,null,null,null,null,null,null,null,null,null,null,null,null,null,null,null,null,null,null,null,null,null,null,null,null,8660,"27.12. 20:00",4.0999999999999996,0]
[null,null,null,null,null,null,null,null,null,null,null,null,null,null,null,null,null,null,null,null,null,null,null,null,null,null,null,8661,"27.12. 21:00",3.6,0]
[null,null,null,null,null,null,null,null,null,null,null,null,null,null,null,null,null,null,null,null,null,null,null,null,null,null,null,8662,"27.12. 22:00",3.1,0]
[null,null,null,null,null,null,null,null,null,null,null,null,null,null,null,null,null,null,null,null,null,null,null,null,null,null,null,8663,"27.12. 23:00",2.6,0]
[null,null,null,null,null,null,null,null,null,null,null,null,null,null,null,null,null,null,null,null,null,null,null,null,null,null,null,8664,"28.12. 00:00",2.1,0]
[null,null,null,null,null,null,null,null,null,null,null,null,null,null,null,null,null,null,null,null,null,null,null,null,null,null,null,8665,"28.12. 01:00",1.6,0]
[null,null,null,null,null,null,null,null,null,null,null,null,null,null,null,null,null,null,null,null,null,null,null,null,null,null,null,8666,"28.12. 02:00",1,0]
[null,null,null,null,null,null,null,null,null,null,null,null,null,null,null,null,null,null,null,null,null,null,null,null,null,null,null,8667,"28.12. 03:00",1.4,0]
[null,null,null,null,null,null,null,null,null,null,null,null,null,null,null,null,null,null,null,null,null,null,null,null,null,null,null,8668,"28.12. 04:00",1.1000000000000001,0]
[null,null,null,null,null,null,null,null,null,null,null,null,null,null,null,null,null,null,null,null,null,null,null,null,null,null,null,8669,"28.12. 05:00",0.8,0]
[null,null,null,null,null,null,null,null,null,null,null,null,null,null,null,null,null,null,null,null,null,null,null,null,null,null,null,8670,"28.12. 06:00",1.1000000000000001,0]
[null,null,null,null,null,null,null,null,null,null,null,null,null,null,null,null,null,null,null,null,null,null,null,null,null,null,null,8671,"28.12. 07:00",0.8,0]
[null,null,null,null,null,null,null,null,null,null,null,null,null,null,null,null,null,null,null,null,null,null,null,null,null,null,null,8672,"28.12. 08:00",1,0]
[null,null,null,null,null,null,null,null,null,null,null,null,null,null,null,null,null,null,null,null,null,null,null,null,null,null,null,8673,"28.12. 09:00",2.2999999999999998,0]
[null,null,null,null,null,null,null,null,null,null,null,null,null,null,null,null,null,null,null,null,null,null,null,null,null,null,null,8674,"28.12. 10:00",3.8,0]
[null,null,null,null,null,null,null,null,null,null,null,null,null,null,null,null,null,null,null,null,null,null,null,null,null,null,null,8675,"28.12. 11:00",5.4,0]
[null,null,null,null,null,null,null,null,null,null,null,null,null,null,null,null,null,null,null,null,null,null,null,null,null,null,null,8676,"28.12. 12:00",5.8,0]
[null,null,null,null,null,null,null,null,null,null,null,null,null,null,null,null,null,null,null,null,null,null,null,null,null,null,null,8677,"28.12. 13:00",5.8,0]
[null,null,null,null,null,null,null,null,null,null,null,null,null,null,null,null,null,null,null,null,null,null,null,null,null,null,null,8678,"28.12. 14:00",5.7,0]
[null,null,null,null,null,null,null,null,null,null,null,null,null,null,null,null,null,null,null,null,null,null,null,null,null,null,null,8679,"28.12. 15:00",5.2,0]
[null,null,null,null,null,null,null,null,null,null,null,null,null,null,null,null,null,null,null,null,null,null,null,null,null,null,null,8680,"28.12. 16:00",4.2,0]
[null,null,null,null,null,null,null,null,null,null,null,null,null,null,null,null,null,null,null,null,null,null,null,null,null,null,null,8681,"28.12. 17:00",3.8,0]
[null,null,null,null,null,null,null,null,null,null,null,null,null,null,null,null,null,null,null,null,null,null,null,null,null,null,null,8682,"28.12. 18:00",3.4,0]
[null,null,null,null,null,null,null,null,null,null,null,null,null,null,null,null,null,null,null,null,null,null,null,null,null,null,null,8683,"28.12. 19:00",3,0]
[null,null,null,null,null,null,null,null,null,null,null,null,null,null,null,null,null,null,null,null,null,null,null,null,null,null,null,8684,"28.12. 20:00",2.6,0]
[null,null,null,null,null,null,null,null,null,null,null,null,null,null,null,null,null,null,null,null,null,null,null,null,null,null,null,8685,"28.12. 21:00",2.2000000000000002,0]
[null,null,null,null,null,null,null,null,null,null,null,null,null,null,null,null,null,null,null,null,null,null,null,null,null,null,null,8686,"28.12. 22:00",1.8,0]
[null,null,null,null,null,null,null,null,null,null,null,null,null,null,null,null,null,null,null,null,null,null,null,null,null,null,null,8687,"28.12. 23:00",1.4,0]
[null,null,null,null,null,null,null,null,null,null,null,null,null,null,null,null,null,null,null,null,null,null,null,null,null,null,null,8688,"29.12. 00:00",1.3,0]
[null,null,null,null,null,null,null,null,null,null,null,null,null,null,null,null,null,null,null,null,null,null,null,null,null,null,null,8689,"29.12. 01:00",1.1000000000000001,0]
[null,null,null,null,null,null,null,null,null,null,null,null,null,null,null,null,null,null,null,null,null,null,null,null,null,null,null,8690,"29.12. 02:00",1,0]
[null,null,null,null,null,null,null,null,null,null,null,null,null,null,null,null,null,null,null,null,null,null,null,null,null,null,null,8691,"29.12. 03:00",1.1000000000000001,0]
[null,null,null,null,null,null,null,null,null,null,null,null,null,null,null,null,null,null,null,null,null,null,null,null,null,null,null,8692,"29.12. 04:00",1,0]
[null,null,null,null,null,null,null,null,null,null,null,null,null,null,null,null,null,null,null,null,null,null,null,null,null,null,null,8693,"29.12. 05:00",1,0]
[null,null,null,null,null,null,null,null,null,null,null,null,null,null,null,null,null,null,null,null,null,null,null,null,null,null,null,8694,"29.12. 06:00",1,0]
[null,null,null,null,null,null,null,null,null,null,null,null,null,null,null,null,null,null,null,null,null,null,null,null,null,null,null,8695,"29.12. 07:00",1,0]
[null,null,null,null,null,null,null,null,null,null,null,null,null,null,null,null,null,null,null,null,null,null,null,null,null,null,null,8696,"29.12. 08:00",1.1000000000000001,0]
[null,null,null,null,null,null,null,null,null,null,null,null,null,null,null,null,null,null,null,null,null,null,null,null,null,null,null,8697,"29.12. 09:00",2.1,0]
[null,null,null,null,null,null,null,null,null,null,null,null,null,null,null,null,null,null,null,null,null,null,null,null,null,null,null,8698,"29.12. 10:00",3,0]
[null,null,null,null,null,null,null,null,null,null,null,null,null,null,null,null,null,null,null,null,null,null,null,null,null,null,null,8699,"29.12. 11:00",3.4,0]
[null,null,null,null,null,null,null,null,null,null,null,null,null,null,null,null,null,null,null,null,null,null,null,null,null,null,null,8700,"29.12. 12:00",4,0]
[null,null,null,null,null,null,null,null,null,null,null,null,null,null,null,null,null,null,null,null,null,null,null,null,null,null,null,8701,"29.12. 13:00",4.4000000000000004,0]
[null,null,null,null,null,null,null,null,null,null,null,null,null,null,null,null,null,null,null,null,null,null,null,null,null,null,null,8702,"29.12. 14:00",4.4000000000000004,0]
[null,null,null,null,null,null,null,null,null,null,null,null,null,null,null,null,null,null,null,null,null,null,null,null,null,null,null,8703,"29.12. 15:00",4,0]
[null,null,null,null,null,null,null,null,null,null,null,null,null,null,null,null,null,null,null,null,null,null,null,null,null,null,null,8704,"29.12. 16:00",3.4,{"$f":"IF(AD8744<=$AC$25,1,0)","v":0}]
[null,null,null,null,null,null,null,null,null,null,null,null,null,null,null,null,null,null,null,null,null,null,null,null,null,null,null,8705,"29.12. 17:00",3.3,0]
[null,null,null,null,null,null,null,null,null,null,null,null,null,null,null,null,null,null,null,null,null,null,null,null,null,null,null,8706,"29.12. 18:00",3.2,0]
[null,null,null,null,null,null,null,null,null,null,null,null,null,null,null,null,null,null,null,null,null,null,null,null,null,null,null,8707,"29.12. 19:00",3.1,0]
[null,null,null,null,null,null,null,null,null,null,null,null,null,null,null,null,null,null,null,null,null,null,null,null,null,null,null,8708,"29.12. 20:00",3,0]
[null,null,null,null,null,null,null,null,null,null,null,null,null,null,null,null,null,null,null,null,null,null,null,null,null,null,null,8709,"29.12. 21:00",3,0]
[null,null,null,null,null,null,null,null,null,null,null,null,null,null,null,null,null,null,null,null,null,null,null,null,null,null,null,8710,"29.12. 22:00",2.9,0]
[null,null,null,null,null,null,null,null,null,null,null,null,null,null,null,null,null,null,null,null,null,null,null,null,null,null,null,8711,"29.12. 23:00",2.8,0]
[null,null,null,null,null,null,null,null,null,null,null,null,null,null,null,null,null,null,null,null,null,null,null,null,null,null,null,8712,"30.12. 00:00",2.7,0]
[null,null,null,null,null,null,null,null,null,null,null,null,null,null,null,null,null,null,null,null,null,null,null,null,null,null,null,8713,"30.12. 01:00",2.7,0]
[null,null,null,null,null,null,null,null,null,null,null,null,null,null,null,null,null,null,null,null,null,null,null,null,null,null,null,8714,"30.12. 02:00",2.7,0]
[null,null,null,null,null,null,null,null,null,null,null,null,null,null,null,null,null,null,null,null,null,null,null,null,null,null,null,8715,"30.12. 03:00",2.7,0]
[null,null,null,null,null,null,null,null,null,null,null,null,null,null,null,null,null,null,null,null,null,null,null,null,null,null,null,8716,"30.12. 04:00",2.7,0]
[null,null,null,null,null,null,null,null,null,null,null,null,null,null,null,null,null,null,null,null,null,null,null,null,null,null,null,8717,"30.12. 05:00",2.7,0]
[null,null,null,null,null,null,null,null,null,null,null,null,null,null,null,null,null,null,null,null,null,null,null,null,null,null,null,8718,"30.12. 06:00",2.7,0]
[null,null,null,null,null,null,null,null,null,null,null,null,null,null,null,null,null,null,null,null,null,null,null,null,null,null,null,8719,"30.12. 07:00",2.7,0]
[null,null,null,null,null,null,null,null,null,null,null,null,null,null,null,null,null,null,null,null,null,null,null,null,null,null,null,8720,"30.12. 08:00",2.8,0]
[null,null,null,null,null,null,null,null,null,null,null,null,null,null,null,null,null,null,null,null,null,null,null,null,null,null,null,8721,"30.12. 09:00",3,0]
[null,null,null,null,null,null,null,null,null,null,null,null,null,null,null,null,null,null,null,null,null,null,null,null,null,null,null,8722,"30.12. 10:00",3.3,0]
[null,null,null,null,null,null,null,null,null,null,null,null,null,null,null,null,null,null,null,null,null,null,null,null,null,null,null,8723,"30.12. 11:00",3.5,0]
[null,null,null,null,null,null,null,null,null,null,null,null,null,null,null,null,null,null,null,null,null,null,null,null,null,null,null,8724,"30.12. 12:00",3.7,0]
[null,null,null,null,null,null,null,null,null,null,null,null,null,null,null,null,null,null,null,null,null,null,null,null,null,null,null,8725,"30.12. 13:00",3.8,0]
[null,null,null,null,null,null,null,null,null,null,null,null,null,null,null,null,null,null,null,null,null,null,null,null,null,null,null,8726,"30.12. 14:00",3.8,0]
[null,null,null,null,null,null,null,null,null,null,null,null,null,null,null,null,null,null,null,null,null,null,null,null,null,null,null,8727,"30.12. 15:00",3.7,0]
[null,null,null,null,null,null,null,null,null,null,null,null,null,null,null,null,null,null,null,null,null,null,null,null,null,null,null,8728,"30.12. 16:00",3.6,0]
[null,null,null,null,null,null,null,null,null,null,null,null,null,null,null,null,null,null,null,null,null,null,null,null,null,null,null,8729,"30.12. 17:00",3.4,0]
[null,null,null,null,null,null,null,null,null,null,null,null,null,null,null,null,null,null,null,null,null,null,null,null,null,null,null,8730,"30.12. 18:00",3.3,0]
[null,null,null,null,null,null,null,null,null,null,null,null,null,null,null,null,null,null,null,null,null,null,null,null,null,null,null,8731,"30.12. 19:00",3.2,0]
[null,null,null,null,null,null,null,null,null,null,null,null,null,null,null,null,null,null,null,null,null,null,null,null,null,null,null,8732,"30.12. 20:00",3.1,0]
[null,null,null,null,null,null,null,null,null,null,null,null,null,null,null,null,null,null,null,null,null,null,null,null,null,null,null,8733,"30.12. 21:00",2.9,0]
[null,null,null,null,null,null,null,null,null,null,null,null,null,null,null,null,null,null,null,null,null,null,null,null,null,null,null,8734,"30.12. 22:00",2.8,0]
[null,null,null,null,null,null,null,null,null,null,null,null,null,null,null,null,null,null,null,null,null,null,null,null,null,null,null,8735,"30.12. 23:00",2.7,0]
[null,null,null,null,null,null,null,null,null,null,null,null,null,null,null,null,null,null,null,null,null,null,null,null,null,null,null,8736,"31.12. 00:00",2.2999999999999998,0]
[null,null,null,null,null,null,null,null,null,null,null,null,null,null,null,null,null,null,null,null,null,null,null,null,null,null,null,8737,"31.12. 01:00",1.9,0]
[null,null,null,null,null,null,null,null,null,null,null,null,null,null,null,null,null,null,null,null,null,null,null,null,null,null,null,8738,"31.12. 02:00",1.4,0]
[null,null,null,null,null,null,null,null,null,null,null,null,null,null,null,null,null,null,null,null,null,null,null,null,null,null,null,8739,"31.12. 03:00",1.7,0]
[null,null,null,null,null,null,null,null,null,null,null,null,null,null,null,null,null,null,null,null,null,null,null,null,null,null,null,8740,"31.12. 04:00",1.4,0]
[null,null,null,null,null,null,null,null,null,null,null,null,null,null,null,null,null,null,null,null,null,null,null,null,null,null,null,8741,"31.12. 05:00",1.2,0]
[null,null,null,null,null,null,null,null,null,null,null,null,null,null,null,null,null,null,null,null,null,null,null,null,null,null,null,8742,"31.12. 06:00",1.3,0]
[null,null,null,null,null,null,null,null,null,null,null,null,null,null,null,null,null,null,null,null,null,null,null,null,null,null,null,8743,"31.12. 07:00",1.1000000000000001,0]
[null,null,null,null,null,null,null,null,null,null,null,null,null,null,null,null,null,null,null,null,null,null,null,null,null,null,null,8744,"31.12. 08:00",1,0]
[null,null,null,null,null,null,null,null,null,null,null,null,null,null,null,null,null,null,null,null,null,null,null,null,null,null,null,8745,"31.12. 09:00",0.7,0]
[null,null,null,null,null,null,null,null,null,null,null,null,null,null,null,null,null,null,null,null,null,null,null,null,null,null,null,8746,"31.12. 10:00",0.4,0]
[null,null,null,null,null,null,null,null,null,null,null,null,null,null,null,null,null,null,null,null,null,null,null,null,null,null,null,8747,"31.12. 11:00",0.2,0]
[null,null,null,null,null,null,null,null,null,null,null,null,null,null,null,null,null,null,null,null,null,null,null,null,null,null,null,8748,"31.12. 12:00",5.0000000000000001E-3,0]
[null,null,null,null,null,null,null,null,null,null,null,null,null,null,null,null,null,null,null,null,null,null,null,null,null,null,null,8749,"31.12. 13:00",-0.1,0]
[null,null,null,null,null,null,null,null,null,null,null,null,null,null,null,null,null,null,null,null,null,null,null,null,null,null,null,8750,"31.12. 14:00",-0.2,0]
[null,null,null,null,null,null,null,null,null,null,null,null,null,null,null,null,null,null,null,null,null,null,null,null,null,null,null,8751,"31.12. 15:00",0.4,0]
[null,null,null,null,null,null,null,null,null,null,null,null,null,null,null,null,null,null,null,null,null,null,null,null,null,null,null,8752,"31.12. 16:00",0.6,0]
[null,null,null,null,null,null,null,null,null,null,null,null,null,null,null,null,null,null,null,null,null,null,null,null,null,null,null,8753,"31.12. 17:00",0.2,0]
[null,null,null,null,null,null,null,null,null,null,null,null,null,null,null,null,null,null,null,null,null,null,null,null,null,null,null,8754,"31.12. 18:00",-0.1,0]
[null,null,null,null,null,null,null,null,null,null,null,null,null,null,null,null,null,null,null,null,null,null,null,null,null,null,null,8755,"31.12. 19:00",-0.4,0]
[null,null,null,null,null,null,null,null,null,null,null,null,null,null,null,null,null,null,null,null,null,null,null,null,null,null,null,8756,"31.12. 20:00",-0.7,0]
[null,null,null,null,null,null,null,null,null,null,null,null,null,null,null,null,null,null,null,null,null,null,null,null,null,null,null,8757,"31.12. 21:00",-1,0]
[null,null,null,null,null,null,null,null,null,null,null,null,null,null,null,null,null,null,null,null,null,null,null,null,null,null,null,8758,"31.12. 22:00",-1.4,0]
[null,null,null,null,null,null,null,null,null,null,null,null,null,null,null,null,null,null,null,null,null,null,null,null,null,null,null,8759,"31.12. 23:00",-1.7,0]
[null,null,null,null,null,null,null,null,null,null,null,null,null,null,null,null,null,null,null,null,null,null,null,null,null,null,null,8760,"01.01. 00:00",0,0]

{"sheet":"Aide mesurages","index":12,"n_rows":10,"n_cols":20,"rows_kept":10,"cut":false,"hidden":false,"merged":[[1,19,1,20],[7,1,7,4],[3,1,3,20],[9,1,9,4],[1,13,1,14],[1,15,1,16],[1,17,1,18],[4,15,4,16],[5,5,5,9],[5,1,5,4],[5,10,5,12],[1,11,1,12],[1,1,1,2],[1,3,1,4],[1,5,1,6],[1,7,1,8],[1,9,1,10],[5,13,5,16],[5,17,5,20]]}
[]
[null,{"$f":"HYPERLINK(NomFichier&Listes!C49&\"'!A1\",Trad!A3)","v":"Menu"},null,{"$f":"HYPERLINK(NomFichier&Listes!C50&\"'!A1\",Trad!A4)","v":"Introduction"},null,{"$f":"HYPERLINK(NomFichier&Listes!C56&\"'!A1\",Trad!A10)","v":"Aide"},null,null,null,{"$f":"HYPERLINK(NomFichier&Listes!C51&\"'!A1\",Trad!A5)","v":"Pompe(s)"},null,{"$f":"HYPERLINK(NomFichier&Listes!C52&\"'!A1\",Trad!A6)","v":"Ventilateur(s)"},null,{"$f":"HYPERLINK(NomFichier&Listes!C53&\"'!A1\",Trad!A7)","v":"Air comprimé"},null,{"$f":"HYPERLINK(NomFichier&Listes!C54&\"'!A1\",Trad!A8)","v":"Groupe froid"},null,null,null,{"$f":"HYPERLINK(Listes!A36&\"/14010 Canevas Résultats analyses V3a.xlsm\",Trad!A9)","v":"Résultats"}]
[]
[null,{"$f":"Traduction!$A$326","v":"Vous trouverez ci-dessous les liens vers les sujets d'aide:"}]
[]
[null,{"$f":"Traduction!$A$716","v":"Conduite des mesurages"},null,null,null,{"$f":"HYPERLINK(Listes!A36&\"/VELANI - Procédure de mesurage de débit de pompe - V1.1.pdf\",Traduction!A717)","v":"Débit pompe"},null,null,null,null,{"$f":"HYPERLINK(Listes!A36&\"/VELANI - Procédure de mesurage de débit sur un ventilateur - V1.0.pdf\",Traduction!A718)","v":"Débit ventilateur"},null,null,{"$f":"HYPERLINK(Listes!A36&\"/VELANI - Procédure de mesurage de la puissance électrique - V1.1.pdf\",Trad!A146)","v":"Puissance électrique"},null,null,null,{"$f":"HYPERLINK(Listes!A36&\"/VELANI - Procédure de mesurage de pression - V1.1.pdf\",Trad!A147)","v":"Pression"}]
[]
[null,{"$f":"HYPERLINK(NomFichier&Listes!C55&\"'!A1\",Trad!A148)","v":"Calcul des économies d'énergie de froid"}]
[]
[null,{"$f":"HYPERLINK(NomFichier&Listes!C57&\"'!A1\",Trad!A149)","v":"Calcul financier"}]

{"sheet":"aide calcul financier","index":13,"n_rows":76,"n_cols":20,"rows_kept":76,"cut":false,"hidden":false,"merged":[[75,1,75,20],[3,1,3,2],[3,3,3,4],[3,5,3,6],[3,7,3,8],[3,9,3,11],[34,1,34,20],[44,1,44,20],[56,1,56,20],[60,1,60,20],[69,1,69,20],[7,1,7,20],[14,1,14,20],[18,1,18,20],[25,1,25,20],[27,1,27,20],[1,15,1,16],[1,17,1,18],[1,19,1,20],[1,1,1,2],[1,3,1,4],[1,5,1,6],[1,7,1,8],[1,9,1,10],[1,11,1,12],[1,13,1,14]]}
[]
[null,{"$f":"HYPERLINK(NomFichier&Listes!C49&\"'!A1\",Trad!A3)","v":"Menu"},null,{"$f":"HYPERLINK(NomFichier&Listes!C50&\"'!A1\",Trad!A4)","v":"Introduction"},null,{"$f":"HYPERLINK(NomFichier&Listes!C56&\"'!A1\",Trad!A10)","v":"Aide"},null,null,null,{"$f":"HYPERLINK(NomFichier&Listes!C51&\"'!A1\",Trad!A5)","v":"Pompe(s)"},null,{"$f":"HYPERLINK(NomFichier&Listes!C52&\"'!A1\",Trad!A6)","v":"Ventilateur(s)"},null,{"$f":"HYPERLINK(NomFichier&Listes!C53&\"'!A1\",Trad!A7)","v":"Air comprimé"},null,{"$f":"HYPERLINK(NomFichier&Listes!C54&\"'!A1\",Trad!A8)","v":"Groupe froid"},null,null,null,{"$f":"Trad!A9","v":"Résultats"}]
[]
[null,{"$f":"B6","v":"1. Temps de retour brut (TRB)"},null,{"$f":"B17","v":"2. Temps de retour net (TRN)"},null,{"$f":"B43","v":"3. Valeur actualisée nette (VAN)"},null,{"$f":"B59","v":"4. Taux de rentabilité interne (TRI)"},null,{"$f":"B68","v":"5. Taux d'enrichissement en capital (TEC)"}]
[]
[null,{"$f":"Traduction!$A$744","v":"1. Temps de retour brut (TRB)"}]
[]
[null,{"$f":"Traduction!A745","v":"Temps nécessaire à rentabiliser financièrement la mesure d’optimisation énergétique en considérant que cette dernière supporte le 100% du coût de l’investissement. "}]
[]
[]
[]
[]
[]
[]
[null,{"$f":"Traduction!A746","v":"Le TRB est souvent utilisé dans des programmes de soutien (comme par exemple Prokilowatt) pour calculer le droit aux subventions. Il permet un calcul simple et rapide de la rentabilité du projet, mais ne tient pas compte de l’évolution de la valeur monétaire ni de la durée de vie du projet."}]
[]
[null,{"$f":"Traduction!$A$747","v":"2. Temps de retour net (TRN)"}]
[]
[null,{"$f":"Traduction!A748","v":"Temps nécessaire à rentabiliser financièrement la mesure d’optimisation énergétique en considérant qu’elle supporte uniquement la partie du coût de l’investissement liée à l’économie d’énergie. "}]
[]
[]
[]
[]
[]
[]
[null,{"$f":"Traduction!A749","v":"La part des coûts liée à l’énergie sert à évaluer quelle part des coûts de l'investissement a été dépensée pour économiser de l'énergie. Elle peut varier entre 0% si l'investissement est réalisé uniquement à des fins de remplacement et 100% si la totalité de l'investissement est destinée à l'amélioration énergétique. Elle se calcule comme suit:"}]
[]
[null,{"$f":"Traduction!A750","v":"- Remplacement d'une installation ou équipement avec pour but principal l'amélioration de l'efficacité énergétique :"}]
[]
[]
[]
[]
[]
[]
[null,{"$f":"Traduction!A751","v":"- Nouvelle installation ou équipement avec l’amélioration énergétique comme but partiel :"}]
[]
[]
[]
[]
[]
[]
[]
[null,{"$f":"Traduction!$A$752","v":"3. Valeur actualisée nette (VAN)"}]
[]
[null,{"$f":"Traduction!A753","v":"Sert à évaluer la création de valeur liée à un investissement initial après une certaine période de temps en tenant compte du taux d’actualisation."}]
[]
[]
[]
[]
[]
[]
[null,null,null,null,null,{"$f":"Traduction!A754","v":"I0 est l’investissement réalisé au moment initial (t=0)"}]
[null,null,null,null,null,{"$f":"Traduction!A755","v":"Ft est le flux économique (recettes – dépenses) lié à la mesure d’optimisation pour la période t"}]
[null,null,null,null,null,{"$f":"Traduction!A756","v":"n est le nombre de périodes de temps (durée d’effet de la mesure d’optimisation)"}]
[null,null,null,null,null,{"$f":"Traduction!A757","v":"k est le taux d’actualisation et correspond au taux de rentabilité souhaité par l’entreprise"}]
[]
[null,{"$f":"Traduction!A758","v":"La VAN est calculée au moment de l’investissement initial. L’investissement est rentable lorsque la VAN est positive. Cet indicateur permet aussi de déterminer le projet qui permet de créer plus de valeur pour une même durée de vie du projet."}]
[]
[null,{"$f":"Traduction!$A$759","v":"4. Taux de rentabilité interne (TRI)"}]
[]
[null,{"$f":"Traduction!A760","v":"Taux d’actualisation qui annule la VAN, c’est-à-dire le seuil nécessaire pour que l’investissement soit rentable. "}]
[]
[]
[]
[]
[]
[]
[null,"5. Taux d'enrichissement en capital (TEC)"]
[]
[null,{"$f":"Traduction!A762","v":"Indicateur du profit (valeur crée) par unité de capital investi. "}]
[]
[]
[]
[]
[]
[null,{"$f":"Traduction!A763","v":"Le TEC permet de réaliser des analyses économiques préalables des projets d’investissement de façon fiable et rapide. Il est un indicateur très répandu dans le secteur des énergies."}]

{"sheet":"APPo","index":14,"n_rows":150,"n_cols":47,"rows_kept":150,"cut":false,"hidden":true,"merged":[[60,12,60,14],[47,8,47,14],[38,5,38,8],[50,1,50,13],[59,6,59,8],[3,21,3,22],[3,23,3,24],[55,11,55,14],[56,11,56,14],[51,11,51,14],[52,11,52,14],[53,11,53,14],[54,11,54,14],[54,1,54,4],[55,1,55,4],[56,1,56,4],[51,1,51,4],[52,1,52,4],[53,1,53,4],[51,5,51,7],[52,5,52,7],[53,5,53,7],[54,5,54,7],[55,5,55,7],[3,25,3,26],[55,15,55,18],[56,15,56,18],[51,19,51,21],[52,19,52,21],[53,19,53,21],[54,19,54,21],[55,19,55,21],[56,19,56,21],[51,15,51,18],[52,15,52,18],[53,15,53,18],[54,15,54,18],[50,14,50,18],[2,9,2,10],[32,1,32,7],[32,9,34,14],[25,1,25,20],[31,1,31,20],[3,11,3,12],[3,13,3,14],[3,15,3,16],[3,17,3,18],[3,19,3,20],[3,1,3,2],[3,3,3,4],[3,5,3,6],[3,7,3,8],[3,9,3,10],[6,1,6,20],[15,8,15,14],[16,8,16,14],[17,8,17,14],[19,8,19,14],[18,8,18,14],[26,1,27,6],[29,1,30,6],[34,1,34,7],[1,11,1,12],[1,13,1,14],[1,15,1,16],[1,17,1,18],[1,19,1,20],[1,1,1,2],[1,3,1,4],[1,5,1,6],[1,7,1,8],[1,9,1,10],[56,5,56,7],[51,8,51,10],[52,8,52,10],[53,8,53,10],[54,8,54,10],[55,8,55,10],[56,8,56,10],[39,9,39,13],[40,9,40,13],[41,9,41,13],[42,9,42,13],[43,5,43,8],[43,9,43,13],[39,1,39,4],[40,1,40,4],[41,1,41,4],[42,1,42,4],[39,5,39,8],[40,5,40,8],[41,5,41,8],[42,5,42,8],[38,1,38,4],[37,1,37,11],[38,9,38,13],[12,8,12,14],[8,8,8,14],[9,8,9,14],[10,8,10,14],[11,8,11,14],[20,8,20,14],[13,8,13,14],[14,8,14,14],[20,1,20,7],[8,1,8,7],[9,1,9,7],[10,1,10,7],[12,1,12,7],[13,1,13,7],[14,1,14,7],[15,1,15,7],[16,1,16,7],[17,1,17,7],[18,1,18,7],[19,1,19,7],[30,9,30,15]]}
[null,1,null,2,null,3,null,4,null,5,null,6,null,7,null,8,null,9,null,10," ",11,null,12,null,13]
[null,{"$f":"HYPERLINK(NomFichier&Listes!C49&\"'!A1\",Traduction!$A$14)","v":"Fiche \"Air comprimé\""},null,{"$f":"HYPERLINK(NomFichier&Listes!C50&\"'!A1\",Traduction!$A$12)","v":"Fiche \"Ventilateurs\""},null,{"$f":"HYPERLINK(NomFichier&Listes!#REF!&\"'!G7\",Traduction!$A$13)","v":{"$error":"#REF!"}},null,{"$f":"HYPERLINK(NomFichier&Listes!#REF!&\"'!O16\",Traduction!$A$707)","v":{"$error":"#REF!"}},null,{"$f":"HYPERLINK(NomFichier&Listes!C51&\"'!E10\",Traduction!$A$78)","v":"Le circuit hydraulique comprend-il des vannes en position partiellement fermée?"},null,{"$f":"HYPERLINK(NomFichier&Listes!C52&\"'!E10\",Traduction!$A$79)","v":"3. Questions additionnelles"},null,{"$f":"HYPERLINK(NomFichier&Listes!C53&\"'!M12\",Traduction!$A$11)","v":{"$error":"#VALUE!"}},null,{"$f":"HYPERLINK(NomFichier&Listes!#REF!&\"'!F10\",Traduction!$A$549)","v":{"$error":"#REF!"}},null,{"$f":"HYPERLINK(NomFichier&Listes!#REF!&\"'!E10\",Traduction!$A$708)","v":{"$error":"#REF!"}},null,{"$f":"Traduction!$A$80","v":"La pompe fait-elle partie d'une cascade?"}]
[]
[null,{"$f":"IFERROR(HYPERLINK(NomFichier&B92&\"'!A1\",B92),\"\")","v":""},null,{"$f":"IFERROR(HYPERLINK(NomFichier&D92&\"'!A1\",D92),\"\")","v":""},null,{"$f":"IFERROR(HYPERLINK(NomFichier&F92&\"'!A1\",F92),\"\")","v":""},null,{"$f":"IFERROR(HYPERLINK(NomFichier&H92&\"'!A1\",H92),\"\")","v":""},null,{"$f":"IFERROR(HYPERLINK(NomFichier&J92&\"'!A1\",J92),\"\")","v":""},null,{"$f":"IFERROR(HYPERLINK(NomFichier&L92&\"'!A1\",L92),\"\")","v":""},null,{"$f":"IFERROR(HYPERLINK(NomFichier&N92&\"'!A1\",N92),\"\")","v":""},null,{"$f":"IFERROR(HYPERLINK(NomFichier&P92&\"'!A1\",P92),\"\")","v":""},null,{"$f":"IFERROR(HYPERLINK(NomFichier&R92&\"'!A1\",R92),\"\")","v":""},null,{"$f":"IFERROR(HYPERLINK(NomFichier&T92&\"'!A1\",T92),\"\")","v":""},null,{"$f":"IFERROR(HYPERLINK(NomFichier&V92&\"'!A1\",V92),\"\")","v":""},null,{"$f":"IFERROR(HYPERLINK(NomFichier&X92&\"'!A1\",X92),\"\")","v":""},null,{"$f":"IFERROR(HYPERLINK(NomFichier&Z92&\"'!A1\",Z92),\"\")","v":""}]
[]
[null,{"$f":"Traduction!$A$352","v":"Mardi"},null,null,null,null,null,null,null,null,null,null,null,null,null,null,null,null,null,null,null,null,null,null,null,null,null,null,{"$f":"Traduction!$A$4","v":"Local"},null,{"$f":"Traduction!$A$30","v":"Si un AP+ existe déjà et que l'on reclique dessus dans la feuille des classements des économies, il est demandé si l'on veut réecrir les paramètre de l'AP ou pas."}]
[null,{"$f":"Traduction!$A$353","v":"Mercredi"},null,null,null,null,null,null,null,null,null,null,null,null,null,null,null,null,null,null,null,null,null,null,null,null,null,null,{"$f":"Traduction!$A$5","v":"Aperçu des résultats de l'analyse détaillée"},null,{"$f":"Traduction!$A$355","v":"Vendredi"},null,null,null,null,null,null,null,null,null,{"$f":"Traduction!$A$356","v":"Samedi"},null,null,null,null,"oui non",{"$f":"Traduction!$A$357","v":"Dimanche"}]
[null,{"$f":"Traduction!$A$368","v":"2 (automne)"},null,null,null,null,null,null,null,null,null,null,null,null,null,null,null,null,null,null,null,null,null,null,null,null,null,null,null,null,{"$f":"Traduction!$A$125","v":"Les équipements sont anciens et le système a priori plutôt simple."},{"$f":"Traduction!$A$164","v":"Recherchez des informations sur le besoin réel.  De plus, les  variations de débit ne sont probablement pas efficacement maîtrisées. Considérez le relevé de débit du site pour déterminer si le dimensionnement est correct et si un variateur de vitesse ferait sens."},{"$f":"Traduction!$A$359","v":"Température aller moyennne (°C)"},"Economie moteur",{"$f":"Traduction!$A$361","v":"Débit moyen (m3/h)"},null,"Economie entrainement",{"$f":"Traduction!$A$164","v":"Recherchez des informations sur le besoin réel.  De plus, les  variations de débit ne sont probablement pas efficacement maîtrisées. Considérez le relevé de débit du site pour déterminer si le dimensionnement est correct et si un variateur de vitesse ferait sens."},0,null,{"$f":"Traduction!$A$362","v":"Puissance frigorifique moyenne (kWf)"},{"$f":"Traduction!$A$157","v":"On ne sait pas si le débit correspond au besoin ou s'il trop grand, recherchez des informations sur le besoin et comparez-les aux valeurs relevées."},null,null,null,{"$f":"Traduction!$A$4","v":"Local"},{"$f":"Traduction!$A$149","v":"Les variations de débit sont mal connues et possiblement mal maîtrisées, procédez à des mesurages de débit."}]
[null,{"$f":"Traduction!$A$369","v":"3 (printemps)"},null,null,null,null,null,null,"Pompes",null,null,null,null,null,null,null,null,null,null,null,null,null,null,null,null,null,null,null,null,null,{"$f":"Traduction!$A$9","v":"Les \"recettes\" constituent des aides pour le responsable en charge de l'analyse de détail."},"Eff3",{"$f":"Traduction!$A$364","v":"Besoins frigorifiques mensuels (kWh)"},0.1,{"$f":"AE9 & AF9 & IF(AG9=\"<20 kW\",\"p1\",IF(AG9=\"20-100 kW\",\"p2\",\"p3\"))","v":"Les \"recettes\" constituent des aides pour le responsable en charge de l'analyse de détail.Eff3p3"},null,0.02,"Eff3",1998,null,0,0.3,null,null,null,{"$f":"Traduction!$A$5","v":"Aperçu des résultats de l'analyse détaillée"},{"$f":"Traduction!$A$27","v":"AP et AP+ air comprimé : sélection des taux de fuite a été étendue"}]
[null,{"$f":"Traduction!$A$142","v":"Le besoin est a priori bien maîtrisé et enregistré. On a par contre un CF sans débit variable. Un démarreur serait plus judicieux. "},null,null,null,null,null,null,null,null,null,null,null,null,null,null,null,null,null,null,null,null,null,null,null,null,null,null,null,null,{"$f":"Traduction!$A$9","v":"Les \"recettes\" constituent des aides pour le responsable en charge de l'analyse de détail."},"Eff3",{"$f":"Traduction!$A$365","v":"Temps de fonctionnement moyen du groupe"},0.05,{"$f":"AE10 & AF10 & IF(AG10=\"<20 kW\",\"p1\",IF(AG10=\"20-100 kW\",\"p2\",\"p3\"))","v":"Les \"recettes\" constituent des aides pour le responsable en charge de l'analyse de détail.Eff3p3"},null,0.03,"IE1",2005,null,0.25,0.2,null,{"$f":"MATCH(0.2,AO9:AO13,1)","v":1},null,null,{"$f":"Traduction!$A$574","v":"Ne sais pasOuiOuiNon"}]
[null,{"$f":"Traduction!$A$141","v":"Le débit variable n'est probablement  pas contrôlé de la manière la plus efficace.  Un mesurage du débit est recommandé."},null,null,null,null,null,null,null,null,null,null,null,null,null,null,null,null,null,null,null,null,null,null,null,null,null,"efficacité avec correction si élement entrainé est plus agé","Equivalent classe d'efficactié élément entrainé",null,{"$f":"Traduction!$A$9","v":"Les \"recettes\" constituent des aides pour le responsable en charge de l'analyse de détail."},"Eff3",{"$f":"Traduction!$A$366","v":"3. Détermination de la performance du groupe froid"},0.04,"Les \"recettes\" constituent des aides pour le responsable en charge de l'analyse de détail.Eff3p3",null,0.01,"IE2",2010,null,0.5,0.08,null,null,null,null,{"$f":"Traduction!$A$565","v":"On ne sait pas si le variateur est vraiment utile et réglé, considérez les relevés de débit du débitmètre du site."}]
[null,{"$f":"Traduction!$A$617","v":"NonNe sais pasNonNon"},null,null,null,null,null,null,null,null,null,null,null,null,null,null,null,null,null,null,null,null,null,null,null,null,null,null,{"$f":"IF(ISBLANK(fp_age),\"\",IF(I14<=AM9,AL9,IF(I14<=AM10,AL10,IF(I14<=AM11,AL11,IF(I14<=AM12,AL12,AL13)))))","v":""},null,{"$f":"Traduction!$A$9","v":"Les \"recettes\" constituent des aides pour le responsable en charge de l'analyse de détail."},"IE1",{"$f":"Traduction!$A$364","v":"Besoins frigorifiques mensuels (kWh)"},7.0000000000000007E-2,"Les \"recettes\" constituent des aides pour le responsable en charge de l'analyse de détail.IE1p3",null,0.01,"IE3",2014,null,0.75,0.05,null,null,null,{"$f":"Traduction!$A$565","v":"On ne sait pas si le variateur est vraiment utile et réglé, considérez les relevés de débit du débitmètre du site."},{"$f":"Traduction!A712","v":"[rat] Ratgeber Druckluft für den Praxiseinsatz, ein Handbuch füe de Instandhaltung. LandesEnergieVerein Steiermark, 2006"}]
[null,{"$f":"Traduction!$A$221","v":"Le réduction de la pression permet des économies d'énergie significatives sans coûts. Si l'on considère que la compression se rapproche de la compression isotherme, le gain théorique peut être calculé avec la formule suivante :"},null,null,null,null,null,null,null,null,null,null,null,null,null,null,null,null,null,null,null,null,null,null,null,null,"Code moteur",{"$f":"Traduction!$A$367","v":"1 (hiver)"},null,null,{"$f":"Traduction!$A$9","v":"Les \"recettes\" constituent des aides pour le responsable en charge de l'analyse de détail."},"IE1",{"$f":"Traduction!$A$365","v":"Temps de fonctionnement moyen du groupe"},0.04,"Les \"recettes\" constituent des aides pour le responsable en charge de l'analyse de détail.IE1p3",null,0.01,"IE4",2017,null,1,0,null,null,null,{"$f":"Traduction!$A$570","v":"OuiNe sais pasNonNon"}]
[null,{"$f":"Traduction!$A$370","v":"4 (été)"},null,null,null,null,null,null,null,null,null,null,null,null,null,null,null,null,null,null,null,null,null,null,null,null,{"$f":"I9 & I15 & IF(I13<20,\"p1\",IF(I13<100,\"p2\",\"p3\"))","v":"Pompesp1"},{"$f":"IFERROR(INDEX(AH9:AH24,MATCH(AA14,AI9:AI24,0)),0) + IFERROR(INDEX(AK9:AK24,MATCH(AA16,AI9:AI24,0)),0)","v":0},null,null,{"$f":"Traduction!$A$9","v":"Les \"recettes\" constituent des aides pour le responsable en charge de l'analyse de détail."},"IE1",{"$f":"Traduction!$A$366","v":"3. Détermination de la performance du groupe froid"},0.03,"Les \"recettes\" constituent des aides pour le responsable en charge de l'analyse de détail.IE1p3",null,0.01,null,null,null,1.5,0,null,null,null,{"$f":"Traduction!$A$571","v":"Les variations de débit sont mal connues et possiblement mal maîtrisées, procédez à des mesurages de débit."}]
[null,{"$f":"Traduction!$A$164","v":"Recherchez des informations sur le besoin réel.  De plus, les  variations de débit ne sont probablement pas efficacement maîtrisées. Considérez le relevé de débit du site pour déterminer si le dimensionnement est correct et si un variateur de vitesse ferait sens."},null,null,null,null,null,null,null,null,null,null,null,null,null,null,null,null,null,null,null,null,null,null,null,null,"Code Entrainement",null,null,null,{"$f":"Traduction!$A$9","v":"Les \"recettes\" constituent des aides pour le responsable en charge de l'analyse de détail."},"IE2",{"$f":"Traduction!$A$364","v":"Besoins frigorifiques mensuels (kWh)"},0.03,"Les \"recettes\" constituent des aides pour le responsable en charge de l'analyse de détail.IE2p3",null,0.01]
[null,{"$f":"Traduction!$A$371","v":"3.1 Fonctionnement du groupe froid"},null,null,null,null,null,null,null,null,null,null,null,null,null,null,null,null,null,null,null,null,null,null,null,null,{"$f":"I9 & AC12 & IF(I13<20,\"p1\",IF(I13<100,\"p2\",\"p3\"))","v":"Pompesp1"},null,null,null,{"$f":"Traduction!$A$9","v":"Les \"recettes\" constituent des aides pour le responsable en charge de l'analyse de détail."},"IE2",{"$f":"Traduction!$A$365","v":"Temps de fonctionnement moyen du groupe"},0.02,"Les \"recettes\" constituent des aides pour le responsable en charge de l'analyse de détail.IE2p3",null,0.01]
[null,{"$f":"Traduction!$A$148","v":"Les variations de débit sont mal connues et possiblement mal maîtrisées, considérez les relevés de débit du site."},null,null,null,null,null,null,null,null,null,null,null,null,null,null,null,null,null,null,null,null,null,null,null,null,null,null,null,null,{"$f":"Traduction!$A$9","v":"Les \"recettes\" constituent des aides pour le responsable en charge de l'analyse de détail."},"IE2",{"$f":"Traduction!$A$366","v":"3. Détermination de la performance du groupe froid"},0.02,"Les \"recettes\" constituent des aides pour le responsable en charge de l'analyse de détail.IE2p3",null,0]
[null,{"$f":"Traduction!$A$150","v":"On ne sait pas si le débit correspond au besoin ou s'il trop grand, recherchez des informations sur le besoin réel et comparez-les avec les valeurs relevées par l'exploitant."},null,null,null,null,null,null,null,null,null,null,null,null,null,null,null,null,null,null,null,null,null,null,null,null,null,null,null,null,{"$f":"Traduction!$A$9","v":"Les \"recettes\" constituent des aides pour le responsable en charge de l'analyse de détail."},"IE3",{"$f":"Traduction!$A$364","v":"Besoins frigorifiques mensuels (kWh)"},0,"Les \"recettes\" constituent des aides pour le responsable en charge de l'analyse de détail.IE3p3",null,0]
[null,"Avez-vous procédé à des optimisations « système » ces dernières années ?",null,null,null,null,null,null,null,null,null,null,null,null,null,null,null,null,null,null,null,null,null,null,null,null,null,null,null,null,{"$f":"Traduction!$A$9","v":"Les \"recettes\" constituent des aides pour le responsable en charge de l'analyse de détail."},"IE3",{"$f":"Traduction!$A$365","v":"Temps de fonctionnement moyen du groupe"},0,"Les \"recettes\" constituent des aides pour le responsable en charge de l'analyse de détail.IE3p3",null,0]
[null,{"$f":"Traduction!$A$151","v":"On ne sait pas si le débit correspond au besoin ou s'il trop grand, recherchez des informations sur le besoin réel et procédez à des mesurages de débit."},null,null,null,null,null,null,null,null,null,null,null,null,null,null,null,null,null,null,null,null,null,null,null,null,null,null,null,null,{"$f":"Traduction!$A$9","v":"Les \"recettes\" constituent des aides pour le responsable en charge de l'analyse de détail."},"IE3",{"$f":"Traduction!$A$366","v":"3. Détermination de la performance du groupe froid"},0,"Les \"recettes\" constituent des aides pour le responsable en charge de l'analyse de détail.IE3p3",null,0]
[null,{"$f":"Traduction!$A$280","v":"2.2 Détermination des performances globales du groupe "},null,null,null,null,null,null,{"$f":"PrixElec","v":{"$error":"#REF!"}},null,null,null,null,null,null,null,null,null,null,null,null,null,null,null,null,null,null,null,null,null,null,null,null,0,null,null,0]
[null,{"$f":"Traduction!$A$139","v":"Dans la cas d'une pompe ou d'un groupe de pompes, les économies peuvent avoir pour origines:\n- un débit plus important que nécessaire (aux consommateurs)\n- une exploitation non optimisée en termes d'horaire (un mode réduit ou un arrêt possible dans certaines plages horaires)\n- un travail à un niveau de pression trop élevé (le système assurerait sa prestation avec une pression plus faible ou une vanne semi-fermée casse la pression en permanence)\n- le système est ancien, mal dimensionné et les variations de besoin sont gérées de façon non optimale "},null,null,null,null,null,null,101,null,null,null,null,null,null,null,null,null,null,null,null,null,null,null,null,null,null,null,null,null,{"$f":"Traduction!$A$9","v":"Les \"recettes\" constituent des aides pour le responsable en charge de l'analyse de détail."},"IE4",{"$f":"Traduction!$A$364","v":"Besoins frigorifiques mensuels (kWh)"},0,"Les \"recettes\" constituent des aides pour le responsable en charge de l'analyse de détail.IE4p3",null,0]
[null,null,null,null,null,null,null,null,null,null,null,null,null,null,null,null,null,null,null,null,null,null,null,null,null,null,null,null,null,null,{"$f":"Traduction!$A$9","v":"Les \"recettes\" constituent des aides pour le responsable en charge de l'analyse de détail."},"IE4",{"$f":"Traduction!$A$365","v":"Temps de fonctionnement moyen du groupe"},0,{"$f":"AE23 & AF23 & IF(AG23=\"<20 kW\",\"p1\",IF(AG23=\"20-100 kW\",\"p2\",\"p3\"))","v":"Les \"recettes\" constituent des aides pour le responsable en charge de l'analyse de détail.IE4p3"},null,0]
[null,{"$f":"Traduction!$A$372","v":"Période"},null,null,null,null,null,null,null,null,null,null,null,null,null,null,null,null,null,null,null,null,null,null,null,null,null,null,null,null,{"$f":"Traduction!$A$9","v":"Les \"recettes\" constituent des aides pour le responsable en charge de l'analyse de détail."},"IE4",{"$f":"Traduction!$A$366","v":"3. Détermination de la performance du groupe froid"},0,{"$f":"AE24 & AF24 & IF(AG24=\"<20 kW\",\"p1\",IF(AG24=\"20-100 kW\",\"p2\",\"p3\"))","v":"Les \"recettes\" constituent des aides pour le responsable en charge de l'analyse de détail.IE4p3"}]
[null,{"$f":"Traduction!$A$373","v":"Moyenne température extérieure"},null,null,null,null,null,null,null,null,null,null,null,null,null,null,null,null,null,null,null,null,null,null,null,null,null,0.4]
[null,{"$f":"Traduction!$A$374","v":"Répartition du temps de fonctionnement "},null,null,null,null,null,null,null,null,null,null,null,null,null,null,null,null,null,null,null,null,null,null,null,null,null,{"$f":"Traduction!$A$356","v":"Samedi"}]
[null,{"$f":"Traduction!$A$375","v":"3.2 SEPR réel du groupe existant"},null,null,null,null,null,{"$f":"HYPERLINK(Traduction!A632 & \"/info_QmaxQnom.htm\",Traduction!$A$724)","v":"Date"},null,null,null,null,null,null,null,null,null,null,null,null,null,null,null,null,null,null,null,{"$f":"FORECAST($I$35,OFFSET($AP$9:$AP$14,MATCH($I$27,$AO$9:$AO$14,1)-1,0,2),OFFSET($AO$9:$AO$14,MATCH($I$27,$AO$9:$AO$14,1)-1,0,2))","v":{"$error":"#DIV/0!"}},{"$f":"IF(AB27<0,0,AB27)","v":{"$error":"#DIV/0!"}}]
[]
[]
[null,{"$f":"Traduction!$A$376","v":"Puissance électrique (kWf)"},null,null,null,null,null,{"$f":"HYPERLINK(Traduction!A632&\"/info_Parbre.htm\",Traduction!$A$724)","v":"Date"}]
[null,null,null,null,null,null,null,null,null,{"$f":"IFERROR(IF(AB43>fp_Pnom,Traduction!$A$733,\"\"),\"\")","v":""}]
[null,{"$f":"Traduction!$A$377","v":"EER réel"}]
[null,{"$f":"HYPERLINK(Traduction!A632&\"/info_Pelmax.htm\",Traduction!$A$378)","v":"SEPR réel"},null,null,null,null,null,null,null,{"$f":"IF((I33*0.9/I30)>(0.1-$O$79)/$O$78,\"\",AU10)","v":{"$error":"#DIV/0!"}}]
[null,{"$f":"Traduction!$A$379","v":"3.3 SEPR théorique du groupe existant"},null,null,null,null,null,null,{"$f":"IF((I33*0.9/I30)>(0.1-$O$79)/$O$78,(I33*0.9/I30),(0.1-$O$79)/$O$78)","v":{"$error":"#DIV/0!"}}]
[null,{"$f":"Traduction!$A$380","v":"EER théorique"},null,null,null,null,null,null,{"$f":"IF(I27=0,IF(I34=0,\"\",IF(I18=$AT$8,I34,I34*O78+O79)),I27)","v":{"$error":"#DIV/0!"}}]
[]
[null,{"$f":"Traduction!$A$381","v":"SEPR théorique"}]
[null,{"$f":"HYPERLINK(Traduction!A632&\"/info_Q_Qmax.htm\",Traduction!$A$382)","v":"3.4 SEPR théorique du nouveau groupe"},null,null,null,null,null,null,null,null,null,null,null,null,null,null,null,null,null,null,null,null,null,null,null,null,null,null,null,null,{"$f":"Traduction!$A$386","v":"4. Détermination de la consommation électrique du groupe froid et du producteur de chaleur"},{"$f":"Traduction!$A$387","v":"Taux de charge par rapport à la période estivale"},{"$f":"Traduction!$A$388","v":"Besoin en froid"}]
[null,{"$f":"Traduction!$A$383","v":"3.5 Résultats"},null,null,null,{"$f":"Traduction!$A$384","v":"Potentiel d'économie par l'optimisation du groupe existant"},null,null,null,{"$f":"Traduction!$A$147","v":"On ne sait pas si le variateur est vraiment utile et réglé, recherchez des informations et, si besoin, procédez à des mesurages de débit."},null,null,null,null,null,null,null,null,null,null,null,null,null,null,null,null,null,null,null,null,{"$f":"AVERAGE(AF39:AG39)","v":0.125},0,0.25]
[null,{"$f":"TEXT(AF39,\"0%\") & \"-\" & TEXT(AG39,\"0%\")","v":"0%-25%"},null,null,null,{"$f":"TEXT(0,\"0.0\") & \"-\" & TEXT(IF(I18=$AT$8,I35*AG39/0.9,(($I$35*AG39*$O$82+$O$83)/0.9))*$I$30,\"0.0\")","v":{"$error":"#DIV/0!"}},null,null,null,null,null,null,null,null,null,null,null,null,null,null,null,null,null,null,null,null,null,null,null,null,{"$f":"AVERAGE(AF40:AG40)","v":0.375},0.25,0.5]
[null,{"$f":"TEXT(AF40,\"0%\") & \"-\" & TEXT(AG40,\"0%\")","v":"25%-50%"},null,null,null,{"$f":"TEXT(IF(I18=$AT$8,AF40*$I$35/0.9,(($I$35*AF40*$O$82+$O$83)/0.9))*$I$30,\"0.0\") & \"-\" & TEXT(IF(I18=$AT$8,AG40*$I$35/0.9,(($I$35*AG40*$O$82+$O$83)/0.9))*$I$30,\"0.0\")","v":{"$error":"#DIV/0!"}},null,null,null,null,null,null,null,null,null,null,null,null,null,null,null,null,null,null,null,null,null,null,null,null,0.625,0.5,0.75]
[null,"50%-75%",null,null,null,{"$f":"TEXT(IF(I18=$AT$8,AF41*I35/0.9,(($I$35*AF41*$O$82+$O$83)/0.9))*$I$30,\"0.0\") & \"-\" & TEXT(IF(I18=$AT$8,AG41*I35/0.9,(($I$35*AG41*$O$82+$O$83)/0.9))*$I$30,\"0.0\")","v":{"$error":"#DIV/0!"}},null,null,null,null,null,null,null,null,null,null,null,null,null,null,null,null,null,null,null,null,null,null,null,null,0.875,0.75,1]
[null,"75%-100%",null,null,null,{"$f":"TEXT(IF(I18=$AT$8,AF42*I35/0.9,(($I$35*AF42*$O$82+$O$83)/0.9))*$I$30,\"0.0\") & \"-\" & TEXT(AB43,\"0.0\")","v":{"$error":"#DIV/0!"}},null,null,null,null,null,null,null,null,null,null,null,null,null,null,null,null,null,null,null,null,null,{"$f":"IF(I18=$AT$8,AG42*I35/0.9,(($I$35*AG42*$O$82+$O$83)/0.9))*$I$30","v":{"$error":"#DIV/0!"}}]
[null,null,null,null,null,{"$f":"Traduction!$A$389","v":"Consommation électrique"},null,null,null,{"$f":"SUM(J40:J43)","v":0}]
[null,null,null,null,null,null,null,null,null,{"$f":"IF(J44=I16,\"\",AU11)","v":""}]
[]
[null,{"$f":"IF(I18=AT8,AT13,\"\")","v":""}]
[null,{"$f":"IF(I18=AT8,AT14,\"\")","v":""}]
[]
[null,{"$f":"Traduction!$A$390","v":"4.1 Consommation électrique du groupe froid"}]
[null,{"$f":"Traduction!$A$391","v":"Mois"},null,null,null,null,null,null,null,null,null,null,null,null,{"$f":"HYPERLINK(Traduction!A632&\"/Calc_GAP_pump.htm\",Traduction!A652)","v":"Le rendement d'une pompe en fonction de la vitesse n'est pas toujours estimé correctement."},null,null,null,null,null,null,null,null,null,null,null,null,null,null,{"$f":"Traduction!$A$310","v":"5.1 Objectif "},{"$f":"Traduction!$A$399","v":"Septembre"},{"$f":"Traduction!$A$400","v":"Octobre"},{"$f":"Traduction!$A$401","v":"Novembre"},null,null,null,null,null,{"$f":"Traduction!$A$402","v":"Décembre"},{"$f":"Traduction!$A$403","v":"Total"}]
[null,{"$f":"Traduction!$A$383","v":"3.5 Résultats"},null,null,null,{"$f":"Traduction!$A$392","v":"Janvier"},null,null,{"$f":"Traduction!$A$393","v":"Février"},null,null,{"$f":"Traduction!$A$394","v":"Mars"},null,null,null,{"$f":"Traduction!$A$395","v":"Avril"},null,null,null,{"$f":"Traduction!$A$396","v":"Juin"},null,null,null,null,null,null,null,{"$f":"IF(T48=\"Asservi à une grandeur de réglage\",1,0)","v":0},null,{"$f":"IF($I$18=AC6,$AE39*$I$35/0.9,($AE39*$I$35*$O$82+$O$83))*$I$30/0.9","v":{"$error":"#DIV/0!"}},{"$f":"$AC$27","v":{"$error":"#DIV/0!"}},{"$f":"IF(OR($I$18=$AC$7,AND($I$18=$AC$6,$I$48<>$P$75)),INDEX(AM52:AN52,IF($I$20=AU9,1,2)),0)*IF($I$48=$P$74,0.5,1)","v":0},{"$f":"$AB$14","v":0},null,null,null,null,null,0.4,0.25]
[null,{"$f":"TEXT(AF39,\"0%\") & \"-\" & TEXT(AG39,\"0%\")","v":"0%-25%"},null,null,null,{"$f":"AD52*J40","v":{"$error":"#DIV/0!"}},null,null,{"$f":"$F53*AE52","v":{"$error":"#DIV/0!"}},null,null,{"$f":"$F53*AF52","v":{"$error":"#DIV/0!"}},null,null,null,{"$f":"$F53*AG52","v":{"$error":"#DIV/0!"}},null,null,null,{"$f":"SUM(I53:S53)","v":{"$error":"#DIV/0!"}},null,null,null,null,null,null,null,null,null,{"$f":"IF($I$18=AC6,$AE40*$I$35/0.9,($AE40*$I$35*$O$82+$O$83))*$I$30/0.9","v":{"$error":"#DIV/0!"}},{"$f":"$AC$27","v":{"$error":"#DIV/0!"}},{"$f":"IF(OR($I$18=AC7,AND($I$18=$AC$6,$I$48<>$P$75)),INDEX(AM53:AN53,IF($I$20=AU9,1,2)),0)*IF($I$48=$P$74,0.5,1)","v":0},{"$f":"$AB$14","v":0},null,null,null,null,null,0.25,0.15]
[null,{"$f":"TEXT(AF40,\"0%\") & \"-\" & TEXT(AG40,\"0%\")","v":"25%-50%"},null,null,null,{"$f":"AD53*J41","v":{"$error":"#DIV/0!"}},null,null,{"$f":"$F54*AE53","v":{"$error":"#DIV/0!"}},null,null,{"$f":"$F54*AF53","v":{"$error":"#DIV/0!"}},null,null,null,{"$f":"$F54*AG53","v":{"$error":"#DIV/0!"}},null,null,null,{"$f":"SUM(I54:S54)","v":{"$error":"#DIV/0!"}},null,null,null,null,null,null,null,null,null,{"$f":"IF($I$18=AC6,$AE41*$I$35/0.9,($AE41*$I$35*$O$82+$O$83))*$I$30/0.9","v":{"$error":"#DIV/0!"}},{"$error":"#DIV/0!"},{"$f":"IF(OR($I$18=AC7,AND($I$18=$AC$6,$I$48<>$P$75)),INDEX(AM54:AN54,IF($I$20=\"Circulation\",1,2)),0)*IF($I$48=$P$74,0.5,1)","v":0},0,null,null,null,null,null,0.1,7.0000000000000007E-2]
[null,{"$f":"TEXT(AF41,\"0%\") & \"-\" & TEXT(AG41,\"0%\")","v":"50%-75%"},null,null,null,{"$f":"AD54*J42","v":{"$error":"#DIV/0!"}},null,null,{"$f":"$F55*AE54","v":{"$error":"#DIV/0!"}},null,null,{"$f":"$F55*AF54","v":{"$error":"#DIV/0!"}},null,null,null,{"$f":"$F55*AG54","v":{"$error":"#DIV/0!"}},null,null,null,{"$error":"#DIV/0!"},null,null,null,null,null,null,null,null,null,{"$f":"IF($I$18=AC6,$AE42*$I$35/0.9,($AE42*$I$35*$O$82+$O$83))*$I$30/0.9","v":{"$error":"#DIV/0!"}},{"$error":"#DIV/0!"},{"$f":"IF(OR($I$18=AC7,AND($I$18=$AC$6,$I$48<>$P$75)),INDEX(AM55:AN55,IF($I$20=AU9,1,2)),0)*IF($I$48=$P$74,0.5,1)","v":0},0,null,null,null,null,null,0,0]
[null,{"$f":"TEXT(AF42,\"0%\") & \"-\" & TEXT(AG42,\"0%\")","v":"75%-100%"},null,null,null,{"$f":"AD55*J43","v":{"$error":"#DIV/0!"}},null,null,{"$f":"$F56*AE55","v":{"$error":"#DIV/0!"}},null,null,{"$f":"$F56*AF55","v":{"$error":"#DIV/0!"}},null,null,null,{"$f":"$F56*AG55","v":{"$error":"#DIV/0!"}},null,null,null,{"$error":"#DIV/0!"}]
[null,{"$f":"Traduction!$A$404","v":"Consommation thermique "},null,null,null,{"$f":"SUM(F53:F56)","v":{"$error":"#DIV/0!"}},null,null,{"$f":"SUM(I53:I56)","v":{"$error":"#DIV/0!"}},null,null,{"$f":"SUM(L53:L56)","v":{"$error":"#DIV/0!"}},null,null,null,{"$f":"SUM(P53:P56)","v":{"$error":"#DIV/0!"}},null,null,null,{"$error":"#DIV/0!"}]
[]
[null,{"$f":"Traduction!$A$711","v":"Mesurage Planair"}]
[null,{"$f":"Traduction!$A$406","v":"4. Détermination des économies par la mise en place d'un système de free cooling"},null,null,null,null,{"$f":"ROUND(T57,-2)","v":{"$error":"#DIV/0!"}},null,null,{"$f":"Traduction!$A$407","v":"4.1 Principe du free cooling"},null,null,null,null,{"$f":"G60/F57","v":{"$error":"#DIV/0!"}}]
[null,null,null,null,null,null,null,null,null,{"$f":"Traduction!$A$407","v":"4.1 Principe du free cooling"},null,null,{"$f":"ROUND(I21*T57,-2)","v":{"$error":"#REF!"}}]
[]
[null,{"$f":"Traduction!$A$408","v":"Lorsque la température extérieure est inférieure à la température du réseau de froid, l'eau glacée circule à travers l'aérorefroidisseur, qui n'est autre qu'un échangeur avec des ventilateurs qui forcent l'échange entre l'air et l'eau. De cette manière le fluide est refroidi sans que le groupe froid n'ait besoin de fonctionner.\nUne différence de température entre l'eau à refroidir et l'air extérieur est indispensable, sinon aucun transfert de chaleur n'est possible. Un différentiel d'environ 3 °C entre la température de l’air extérieur et celle de l’eau est nécessaire pour le fonctionnement du free-cooling. Ce différentiel étant lié aux caractéristiques des échangeurs de chaleur, le cas échéant, il pourrait être réduit."}]
[null,{"$f":"Traduction!$A$409","v":"Température extérieure (°C)"}]
[null,{"$f":"Traduction!$A$410","v":"Température de fonctionnement du free cooling (°C)"}]
[null,{"$f":"Traduction!$A$411","v":"Heures Freecooling"}]
[]
[]
[]
[]
[]
[null,null,null,null,null,null,null,null,null,null,null,null,null,null,null,{"$f":"Traduction!$A$415","v":"Economie d'énergie (par an)"}]
[null,{"$f":"Traduction!$A$412","v":"Heures"},null,null,null,null,null,null,null,null,null,null,null,null,null,{"$f":"Traduction!$A$416","v":"4.2 Résultats"}]
[null,{"$f":"Traduction!$A$413","v":"Heures de free cooling"},null,null,null,null,null,null,null,null,null,null,null,null,null,{"$f":"Traduction!$A$417","v":"Température moyenne aller du réseau d'eau glacée"}]
[null,{"$f":"Traduction!$A$414","v":"Potentiel du free cooling"},null,null,null,null,null,null,null,null,null,null,null,null,null,{"$f":"Traduction!$A$418","v":"Température de mise en service du free cooling"}]
[null,null,null,null,null,null,null,null,null,{"$f":"Traduction!$A$420","v":0.96577380952380953}]
[null,null,null,null,null,null,null,null,{"$f":"Traduction!$A$419","v":0.95967741935483875},{"$f":"Traduction!$A$421","v":0.73252688172043012}]
[null,null,null,null,null,null,null,null,null,"p=",null,null,null,null,1.74]
[null,null,null,null,null,null,null,null,null,"h=",null,null,null,null,-0.75660000000000005]
[]
[null,null,null,null,null,null,null,null,{"$f":"Traduction!$A$422","v":0.42777777777777776},{"$f":"Traduction!$A$423","v":0.10483870967741936}]
[null,null,null,null,null,null,null,null,null,"p",null,null,null,null,0.57310000000000005]
[null,null,null,null,null,null,null,null,null,"h",null,null,null,null,0.43580000000000002]
[]
[]
[]
[]
[]
[]
[]
[]
[null,{"$f":"INDEX(ClaLiGANa,MATCH(B1,ClaListePo,0))","v":{"$error":"#REF!"}},{"$error":"#REF!"},{"$error":"#REF!"},{"$error":"#REF!"},{"$error":"#REF!"},{"$error":"#REF!"},{"$error":"#REF!"},{"$error":"#REF!"},{"$error":"#REF!"},{"$error":"#REF!"},{"$error":"#REF!"},{"$error":"#REF!"},{"$error":"#REF!"},{"$error":"#REF!"},{"$error":"#REF!"},{"$error":"#REF!"},{"$error":"#REF!"},{"$error":"#REF!"},{"$error":"#REF!"},{"$error":"#REF!"},{"$error":"#REF!"},{"$error":"#REF!"},{"$error":"#REF!"},{"$error":"#REF!"},{"$error":"#REF!"},{"$error":"#REF!"}]
[]
[null,{"$f":"RIGHT(CELL(\"nomfichier\",A1),LEN(CELL(\"nomfichier\",A1))-FIND(\"]\",CELL(\"nomfichier\",A1)))","v":"APPo"}]
[]
[]
[]
[]
[]
[]
[]
[]
[]
[]
[]
[]
[]
[]
[]
[]
[]
[]
[]
[]
[]
[]
[]
[]
[]
[]
[]
[]
[]
[]
[]
[]
[]
[]
[]
[]
[]
[]
[]
[]
[]
[]
[]
[]
[]
[]
[]
[]
[]
[]
[]
[]
[]
[]
[]
[1]

{"sheet":"Feuil1","index":15,"n_rows":25,"n_cols":1,"rows_kept":25,"cut":false,"hidden":true,"merged":[]}
["Plusieurs paramètres vont influencer la durée de vie effective d'une installation: le nombre d'heures de fonctionnement par an, la taille, les conditions d'exploitation (milieu agressif).\nPour un moteur et une pompe sans problème d'usure particulière, on "]
["Lorsque le système est complexe, il faut comprendre le comportement et la nature des consommateurs. Si les besoins des consommateurs varient de façon concomitante, les analyses et les optimisations sont plus simples."]
["Il s’agit d’éviter qu’une vision trop restreinte conduise à des mesures contre-productives à un niveau plus élevé. L’idée est également de déterminer le bon périmètre d’analyse."]
["L’économie la plus simple et la moins onéreuse consiste à assurer le besoin réel et pas plus (donc pas forcément le besoin actuel). Par exemple, il arrive souvent que des modifications dans les besoins (à la baisse) n’aient jamais été intégrées. "]
["Une gestion non optimale des variations de débit est une source de forte surconsommation  L'information sur le caractère variable ou non du besoin est donc importante. "]
["La gestion actuelle des variations est un point clé. Si celle-ci est assurée par étranglement ou par by-pass, l’introduction d’un variateur apportera probablement des économies élevées."]
["La connaissance du profil de débit sur une période représentative est fondamentale. Plus les périodes à petits débits sont longues, plus les économies associées à des mesures d’optimisation (introduction d’un CF) seront importantes."]
["La saison, la météo (Text), l’heure du jour, le jour de la semaine, la production, sont des exemples de paramètres qui peuvent influencer le besoin. Cette information permet notamment de déterminer la durée des mesurages."]
["Le différentiel entre ces deux pressions donne le Δp de fonctionenement de la pompe. Cette grandeur permet de calculer la puissance hydraulique. Il permet aussi de situer le point de fonctionnement actuel par rapport au point de fonctionnement nominal."]
["La puissance électrique active triphasée correspond à la puissance consommée par l'entraînement. Elle permet avec la puissance hydraulique de calculer le rendement global de l'entraînement."]
["On trouve encore souvent des installations dont le mauvais dimensionnement initial ou un changement dans le besoin nominal sont corrigés par un étranglement permanent. Une approche simple mais peu performante. On trouve aussi parfois des vannes qui serven"]
["Le dimensionnement, le réglage et les enclenchements et déclenchements des pompes d’une cascade sont souvent non optimaux. Il en découle des surconsommations."]
["L’accouplement est rare dans le cas des pompes. Dans d’autres installations, il permet une flexibilité en termes de prestation (vitesse) et de géométrie (intégration des différents composants). \nIl s’agit d’un composant qui présente des pertes, particuliè"]
["Des installations peuvent nécessiter un assainissement pour des raisons autres qu'énergétiques. On songe notamment à un âge au-delà de la durée de vie attendue, des besoins d'entretien trop importants, des problèmes de fiabilité récurrents, une modificati"]
["Plusieurs paramètres vont influencer la durée de vie effective d'une installation: le nombre d'heures de fonctionnement par an, la taille, les conditions d'exploitation (milieu agressif).\nPour un moteur et un ventilateur sans problème d'usure particulière"]
["Une gestion non optimale des variations de débit est une source de forte surconsommation. L'information sur le caractère variable ou non du besoin est donc importante.\nLa variation du besoin au cours du temps doit être suivie. Une exploitation horaire peu"]
["La gestion actuelle des variations est un point clé. Si celle-ci est assurée par étranglement, l’introduction d’un variateur apportera probablement des économies sensibles."]
["La connaissance du profil de débit sur une période représentative est fondamentale. Plus les périodes à débits réduit sont longues, plus les économies associées à des mesures d’optimisation (introduction d’un CF) seront importantes."]
["Le différentiel entre ces deux pressions donne le Δp de fonctionenement du ventilateur. Cette grandeur permet de calculer la puissance aéraulique. Il permet aussi de situer le point de fonctionnement actuel par rapport au point de fonctionnement nominal."]
["On trouve encore souvent des installations dont le mauvais dimensionnement initial ou un changement dans le besoin nominal sont corrigés par un étranglement permanent. Une approche simple mais peu performante. \nLes débits dans les différentes branches d'u"]
["On trouve dans les réseaux de ventilation différents composants qui présentent une résistance au flux d'air et, de fait, génèrent des pertes de charge. Il arrive que ces composants soient inutiles, caduques ou mal entretenus."]
["On a souvent recours à un accouplement par courroies car il permet une flexibilité en termes de prestation (vitesse) et de géométrie (intégration des différents composants). \nIl s’agit d’un composant qui présente des pertes, particulièrement lorsqu’il est"]
["gain théorique = (𝐥𝐧( 𝒑 𝒓𝒆𝒇,𝒊 −𝐥𝐧( 𝒑 𝒓𝒆𝒇,𝒏 )/(𝐥𝐧( 𝒑 𝒓𝒆𝒇,𝒊 )−𝐥𝐧( 𝒑 𝒂𝒔𝒑 ))\n\navec : pref,i= pression de refoulement absolue initiale, pref,n= nouvelle pression de refoulement absolue, pasp = pression absolue de l'aspiration"]
["Economie (%)=𝟏 −   𝑺𝑬𝑷𝑹 𝒓é𝒆𝒍   𝑺𝑬𝑷𝑹 𝒕𝒉é𝒐𝒓𝒊𝒒𝒖𝒆     \n"]
["Economie (%)=𝟏 −  𝑺𝑬𝑷𝑹 𝒓é𝒆𝒍 𝑺𝑬𝑷𝑹 𝒕𝒉é𝒐𝒓𝒊𝒒𝒖𝒆 𝒏𝒐𝒖𝒗𝒆𝒂𝒖 𝑮𝑭    \n"]

{"sheet":"Listes","index":16,"n_rows":57,"n_cols":16,"rows_kept":57,"cut":false,"hidden":false,"merged":[]}
[]
[]
[]
[]
[]
[]
[]
[]
[]
[]
[]
[]
[]
[]
[]
[]
[]
[]
[]
[]
[]
[]
[]
[null,null,null,null,null,null,null,null,null,null,null,null,null,null,null,"Langue"]
[null,null,null,null,null,null,null,null,null,null,null,null,null,null,null,"FR"]
[null,null,null,null,null,null,null,null,null,null,null,null,null,null,null,"DE"]
[]
[]
[]
[]
[]
[]
[]
[]
["Lien pour aide web / local"]
[{"$f":"IF(Menu!T5=Listes!A39,Trad!A186,Trad!A185)","v":"https://doc.velani-tool.ch/Informations_FA"},"https://doc.velani-tool.ch/Informations_FA"]
[]
["Source pour les aides"]
[{"$f":"Trad!A12","v":"Internet"}]
[{"$f":"Trad!A13","v":"Local"}]
[]
[]
[]
["APCP"]
["$B$100",null,"Nom du fichier "]
[null,null,{"$f":"MID(CELL(\"filename\",A1),FIND(\"[\",CELL(\"filename\",A1)),FIND(\"]\",CELL(\"filename\",A1))-FIND(\"[\",CELL(\"filename\",A1))+1)&\"'\"","v":"[14010 Module FA V1_I_FR.xlsm]'"}]
[]
[null,null,"NomOnglet"]
[null,null,"Menu"]
[null,null,"Introduction"]
[null,null,"Analyse Pompe"]
[null,null,"Analyse Ventilateur"]
[null,null,"Analyse air compr"]
[null,null,"Analyse Froid"]
[null,null,"Aide calcul économie froid"]
[null,null,"Aide mesurages"]
[null,null,"Aide calcul financier"]

{"sheet":"APCP","index":17,"n_rows":150,"n_cols":48,"rows_kept":150,"cut":false,"hidden":true,"merged":[[104,24,104,29],[65,27,65,29],[66,27,66,29],[67,27,67,29],[68,27,68,29],[69,27,69,29],[60,27,60,29],[61,27,61,29],[62,27,62,29],[63,27,63,29],[64,27,64,29],[65,24,65,26],[66,24,66,26],[67,24,67,26],[68,24,68,26],[69,24,69,26],[60,24,60,26],[61,24,61,26],[62,24,62,26],[63,24,63,26],[64,24,64,26],[65,21,65,23],[66,21,66,23],[67,21,67,23],[68,21,68,23],[69,21,69,23],[60,21,60,23],[61,21,61,23],[62,21,62,23],[63,21,63,23],[64,21,64,23],[65,18,65,20],[66,18,66,20],[67,18,67,20],[68,18,68,20],[69,18,69,20],[60,18,60,20],[61,18,61,20],[62,18,62,20],[63,18,63,20],[64,18,64,20],[65,15,65,17],[66,15,66,17],[67,15,67,17],[68,15,68,17],[69,15,69,17],[60,15,60,17],[61,15,61,17],[62,15,62,17],[63,15,63,17],[64,15,64,17],[65,12,65,14],[66,12,66,14],[67,12,67,14],[68,12,68,14],[69,12,69,14],[60,12,60,14],[61,12,61,14],[62,12,62,14],[63,12,63,14],[64,12,64,14],[21,24,21,26],[22,24,22,26],[23,24,23,26],[46,27,46,29],[47,27,47,29],[57,27,57,29],[53,27,53,29],[54,27,54,29],[35,27,35,29],[36,27,36,29],[37,27,37,29],[38,27,38,29],[45,27,45,29],[30,27,30,29],[31,27,31,29],[32,27,32,29],[34,27,34,29],[26,24,26,26],[27,24,27,26],[28,24,28,26],[29,24,29,26],[30,24,30,26],[21,27,21,29],[22,27,22,29],[32,24,32,26],[34,24,34,26],[23,27,23,29],[24,27,24,29],[25,27,25,29],[26,27,26,29],[27,27,27,29],[28,27,28,29],[29,27,29,29],[24,24,24,26],[25,24,25,26],[26,21,26,23],[27,21,27,23],[28,21,28,23],[29,21,29,23],[30,21,30,23],[57,21,57,23],[53,21,53,23],[54,21,54,23],[57,24,57,26],[53,24,53,26],[54,24,54,26],[37,21,37,23],[38,21,38,23],[45,21,45,23],[46,21,46,23],[47,21,47,23],[45,24,45,26],[46,24,46,26],[47,24,47,26],[35,24,35,26],[36,24,36,26],[37,24,37,26],[38,24,38,26],[31,24,31,26],[21,21,21,23],[22,21,22,23],[23,21,23,23],[24,21,24,23],[25,21,25,23],[46,18,46,20],[47,18,47,20],[57,18,57,20],[54,18,54,20],[21,18,21,20],[22,18,22,20],[23,18,23,20],[24,18,24,20],[25,18,25,20],[26,18,26,20],[27,18,27,20],[28,18,28,20],[29,18,29,20],[30,18,30,20],[31,18,31,20],[32,18,32,20],[31,21,31,23],[32,21,32,23],[34,21,34,23],[54,15,54,17],[35,18,35,20],[36,18,36,20],[37,18,37,20],[38,18,38,20],[45,18,45,20],[57,9,57,11],[57,12,57,14],[57,15,57,17],[37,15,37,17],[38,15,38,17],[45,15,45,17],[46,15,46,17],[47,15,47,17],[41,1,41,29],[42,1,42,29],[43,1,43,29],[53,9,53,11],[53,12,53,14],[53,15,53,17],[53,18,53,20],[35,21,35,23],[36,21,36,23],[35,1,35,8],[23,12,23,14],[24,12,24,14],[25,12,25,14],[31,15,31,17],[32,15,32,17],[34,15,34,17],[35,15,35,17],[36,15,36,17],[26,15,26,17],[27,15,27,17],[28,15,28,17],[29,15,29,17],[30,15,30,17],[45,12,45,14],[46,12,46,14],[47,12,47,14],[34,12,34,14],[35,12,35,14],[36,12,36,14],[37,12,37,14],[38,12,38,14],[28,12,28,14],[29,12,29,14],[30,12,30,14],[31,12,31,14],[32,12,32,14],[119,1,119,8],[21,9,21,11],[22,9,22,11],[23,9,23,11],[24,9,24,11],[25,9,25,11],[26,9,26,11],[27,9,27,11],[28,9,28,11],[29,9,29,11],[30,9,30,11],[31,9,31,11],[32,9,32,11],[90,1,90,8],[54,9,54,11],[45,9,45,11],[46,9,46,11],[47,9,47,11],[60,9,60,11],[61,9,61,11],[62,9,62,11],[63,9,63,11],[64,9,64,11],[65,1,65,8],[66,1,66,8],[67,1,67,8],[68,1,68,8],[69,1,69,8],[74,1,74,11],[76,1,76,11],[78,1,78,11],[80,1,80,11],[65,9,65,11],[66,9,66,11],[67,9,67,11],[68,9,68,11],[69,9,69,11],[60,1,60,8],[61,1,61,8],[62,1,62,8],[63,1,63,8],[64,1,64,8],[45,1,45,8],[46,1,46,8],[47,1,47,8],[50,1,50,8],[54,1,55,8],[57,1,57,8],[113,12,113,27],[76,18,76,27],[78,18,78,27],[14,9,14,15],[15,9,15,15],[16,9,16,15],[17,9,17,15],[80,18,80,27],[82,18,84,27],[34,9,34,11],[35,9,35,11],[36,9,36,11],[37,9,37,11],[38,9,38,11],[21,12,21,14],[22,12,22,14],[26,12,26,14],[27,12,27,14],[54,12,54,14],[21,15,21,17],[22,15,22,17],[23,15,23,17],[24,15,24,17],[25,15,25,17],[36,1,36,8],[38,1,38,8],[39,1,39,8],[31,1,31,8],[32,1,32,8],[13,1,13,8],[14,1,14,8],[15,1,15,8],[16,1,16,8],[17,1,17,8],[26,1,26,8],[27,1,27,8],[28,1,28,8],[29,1,29,8],[30,1,30,8],[21,1,21,8],[22,1,22,8],[23,1,23,8],[24,1,24,8],[25,1,25,8],[20,1,20,8],[34,1,34,8],[37,1,37,7],[119,9,119,11],[1,1,1,2],[1,3,1,4],[1,5,1,6],[1,7,1,8],[1,9,1,10],[1,11,1,12],[1,13,1,14],[1,15,1,16],[90,12,90,14],[92,12,92,14],[87,1,87,29],[88,1,88,29],[92,15,92,17],[104,1,104,23],[106,8,106,10],[106,12,106,14],[106,18,106,24],[76,15,76,17],[77,15,77,17],[78,15,78,17],[79,15,79,17],[80,15,80,17],[81,15,81,17],[78,12,78,14],[79,12,79,14],[80,12,80,14],[81,12,81,14],[82,12,82,14],[83,12,83,14],[84,12,84,14],[82,1,82,11],[1,19,1,20],[2,9,2,10],[2,11,2,12],[3,1,3,2],[3,3,3,4],[3,5,3,6],[3,7,3,8],[3,9,3,10],[3,11,3,12],[3,13,3,14],[3,15,3,16],[3,17,3,18],[3,19,3,20],[2,13,2,14],[1,17,1,18],[12,1,12,8],[111,8,111,10],[112,8,112,10],[113,8,113,10],[114,8,114,10],[113,1,113,7],[115,1,115,6],[115,8,115,10],[7,1,7,15],[10,9,10,15],[11,9,11,15],[12,9,12,15],[13,9,13,15],[10,1,10,8],[11,1,11,8],[92,1,98,8],[107,9,107,10],[82,15,82,17],[83,15,83,17],[84,15,84,17],[84,1,84,11],[74,12,74,14],[75,12,75,14],[76,12,76,14],[77,12,77,14]]}
[null,1,null,2,null,3,null,4,null,5,null,6,null,7,null,8,null,9,null,10,null,11,null,12]
[null,{"$f":"HYPERLINK(NomFichier&Listes!C49&\"'!A1\",Traduction!$A$14)","v":"Fiche \"Air comprimé\""},null,{"$f":"HYPERLINK(NomFichier&Listes!C50&\"'!A1\",Traduction!$A$12)","v":"Fiche \"Ventilateurs\""},null,{"$f":"HYPERLINK(NomFichier&Listes!#REF!&\"'!G7\",Traduction!$A$13)","v":{"$error":"#REF!"}},null,{"$f":"HYPERLINK(NomFichier&Listes!#REF!&\"'!O16\",Traduction!$A$707)","v":{"$error":"#REF!"}},null,{"$f":"HYPERLINK(NomFichier&Listes!C51&\"'!E10\",Traduction!$A$78)","v":"Le circuit hydraulique comprend-il des vannes en position partiellement fermée?"},null,{"$f":"HYPERLINK(NomFichier&Listes!C52&\"'!E10\",Traduction!$A$79)","v":"3. Questions additionnelles"},null,{"$f":"HYPERLINK(NomFichier&Listes!C53&\"'!M12\",Traduction!$A$11)","v":{"$error":"#VALUE!"}},null,{"$f":"HYPERLINK(NomFichier&Listes!#REF!&\"'!F10\",Traduction!$A$549)","v":{"$error":"#REF!"}},null,{"$f":"HYPERLINK(NomFichier&Listes!#REF!&\"'!E10\",Traduction!$A$708)","v":{"$error":"#REF!"}},null,{"$f":"Traduction!$A$80","v":"La pompe fait-elle partie d'une cascade?"}]
[]
[null,{"$f":"IFERROR(HYPERLINK(NomFichier&B130&\"'!A1\",B130),\"\")","v":""},null,{"$f":"IFERROR(HYPERLINK(NomFichier&D130&\"'!A1\",D130),\"\")","v":""},null,{"$f":"IFERROR(HYPERLINK(NomFichier&F130&\"'!A1\",F130),\"\")","v":""},null,{"$f":"IFERROR(HYPERLINK(NomFichier&H130&\"'!A1\",H130),\"\")","v":""},null,{"$f":"IFERROR(HYPERLINK(NomFichier&J130&\"'!A1\",J130),\"\")","v":""},null,{"$f":"IFERROR(HYPERLINK(NomFichier&L130&\"'!A1\",L130),\"\")","v":""},null,{"$f":"IFERROR(HYPERLINK(NomFichier&N130&\"'!A1\",N130),\"\")","v":""},null,{"$f":"IFERROR(HYPERLINK(NomFichier&P130&\"'!A1\",P130),\"\")","v":""},null,{"$f":"IFERROR(HYPERLINK(NomFichier&R130&\"'!A1\",R130),\"\")","v":""},null,{"$f":"IFERROR(HYPERLINK(NomFichier&T130&\"'!A1\",T130),\"\")","v":""}]
[]
[null,{"$f":"Traduction!$A$249","v":"Dans les situations dans lesquelles le système comprend plusieurs compresseurs pouvant fonctionner simultanément, l'optimisation de la cascade est parfois possible avec des économies significatives et à peu de coûts. En règle générale, le fournisseur du compresseur s'occupe de cette régulation. Les modes de fonctionnement efficaces suivants sont à vérifier/atteindre:\n- Le/les compresseurs à vitesse variable génère(nt) la partie fluctuante du débit (le débit de bande est produit par un/des compresseur(s) sans variateur). Cette condition est vérifiée si le taux de charge du/des compresseur(s) sans variateur est élevé. \n- Les enclenchements/déclenchement assurent des taux de charge optimaux : pour les compresseurs en charge/à vide en dessus de 80/90 %, pour les compresseurs à vitesse variable entre 50% et 90%.\n- Les compresseurs les plus efficients fonctionnent en priorité. "},null,null,null,null,null,null,null,null,null,null,null,null,null,null,null,null,null,null,null,null,null,null,null,null,null,null,null,null,null,null,{"$f":"Traduction!$A$4","v":"Local"},{"$f":"Traduction!$A$263","v":"[Hiraux2014] Ellipse, Air comprimé, Michel Hiraux, 2014"},{"$f":"Traduction!$A$248","v":"4.2.4 Optimisation de la cascade des compresseurs"},null,{"$f":"Traduction!$A$269","v":"Analyse fine Froid"},null,null,{"$f":"Traduction!$A$251","v":"1. Mesurer de manière simultanée la consommation électrique de chaque compresseur sur une période représentative. \n2. Déduire le taux de charge de chaque compresseur en fonction de la tranche de débit.\n3. Grâce aux puissances spécifiques des différents compresseurs et des taux de charge, un débit peut être estimé. En sommant ces valeurs, un débit total peut être obtenu. Idéalement le débit total est mesuré par un débitmètre. \n4. Sur cette base, dressez alors une une monotone inverse ou un histogramme des débits. \n5. Pour chaque tranche de débit, une nouvelle séquence d'enclenchement optimisée assurera la production nécessaire \n6. La nouvelle consommation peut alors être estimée par tranche de débit grâce aux puissances spécifiques et au débit de chaque compresseur. \n7. La somme de ces consommations peut alors être comparée à la consommation initale pour établir le gain potentiel.  "},{"$f":"Traduction!$A$259","v":"L'air quittant le compresseur est généralement saturé en eau. Cet air doit être séché pour éviter de la condensation dans le réseau. Le niveau de qualité de l'air en lien avec l'humidité est exprimé par le point de rosé. Il existe plusieurs types de sécheurs:\n- Réfrigération:  les machines frigorifiques sont les systèmes de séchage de l'air comprimé les plus efficaces. Elle sont utilisables lorsque le point de rosé est en dessus de 2°C. Si ces sécheurs ont besoin de 10 minutes pour fonctionner en plein ils peuvent être arrêtés en même temps que le compresseur.\n-  Adsoption: deux réservoirs installés en parallèle contiennent un produit siccatif; l'adsoption se déroule dans le premier réservoir et la régénération dans le second. La régénération à froid se fait via l'injection d'air comprimé (10-20 % du débit nominal du sécheur, ce sont donc des pertes). Le point de rosée sous pression se situe entre -40°C et -70°C. La regénération utilise soit de l'air réchauffé (résistance électrique), de la vapeur ou l'air chauffé par le compressaur. La température est ensuite réduite grâce à l'air ambiant. Le point de rosée se situe aux alentours de -40°C. Les pertes se situe entre 8- 12% liée aux pertes de charge et à la consommation d'air comprimé. Ce type doit être utilisé seulement si nécessaire. Ces sécheurs doivent être réglé en humidité et non par horaire. Les sécheurs à absorption sont plus efficace si l'air est d'abord séché par un sécheur à réfrigération.\n- Membrane pour les petits débit (< 85 m3/h) ponctuelle.\nUne estimation de la consommation est donnée par la figure 4."},{"$f":"AN7","v":"Remarques: Des systèmes de gestion automatique modernes optimisent automatiquement les séquences d'enclenchement selon le type et l'efficacité des compresseurs."},null,{"$f":"AN8","v":"4.3 Température d'aspiration"},null,{"$f":"AN9","v":"Je ne sais pas"},null,{"$f":"Traduction!$A$255","v":"4.4 Monitoring instrumenté (smart meter)"}]
[null,null,null,null,null,null,null,null,null,null,null,null,null,null,null,null,null,null,null,null,null,null,null,null,null,null,null,null,null,null,null,null,{"$f":"Traduction!$A$5","v":"Aperçu des résultats de l'analyse détaillée"},{"$f":"Traduction!$A$264","v":"Mesurage Planair"},0,null,{"$f":"Traduction!$A$270","v":"Ce module FA dévolu aux installations friogrifiques propose une démarche permettant une analyse approfondie du système existant (incluant des mesurages) et des propositions d'optimisation appropriées."},0.2,null,{"$f":"Traduction!$A$252","v":"Remarques: Des systèmes de gestion automatique modernes optimisent automatiquement les séquences d'enclenchement selon le type et l'efficacité des compresseurs."},{"$f":"Traduction!$A$260","v":"Figure 4 : Consommation énergétique de différents sécheurs et leurs domaine d'application [rat]. Attention ces valuers sont approximatives. D'autres sources indiquent entre 2 et 10 Wh/m3 pour les sécheurs frigorifique et entre 15% et 20 % de pertes en volume d'air comprimé pour les sécheurs à adsorption et absoprtion."},0.3,0.7,0.2,0.8,0.3,0.7,{"$f":"Traduction!$A$572","v":"Ne sais pasOuiOuiOui"}]
[null,{"$f":"Traduction!$A$353","v":"Mercredi"},null,null,null,null,null,null,null,null,null,null,null,null,null,null,null,null,null,null,null,null,null,null,null,null,null,null,null,null,null,null,null,{"$f":"Traduction!$A$173","v":"avec les rendement des différents composants: ηCF rendement du convertisseur, ηmot rendement du moteur, ηacc rendement de l'accouplement, ηpompe rendement de la pompe, tous ces composants ne sont pas forcément présents"},0.05,null,{"$f":"Traduction!$A$271","v":"1. Besoins en froid"},0.3,null,{"$f":"Traduction!$A$253","v":"4.3 Température d'aspiration"},{"$f":"Traduction!$A$261","v":"On recommande de remplacer à posteriori tous les systèmes de séchage par une machine frigorifique si le point de rosé requis n'est pas trop élevé (bas?) (> 3°C).\nLes économies peuvent être calculées en s'informant sur les consommations des différents sécheurs.\nPour les sécheurs à adsorption les mesures d'optimisation suivantes peuvent être envisagées:\n- Réguler la régénération sur la base de la mesure du point de rosée.\n- Ne pas surdimensionner le sécheur (notamment lorsque la régénération est réalisée par un débit fixe dimensionné pour la capacité nominale).\n- Contrôler le bon fonctionnement des vannes. "},0.64,0.34,0.64,0.34,0.3,0.7,{"$f":"Traduction!$A$257","v":"5. Optimisation des auxiliaires"}]
[null,null,null,null,null,null,null,null,null,{"$f":"Traduction!$A$11","v":"Cette fiche fait partie des \"recettes\" destinées à guider le responsable des analyses de détail. Elle porte sur les systèmes de pompage.\nLa première partie est constituée d'une liste de questions devant permettre à l'expert de mieux connaître l'équipement et son évolution prévue. La seconde partie précise les besoins de mesurages externes (à réaliser par l'expert). Elle comprend des liens avec les aides à la bonne conduite des mesurages. La troisième partie est un résumé de la situation et des conseils pour la conduite des mesurages.\nLa partie 4 porte sur les analyses. Elle soutient l'expert dans sa façon d'utiliser les résultats de mesurages et de la définition des options d'optimisation possibles et recommandables. Les parties 5 et 6 présentent enfin les calculs des économies et de la rentabilité des mesures.\nDifférentes fiches de détails sont proposées afin d'éclairer le propos. Pour les mesurages, des procédures d'aide sont à disposition avec des conseils pratiques."},null,null,null,null,null,null,null,null,null,null,null,null,null,null,null,null,null,null,null,null,null,null,null,{"$f":"Traduction!$A$265","v":"[rat] Ratgeber Druckluft für den Praxiseinsatz, ein Handbuch für die Instandhaltung. LandesEnergieVerein Steiermark, 2006"},0.1,null,"50 %",0.5,null,"Je ne sais pas",{"$f":"Traduction!$A$262","v":"Référence:"},0.1,0.9,0.1,0.9,0.1,0.9,{"$f":"Traduction!$A$258","v":"5.1 Séchage"}]
[null,{"$f":"Traduction!$A$277","v":"2. Performances de la production de froid"},null,null,null,null,null,null,null,null,null,null,null,null,null,null,null,null,null,null,null,null,null,null,null,null,null,null,null,null,null,null,null,{"$f":"Traduction!$A$266","v":"Les auteurs remercie Rolf Gloor pour la relecture et les nombreux conseils qui sont intégrés dans ce texte."},0.15,null,"60 %",0.6,null,null,"Je ne sais pas",0.3,0.7,0.3,0.7,0.3,0.7]
[null,{"$f":"Traduction!$A$142","v":"Le besoin est a priori bien maîtrisé et enregistré. On a par contre un CF sans débit variable. Un démarreur serait plus judicieux. "},null,null,null,null,null,null,null,null,null,null,null,null,null,null,null,null,null,null,null,null,null,null,null,null,null,null,null,null,null,null,null,{"$f":"Traduction!$A$573","v":"On ne sait pas si le débit correspond au besoin ou s'il trop grand, recherchez des informations sur le besoin réel et comparez-les avec les valeurs relevées par l'exploitant."},0.25,null,"70 %",0.7]
[null,{"$f":"Traduction!$A$141","v":"Le débit variable n'est probablement  pas contrôlé de la manière la plus efficace.  Un mesurage du débit est recommandé."},null,null,null,null,null,null,null,null,null,null,null,null,null,null,null,null,null,null,null,null,null,null,null,null,null,null,null,null,null,null,null,{"$f":"Traduction!$A$268","v":"Support"},0.4,null,{"$f":"Traduction!$A$274","v":"1.2 Détermination des besoins"},0.9]
[null,{"$f":"Traduction!A617","v":"NonNe sais pasNonNon"},null,null,null,null,null,null,null,null,null,null,null,null,null,null,null,null,null,null,null,null,null,null,null,null,null,null,null,null,null,null,null,null,null,null,{"$f":"Traduction!$A$274","v":"1.2 Détermination des besoins"},0]
[null,{"$f":"Traduction!$A$170","v":"Recherchez des informations sur le besoin réel. De plus, les éventuelles variations sont inconnues. Un mesurage du débit est recommandé. Comparez ensuite les valeurs afin de corriger le dimensionnement et de déterminer si un variateur  de vitesse ferait sens."},null,null,null,null,null,null,null,null,null,null,null,null,null,null,null,null,null,null,null,null,null,null,null,null,null,null,null,null,null,null,null,null,null,null,null,null,null,null,{"$f":"INDEX(APCP_regtyp,MATCH(J$37,APCP_regcp,0),MATCH(J$36,APCP_typcomp2,0))","v":{"$error":"#N/A"}}]
[null,{"$f":"Traduction!$A$171","v":"Recherchez des informations sur le besoin réel. De plus, les éventuelles variations sont inconnues. Utilisez les valeurs relevées par l'exploitant et déterminer s'il y a lieu de corriger le dimensionnement et si un variateur  de vitesse ferait sens"}]
[null,{"$f":"Traduction!$A$279","v":"Déterminer la performance réelle du groupe froid et la comparer à la performance théorique :\n- du groupe froid existant\n- d'un nouveau groupe froid\nOn utilisera le SEPR (Seasonal Energy Performance Ratio), qui est le coefficient d'efficacité d'un refroidisseur industriel produissant du froid dans des  conditions nominales standard,  il est  représentatif  des  variations  de  la  charge et de la température ambiante tout au long de l’année.\nLa finalité est de déterminer s'il est plus intéressant d'optimiser les paramètres de fonctionnement du groupe froid actuel ou de changer de groupe."}]
[null,{"$f":"Traduction!$A$175","v":"Nhi, nombre d'heures de fonctionnement dans la classe de rendement i\nn, nombre de classes de débit\nPel, anc.i est la puissance élect. avant optimisation pour la classe de débit i\nPel, nouv.i est la puissance élect. après optimisation pour la classe de débit i"}]
[null,{"$f":"Traduction!$A$280","v":"2.2 Détermination des performances globales du groupe "},null,null,null,null,null,null,null,{"$f":"PrixElec","v":{"$error":"#REF!"}}]
[]
[null,{"$f":"Traduction!$A$285","v":"2.3 Outil de décision"}]
[null,{"$f":"Traduction!$A$286","v":"Si la différence d'économie entre les 2 cas est :\n- faible (inférieure à 20%) : la solution envisagée est de conserver le groupe froid et d'optimiser son fonctionnement\n- élevée (supérieure à 20%) : la solution envisagée est de changer de groupe froid\nNota : La valeur de 20% reste une valeur à titre indicatif"},null,null,null,null,null,null,null,null,null,null,null,null,null,null,null,null,null,null,null,null,null,null,null,null,null,null,null,null,null,null,null,{"$f":"Traduction!$A$281","v":"2.2.1 Comparaison du SEPR réel du groupe froid avec le SEER théorique du même groupe"}]
[null,{"$f":"Traduction!$A$139","v":"Dans la cas d'une pompe ou d'un groupe de pompes, les économies peuvent avoir pour origines:\n- un débit plus important que nécessaire (aux consommateurs)\n- une exploitation non optimisée en termes d'horaire (un mode réduit ou un arrêt possible dans certaines plages horaires)\n- un travail à un niveau de pression trop élevé (le système assurerait sa prestation avec une pression plus faible ou une vanne semi-fermée casse la pression en permanence)\n- le système est ancien, mal dimensionné et les variations de besoin sont gérées de façon non optimale "},null,null,null,null,null,null,null,101,null,null,102,null,null,103,null,null,104,null,null,105,null,null,106,null,null,107,null,null,null,null,null,{"$f":"Traduction!$A$732","v":"SEPR théorique"}]
[null,{"$f":"Traduction!$A$141","v":"Le débit variable n'est probablement  pas contrôlé de la manière la plus efficace.  Un mesurage du débit est recommandé."},null,null,null,null,null,null,null,null,null,null,null,null,null,null,null,null,null,null,null,null,null,null,null,null,null,null,null,null,null,null,null,{"$f":"Traduction!$A$283","v":"2.2.2 Comparaison du SEPR réel du groupe froid avec le SEPR théorique d'un nouveau groupe"}]
[null,{"$f":"Traduction!$A$142","v":"Le besoin est a priori bien maîtrisé et enregistré. On a par contre un CF sans débit variable. Un démarreur serait plus judicieux. "},null,null,null,null,null,null,null,null,null,null,null,null,null,null,null,null,null,null,null,null,null,null,null,null,null,null,null,null,null,null,null,{"$f":"Traduction!$A$284","v":"- Se rapprocher du fournisseur pour la sélection d'un nouveau groupe froid \n- Demander les 4 EER théoriques du groupe froid et calculer la valeur du SEER théorique\n\nL'économie associée à l'achat d'un nouveau groupe froid, peut être calculée via la formule suivante :\n\n"}]
[null,"Puissance nominal du compresseur [kW]"]
[null,{"$f":"Traduction!$A$183","v":"Le circuit aéraulique comprend-il des clapets ou des VAV systématiquement en position partiellement fermée?"}]
[null,{"$f":"Traduction!$A$184","v":"Le système comprend-il des composants induisant des pertes de charge qui pourraient être réduites?"}]
[null,{"$f":"Traduction!$A$287","v":"3. Optimisation de la production de froid"}]
[null,{"$f":"Traduction!$A$288","v":"3.1 Objectif "}]
[null,{"$f":"Traduction!$A$153","v":"On ne sait pas si le débit correspond au besoin ou s'il trop grand, recherchez des informations sur le besoin. Par ailleurs, les  variations ne sont probablement pas bien maîtrisées. Un mesurage du débit est recommandé."}]
[null,{"$f":"Traduction!$A$54","v":"Propriété visuelle des cellules ont été classé dans des styles."},null,null,null,null,null,null,null,{"$f":"IF(J30=\"\",IF(J25<>\"\",ROUND(J25*J27*IF(J29=$AG$7,(0.3+0.7*J32)*1.1,(0.04+J32)*1.15),-2),\"\"),J30)","v":""},null,null,{"$f":"IF(M30=\"\",IF(M25<>\"\",ROUND(M25*M27*IF(M29=$AG$7,(0.3+0.7*M32)*1.1,(0.04+M32)*1.15),-2),\"\"),M30)","v":""},null,null,{"$f":"IF(P30=\"\",IF(P25<>\"\",ROUND(P25*P27*IF(P29=$AG$7,(0.3+0.7*P32)*1.1,(0.04+P32)*1.15),-2),\"\"),P30)","v":""},null,null,{"$f":"IF(S30=\"\",IF(S25<>\"\",ROUND(S25*S27*IF(S29=$AG$7,(0.3+0.7*S32)*1.1,(0.04+S32)*1.15),-2),\"\"),S30)","v":""},null,null,{"$f":"IF(V30=\"\",IF(V25<>\"\",ROUND(V25*V27*IF(V29=$AG$7,(0.3+0.7*V32)*1.1,(0.04+V32)*1.15),-2),\"\"),V30)","v":""},null,null,{"$f":"IF(Y30=\"\",IF(Y25<>\"\",ROUND(Y25*Y27*IF(Y29=$AG$7,(0.3+0.7*Y32)*1.1,(0.04+Y32)*1.15),-2),\"\"),Y30)","v":""},null,null,{"$f":"IF(AB30=\"\",IF(AB25<>\"\",ROUND(AB25*AB27*IF(AB29=$AG$7,(0.3+0.7*AB32)*1.1,(0.04+AB32)*1.15),-2),\"\"),AB30)","v":""}]
[null,{"$f":"Traduction!$A$185","v":"Composants pertes de charge"},null,null,null,null,null,null,null,{"$f":"IFERROR(INDEX(APCP_FPM,MATCH(J28,APCP_tauxchargcp,0)),\"\")","v":""},null,null,"",null,null,"",null,null,"",null,null,"",null,null,"",null,null,""]
[null,null,null,null,null,null,null,null,null,{"$f":"COUNTBLANK(J25:J29)","v":5},null,null,{"$f":"COUNTBLANK(M25:M29)","v":5},null,null,5,null,null,5,null,null,5,null,null,5,null,null,5]
[]
[null,{"$f":"Traduction!$A$290","v":"3.2 Compresseur(s)"},null,null,null,null,null,null,null,null,null,null,null,null,null,null,null,null,null,null,null,null,null,null,null,null,null,null,null,null,null,null,null,{"$f":"Traduction!$A$289","v":"Analyser le fonctionnement des différents composants de la production de froid"}]
[null,{"$f":"Traduction!$A$291","v":"Quelle est le mode de régulation des compresseurs ?\nAfin de déterminer de manière précise le fonctionnement des compresseurs, des mesurages de la puissance électrique (relevés minutes) seront réalisées. \n\nLes différents modes de régulation possibles sont les suivants :\npour les compresseurs à pistons\n- déconnexion des cylindres : les compresseurs ouverts possédant un nombre élevé de cylindres offrent la possibilité d’une mise hors circuit ou déconnexion de cylindre pour une régulation par degrés de la puissance. La puissance frigorifique obtenue en charge partielle dépend du nombre de cylindres en service par rapport au nombre de cylindres déconnectés.\npour les compresseurs à vis\n- par tiroir : le principe consiste à limiter la course de la vis (pour les compresseurs à vis), en déplacant un \"tiroir\", on modifie la section d'entrée du volume aspiré et donc on module le débit\npour tout type de compresseur\n- tout ou rien : régulation ancienne et basique qui consiste à la mise en marche ou à l'arrêt des compresseurs\n- en cascade : le principe consiste à découper la tâche par palier, la régulation s’effectue par la mise en parallèle successive des compresseurs (cascade)\n- par  variation de vitesse : la vitesse du compresseur est adaptée en fonction de la demande, modifiant son volume aspiré et donc sa puissance\nLa mise en place d'un système de variation de vitesse apparait comme la méthode la plus adaptée. \n\nL'économie sur la consommation par la mise en place de variateur de vitesse est estimée à :\n- 8% pour une régulation tout ou rien\n- 5% pour une régulation en cascade\n- 2% pour une régulation par tiroir \n- 2% pour une régulation par déconnexion des cylindres "},null,null,null,null,null,null,null,null,null,null,null,null,null,null,null,null,null,null,null,null,null,null,null,null,null,null,null,null,null,null,null,{"$f":"Traduction!$A$560","v":"ouinonnon"}]
[null,{"$f":"Traduction!$A$292","v":"3.3 Détendeur"},null,null,null,null,null,null,null,null,null,null,null,null,null,null,null,null,null,null,null,null,null,null,null,null,null,null,null,null,null,null,null,{"$f":"Traduction!$A$567","v":"On ne sait pas si le variateur est vraiment utile et réglé, recherchez des informations et, si besoin, procédez à des mesurages de débit."}]
[null,{"$f":"Traduction!$A$561","v":"Le besoin est a priori relevé et bien maîtrisé."},null,null,null,null,null,null,{"$f":"HYPERLINK(Traduction!A632&\"/info_APCP_tchnp.htm\",Traduction!$A$724)","v":"Date"},null,null,null,null,null,null,null,null,null,null,null,null,null,null,null,null,null,null,null,null,null,null,null,null,{"$f":"Traduction!$A$568","v":"OuiNe sais pasNonOui"}]
[null,{"$f":"Traduction!$A$294","v":"3.4 Evaporateur"},null,null,null,null,null,null,null,null,null,null,null,null,null,null,null,null,null,null,null,null,null,null,null,null,null,null,null,null,null,null,null,{"$f":"Traduction!$A$569","v":"Les variations de débit sont mal connues et possiblement mal maîtrisées, considérez les relevés de débit du site."}]
[null,null,null,null,null,null,null,null,null,null,null,null,null,null,null,null,null,null,null,null,null,null,null,null,null,null,null,null,null,null,null,null,null,{"$f":"Traduction!A712","v":"[rat] Ratgeber Druckluft für den Praxiseinsatz, ein Handbuch füe de Instandhaltung. LandesEnergieVerein Steiermark, 2006"}]
[null,{"$f":"Traduction!$A$296","v":"La température de consigne d'évaporation est-elle adaptée à l'utilisation ?\nRelever la température d’évaporation de quelques degrés permet des économies non négligeables.\n\n- Si l'installation est dédiée au confort, il est probable que l'on puisse augmenter la température de quelques degrés. Des tests pourront être effectués afin de voir si cela impact ou non le confort des personnes. Par exemple, pour un réseau de climatisation avec une température de départ réglée à 10°C, une augmentation de la consigne pourrait potentiellement être réalisée. Se référer aux prescriptions SIA 382/1 concernant les températures d'utilisation dans les applications de confort.\n\n- Si l'installation est dédiée au process, l'augmentation de la température est sensiblement réduite dans le sens où elle est conditionnée par le mode de fonctionnement des machines. Il faudrait se rapprocher des fournisseurs machines pour connaitre l'impact d'un tel changement. \n\nL'économie sur la consommation est calculée via la formule suivante :\nEconomie (%)  = ∆T de l'augmentation de température d'évaporation * 3"}]
[null,{"$f":"Traduction!$A$297","v":"3.5 Condenseur"}]
[null,{"$f":"Traduction!$A$299","v":"La température de condensation est-elle fixe ou flottante ?\nIl est préconisé de mettre en place un système de HP  flottante en fonction de la température extérieure. De cette manière la température de condensation fluctue suivant les conditions climatiques.\n\nL'économie sur la consommation est calculée via la formule suivante :\nEconomie (%) = ∆T de la diminution de température de condensation * 2.5"}]
[null,{"$f":"Traduction!$A$300","v":"4. Optimisation de la distribution de froid"}]
[null,null,null,null,null,null,null,null,null,{"$f":"IF(J24=\"\",J22,J24)","v":101},null,null,{"$f":"IF(M24=\"\",M22,M24)","v":102},null,null,{"$f":"IF(P24=\"\",P22,P24)","v":103},null,null,{"$f":"IF(S24=\"\",S22,S24)","v":104},null,null,{"$f":"IF(V24=\"\",V22,V24)","v":105},null,null,{"$f":"IF(Y24=\"\",Y22,Y24)","v":106},null,null,{"$f":"IF(AB24=\"\",AB22,AB24)","v":107}]
[null,{"$f":"Traduction!$A$301","v":"4.1 Objectif "}]
[null,{"$f":"Traduction!$A$302","v":"Analyser les différents éléments du réseau de distibution "}]
[null,{"$f":"Traduction!$A$303","v":"4.2 Général "}]
[]
[]
[null,{"$f":"Traduction!A745","v":"Temps nécessaire à rentabiliser financièrement la mesure d’optimisation énergétique en considérant que cette dernière supporte le 100% du coût de l’investissement. "}]
[]
[null,{"$f":"Traduction!$A$305","v":"4.3 Réseau primaire (entre le groupe froid et le stock froid)"}]
[null,null,null,null,null,null,null,null,null,{"$f":"IF(J46=\"\",\"\",IF(J58=\"\",(-0.000171972*J47^4+0.0086498696*J47^3-0.163739*J47^2+1.7556*J47-1.439762)*0.92,J58))","v":""},null,null,{"$f":"IF(M46=\"\",\"\",IF(M58=\"\",(-0.000171972*M47^4+0.0086498696*M47^3-0.163739*M47^2+1.7556*M47-1.439762)*0.92,M58))","v":""},null,null,{"$f":"IF(P46=\"\",\"\",IF(P58=\"\",(-0.000171972*P47^4+0.0086498696*P47^3-0.163739*P47^2+1.7556*P47-1.439762)*0.92,P58))","v":""},null,null,{"$f":"IF(S46=\"\",\"\",IF(S58=\"\",(-0.000171972*S47^4+0.0086498696*S47^3-0.163739*S47^2+1.7556*S47-1.439762)*0.92,S58))","v":""},null,null,{"$f":"IF(V46=\"\",\"\",IF(V58=\"\",(-0.000171972*V47^4+0.0086498696*V47^3-0.163739*V47^2+1.7556*V47-1.439762)*0.92,V58))","v":""},null,null,{"$f":"IF(Y46=\"\",\"\",IF(Y58=\"\",(-0.000171972*Y47^4+0.0086498696*Y47^3-0.163739*Y47^2+1.7556*Y47-1.439762)*0.92,Y58))","v":""},null,null,{"$f":"IF(AB46=\"\",\"\",IF(AB58=\"\",(-0.000171972*AB47^4+0.0086498696*AB47^3-0.163739*AB47^2+1.7556*AB47-1.439762)*0.92,AB58))","v":""}]
[null,{"$f":"Traduction!$A$306","v":"- Vérifier le bon dimensionnement de la pompe et ses paramètres de fonctionnement \n\n- Vérifier que l'écart de température entre l'aller et le retour, soit minimum de 4°C. Dans le cas contraire, diminuer le débit d’eau glacée."},null,null,null,null,null,null,null,{"$f":"IF(J46=\"\",\"\",TEXT(J54,\"0.0\") & \" @\" & TEXT(J47,\"0.0\") & \" bar\")","v":""},null,null,{"$f":"IF(M46=\"\",\"\",TEXT(M54,\"0.0\") & \" @\" & TEXT(M47,\"0.0\") & \" bar\")","v":""},null,null,{"$f":"IF(P46=\"\",\"\",TEXT(P54,\"0.0\") & \" @\" & TEXT(P47,\"0.0\") & \" bar\")","v":""},null,null,{"$f":"IF(S46=\"\",\"\",TEXT(S54,\"0.0\") & \" @\" & TEXT(S47,\"0.0\") & \" bar\")","v":""},null,null,{"$f":"IF(V46=\"\",\"\",TEXT(V54,\"0.0\") & \" @\" & TEXT(V47,\"0.0\") & \" bar\")","v":""},null,null,{"$f":"IF(Y46=\"\",\"\",TEXT(Y54,\"0.0\") & \" @\" & TEXT(Y47,\"0.0\") & \" bar\")","v":""},null,null,{"$f":"IF(AB46=\"\",\"\",TEXT(AB54,\"0.0\") & \" @\" & TEXT(AB47,\"0.0\") & \" bar\")","v":""}]
[]
[]
[null,{"$f":"Traduction!$A$746","v":"Le TRB est souvent utilisé dans des programmes de soutien (comme par exemple Prokilowatt) pour calculer le droit aux subventions. Il permet un calcul simple et rapide de la rentabilité du projet, mais ne tient pas compte de l’évolution de la valeur monétaire ni de la durée de vie du projet."},null,null,null,null,null,null,null,null,null,null,null,null,null,null,null,null,null,null,null,null,null,null,null,null,null," "]
[]
[null,{"$f":"Traduction!$A$309","v":"5. Optimisation des auxiliaires électriques"}]
[null,{"$f":"Traduction!$A$185","v":"Composants pertes de charge"},null,null,null,null,null,null,null,{"$f":"IFERROR(INDEX(APCP_FPM,MATCH(J28,APCP_tauxchargcp,0)),0)","v":0},null,null,{"$f":"IFERROR(INDEX(APCP_FPM,MATCH(M28,APCP_tauxchargcp,0)),0)","v":0},null,null,{"$f":"IFERROR(INDEX(APCP_FPM,MATCH(P28,APCP_tauxchargcp,0)),0)","v":0},null,null,{"$f":"IFERROR(INDEX(APCP_FPM,MATCH(S28,APCP_tauxchargcp,0)),0)","v":0},null,null,{"$f":"IFERROR(INDEX(APCP_FPM,MATCH(V28,APCP_tauxchargcp,0)),0)","v":0},null,null,{"$f":"IFERROR(INDEX(APCP_FPM,MATCH(Y28,APCP_tauxchargcp,0)),0)","v":0},null,null,{"$f":"IFERROR(INDEX(APCP_FPM,MATCH(AB28,APCP_tauxchargcp,0)),0)","v":0}]
[null,{"$f":"Traduction!$A$187","v":"On trouve différents composants comme des amortisseurs de bruits, des batteries et des filtres qui génèrent des pertes de charge parfois importantes.  Suite à l'évolution du système, ces dispositifs ne sont parfois plus nécessaires. Leur démontage permet de réduire les pertes de charge. Pour les filtres, c'est le manque de maintenance qui peut s'avérer source de pertes de charge inutiles. "},null,null,null,null,null,null,null,{"$f":"YEAR(TODAY())-J26","v":2021},null,null,{"$f":"YEAR(TODAY())-M26","v":2021},null,null,{"$f":"YEAR(TODAY())-P26","v":2021},null,null,{"$f":"YEAR(TODAY())-S26","v":2021},null,null,{"$f":"YEAR(TODAY())-V26","v":2021},null,null,{"$f":"YEAR(TODAY())-Y26","v":2021},null,null,{"$f":"YEAR(TODAY())-AB26","v":2021}]
[null,{"$f":"Traduction!$A$310","v":"5.1 Objectif "},null,null,null,null,null,null,null,{"$f":"IF(J29=AG7,INDEX(APCP_regtyp,MATCH(J$37,APCP_regcp,0),MATCH(J$36,APCP_typcomp2,0))+INDEX(APCP_regtyp,MATCH(J$37,APCP_regcp,0),MATCH(J$36,APCP_typcomp2,0)+1)*J61,J61+0.04)","v":0.04},null,null,{"$f":"IF(M29=AG7,INDEX(APCP_regtyp,MATCH(M$37,APCP_regcp,0),MATCH(M$36,APCP_typcomp2,0))+INDEX(APCP_regtyp,MATCH(M$37,APCP_regcp,0),MATCH(M$36,APCP_typcomp2,0)+1)*M61,M61+0.04)","v":0.04},null,null,{"$f":"IF(P29=AG7,INDEX(APCP_regtyp,MATCH(P$37,APCP_regcp,0),MATCH(P$36,APCP_typcomp2,0))+INDEX(APCP_regtyp,MATCH(P$37,APCP_regcp,0),MATCH(P$36,APCP_typcomp2,0)+1)*P61,P61+0.04)","v":0.04},null,null,{"$f":"IF(S29=AG7,INDEX(APCP_regtyp,MATCH(S$37,APCP_regcp,0),MATCH(S$36,APCP_typcomp2,0))+INDEX(APCP_regtyp,MATCH(S$37,APCP_regcp,0),MATCH(S$36,APCP_typcomp2,0)+1)*S61,S61+0.04)","v":0.04},null,null,{"$f":"IF(V29=AG7,INDEX(APCP_regtyp,MATCH(V$37,APCP_regcp,0),MATCH(V$36,APCP_typcomp2,0))+INDEX(APCP_regtyp,MATCH(V$37,APCP_regcp,0),MATCH(V$36,APCP_typcomp2,0)+1)*V61,V61+0.04)","v":0.04},null,null,{"$f":"IF(Y29=AG7,INDEX(APCP_regtyp,MATCH(Y$37,APCP_regcp,0),MATCH(Y$36,APCP_typcomp2,0))+INDEX(APCP_regtyp,MATCH(Y$37,APCP_regcp,0),MATCH(Y$36,APCP_typcomp2,0)+1)*Y61,Y61+0.04)","v":0.04},null,null,{"$f":"IF(AB29=AG7,INDEX(APCP_regtyp,MATCH(AB$37,APCP_regcp,0),MATCH(AB$36,APCP_typcomp2,0))+INDEX(APCP_regtyp,MATCH(AB$37,APCP_regcp,0),MATCH(AB$36,APCP_typcomp2,0)+1)*AB61,AB61+0.04)","v":0.04}]
[null,{"$f":"Traduction!$A$311","v":"Analyser le fonctionnement des auxiliaires électriques présents sur des systèmes externes tels que les tours de refroidissement "},null,null,null,null,null,null,null,{"$f":"J61+0.04","v":0.04},null,null,{"$f":"M61+0.04","v":0.04},null,null,0.04,null,null,0.04,null,null,0.04,null,null,0.04,null,null,0.04,null,null,null,{"$f":"Traduction!$A$176","v":"Phydr,anc.i est la puissance hydraulique (avant optimisation) pour la classe de débit i\nƞtot,anc.i est le rendement total avant pour la classe de débit i\nΔpanc.i est le différentiel de pression avant pour la classe de débit i [Pa]\nQanc.i est le débit moyen avant de la classe i [m3/s]\nPhydr,nouv.i est la puissance hydraulique (après optimisation) pour la classe de débit i\nƞtot,nouv.i est le rendement total après pour la classe de débit i\nΔpnouv.i est le différentiel de pression après pour la classe de débit i [Pa]\nQnouv.i est le débit moyen après de la classe i [m3/s]"}]
[null,{"$f":"Traduction!$A$312","v":"5.2 Analyse des auxiliaires électriques"},null,null,null,null,null,null,null,{"$f":"J31","v":""},null,null,{"$f":"M31","v":""},null,null,{"$f":"P31","v":""},null,null,{"$f":"S31","v":""},null,null,{"$f":"V31","v":""},null,null,{"$f":"Y31","v":""},null,null,{"$f":"AB31","v":""},null,null,null,{"$f":"SUM(J65:AB65)","v":0}]
[null,{"$f":"Traduction!$A$313","v":"L'étude du fonctionnement de ces auxiliaires électriques ne doit pas être négligé. Le potentiel d'économie peut s'avérer être important. Ce travail sera réalisé en s'appuyant sur les analyses de détails suivantes : \"Analyse Préliminaire Pompe\" et \"Analyse Préliminaire Ventilateur\""},null,null,null,null,null,null,null,{"$f":"IFERROR(IF(J48=\"\",IF(J62>14,0.1,IF(J62>9,0.03,0))*J31,IF(J46-J54>0,(J46-IF(J58=\"\",J54,J58))*J27*J63*J48,0)),\"\")","v":""},null,null,{"$f":"IFERROR(IF(M48=\"\",IF(M62>14,0.1,IF(M62>9,0.03,0))*M31,IF(M46-M54>0,(M46-IF(M58=\"\",M54,M58))*M27*M63*M48,0)),\"\")","v":""},null,null,{"$f":"IFERROR(IF(P48=\"\",IF(P62>14,0.1,IF(P62>9,0.03,0))*P31,IF(P46-P54>0,(P46-IF(P58=\"\",P54,P58))*P27*P63*P48,0)),\"\")","v":""},null,null,{"$f":"IFERROR(IF(S48=\"\",IF(S62>14,0.1,IF(S62>9,0.03,0))*S31,IF(S46-S54>0,(S46-IF(S58=\"\",S54,S58))*S27*S63*S48,0)),\"\")","v":""},null,null,{"$f":"IFERROR(IF(V48=\"\",IF(V62>14,0.1,IF(V62>9,0.03,0))*V31,IF(V46-V54>0,(V46-IF(V58=\"\",V54,V58))*V27*V63*V48,0)),\"\")","v":""},null,null,{"$f":"IFERROR(IF(Y48=\"\",IF(Y62>14,0.1,IF(Y62>9,0.03,0))*Y31,IF(Y46-Y54>0,(Y46-IF(Y58=\"\",Y54,Y58))*Y27*Y63*Y48,0)),\"\")","v":""},null,null,{"$f":"IFERROR(IF(AB48=\"\",IF(AB62>14,0.1,IF(AB62>9,0.03,0))*AB31,IF(AB46-AB54>0,(AB46-IF(AB58=\"\",AB54,AB58))*AB27*AB63*AB48,0)),\"\")","v":""}]
[null,null,null,null,null,null,null,null,null,{"$f":"IFERROR(IF(OR(J66>0,J29=$AG$6),1,0),0)","v":1},null,null,{"$f":"IFERROR(IF(OR(M66>0,M29=$AG$6),1,0),0)","v":1},null,null,{"$f":"IFERROR(IF(OR(P66>0,P29=$AG$6),1,0),0)","v":1},null,null,{"$f":"IFERROR(IF(OR(S66>0,S29=$AG$6),1,0),0)","v":1},null,null,{"$f":"IFERROR(IF(OR(V66>0,V29=$AG$6),1,0),0)","v":1},null,null,{"$f":"IFERROR(IF(OR(Y66>0,Y29=$AG$6),1,0),0)","v":1},null,null,{"$f":"IFERROR(IF(OR(AB66>0,AB29=$AG$6),1,0),0)","v":1}]
[null,{"$f":"Traduction!$A$314","v":"6. Autres optimisations"},null,null,null,null,null,null,null,{"$f":"IF(J66=\"\",\"\",IF(J61<0.7,(J63-J64)*J27*J25,0))","v":""},null,null,{"$f":"IF(M66=\"\",\"\",IF(M61<0.7,(M63-M64)*M27*M25,0))","v":""},null,null,{"$f":"IF(P66=\"\",\"\",IF(P61<0.7,(P63-P64)*P27*P25,0))","v":""},null,null,{"$f":"IF(S66=\"\",\"\",IF(S61<0.7,(S63-S64)*S27*S25,0))","v":""},null,null,{"$f":"IF(V66=\"\",\"\",IF(V61<0.7,(V63-V64)*V27*V25,0))","v":""},null,null,{"$f":"IF(Y66=\"\",\"\",IF(Y61<0.7,(Y63-Y64)*Y27*Y25,0))","v":""},null,null,{"$f":"IF(AB66=\"\",\"\",IF(AB61<0.7,(AB63-AB64)*AB27*AB25,0))","v":""}]
[null,null,null,null,null,null,null,null,null,{"$f":"IF(J24=\"\",J22,J24)","v":101},null,null,{"$f":"IF(M24=\"\",M22,M24)","v":102},null,null,{"$f":"IF(P24=\"\",P22,P24)","v":103},null,null,{"$f":"IF(S24=\"\",S22,S24)","v":104},null,null,{"$f":"IF(V24=\"\",V22,V24)","v":105},null,null,{"$f":"IF(Y24=\"\",Y22,Y24)","v":106},null,null,{"$f":"IF(AB24=\"\",AB22,AB24)","v":107}]
[null,{"$f":"Traduction!$A$315","v":"6.1 Objectif "},null,null,null,null,null,null,null,{"$f":"IFERROR(ROUND(J68+J66,-2),\"\")","v":""},null,null,{"$f":"IFERROR(ROUND(M68+M66,-2),\"\")","v":""},null,null,"",null,null,"",null,null,"",null,null,"",null,null,""]
[]
[null,{"$f":"Traduction!$A$316","v":"Etudier l'optimisation la plus adaptée entre les deux systèmes suivants : \n- Free cooling \n- Récupération de chaleur"}]
[null,{"$f":"Traduction!$A$317","v":"6.2 Analyse préliminaire"}]
[null,null,null,null,null,null,null,null,null,null,null,null,null,null,null,{"$f":"Traduction!$A$318","v":"Afin d'étudier les variantes de free cooling et de récupération de chaleur, il est nécessaire de déterminer les consommations mensuelles associées à la production de froid et de chaleur\n"},null,null,{"$f":"Traduction!$A$67","v":"Des modifications des prestations de la pompe ont-elles une influence sur d’autres consommations ?"}]
[null,{"$f":"Traduction!$A$320","v":"Le free cooling consiste à utiliser l'air extérieur, en période froide, pour refroidir directement le réseau d'eau glacée, à l'aide d'un aérorefroidisseur. De cette manière, le compresseur du groupe froid n'a pas besoin de fonctionner.\n\nLes étapes de l'étude sont les suivantes : \n- Définir la température nécessaire du réseau de froid et voir si cette température peut être atteinte avec T° extérieure :\nT°besoin ≥ T°ext FC + 3°C de pincement\n- Définir le nombre d'heures de fonctionnement du free cooling sur une année\n- Définir le potentiel d'économie d'énergie"}]
[]
[null,{"$f":"Traduction!$A$321","v":"6.4 Mise en place d'un système de récupération de chaleur"},null,null,null,null,null,null,null,null,null,null,null,null,null,{"$f":"IF(M75=AG7,ROUND(IF(M77=AV7,0.1*AF65,0),-2),0)","v":0},null,null,{"$f":"IF(P77>0,\"Remplacer le système de séchage actuel par un système de séchage frigorifique avec régulation de l’humidité.\",\"\")","v":""}]
[]
[null,{"$f":"Traduction!$A$322","v":"La récupération de chaleur consiste à récupérer l'énergie dissipée au niveau du condenseur du groupe froid, et à valoriser cette chaleur pour le chauffage ou l'ECS.\n\nLes questions à se poser sont les suivantes :\n- A-t-on besoin de chaleur ?\n- Quel niveau de température s'impose ?\n- Quand et en quelle saison faut-il de la chaleur ?\n- De quelle quantité de chaleur a-t-on besoin\nA partir de ces données, le potentiel d'économie d'énergie peut être estimé."}]
[]
[null,{"$f":"Traduction!$A$323","v":"6.5 Outil de décision"},null,null,null,null,null,null,null,null,null,null,null,null,null,null,null,null,{"$f":"IF(P83>0,IF(AND(M79>0,M81>0),(\"La différence entre la pression du réseau \"&TEXT(M79,\"0.0\")& AH38),AH39),\"\")","v":""}]
[]
[null,{"$f":"Traduction!$A$324","v":"Le choix entre les deux sytèmes d'optimisation se base principalement sur les critères suivants :\n-Economique : réduction des frais liés à l'énergie\n-Environnemental : réduction des émissions de C02"},null,null,null,null,null,null,null,null,null,null,{"$f":"IF(M85=\"\",IF(AND(M81<>\"\",M81>0),IF(M79-M81>0.7,M79-M81-0.7,0),IF(M14=\"oui\",0,0.5)),M85)","v":0.5},null,null,{"$f":"IF(M83>0,ROUND(M83*0.07*APCP_consoann,-2),0)","v":0},null,null,{"$f":"IF(MAX(J39:AB39)-M79>2,Traduction!$A$318,\"\")","v":""}]
[]
[null,{"$f":"Traduction!$A$325","v":"Aide"}]
[]
[null,{"$f":"Traduction!$A$326","v":"Vous trouverez ci-dessous les liens vers les sujets d'aide:"}]
[null,{"$f":"Traduction!$A$327","v":"Calcul des économies"}]
[null,{"$f":"Traduction!$A$328","v":"Légende :         \n          données pré-remplies\n          données à compléter (selon mesurages ou hypothèses)\n          données calculées\n\n"}]
[null,null,null,null,null,null,null,null,null,null,null,null,null,null,null,{"$f":"Traduction!$A$318","v":"Afin d'étudier les variantes de free cooling et de récupération de chaleur, il est nécessaire de déterminer les consommations mensuelles associées à la production de froid et de chaleur\n"}]
[null,{"$f":"Traduction!$A$329","v":"1. Détermination des caractéristiques du fluide"},null,null,null,null,null,null,null,null,{"$f":"HYPERLINK(Traduction!A632&\"/info_APCP_deconn.htm\",Traduction!$A$724)","v":"Date"}]
[]
[null,{"$f":"Traduction!$A$330","v":"Déterminer le type de fluide présent dans votre réseau de distribution ainsi que le régime de température, puis compléter les caractéristiques de ce dernier d'après les tableaux ci-dessous."},null,null,null,null,null,null,null,null,null,null,0.5,null,null,{"$f":"ROUND(SUM(J96:AB96),-2)","v":0}]
[null,null,null,null,null,null,null,null,null,{"$f":"IFERROR(INDEX(APCP_FPMarr,MATCH(J38,tauxchargcp,0)),0)","v":0},null,null,0,null,null,0,null,null,0,null,null,0,null,null,0,null,null,0]
[null,null,null,null,null,null,null,null,null,{"$f":"IF(J30=\"non\",INDEX(APCP_regtyp,MATCH(J$37,APCP_regcp,0),MATCH(J$36,APCP_typcomp2,0))+INDEX(APCP_regtyp,MATCH(J$37,APCP_regcp,0),MATCH(J$36,APCP_typcomp2,0)+1)*J94,J94+0.04)","v":0.04},null,null,{"$f":"IF(M30=\"non\",INDEX(APCP_regtyp,MATCH(M$37,APCP_regcp,0),MATCH(M$36,APCP_typcomp2,0))+INDEX(APCP_regtyp,MATCH(M$37,APCP_regcp,0),MATCH(M$36,APCP_typcomp2,0)+1)*M94,M94+0.04)","v":0.04},null,null,{"$f":"IF(P30=\"non\",INDEX(APCP_regtyp,MATCH(P$37,APCP_regcp,0),MATCH(P$36,APCP_typcomp2,0))+INDEX(APCP_regtyp,MATCH(P$37,APCP_regcp,0),MATCH(P$36,APCP_typcomp2,0)+1)*P94,P94+0.04)","v":0.04},null,null,{"$f":"IF(S30=\"non\",INDEX(APCP_regtyp,MATCH(S$37,APCP_regcp,0),MATCH(S$36,APCP_typcomp2,0))+INDEX(APCP_regtyp,MATCH(S$37,APCP_regcp,0),MATCH(S$36,APCP_typcomp2,0)+1)*S94,S94+0.04)","v":0.04},null,null,{"$f":"IF(V30=\"non\",INDEX(APCP_regtyp,MATCH(V$37,APCP_regcp,0),MATCH(V$36,APCP_typcomp2,0))+INDEX(APCP_regtyp,MATCH(V$37,APCP_regcp,0),MATCH(V$36,APCP_typcomp2,0)+1)*V94,V94+0.04)","v":0.04},null,null,{"$f":"IF(Y30=\"non\",INDEX(APCP_regtyp,MATCH(Y$37,APCP_regcp,0),MATCH(Y$36,APCP_typcomp2,0))+INDEX(APCP_regtyp,MATCH(Y$37,APCP_regcp,0),MATCH(Y$36,APCP_typcomp2,0)+1)*Y94,Y94+0.04)","v":0.04},null,null,{"$f":"IF(AB30=\"non\",INDEX(APCP_regtyp,MATCH(AB$37,APCP_regcp,0),MATCH(AB$36,APCP_typcomp2,0))+INDEX(APCP_regtyp,MATCH(AB$37,APCP_regcp,0),MATCH(AB$36,APCP_typcomp2,0)+1)*AB94,AB94+0.04)","v":0.04}]
[null,null,null,null,null,null,null,null,null,{"$f":"J95*$M91*47*J25*$M93*IFERROR(INDEX(APCP_fct,MATCH(J15,APCP_etatres,0))+0.1,0)","v":0},null,null,{"$f":"M95*$M91*47*M25*$M93*IFERROR(INDEX(APCP_fct,MATCH(M15,APCP_etatres,0))+0.1,0)","v":0},null,null,{"$f":"P95*$M91*47*P25*$M93*IFERROR(INDEX(APCP_fct,MATCH(P15,APCP_etatres,0))+0.1,0)","v":0},null,null,{"$f":"S95*$M91*47*S25*$M93*IFERROR(INDEX(APCP_fct,MATCH(S15,APCP_etatres,0))+0.1,0)","v":0},null,null,{"$f":"V95*$M91*47*V25*$M93*IFERROR(INDEX(APCP_fct,MATCH(V15,APCP_etatres,0))+0.1,0)","v":0},null,null,{"$f":"Y95*$M91*47*Y25*$M93*IFERROR(INDEX(APCP_fct,MATCH(Y15,APCP_etatres,0))+0.1,0)","v":0},null,null,{"$f":"AB95*$M91*47*AB25*$M93*IFERROR(INDEX(APCP_fct,MATCH(AB15,APCP_etatres,0))+0.1,0)","v":0}]
[]
[null,null,null,null,null,null,null,null,null,{"$f":"IF(J17=AG7,IF(J16>2,0.1,IF(J16>1,0.05,0))*AF65,0)","v":0}]
[]
[null,{"$f":"Traduction!$A$335","v":"1.2 Eau + antigel"}]
[null,{"$f":"Traduction!$A$336","v":"Masse volumique (kg/m3):"}]
[]
[]
[null,{"$f":"Traduction!$A$337","v":"Concentration en % du poids d'antigel"}]
[null,{"$f":"Traduction!$A$338","v":"Chaleur spécifique (J/kg.K) :"},null,null,null,null,null,null,null,null,null,null,null,null,null,null,null,null,null,null,null,null,null,null,{"$f":"HYPERLINK(Traduction!A632&\"/Calc_GAP_compr_air.htm\",Traduction!A651)","v":"sachant que les débits de chaque classe avant et après sont inchangés donc que Qanc.i = Qnouv.i"}]
[]
[null,{"$f":"Traduction!$A$340","v":"Masse volumique"},null,null,null,null,null,null,{"$f":"ROUND(I112+I113+I114+I115+I116,-2)","v":0},null,null,null,{"$f":"ROUND(I107*J18,-3)","v":{"$error":"#REF!"}},null,null,{"$f":"Traduction!$A$339","v":"1.3 Résultats"},null,null,{"$f":"TEXT(I107/AF65,\"0%\")& \" \" & AH36","v":{"$error":"#DIV/0!"}},null,null,null,null,null,null,null,null,{"$f":"APCP_kWh/APCP_consoann","v":{"$error":"#DIV/0!"}}]
[null,{"$f":"Traduction!$A$341","v":"Chaleur spécifique"}]
[null,{"$f":"IF(ISERROR(SUM(J68:AB68)),AH21,\"\")","v":""}]
[]
[null,null,null,null,null,null,null,null,null,{"$f":"Traduction!$A$318","v":"Afin d'étudier les variantes de free cooling et de récupération de chaleur, il est nécessaire de déterminer les consommations mensuelles associées à la production de froid et de chaleur\n"},null,null,{"$f":"Traduction!$A$195","v":"Il existe de multiples façons de gérer un besoin fluctuant. On citera notamment, côté ventilateur, l'étranglement (clapet) et la variation de vitesse et, côté consommateurs, des VAV. Ces solutions ne sont pas équivalentes en termes énergétiques.\n1) Lorsqu'il n'y a qu'un consommateur ou que, multiples, ils ont un comportement synchrone (donc proche de celui d'un seul consommateur), le profil de débit classé permet de suggérer des optimisations ad hoc basées sur l'introduction d'un variateur (voir utilisation des débits classés). Les optimisations résident dans le redimensionnement et la variation de vitesse.\n2) Lorsque le ventilateur alimente des consommateurs aux besoins indépendants les uns des autres dans des réseaux de branches parallèles, la situation est plus compliquée. Des solutions simples comme le réglage de la pression au refoulement du ventilateur sont insuffisantes et peuvent parfois poser des problèmes sur certaines branches. Il est alors nécessaire de conserver des clapets par exemple pour assurer l'équilibrage et les besoins réels. Les analyses doivent alors être menées de cas en cas et des solutions sur mesure proposées. Des approches basées sur des capteurs de pression déportés peuvent offrir de bons résultats énergétiques.\n"}]
[null,{"$f":"Traduction!$A$545","v":"ouinon"},null,null,null,null,null,null,{"$f":"IFERROR(ROUND(AF65*INDEX(APCP_fct,MATCH(J15,APCP_etatres,0)),-2),0)","v":0},null,null,null,{"$f":"IF(I112>0, AH22,\"\")","v":""}]
[null,{"$f":"Traduction!$A$344","v":"Heure"},null,null,null,null,null,null,{"$f":"IF(P83>0,P83,IF(J14=\"non\",AF65*0.5*0.07,0))","v":0},null,null,null,{"$f":"IF(I113>0,AH23,\"\")","v":""}]
[null,{"$f":"Traduction!$A$345","v":"Température aller (°C)"},null,null,null,null,null,null,{"$f":"SUM(J70:AB70)+J98","v":0},null,null,null,{"$f":"IF(I114>0,AH24,\"\") & IF(J98>0,AH35,\"\")","v":""}]
[null,{"$f":"Traduction!$A$346","v":"Température retour (°C)"},null,null,null,null,null,null,{"$f":"P77","v":0}]
[null,{"$f":"Traduction!A747","v":"2. Temps de retour net (TRN)"},null,null,null,null,null,null,{"$f":"P93","v":0}]
[]
[null,{"$f":"Traduction!$A$347","v":"Débit (m3/h)"}]
[null,null,null,null,null,null,null,null,null,{"$f":"Traduction!$A$348","v":"Puissance frigorifique (kWf)"},null,null,{"$f":"Traduction!$A$195","v":"Il existe de multiples façons de gérer un besoin fluctuant. On citera notamment, côté ventilateur, l'étranglement (clapet) et la variation de vitesse et, côté consommateurs, des VAV. Ces solutions ne sont pas équivalentes en termes énergétiques.\n1) Lorsqu'il n'y a qu'un consommateur ou que, multiples, ils ont un comportement synchrone (donc proche de celui d'un seul consommateur), le profil de débit classé permet de suggérer des optimisations ad hoc basées sur l'introduction d'un variateur (voir utilisation des débits classés). Les optimisations résident dans le redimensionnement et la variation de vitesse.\n2) Lorsque le ventilateur alimente des consommateurs aux besoins indépendants les uns des autres dans des réseaux de branches parallèles, la situation est plus compliquée. Des solutions simples comme le réglage de la pression au refoulement du ventilateur sont insuffisantes et peuvent parfois poser des problèmes sur certaines branches. Il est alors nécessaire de conserver des clapets par exemple pour assurer l'équilibrage et les besoins réels. Les analyses doivent alors être menées de cas en cas et des solutions sur mesure proposées. Des approches basées sur des capteurs de pression déportés peuvent offrir de bons résultats énergétiques.\n"}]
[null,{"$f":"Traduction!$A$349","v":"2.1 Mesurages"},null,null,null,null,null,null,null,{"$f":"ROUND(AF65*0.6,-2)","v":0},null,null,{"$f":"Traduction!$A$351","v":"Lundi "}]
[]
[null,{"$f":"Traduction!$A$139","v":"Dans la cas d'une pompe ou d'un groupe de pompes, les économies peuvent avoir pour origines:\n- un débit plus important que nécessaire (aux consommateurs)\n- une exploitation non optimisée en termes d'horaire (un mode réduit ou un arrêt possible dans certaines plages horaires)\n- un travail à un niveau de pression trop élevé (le système assurerait sa prestation avec une pression plus faible ou une vanne semi-fermée casse la pression en permanence)\n- le système est ancien, mal dimensionné et les variations de besoin sont gérées de façon non optimale "},null,null,null,null,null,null,null,1]
[]
[]
[]
[]
[]
[]
[]
[null,{"$f":"INDEX(ClaLiGANa,MATCH(B1,ClaListeCP,0))","v":{"$error":"#REF!"}},{"$f":"INDEX(ClaLiGANa,MATCH(C1,ClaListePo,0))","v":{"$error":"#REF!"}},{"$error":"#REF!"},{"$error":"#REF!"},{"$error":"#REF!"},{"$error":"#REF!"},{"$error":"#REF!"},{"$error":"#REF!"},{"$error":"#REF!"},{"$error":"#REF!"},{"$error":"#REF!"},{"$error":"#REF!"},{"$error":"#REF!"},{"$error":"#REF!"},{"$error":"#REF!"},{"$error":"#REF!"},{"$error":"#REF!"},{"$error":"#REF!"},{"$error":"#REF!"},{"$error":"#REF!"},{"$error":"#REF!"}]
[null,{"$f":"RIGHT(CELL(\"nomfichier\",A1),LEN(CELL(\"nomfichier\",A1))-FIND(\"]\",CELL(\"nomfichier\",A1)))","v":"APCP"}]
[]
[]
[]
[]
[]
[]
[]
[]
[]
[]
[]
[]
[]
[]
[]
[]
[]
[]
[1]

{"sheet":"APVe","index":18,"n_rows":150,"n_cols":45,"rows_kept":150,"cut":false,"hidden":true,"merged":[[59,7,59,9],[59,13,59,15],[60,13,60,15],[3,11,3,12],[3,13,3,14],[3,15,3,16],[55,15,55,18],[56,15,56,18],[51,11,51,14],[52,11,52,14],[53,11,53,14],[54,11,54,14],[55,11,55,14],[56,11,56,14],[56,8,56,10],[51,8,51,10],[52,8,52,10],[53,8,53,10],[54,8,54,10],[55,8,55,10],[3,17,3,18],[29,1,29,7],[37,1,37,6],[38,6,38,9],[1,11,1,12],[1,13,1,14],[1,15,1,16],[1,17,1,18],[1,19,1,20],[1,1,1,2],[1,3,1,4],[1,5,1,6],[1,7,1,8],[1,9,1,10],[51,1,51,4],[52,1,52,4],[53,1,53,4],[54,1,54,4],[55,1,55,4],[51,19,51,20],[52,19,52,20],[53,19,53,20],[54,19,54,20],[55,19,55,20],[51,5,51,7],[52,5,52,7],[53,5,53,7],[54,5,54,7],[55,5,55,7],[3,19,3,20],[2,9,2,10],[3,1,3,2],[3,3,3,4],[3,5,3,6],[3,7,3,8],[3,9,3,10],[2,11,2,12],[47,10,47,14],[40,6,40,9],[38,10,38,15],[39,10,39,15],[40,10,40,15],[41,10,41,15],[42,10,42,15],[10,9,10,15],[39,6,39,9],[11,9,11,15],[8,1,8,8],[41,6,41,9],[42,6,42,9],[26,1,27,7],[56,5,56,7],[12,9,12,15],[56,19,56,20],[51,15,51,18],[52,15,52,18],[53,15,53,18],[54,15,54,18],[9,9,9,15],[43,6,43,9],[47,1,47,9],[56,1,56,4],[9,1,9,8],[10,1,10,8],[11,1,11,8],[12,1,12,8],[39,1,39,5],[40,1,40,5],[41,1,41,5],[42,1,42,5],[38,1,38,5],[18,1,18,8],[19,1,19,8],[20,1,20,8],[25,1,25,20],[50,14,50,20],[43,10,43,15],[6,1,6,20],[26,9,26,15],[29,9,29,15],[20,9,20,15],[13,9,13,15],[14,9,14,15],[15,9,15,15],[16,9,16,15],[18,9,18,15],[19,9,19,15],[17,9,17,15],[13,1,13,8],[14,1,14,8],[15,1,15,8],[16,1,16,8],[17,1,17,8],[8,9,8,15]]}
[null,1,null,2,null,3,null,4,null,5,null,6,null,7,null,8,null,9,null,10,null,11,null,12]
[null,{"$f":"HYPERLINK(NomFichier&Listes!C49&\"'!A1\",Traduction!$A$14)","v":"Fiche \"Air comprimé\""},null,{"$f":"HYPERLINK(NomFichier&Listes!C50&\"'!A1\",Traduction!$A$12)","v":"Fiche \"Ventilateurs\""},null,{"$f":"HYPERLINK(NomFichier&Listes!#REF!&\"'!G7\",Traduction!$A$13)","v":{"$error":"#REF!"}},null,{"$f":"HYPERLINK(NomFichier&Listes!#REF!&\"'!O16\",Traduction!$A$707)","v":{"$error":"#REF!"}},null,{"$f":"HYPERLINK(NomFichier&Listes!C51&\"'!E10\",Traduction!$A$78)","v":"Le circuit hydraulique comprend-il des vannes en position partiellement fermée?"},null,{"$f":"HYPERLINK(NomFichier&Listes!C52&\"'!E10\",Traduction!$A$79)","v":"3. Questions additionnelles"},null,{"$f":"HYPERLINK(NomFichier&Listes!C53&\"'!M12\",Traduction!$A$11)","v":{"$error":"#VALUE!"}},null,{"$f":"HYPERLINK(NomFichier&Listes!#REF!&\"'!F10\",Traduction!$A$549)","v":{"$error":"#REF!"}},null,{"$f":"HYPERLINK(NomFichier&Listes!#REF!&\"'!E10\",Traduction!$A$708)","v":{"$error":"#REF!"}},null,{"$f":"Traduction!$A$80","v":"La pompe fait-elle partie d'une cascade?"}]
[]
[null,{"$f":"IFERROR(HYPERLINK(NomFichier&B92&\"'!A1\",B92),\"\")","v":""},null,{"$f":"IFERROR(HYPERLINK(NomFichier&D92&\"'!A1\",D92),\"\")","v":""},null,{"$f":"IFERROR(HYPERLINK(NomFichier&F92&\"'!A1\",F92),\"\")","v":""},null,{"$f":"IFERROR(HYPERLINK(NomFichier&H92&\"'!A1\",H92),\"\")","v":""},null,{"$f":"IFERROR(HYPERLINK(NomFichier&J92&\"'!A1\",J92),\"\")","v":""},null,{"$f":"IFERROR(HYPERLINK(NomFichier&L92&\"'!A1\",L92),\"\")","v":""},null,{"$f":"IFERROR(HYPERLINK(NomFichier&N92&\"'!A1\",N92),\"\")","v":""},null,{"$f":"IFERROR(HYPERLINK(NomFichier&P92&\"'!A1\",P92),\"\")","v":""},null,{"$f":"IFERROR(HYPERLINK(NomFichier&R92&\"'!A1\",R92),\"\")","v":""},null,{"$f":"IFERROR(HYPERLINK(NomFichier&T92&\"'!A1\",T92),\"\")","v":""}]
[]
[null,{"$f":"Traduction!$A$424","v":6.9444444444444441E-3},null,null,null,null,null,null,null,null,null,null,null,null,null,null,null,null,null,null,null,null,null,null,null,null,null,null,{"$f":"Traduction!$A$30","v":"Si un AP+ existe déjà et que l'on reclique dessus dans la feuille des classements des économies, il est demandé si l'on veut réecrir les paramètre de l'AP ou pas."}]
[null,{"$f":"Traduction!$A$353","v":"Mercredi"},null,null,null,null,null,null,null,null,null,null,null,null,null,null,null,null,null,null,null,null,null,null,null,null,null,null,{"$f":"Traduction!$A$355","v":"Vendredi"},null,null,null,null,null,null,null,null,null,{"$f":"Traduction!$A$356","v":"Samedi"},null,null,null,null,"oui non",{"$f":"Traduction!$A$357","v":"Dimanche"}]
[null,{"$f":"Traduction!$A$368","v":"2 (automne)"},null,null,null,null,null,null,null,null,null,null,null,null,null,null,null,null,null,null,null,null,null,null,null,null,null,null,{"$f":"Traduction!$A$125","v":"Les équipements sont anciens et le système a priori plutôt simple."},{"$f":"Traduction!$A$164","v":"Recherchez des informations sur le besoin réel.  De plus, les  variations de débit ne sont probablement pas efficacement maîtrisées. Considérez le relevé de débit du site pour déterminer si le dimensionnement est correct et si un variateur de vitesse ferait sens."},{"$f":"Traduction!$A$359","v":"Température aller moyennne (°C)"},"Eco moteur","Code","Eco entrainement",{"$f":"Traduction!$A$164","v":"Recherchez des informations sur le besoin réel.  De plus, les  variations de débit ne sont probablement pas efficacement maîtrisées. Considérez le relevé de débit du site pour déterminer si le dimensionnement est correct et si un variateur de vitesse ferait sens."},"Code",0,null,{"$f":"Traduction!$A$362","v":"Puissance frigorifique moyenne (kWf)"},{"$f":"Traduction!$A$157","v":"On ne sait pas si le débit correspond au besoin ou s'il trop grand, recherchez des informations sur le besoin et comparez-les aux valeurs relevées."},null,null,null,{"$f":"Traduction!$A$4","v":"Local"},{"$f":"Traduction!$A$149","v":"Les variations de débit sont mal connues et possiblement mal maîtrisées, procédez à des mesurages de débit."}]
[null,{"$f":"Traduction!$A$369","v":"3 (printemps)"},null,null,null,null,null,null,null,{"$f":"Traduction!$A$145","v":"Le débit max. fourni correspond a priori au besoin. Il n'est cependant pas relevé. Le mesurage du débit permettrait de la valider."},null,null,null,null,null,null,null,null,null,null,null,null,null,null,null,null,null,null,{"$f":"Traduction!$A$145","v":"Le débit max. fourni correspond a priori au besoin. Il n'est cependant pas relevé. Le mesurage du débit permettrait de la valider."},"Eff3",{"$f":"Traduction!$A$364","v":"Besoins frigorifiques mensuels (kWh)"},0.1,{"$f":"AC9 & AD9 & IF(AE9=\"<20 kW\",\"p1\",IF(AE9=\"20-100 kW\",\"p2\",\"p3\"))","v":"Le débit max. fourni correspond a priori au besoin. Il n'est cependant pas relevé. Le mesurage du débit permettrait de la valider.Eff3p3"},0.02,"Eff3",null,1998,null,0,0.3,null,null,null,{"$f":"Traduction!$A$5","v":"Aperçu des résultats de l'analyse détaillée"},{"$f":"Traduction!$A$27","v":"AP et AP+ air comprimé : sélection des taux de fuite a été étendue"}]
[null,{"$f":"Traduction!$A$142","v":"Le besoin est a priori bien maîtrisé et enregistré. On a par contre un CF sans débit variable. Un démarreur serait plus judicieux. "},null,null,null,null,null,null,null,null,null,null,null,null,null,null,null,null,null,null,null,null,null,null,null,null,null,null,{"$f":"Traduction!$A$145","v":"Le débit max. fourni correspond a priori au besoin. Il n'est cependant pas relevé. Le mesurage du débit permettrait de la valider."},"Eff3",{"$f":"Traduction!$A$365","v":"Temps de fonctionnement moyen du groupe"},0.05,{"$f":"AC10 & AD10 & IF(AE10=\"<20 kW\",\"p1\",IF(AE10=\"20-100 kW\",\"p2\",\"p3\"))","v":"Le débit max. fourni correspond a priori au besoin. Il n'est cependant pas relevé. Le mesurage du débit permettrait de la valider.Eff3p3"},0.03,"IE1",null,2005,null,0.25,0.25,null,{"$f":"MATCH(0.2,AM9:AM13,1)","v":1},null,{"$f":"Traduction!$A$575","v":"On ne sait pas si le débit correspond au besoin ou s'il trop grand, recherchez des informations sur le besoin réel et procédez à des mesurages de débit."}]
[null,{"$f":"Traduction!$A$141","v":"Le débit variable n'est probablement  pas contrôlé de la manière la plus efficace.  Un mesurage du débit est recommandé."},null,null,null,null,null,null,null,null,null,null,null,null,null,null,null,null,null,null,null,null,null,null,null,null,"Equivalent classe d'efficactié élément entrainé",null,{"$f":"Traduction!$A$145","v":"Le débit max. fourni correspond a priori au besoin. Il n'est cependant pas relevé. Le mesurage du débit permettrait de la valider."},"Eff3",{"$f":"Traduction!$A$426","v":0.2768817204301075},0.04,"Le débit max. fourni correspond a priori au besoin. Il n'est cependant pas relevé. Le mesurage du débit permettrait de la valider.Eff3p3",0.01,"IE2",null,2010,null,0.5,0.12,null,null,null,{"$f":"Traduction!$A$147","v":"On ne sait pas si le variateur est vraiment utile et réglé, recherchez des informations et, si besoin, procédez à des mesurages de débit."}]
[null,{"$f":"Traduction!$A$617","v":"NonNe sais pasNonNon"},null,null,null,null,null,null,null,null,null,null,null,null,null,null,null,null,null,null,null,null,null,null,null,null,{"$f":"IF(ISBLANK(fv_age),\"\",IF(J14<=AK9,AI9,IF(J14<=AK10,AI10,IF(J14<=AK11,AI11,IF(J14<=AK12,AI12,AI13)))))","v":""},null,{"$f":"Traduction!$A$145","v":"Le débit max. fourni correspond a priori au besoin. Il n'est cependant pas relevé. Le mesurage du débit permettrait de la valider."},"IE1",{"$f":"Traduction!$A$364","v":"Besoins frigorifiques mensuels (kWh)"},7.0000000000000007E-2,"Le débit max. fourni correspond a priori au besoin. Il n'est cependant pas relevé. Le mesurage du débit permettrait de la valider.IE1p3",0.01,"IE3",null,2014,null,0.75,0.06,null,null,null,{"$f":"Traduction!$A$576","v":"Ne sais pasOuiNonOui"}]
[null,{"$f":"Traduction!$A$221","v":"Le réduction de la pression permet des économies d'énergie significatives sans coûts. Si l'on considère que la compression se rapproche de la compression isotherme, le gain théorique peut être calculé avec la formule suivante :"},null,null,null,null,null,null,null,null,null,null,null,null,null,null,null,null,null,null,null,null,null,null,"Code moteur",{"$f":"Traduction!$A$367","v":"1 (hiver)"},null,null,{"$f":"Traduction!$A$145","v":"Le débit max. fourni correspond a priori au besoin. Il n'est cependant pas relevé. Le mesurage du débit permettrait de la valider."},"IE1",{"$f":"Traduction!$A$365","v":"Temps de fonctionnement moyen du groupe"},0.04,"Le débit max. fourni correspond a priori au besoin. Il n'est cependant pas relevé. Le mesurage du débit permettrait de la valider.IE1p3",0.01,"IE4",null,2017,null,1,0,null,null,null,{"$f":"Traduction!$A$565","v":"On ne sait pas si le variateur est vraiment utile et réglé, considérez les relevés de débit du débitmètre du site."}]
[null,{"$f":"Traduction!$A$370","v":"4 (été)"},null,null,null,null,null,null,null,null,null,null,null,null,null,null,null,null,null,null,null,null,null,null,{"$f":"J9 & J15 & IF(J13<20,\"p1\",IF(J13<100,\"p2\",\"p3\"))","v":"Le débit max. fourni correspond a priori au besoin. Il n'est cependant pas relevé. Le mesurage du débit permettrait de la valider.p1"},{"$f":"IFERROR(INDEX(AF9:AF24,MATCH(Y14,AG9:AG24,0)),0)+IFERROR(INDEX(AH9:AH24,MATCH(Y16,AG9:AG24,0)),0)","v":0},null,null,{"$f":"Traduction!$A$145","v":"Le débit max. fourni correspond a priori au besoin. Il n'est cependant pas relevé. Le mesurage du débit permettrait de la valider."},"IE1",{"$f":"Traduction!$A$426","v":0.2768817204301075},0.03,"Le débit max. fourni correspond a priori au besoin. Il n'est cependant pas relevé. Le mesurage du débit permettrait de la valider.IE1p3",0.01,null,null,null,null,1.25,0.15,null,null,null,{"$f":"Traduction!$A$570","v":"OuiNe sais pasNonNon"}]
[null,{"$f":"Traduction!$A$164","v":"Recherchez des informations sur le besoin réel.  De plus, les  variations de débit ne sont probablement pas efficacement maîtrisées. Considérez le relevé de débit du site pour déterminer si le dimensionnement est correct et si un variateur de vitesse ferait sens."},null,null,null,null,null,null,null,null,null,null,null,null,null,null,null,null,null,null,null,null,null,null,"Code entrainement",null,null,null,{"$f":"Traduction!$A$145","v":"Le débit max. fourni correspond a priori au besoin. Il n'est cependant pas relevé. Le mesurage du débit permettrait de la valider."},"IE2",{"$f":"Traduction!$A$364","v":"Besoins frigorifiques mensuels (kWh)"},0.03,"Le débit max. fourni correspond a priori au besoin. Il n'est cependant pas relevé. Le mesurage du débit permettrait de la valider.IE2p3",0.01,null,null,null,null,1.55,0.25,null,null,null,{"$f":"Traduction!$A$571","v":"Les variations de débit sont mal connues et possiblement mal maîtrisées, procédez à des mesurages de débit."}]
[null,{"$f":"Traduction!$A$371","v":"3.1 Fonctionnement du groupe froid"},null,null,null,null,null,null,null,null,null,null,null,null,null,null,null,null,null,null,null,null,null,null,{"$f":"J9 & AA12 & IF(J13<20,\"p1\",IF(J13<100,\"p2\",\"p3\"))","v":"Le débit max. fourni correspond a priori au besoin. Il n'est cependant pas relevé. Le mesurage du débit permettrait de la valider.p1"},null,null,null,{"$f":"Traduction!$A$145","v":"Le débit max. fourni correspond a priori au besoin. Il n'est cependant pas relevé. Le mesurage du débit permettrait de la valider."},"IE2",{"$f":"Traduction!$A$365","v":"Temps de fonctionnement moyen du groupe"},0.02,"Le débit max. fourni correspond a priori au besoin. Il n'est cependant pas relevé. Le mesurage du débit permettrait de la valider.IE2p3",0.01,null,null,null,null,null,null,null,null,null,{"$f":"Traduction!A712","v":"[rat] Ratgeber Druckluft für den Praxiseinsatz, ein Handbuch füe de Instandhaltung. LandesEnergieVerein Steiermark, 2006"}]
[null,{"$f":"Traduction!$A$148","v":"Les variations de débit sont mal connues et possiblement mal maîtrisées, considérez les relevés de débit du site."},null,null,null,null,null,null,null,null,null,null,null,null,null,null,null,null,null,null,null,null,null,null,null,null,null,null,{"$f":"Traduction!$A$145","v":"Le débit max. fourni correspond a priori au besoin. Il n'est cependant pas relevé. Le mesurage du débit permettrait de la valider."},"IE2",{"$f":"Traduction!$A$426","v":0.2768817204301075},0.02,"Le débit max. fourni correspond a priori au besoin. Il n'est cependant pas relevé. Le mesurage du débit permettrait de la valider.IE2p3",0]
[null,"Avez-vous procédé à des optimisations « système » ces dernières années ?",null,null,null,null,null,null,null,null,null,null,null,null,null,null,null,null,null,null,null,null,null,null,null,null,null,null,{"$f":"Traduction!$A$145","v":"Le débit max. fourni correspond a priori au besoin. Il n'est cependant pas relevé. Le mesurage du débit permettrait de la valider."},"IE3",{"$f":"Traduction!$A$364","v":"Besoins frigorifiques mensuels (kWh)"},0,"Le débit max. fourni correspond a priori au besoin. Il n'est cependant pas relevé. Le mesurage du débit permettrait de la valider.IE3p3",0]
[null,{"$f":"Traduction!$A$150","v":"On ne sait pas si le débit correspond au besoin ou s'il trop grand, recherchez des informations sur le besoin réel et comparez-les avec les valeurs relevées par l'exploitant."},null,null,null,null,null,null,null,null,null,null,null,null,null,null,null,null,null,null,null,null,null,null,null,null,null,null,{"$f":"Traduction!$A$145","v":"Le débit max. fourni correspond a priori au besoin. Il n'est cependant pas relevé. Le mesurage du débit permettrait de la valider."},"IE3",{"$f":"Traduction!$A$365","v":"Temps de fonctionnement moyen du groupe"},0,"Le débit max. fourni correspond a priori au besoin. Il n'est cependant pas relevé. Le mesurage du débit permettrait de la valider.IE3p3",0]
[null,{"$f":"Traduction!$A$151","v":"On ne sait pas si le débit correspond au besoin ou s'il trop grand, recherchez des informations sur le besoin réel et procédez à des mesurages de débit."},null,null,null,null,null,null,null,{"$f":"Traduction!$A$27","v":"AP et AP+ air comprimé : sélection des taux de fuite a été étendue"},null,null,null,null,null,null,null,null,null,null,null,null,null,null,null,null,null,null,{"$f":"Traduction!$A$145","v":"Le débit max. fourni correspond a priori au besoin. Il n'est cependant pas relevé. Le mesurage du débit permettrait de la valider."},"IE3",{"$f":"Traduction!$A$426","v":0.2768817204301075},0,"Le débit max. fourni correspond a priori au besoin. Il n'est cependant pas relevé. Le mesurage du débit permettrait de la valider.IE3p3",0]
[null,{"$f":"Traduction!$A$280","v":"2.2 Détermination des performances globales du groupe "},null,null,null,null,null,null,null,{"$f":"PrixElec","v":{"$error":"#REF!"}},null,null,null,null,null,null,null,null,null,null,null,null,null,null,null,null,null,null,null,null,null,0,null,0]
[null,{"$f":"Traduction!$A$139","v":"Dans la cas d'une pompe ou d'un groupe de pompes, les économies peuvent avoir pour origines:\n- un débit plus important que nécessaire (aux consommateurs)\n- une exploitation non optimisée en termes d'horaire (un mode réduit ou un arrêt possible dans certaines plages horaires)\n- un travail à un niveau de pression trop élevé (le système assurerait sa prestation avec une pression plus faible ou une vanne semi-fermée casse la pression en permanence)\n- le système est ancien, mal dimensionné et les variations de besoin sont gérées de façon non optimale "},null,null,null,null,null,null,null,1,null,null,null,null,null,null,null,null,null,null,null,null,null,null,null,null,null,null,{"$f":"Traduction!$A$145","v":"Le débit max. fourni correspond a priori au besoin. Il n'est cependant pas relevé. Le mesurage du débit permettrait de la valider."},"IE4",{"$f":"Traduction!$A$364","v":"Besoins frigorifiques mensuels (kWh)"},0,"Le débit max. fourni correspond a priori au besoin. Il n'est cependant pas relevé. Le mesurage du débit permettrait de la valider.IE4p3",0]
[null,null,null,null,null,null,null,null,null,null,null,null,null,null,null,null,null,null,null,null,null,null,null,null,null,null,null,null,{"$f":"Traduction!$A$145","v":"Le débit max. fourni correspond a priori au besoin. Il n'est cependant pas relevé. Le mesurage du débit permettrait de la valider."},"IE4",{"$f":"Traduction!$A$365","v":"Temps de fonctionnement moyen du groupe"},0,"Le débit max. fourni correspond a priori au besoin. Il n'est cependant pas relevé. Le mesurage du débit permettrait de la valider.IE4p3",0]
[null,null,null,null,null,null,null,null,null,null,null,null,null,null,null,null,null,null,null,null,null,null,null,null,null,null,null,null,{"$f":"Traduction!$A$145","v":"Le débit max. fourni correspond a priori au besoin. Il n'est cependant pas relevé. Le mesurage du débit permettrait de la valider."},"IE4",{"$f":"Traduction!$A$426","v":0.2768817204301075},0,"Le débit max. fourni correspond a priori au besoin. Il n'est cependant pas relevé. Le mesurage du débit permettrait de la valider.IE4p3",0]
[null,{"$f":"Traduction!$A$373","v":"Moyenne température extérieure"},null,null,null,null,null,null,null,null,null,null,null,null,null,null,null,null,null,null,null,null,null,null,null,0.4]
[null,{"$f":"Traduction!$A$374","v":"Répartition du temps de fonctionnement "},null,null,null,null,null,null,null,null,null,null,null,null,null,null,null,null,null,null,null,null,null,null,null,{"$f":"Traduction!$A$356","v":"Samedi"}]
[null,{"$f":"HYPERLINK(Traduction!A632&\"/info_QmaxQnom - Vent.htm\",Traduction!$A$375)","v":"3.2 SEPR réel du groupe existant"},null,null,null,null,null,null,{"$f":"HYPERLINK(Traduction!A632&\"/info_QmaxQnom - Vent.htm\",Traduction!$A$724)","v":"Date"},null,null,null,null,null,null,null,null,null,null,null,null,null,null,null,null,{"$f":"FORECAST($J$35,OFFSET($AN$9:$AN$15,MATCH($J$27,$AM$9:$AM$15,1.5)-1,0,2),OFFSET($AM$9:$AM$15,MATCH($J$27,$AM$9:$AM$15,1.5)-1,0,2))","v":{"$error":"#DIV/0!"}},{"$f":"IF(Z27<0,0,Z27)","v":{"$error":"#DIV/0!"}}]
[]
[]
[null,{"$f":"HYPERLINK(Traduction!A632&\"/info_Parbre - Vent.htm\",Traduction!$A$428)","v":0.97983870967741937},null,null,null,null,null,null,{"$f":"HYPERLINK(Traduction!A632&\"/info_Parbre - Vent.htm\",Traduction!$A$724)","v":"Date"}]
[]
[null,{"$f":"Traduction!$A$377","v":"EER réel"}]
[null,{"$f":"Traduction!$A$378","v":"SEPR réel"},null,null,null,null,null,null,null,null,{"$f":"IF(AND(J33/J13<0.4,J33>0),\"Votre moteur semble être surdimensionné\",\"\")","v":{"$error":"#DIV/0!"}}]
[null,{"$f":"Traduction!$A$379","v":"3.3 SEPR théorique du groupe existant"},null,null,null,null,null,null,null,{"$f":"IF((J33*0.9/J30)>P79,(J33*0.9/J30),0)","v":{"$error":"#DIV/0!"}}]
[null,{"$f":"Traduction!$A$380","v":"EER théorique"},null,null,null,null,null,null,null,{"$f":"IF(J27=0,IF(J34=0,\"\",IF(J19=\"oui\",J34,J34*P74+P75)),J27)","v":{"$error":"#DIV/0!"}}]
[null,null,null,null,null,null,null,null,null,{"$f":"IFERROR(IF(Z43>fv_Pnom,Traduction!$A$733,\"\"),\"\")","v":""}]
[null,{"$f":"Traduction!$A$381","v":"SEPR théorique"}]
[null,{"$f":"HYPERLINK(Traduction!A632&\"/info_Q_Qmax - Vent.htm\",Traduction!$A$382)","v":"3.4 SEPR théorique du nouveau groupe"},null,null,null,null,null,null,null,null,null,null,null,null,null,null,null,null,null,null,null,null,null,null,null,null,null,null,{"$f":"Traduction!$A$386","v":"4. Détermination de la consommation électrique du groupe froid et du producteur de chaleur"},{"$f":"Traduction!$A$387","v":"Taux de charge par rapport à la période estivale"},{"$f":"Traduction!$A$388","v":"Besoin en froid"}]
[null,{"$f":"Traduction!$A$383","v":"3.5 Résultats"},null,null,null,null,{"$f":"Traduction!$A$384","v":"Potentiel d'économie par l'optimisation du groupe existant"},null,null,null,{"$f":"Traduction!$A$147","v":"On ne sait pas si le variateur est vraiment utile et réglé, recherchez des informations et, si besoin, procédez à des mesurages de débit."},null,null,null,null,null,null,null,null,null,null,null,null,null,null,null,null,null,{"$f":"AVERAGE(AD39:AE39)","v":0.125},0,0.25]
[null,{"$f":"TEXT(AD39,\"0%\") & \"-\" & TEXT(AE39,\"0%\")","v":"0%-25%"},null,null,null,null,{"$f":"TEXT(0,\"0.0\") & \"-\" & TEXT(IF(J19=AR8,J35*AE39/0.9,(($J$35*AE39*$P$78+$P$79)/0.9))*$J$30,\"0.0\")","v":{"$error":"#DIV/0!"}},null,null,null,null,null,null,null,null,null,null,null,null,null,null,null,null,null,null,null,null,null,{"$f":"AVERAGE(AD40:AE40)","v":0.375},0.25,0.5]
[null,{"$f":"TEXT(AD40,\"0%\") & \"-\" & TEXT(AE40,\"0%\")","v":"25%-50%"},null,null,null,null,{"$f":"TEXT(IF(J19=$AR$8,AD40*$J$35/0.9,(($J$35*AD40*$P$78+$P$79)/0.9))*$J$30,\"0.0\") & \"-\" & TEXT(IF(J19=$AR$8,AE40*$J$35/0.9,(($J$35*AE40*$P$78+$P$79)/0.9))*$J$30,\"0.0\")","v":{"$error":"#DIV/0!"}},null,null,null,null,null,null,null,null,null,null,null,null,null,null,null,null,null,null,null,null,null,{"$f":"AVERAGE(AD41:AE41)","v":0.625},0.5,0.75]
[null,"50%-75%",null,null,null,null,{"$f":"TEXT(IF(J19=AR8,AD41*J35/0.9,(($J$35*AD41*$P$78+$P$79)/0.9))*$J$30,\"0.0\") & \"-\" & TEXT(IF(J19=$AR$8,AE41*J35/0.9,(($J$35*AE41*$P$78+$P$79)/0.9))*$J$30,\"0.0\")","v":{"$error":"#DIV/0!"}},null,null,null,null,null,null,null,null,null,null,null,null,null,null,null,null,null,null,null,null,null,{"$f":"AVERAGE(AD42:AE42)","v":0.875},0.75,1]
[null,{"$f":"TEXT(AD42,\"0%\") & \"-\" & TEXT(AE42,\"0%\")","v":"75%-100%"},null,null,null,null,{"$f":"TEXT(IF(J19=AR8,AD42*J35/0.9,(($J$35*AD42*$P$78+$P$79)/0.9))*$J$30,\"0.0\") & \"-\" & TEXT(IF(J19=$AR$8,AE42*J35/0.9,(($J$35*AE42*$P$78+$P$79)/0.9))*$J$30,\"0.0\")","v":{"$error":"#DIV/0!"}},null,null,null,null,null,null,null,null,null,null,null,null,null,null,null,null,null,null,{"$f":"IF(J19=$AR$8,AE42*J35/0.9,(($J$35*AE42*$P$78+$P$79)/0.9))*$J$30","v":{"$error":"#DIV/0!"}}]
[null,null,null,null,null,null,{"$f":"Traduction!$A$389","v":"Consommation électrique"},null,null,null,{"$f":"SUM(K40:K43)","v":0}]
[null,null,null,null,null,null,null,null,null,null,{"$f":"IF(K44=J16,\"\",AR13)","v":""}]
[]
[null,{"$f":"IF(J19=AR8,AR14,\"\")","v":""}]
[null,{"$f":"IF(J19=AR8,AR15,\"\")","v":""}]
[]
[null,{"$f":"Traduction!$A$390","v":"4.1 Consommation électrique du groupe froid"}]
[null,{"$f":"Traduction!$A$391","v":"Mois"},null,null,null,null,null,null,null,null,null,null,null,null,{"$f":"HYPERLINK(Traduction!A632&\"/Calc_GAP_vent.htm\",Traduction!A653)","v":"Composants pertes de charge"},null,null,null,null,null,null,null,null,null,null,null,null,{"$f":"Traduction!$A$310","v":"5.1 Objectif "},{"$f":"Traduction!$A$399","v":"Septembre"},{"$f":"Traduction!$A$400","v":"Octobre"},{"$f":"Traduction!$A$401","v":"Novembre"},null,null,null,null,null,{"$f":"Traduction!$A$402","v":"Décembre"}]
[null,{"$f":"Traduction!$A$383","v":"3.5 Résultats"},null,null,null,{"$f":"Traduction!$A$392","v":"Janvier"},null,null,{"$f":"Traduction!$A$393","v":"Février"},null,null,{"$f":"Traduction!$A$394","v":"Mars"},null,null,null,{"$f":"Traduction!$A$395","v":"Avril"},null,null,null,{"$f":"Traduction!$A$396","v":"Juin"},null,null,null,null,null,{"$f":"IF(T48=\"Asservi à une grandeur de réglage\",1,0)","v":0},null,{"$f":"IF($J$19=$AR$8,$AC39*$J$35/0.9,($AC39*$J$35*$P$78+$P$79))*$J$30/0.9","v":{"$error":"#DIV/0!"}},{"$f":"$AA$27","v":{"$error":"#DIV/0!"}},{"$f":"IF(OR($J$19=$AR$9,AND($J$19=$AR$8,$K$48<>$S$71)),AK52,0)*IF($K$48=$S$70,0.5,1)","v":0},{"$f":"$Z$14","v":0},null,null,null,null,null,0.35]
[null,{"$f":"TEXT(AD39,\"0%\") & \"-\" & TEXT(AE39,\"0%\")","v":"0%-25%"},null,null,null,{"$f":"AB52*K40","v":{"$error":"#DIV/0!"}},null,null,{"$f":"$F53*AC52","v":{"$error":"#DIV/0!"}},null,null,{"$f":"$F53*AD52","v":{"$error":"#DIV/0!"}},null,null,null,{"$f":"$F53*AE52","v":{"$error":"#DIV/0!"}},null,null,null,{"$f":"SUM(K53:S53)","v":{"$error":"#DIV/0!"}},null,null,null,null,null,null,null,{"$f":"IF($J$19=$AR$8,$AC40*$J$35/0.9,($AC40*$J$35*$P$78+$P$79))*$J$30/0.9","v":{"$error":"#DIV/0!"}},{"$f":"$AA$27","v":{"$error":"#DIV/0!"}},{"$f":"IF(OR($J$19=$AR$9,AND($J$19=$AR$8,$K$48<>$S$71)),AK53,0)*IF($K$48=$S$70,0.5,1)","v":0},{"$f":"$Z$14","v":0},null,null,null,null,null,0.25]
[null,{"$f":"TEXT(AD40,\"0%\") & \"-\" & TEXT(AE40,\"0%\")","v":"25%-50%"},null,null,null,{"$f":"AB53*K41","v":{"$error":"#DIV/0!"}},null,null,{"$f":"$F54*AC53","v":{"$error":"#DIV/0!"}},null,null,{"$f":"$F54*AD53","v":{"$error":"#DIV/0!"}},null,null,null,{"$f":"$F54*AE53","v":{"$error":"#DIV/0!"}},null,null,null,{"$f":"SUM(K54:S54)","v":{"$error":"#DIV/0!"}},null,null,null,null,null,null,null,{"$f":"IF($J$19=$AR$8,$AC41*$J$35/0.9,($AC41*$J$35*$P$78+$P$79))*$J$30/0.9","v":{"$error":"#DIV/0!"}},{"$error":"#DIV/0!"},{"$f":"IF(OR($J$19=$AR$9,AND($J$19=$AR$8,$K$48<>$S$71)),AK54,0)*IF($K$48=$S$70,0.5,1)","v":0},0,null,null,null,null,null,0.15]
[null,{"$f":"TEXT(AD41,\"0%\") & \"-\" & TEXT(AE41,\"0%\")","v":"50%-75%"},null,null,null,{"$f":"AB54*K42","v":{"$error":"#DIV/0!"}},null,null,{"$f":"$F55*AC54","v":{"$error":"#DIV/0!"}},null,null,{"$f":"$F55*AD54","v":{"$error":"#DIV/0!"}},null,null,null,{"$f":"$F55*AE54","v":{"$error":"#DIV/0!"}},null,null,null,{"$f":"SUM(K55:S55)","v":{"$error":"#DIV/0!"}},null,null,null,null,null,null,null,{"$f":"IF($J$19=$AR$8,$AC42*$J$35/0.9,($AC42*$J$35*$P$78+$P$79))*$J$30/0.9","v":{"$error":"#DIV/0!"}},{"$error":"#DIV/0!"},{"$f":"IF(OR($J$19=$AR$9,AND($J$19=$AR$8,$K$48<>$S$71)),AK55,0)*IF($K$48=$S$70,0.5,1)","v":0},0,null,null,null,null,null,0]
[null,{"$f":"TEXT(AD42,\"0%\") & \"-\" & TEXT(AE42,\"0%\")","v":"75%-100%"},null,null,null,{"$f":"AB55*K43","v":{"$error":"#DIV/0!"}},null,null,{"$f":"$J56*AC55","v":{"$error":"#DIV/0!"}},null,null,{"$f":"$F56*AD55","v":{"$error":"#DIV/0!"}},null,null,null,{"$f":"$F56*AE55","v":{"$error":"#DIV/0!"}},null,null,null,{"$f":"SUM(I56:S56)","v":{"$error":"#DIV/0!"}}]
[null,{"$f":"Traduction!$A$404","v":"Consommation thermique "},null,null,null,{"$f":"SUM(F53:F56)","v":{"$error":"#DIV/0!"}},null,null,{"$f":"SUM(I53:I56)","v":{"$error":"#DIV/0!"}},null,null,{"$f":"SUM(L53:L56)","v":{"$error":"#DIV/0!"}},null,null,null,{"$f":"SUM(P53:P56)","v":{"$error":"#DIV/0!"}},null,null,null,{"$error":"#DIV/0!"}]
[]
[null,{"$f":"Traduction!$A$711","v":"Mesurage Planair"}]
[null,{"$f":"Traduction!$A$406","v":"4. Détermination des économies par la mise en place d'un système de free cooling"},null,null,null,null,null,{"$f":"ROUND(T57,-2)","v":{"$error":"#DIV/0!"}},null,null,{"$f":"Traduction!$A$407","v":"4.1 Principe du free cooling"},null,null,{"$f":"H60/F57","v":{"$error":"#DIV/0!"}}]
[null,null,null,null,null,null,null,null,null,null,{"$f":"Traduction!$A$407","v":"4.1 Principe du free cooling"},null,null,{"$f":"ROUND(J21*T57,-2)","v":{"$error":"#REF!"}}]
[]
[null,{"$f":"Traduction!$A$408","v":"Lorsque la température extérieure est inférieure à la température du réseau de froid, l'eau glacée circule à travers l'aérorefroidisseur, qui n'est autre qu'un échangeur avec des ventilateurs qui forcent l'échange entre l'air et l'eau. De cette manière le fluide est refroidi sans que le groupe froid n'ait besoin de fonctionner.\nUne différence de température entre l'eau à refroidir et l'air extérieur est indispensable, sinon aucun transfert de chaleur n'est possible. Un différentiel d'environ 3 °C entre la température de l’air extérieur et celle de l’eau est nécessaire pour le fonctionnement du free-cooling. Ce différentiel étant lié aux caractéristiques des échangeurs de chaleur, le cas échéant, il pourrait être réduit."}]
[null,{"$f":"Traduction!$A$409","v":"Température extérieure (°C)"}]
[null,{"$f":"Traduction!$A$410","v":"Température de fonctionnement du free cooling (°C)"}]
[null,{"$f":"Traduction!$A$411","v":"Heures Freecooling"}]
[]
[null,null,null,null,null,null,null,null,null,null,null,null,null,null,null,null,null,null,{"$f":"Traduction!$A$415","v":"Economie d'énergie (par an)"}]
[null,{"$f":"Traduction!$A$412","v":"Heures"},null,null,null,null,null,null,null,null,null,null,null,null,null,null,null,null,{"$f":"Traduction!$A$416","v":"4.2 Résultats"}]
[null,{"$f":"Traduction!$A$413","v":"Heures de free cooling"},null,null,null,null,null,null,null,null,null,null,null,null,null,null,null,null,{"$f":"Traduction!$A$417","v":"Température moyenne aller du réseau d'eau glacée"}]
[null,{"$f":"Traduction!$A$414","v":"Potentiel du free cooling"},null,null,null,null,null,null,null,null,null,null,null,null,null,null,null,null,{"$f":"Traduction!$A$418","v":"Température de mise en service du free cooling"}]
[null,null,null,null,null,null,null,null,null,null,{"$f":"Traduction!$A$420","v":0.96577380952380953}]
[null,null,null,null,null,null,null,null,null,{"$f":"Traduction!$A$419","v":0.95967741935483875},"x=1.9017y -0.83"]
[null,null,null,null,null,null,null,null,null,null,"p=",null,null,null,null,1.9016999999999999]
[null,null,null,null,null,null,null,null,null,null,"h=",null,null,null,null,-0.83]
[]
[null,null,null,null,null,null,null,null,null,{"$f":"Traduction!$A$422","v":0.42777777777777776},"y=0.517x +0.4453"]
[null,null,null,null,null,null,null,null,null,null,"p",null,null,null,null,0.51700000000000002]
[null,null,null,null,null,null,null,null,null,null,"h",null,null,null,null,0.44529999999999997]
[]
[]
[]
[]
[]
[]
[]
[]
[]
[]
[]
[]
[null,{"$f":"INDEX(ClaLiGANa,MATCH(B1,ClaListeVent,0))","v":{"$error":"#REF!"}},{"$error":"#REF!"},{"$error":"#REF!"},{"$error":"#REF!"},{"$error":"#REF!"},{"$error":"#REF!"},{"$error":"#REF!"},{"$error":"#REF!"},{"$error":"#REF!"},{"$error":"#REF!"},{"$error":"#REF!"},{"$error":"#REF!"},{"$error":"#REF!"},{"$error":"#REF!"},{"$error":"#REF!"},{"$error":"#REF!"},{"$error":"#REF!"},{"$error":"#REF!"},{"$error":"#REF!"},{"$error":"#REF!"},{"$error":"#REF!"},{"$error":"#REF!"},{"$error":"#REF!"},{"$f":"INDEX(ClaLiGANa,MATCH(Y1,ClaListePo,0))","v":{"$error":"#REF!"}},{"$f":"INDEX(ClaLiGANa,MATCH(Z1,ClaListePo,0))","v":{"$error":"#REF!"}},{"$f":"INDEX(ClaLiGANa,MATCH(AA1,ClaListePo,0))","v":{"$error":"#REF!"}}]
[]
[null,{"$f":"RIGHT(CELL(\"nomfichier\",A1),LEN(CELL(\"nomfichier\",A1))-FIND(\"]\",CELL(\"nomfichier\",A1)))","v":"APVe"}]
[]
[]
[]
[]
[]
[]
[]
[]
[]
[]
[]
[]
[]
[]
[]
[]
[]
[]
[]
[]
[]
[]
[]
[]
[]
[]
[]
[]
[]
[]
[]
[]
[]
[]
[]
[]
[]
[]
[]
[]
[]
[]
[]
[]
[]
[]
[]
[]
[]
[]
[]
[]
[]
[]
[]
[1]